{"text_format":"3","workbook":"xlsx","n_sheets":5,"sheets":["법정동(2013)","행정동(2013)","법정동(2012)","행정동(2012)","2012 대비"],"not_rendered":{"defined_names":4},"read":"whole","date_system":"1900"}

{"sheet":"법정동(2013)","index":0,"n_rows":119,"n_cols":59,"rows_kept":119,"merged":[[2,0,3,0],[2,1,2,2],[2,3,2,4],[2,5,2,6],[2,7,2,8],[2,9,2,10],[2,11,2,12],[2,13,2,14],[2,15,2,16],[2,17,2,18],[2,19,2,20],[2,21,2,22],[2,23,2,24],[2,27,2,28],[2,29,2,30],[2,31,2,32],[2,33,2,34],[2,35,2,36],[2,37,2,38],[2,39,2,40],[2,41,2,42],[2,43,2,44],[2,45,2,46],[2,47,2,48],[2,49,2,50],[2,51,2,52],[2,53,2,54],[2,55,2,56],[2,57,2,58]]}
["기준일자 : 2013. 12. 31.    단위 : 필지,㎡"]
[]
["구    분","계",null,"전",null,"답",null,"과수원",null,"목장용지",null,"임야",null,"광천지",null,"염전",null,"대",null,"공장용지",null,"학교용지",null,"주차장",null,"주유소용지",null,"창고용지",null,"도로",null,"철도용지",null,"제방",null,"하천",null,"구거",null,"유지",null,"양어장",null,"수도용지",null,"공원",null,"체육용지",null,"유원지",null,"종교용지",null,"사적지",null,"묘지",null,"잡종지"]
[null,"면  적","지번수","면  적","지번수","면  적","지번수","면  적","지번수","면  적","지번수","면  적","지번수","면  적","지번수","면  적","지번수","면  적","지번수","면  적","지번수","면  적","지번수","면  적","지번수","면  적","지번수","면  적","지번수","면  적","지번수","면  적","지번수","면  적","지번수","면  적","지번수","면  적","지번수","면  적","지번수","면  적","지번수","면  적","지번수","면  적","지번수","면  적","지번수","면  적","지번수","면  적","지번수","면  적","지번수","면  적","지번수","면  적","지번수"]
["합  계",{"$f":"SUM(B6:B119)","v":{"v":504308958,"d":"504,308,958.0"}},{"$f":"SUM(C6:C119)","v":{"v":310125,"d":"310,125"}},{"$f":"SUM(D6:D119)","v":{"v":66829496.6,"d":"66,829,496.6"}},{"$f":"SUM(E6:E119)","v":{"v":74906,"d":"74,906"}},{"v":41689757.699999996,"d":"41,689,757.7"},{"v":46705,"d":"46,705"},{"v":564671,"d":"564,671.0"},204,{"v":1855559,"d":"1,855,559.0"},514,{"v":306283875.20000005,"d":"306,283,875.2"},{"v":54429,"d":"54,429"},0,0,{"v":10562,"d":"10,562.0"},6,{"v":21564759.4,"d":"21,564,759.4"},{"v":65811,"d":"65,811"},{"v":15756522.9,"d":"15,756,522.9"},{"v":1190,"d":"1,190"},{"v":2005867,"d":"2,005,867.0"},376,{"v":346626.3999999999,"d":"346,626.4"},394,{"v":501120.3,"d":"501,120.3"},244,{"v":262666.6,"d":"262,666.6"},398,{"v":19684967,"d":"19,684,967.0"},{"v":48468,"d":"48,468"},{"v":1028567.2,"d":"1,028,567.2"},875,{"v":657269.2,"d":"657,269.2"},788,{"v":2414211.6999999997,"d":"2,414,211.7"},942,{"v":4612411.300000001,"d":"4,612,411.3"},{"v":4741,"d":"4,741"},{"v":2910786.9,"d":"2,910,786.9"},{"v":1438,"d":"1,438"},{"v":227613.1,"d":"227,613.1"},148,{"v":475653.9,"d":"475,653.9"},405,{"v":1318673.2,"d":"1,318,673.2"},291,{"v":1176999.6,"d":"1,176,999.6"},45,{"v":263794.9,"d":"263,794.9"},4,{"v":417357.6,"d":"417,357.6"},445,{"v":20795,"d":"20,795.0"},15,{"v":1820471,"d":"1,820,471.0"},{"v":1928,"d":"1,928"},{"v":9607902.299999999,"d":"9,607,902.3"},{"v":4415,"d":"4,415"}]
["종화동",{"$f":"SUM(D6,F6,H6,J6,L6,N6,P6,R6,T6,V6,X6,Z6,AB6,AD6,AF6,AH6,AJ6,AL6,AN6,AP6,AR6,AT6,AV6,AX6,AZ6,BB6,BD6,BF6)","v":{"v":402657,"d":"402,657.0"}},{"$f":"SUM(E6,G6,I6,K6,M6,O6,Q6,S6,U6,W6,Y6,AA6,AC6,AE6,AG6,AI6,AK6,AM6,AO6,AQ6,AS6,AU6,AW6,AY6,BA6,BC6,BE6,BG6)","v":{"v":1689,"d":"1,689"}},{"v":72717,"d":"72,717.0"},221,{"v":1267,"d":"1,267.0"},12,0,0,0,0,{"v":22714,"d":"22,714.0"},48,0,0,0,0,{"v":111914,"d":"111,914.0"},{"v":1059,"d":"1,059"},0,0,{"v":16641,"d":"16,641.0"},1,{"v":60,"d":"60.0"},1,0,0,{"v":177,"d":"177.0"},1,{"v":68532,"d":"68,532.0"},277,0,0,{"v":2134,"d":"2,134.0"},5,0,0,{"v":2501,"d":"2,501.0"},12,0,0,0,0,{"v":985,"d":"985.0"},2,{"v":84607,"d":"84,607.0"},15,0,0,0,0,{"v":1094,"d":"1,094.0"},4,0,0,{"v":4334,"d":"4,334.0"},15,{"v":12980,"d":"12,980.0"},16]
["수정동",{"$f":"SUM(D7,F7,H7,J7,L7,N7,P7,R7,T7,V7,X7,Z7,AB7,AD7,AF7,AH7,AJ7,AL7,AN7,AP7,AR7,AT7,AV7,AX7,AZ7,BB7,BD7,BF7)","v":{"v":636365.5,"d":"636,365.5"}},{"$f":"SUM(E7,G7,I7,K7,M7,O7,Q7,S7,U7,W7,Y7,AA7,AC7,AE7,AG7,AI7,AK7,AM7,AO7,AQ7,AS7,AU7,AW7,AY7,BA7,BC7,BE7,BG7)","v":{"v":1406,"d":"1,406"}},{"v":39143,"d":"39,143.0"},216,0,0,0,0,0,0,{"v":131491,"d":"131,491.0"},50,0,0,0,0,{"v":183484.3,"d":"183,484.3"},828,0,0,{"v":37527,"d":"37,527.0"},2,{"v":12269.8,"d":"12,269.8"},6,0,0,0,0,{"v":120751.9,"d":"120,751.9"},266,{"v":22,"d":"22.0"},2,{"v":11759,"d":"11,759.0"},4,0,0,0,0,0,0,0,0,0,0,{"v":69680.8,"d":"69,680.8"},6,0,0,0,0,0,0,0,0,{"v":1128,"d":"1,128.0"},5,{"v":29108.7,"d":"29,108.7"},21]
["공화동",{"v":313483.2,"d":"313,483.2"},{"v":1744,"d":"1,744"},{"v":3371,"d":"3,371.0"},35,0,0,0,0,0,0,{"v":388,"d":"388.0"},1,0,0,0,0,{"v":140350.5,"d":"140,350.5"},{"v":1393,"d":"1,393"},0,0,{"v":51531,"d":"51,531.0"},6,{"v":2236,"d":"2,236.0"},5,{"v":1141,"d":"1,141.0"},4,0,0,{"v":91602.4,"d":"91,602.4"},238,{"v":3836,"d":"3,836.0"},26,0,0,0,0,{"v":3480,"d":"3,480.0"},22,0,0,0,0,0,0,{"v":4034.8,"d":"4,034.8"},2,0,0,0,0,{"v":6337,"d":"6,337.0"},9,0,0,0,0,{"v":5175.5,"d":"5,175.5"},3]
["관문동",{"v":248473,"d":"248,473.0"},{"v":1617,"d":"1,617"},{"v":4579,"d":"4,579.0"},60,{"v":221,"d":"221.0"},5,0,0,0,0,{"v":5774,"d":"5,774.0"},32,0,0,0,0,{"v":145698,"d":"145,698.0"},{"v":1254,"d":"1,254"},0,0,{"v":48901,"d":"48,901.0"},6,{"v":631,"d":"631.0"},5,0,0,0,0,{"v":40557,"d":"40,557.0"},243,0,0,0,0,0,0,{"v":139,"d":"139.0"},5,0,0,0,0,0,0,0,0,0,0,0,0,{"v":1704,"d":"1,704.0"},4,0,0,0,0,{"v":269,"d":"269.0"},3]
["고소동",{"v":176568,"d":"176,568.0"},{"v":1322,"d":"1,322"},{"v":16553,"d":"16,553.0"},100,0,0,0,0,0,0,{"v":496,"d":"496.0"},7,0,0,0,0,{"v":117007,"d":"117,007.0"},893,0,0,0,0,{"v":324,"d":"324.0"},2,0,0,0,0,{"v":35745,"d":"35,745.0"},306,0,0,0,0,0,0,0,0,0,0,0,0,{"v":671,"d":"671.0"},1,0,0,0,0,0,0,{"v":3526,"d":"3,526.0"},4,{"v":1583,"d":"1,583.0"},1,{"v":78,"d":"78.0"},3,{"v":585,"d":"585.0"},5]
["동산동",{"v":279543,"d":"279,543.0"},{"v":1227,"d":"1,227"},{"v":32423,"d":"32,423.0"},77,{"v":2765,"d":"2,765.0"},6,0,0,0,0,{"v":125534,"d":"125,534.0"},27,0,0,0,0,{"v":85831,"d":"85,831.0"},928,0,0,{"v":10782,"d":"10,782.0"},1,{"v":556,"d":"556.0"},3,0,0,0,0,{"v":13199,"d":"13,199.0"},173,0,0,0,0,0,0,{"v":2688,"d":"2,688.0"},4,0,0,0,0,{"v":4960,"d":"4,960.0"},4,0,0,0,0,0,0,{"v":769,"d":"769.0"},3,0,0,0,0,{"v":36,"d":"36.0"},1]
["중앙동",{"v":159282,"d":"159,282.0"},795,{"v":52,"d":"52.0"},4,0,0,0,0,0,0,{"v":20706,"d":"20,706.0"},17,0,0,0,0,{"v":65873,"d":"65,873.0"},582,0,0,0,0,{"v":1679,"d":"1,679.0"},1,0,0,0,0,{"v":49487,"d":"49,487.0"},180,0,0,0,0,0,0,0,0,0,0,0,0,0,0,{"v":9732,"d":"9,732.0"},1,0,0,0,0,0,0,0,0,0,0,{"v":11753,"d":"11,753.0"},10]
["교동",{"v":166086.2,"d":"166,086.2"},{"v":1171,"d":"1,171"},0,0,0,0,0,0,0,0,0,0,0,0,0,0,{"v":96868,"d":"96,868.0"},{"v":1080,"d":"1,080"},0,0,0,0,{"v":4238.2,"d":"4,238.2"},4,0,0,0,0,{"v":50034,"d":"50,034.0"},76,0,0,{"v":800,"d":"800.0"},2,{"v":9005,"d":"9,005.0"},1,{"v":445,"d":"445.0"},5,0,0,0,0,0,0,0,0,0,0,0,0,0,0,0,0,0,0,{"v":4696,"d":"4,696.0"},3]
["군자동",{"v":121235,"d":"121,235.0"},642,{"v":34418,"d":"34,418.0"},77,0,0,0,0,0,0,0,0,0,0,0,0,{"v":53813,"d":"53,813.0"},490,0,0,{"v":7308,"d":"7,308.0"},1,{"v":827,"d":"827.0"},4,0,0,0,0,{"v":14973,"d":"14,973.0"},57,0,0,0,0,0,0,{"v":1068,"d":"1,068.0"},3,0,0,0,0,{"v":363,"d":"363.0"},2,0,0,0,0,0,0,{"v":2650,"d":"2,650.0"},2,{"v":5642,"d":"5,642.0"},4,0,0,{"v":173,"d":"173.0"},2]
["충무동",{"v":144556,"d":"144,556.0"},997,{"v":2822,"d":"2,822.0"},21,{"v":2141,"d":"2,141.0"},12,0,0,0,0,0,0,0,0,0,0,{"v":93681,"d":"93,681.0"},835,0,0,0,0,{"v":1690,"d":"1,690.0"},7,0,0,0,0,{"v":36048,"d":"36,048.0"},103,0,0,0,0,{"v":5576,"d":"5,576.0"},2,{"v":271,"d":"271.0"},1,0,0,0,0,0,0,0,0,0,0,0,0,{"v":1799,"d":"1,799.0"},10,0,0,0,0,{"v":528,"d":"528.0"},6]
["연등동",{"v":1083737.5,"d":"1,083,737.5"},{"v":2150,"d":"2,150"},{"v":194030,"d":"194,030.0"},416,{"v":43758,"d":"43,758.0"},70,0,0,0,0,{"v":447669.8,"d":"447,669.8"},157,0,0,0,0,{"v":160949.1,"d":"160,949.1"},{"v":1137,"d":"1,137"},696.7,1,{"v":14194,"d":"14,194.0"},2,{"v":321,"d":"321.0"},1,{"v":1946.1,"d":"1,946.1"},7,{"v":2638.4,"d":"2,638.4"},3,{"v":150899,"d":"150,899.0"},285,0,0,0,0,{"v":14522,"d":"14,522.0"},21,{"v":32734.4,"d":"32,734.4"},22,0,0,0,0,{"v":1826.1,"d":"1,826.1"},2,991.9,1,0,0,0,0,{"v":4986,"d":"4,986.0"},5,{"v":76,"d":"76.0"},1,{"v":5021,"d":"5,021.0"},9,{"v":6478,"d":"6,478.0"},10]
["광무동",{"v":1266051.4,"d":"1,266,051.4"},{"v":2924,"d":"2,924"},{"v":224167,"d":"224,167.0"},432,{"v":6722,"d":"6,722.0"},36,0,0,0,0,{"v":624287,"d":"624,287.0"},95,0,0,0,0,{"v":233793.4,"d":"233,793.4"},{"v":1800,"d":"1,800"},0,0,{"v":19814,"d":"19,814.0"},5,{"v":2331,"d":"2,331.0"},4,695.8,1,0,0,{"v":121915.7,"d":"121,915.7"},477,0,0,0,0,{"v":8810,"d":"8,810.0"},10,{"v":3739.9,"d":"3,739.9"},10,0,0,0,0,{"v":3837,"d":"3,837.0"},11,{"v":616,"d":"616.0"},1,0,0,0,0,{"v":5548,"d":"5,548.0"},9,0,0,{"v":4347,"d":"4,347.0"},16,{"v":5427.6,"d":"5,427.6"},17]
["서교동",{"v":169257,"d":"169,257.0"},{"v":1159,"d":"1,159"},{"v":136,"d":"136.0"},2,{"v":378,"d":"378.0"},7,0,0,0,0,0,0,0,0,0,0,{"v":85205,"d":"85,205.0"},861,0,0,{"v":19165,"d":"19,165.0"},1,{"v":6734,"d":"6,734.0"},4,0,0,0,0,{"v":43024,"d":"43,024.0"},263,0,0,0,0,{"v":8724,"d":"8,724.0"},4,{"v":753,"d":"753.0"},13,0,0,0,0,0,0,{"v":143,"d":"143.0"},1,0,0,0,0,{"v":4598,"d":"4,598.0"},2,0,0,0,0,{"v":397,"d":"397.0"},1]
["봉강동",{"v":486137.50000000006,"d":"486,137.5"},{"v":1608,"d":"1,608"},{"v":79459,"d":"79,459.0"},170,{"v":26972,"d":"26,972.0"},51,0,0,0,0,{"v":156344,"d":"156,344.0"},55,0,0,0,0,{"v":122522.2,"d":"122,522.2"},922,0,0,{"v":35979,"d":"35,979.0"},2,{"v":578,"d":"578.0"},2,0,0,0,0,{"v":52156.7,"d":"52,156.7"},364,0,0,0,0,0,0,{"v":3404,"d":"3,404.0"},13,0,0,0,0,0,0,{"v":1906.9,"d":"1,906.9"},1,0,0,0,0,{"v":3652,"d":"3,652.0"},5,0,0,0,0,{"v":3163.7,"d":"3,163.7"},23]
["봉산동",{"v":1213833.7,"d":"1,213,833.7"},{"v":2914,"d":"2,914"},{"v":147128,"d":"147,128.0"},308,{"v":42957,"d":"42,957.0"},99,0,0,0,0,{"v":352775,"d":"352,775.0"},63,0,0,0,0,{"v":413843.1,"d":"413,843.1"},{"v":1943,"d":"1,943"},353.1,1,{"v":29460,"d":"29,460.0"},6,216.1,2,{"v":2234.6,"d":"2,234.6"},4,{"v":1297.1,"d":"1,297.1"},4,{"v":185076.7,"d":"185,076.7"},450,0,0,0,0,0,0,{"v":3904,"d":"3,904.0"},10,{"v":27,"d":"27.0"},2,0,0,0,0,0,0,0,0,0,0,{"v":7586,"d":"7,586.0"},6,0,0,{"v":2507,"d":"2,507.0"},9,{"v":24469,"d":"24,469.0"},7]
["남산동",{"v":400336,"d":"400,336.0"},{"v":1893,"d":"1,893"},{"v":95799,"d":"95,799.0"},219,{"v":83,"d":"83.0"},3,0,0,0,0,{"v":32758,"d":"32,758.0"},32,0,0,0,0,{"v":132332,"d":"132,332.0"},{"v":1244,"d":"1,244"},0,0,{"v":4469,"d":"4,469.0"},2,{"v":3477,"d":"3,477.0"},5,0,0,0,0,{"v":99594,"d":"99,594.0"},343,0,0,{"v":273,"d":"273.0"},4,{"v":9140,"d":"9,140.0"},1,{"v":595,"d":"595.0"},6,0,0,0,0,{"v":283,"d":"283.0"},2,0,0,0,0,0,0,0,0,0,0,{"v":58,"d":"58.0"},2,{"v":21475,"d":"21,475.0"},30]
["국동",{"v":1533342.3,"d":"1,533,342.3"},{"v":3253,"d":"3,253"},{"v":98672,"d":"98,672.0"},452,{"v":15592,"d":"15,592.0"},83,{"v":815,"d":"815.0"},1,0,0,{"v":486239,"d":"486,239.0"},91,0,0,0,0,{"v":527745.2,"d":"527,745.2"},{"v":1887,"d":"1,887"},{"v":5044,"d":"5,044.0"},9,{"v":126054.2,"d":"126,054.2"},32,{"v":5577,"d":"5,577.0"},5,{"v":1291,"d":"1,291.0"},2,{"v":609,"d":"609.0"},4,{"v":174089.6,"d":"174,089.6"},583,0,0,{"v":2006,"d":"2,006.0"},1,0,0,{"v":15931,"d":"15,931.0"},14,0,0,0,0,{"v":3092,"d":"3,092.0"},6,0,0,0,0,0,0,{"v":7538.5,"d":"7,538.5"},17,0,0,{"v":1035,"d":"1,035.0"},10,{"v":62011.8,"d":"62,011.8"},56]
["신월동",{"v":3714986.5,"d":"3,714,986.5"},{"v":2534,"d":"2,534"},{"v":612489,"d":"612,489.0"},850,{"v":119530,"d":"119,530.0"},194,0,0,0,0,{"v":1403150,"d":"1,403,150.0"},326,0,0,0,0,{"v":242009.5,"d":"242,009.5"},510,{"v":849314,"d":"849,314.0"},124,{"v":7970,"d":"7,970.0"},1,{"v":1587,"d":"1,587.0"},1,{"v":2571,"d":"2,571.0"},10,{"v":1810,"d":"1,810.0"},2,{"v":203508,"d":"203,508.0"},326,0,0,{"v":5881,"d":"5,881.0"},19,0,0,{"v":45454,"d":"45,454.0"},20,0,0,0,0,0,0,0,0,0,0,0,0,{"v":9241,"d":"9,241.0"},9,0,0,{"v":6008,"d":"6,008.0"},26,{"v":204464,"d":"204,464.0"},116]
["여서동",{"v":2575399.9,"d":"2,575,399.9"},{"v":1920,"d":"1,920"},{"v":204480,"d":"204,480.0"},278,{"v":116419,"d":"116,419.0"},189,0,0,0,0,{"v":1223736,"d":"1,223,736.0"},291,0,0,0,0,{"v":562622.2,"d":"562,622.2"},751,0,0,{"v":58011,"d":"58,011.0"},4,{"v":15531.6,"d":"15,531.6"},15,{"v":1488,"d":"1,488.0"},1,{"v":884,"d":"884.0"},1,{"v":291248.5,"d":"291,248.5"},281,0,0,0,0,0,0,{"v":15119.9,"d":"15,119.9"},20,{"v":958,"d":"958.0"},2,0,0,{"v":11855,"d":"11,855.0"},5,{"v":19406.8,"d":"19,406.8"},7,{"v":9361,"d":"9,361.0"},5,0,0,{"v":15908.4,"d":"15,908.4"},22,0,0,{"v":2630,"d":"2,630.0"},8,{"v":25740.5,"d":"25,740.5"},40]
["문수동",{"v":2244118.3000000003,"d":"2,244,118.3"},{"v":3187,"d":"3,187"},{"v":175919,"d":"175,919.0"},321,{"v":34182,"d":"34,182.0"},95,0,0,0,0,{"v":836075.7,"d":"836,075.7"},325,0,0,0,0,{"v":715330.5,"d":"715,330.5"},{"v":1891,"d":"1,891"},0,0,{"v":122894.6,"d":"122,894.6"},10,{"v":13515.4,"d":"13,515.4"},44,{"v":1109.1,"d":"1,109.1"},2,{"v":205,"d":"205.0"},1,{"v":225509.9,"d":"225,509.9"},367,0,0,0,0,{"v":8513,"d":"8,513.0"},5,{"v":9438.4,"d":"9,438.4"},13,0,0,0,0,{"v":31,"d":"31.0"},1,{"v":54362.1,"d":"54,362.1"},21,0,0,0,0,{"v":25861,"d":"25,861.0"},15,0,0,{"v":3861,"d":"3,861.0"},19,{"v":17310.6,"d":"17,310.6"},57]
["오림동",{"v":2129905.7,"d":"2,129,905.7"},{"v":1646,"d":"1,646"},{"v":150571,"d":"150,571.0"},266,{"v":58336,"d":"58,336.0"},113,0,0,0,0,{"v":1139109,"d":"1,139,109.0"},294,0,0,0,0,{"v":176766.6,"d":"176,766.6"},554,{"v":895,"d":"895.0"},1,{"v":25821,"d":"25,821.0"},2,65.3,1,{"v":2939.8,"d":"2,939.8"},8,{"v":894,"d":"894.0"},2,{"v":143222.1,"d":"143,222.1"},287,{"v":33331,"d":"33,331.0"},33,0,0,{"v":17042.4,"d":"17,042.4"},6,{"v":15312.2,"d":"15,312.2"},33,{"v":10,"d":"10.0"},1,0,0,{"v":9101,"d":"9,101.0"},5,{"v":1699.4,"d":"1,699.4"},1,{"v":310227,"d":"310,227.0"},14,0,0,{"v":3107.9,"d":"3,107.9"},3,0,0,{"v":35291,"d":"35,291.0"},10,{"v":6164,"d":"6,164.0"},12]
["미평동",{"v":3089016.9,"d":"3,089,016.9"},{"v":2688,"d":"2,688"},{"v":142659,"d":"142,659.0"},329,{"v":97075,"d":"97,075.0"},235,0,0,0,0,{"v":1767325,"d":"1,767,325.0"},209,0,0,0,0,{"v":470726.1,"d":"470,726.1"},{"v":1169,"d":"1,169"},{"v":1501,"d":"1,501.0"},3,{"v":64631.1,"d":"64,631.1"},10,{"v":5010.8,"d":"5,010.8"},14,{"v":1804.2,"d":"1,804.2"},3,177.4,1,{"v":284889.4,"d":"284,889.4"},528,{"v":53203,"d":"53,203.0"},33,0,0,{"v":9529.4,"d":"9,529.4"},3,{"v":25651,"d":"25,651.0"},50,0,0,0,0,{"v":91230.5,"d":"91,230.5"},57,{"v":16700.4,"d":"16,700.4"},10,0,0,0,0,{"v":8992.4,"d":"8,992.4"},9,0,0,{"v":5712,"d":"5,712.0"},7,{"v":42199.2,"d":"42,199.2"},18]
["둔덕동",{"v":4076115.1,"d":"4,076,115.1"},{"v":2323,"d":"2,323"},{"v":178315,"d":"178,315.0"},288,{"v":425547,"d":"425,547.0"},481,0,0,0,0,{"v":2181263,"d":"2,181,263.0"},332,0,0,0,0,{"v":475434.9,"d":"475,434.9"},648,{"v":362,"d":"362.0"},1,{"v":722,"d":"722.0"},1,{"v":2599.7,"d":"2,599.7"},11,{"v":10143.9,"d":"10,143.9"},8,{"v":6380.7,"d":"6,380.7"},9,{"v":383843.6,"d":"383,843.6"},414,{"v":22933,"d":"22,933.0"},33,0,0,{"v":9119.1,"d":"9,119.1"},3,{"v":21254,"d":"21,254.0"},11,0,0,0,0,{"v":72838,"d":"72,838.0"},4,{"v":18073.4,"d":"18,073.4"},8,{"v":166279,"d":"166,279.0"},6,0,0,{"v":14763.3,"d":"14,763.3"},10,0,0,{"v":2675,"d":"2,675.0"},8,{"v":83568.5,"d":"83,568.5"},47]
["오천동",{"v":5624952.8,"d":"5,624,952.8"},{"v":1848,"d":"1,848"},{"v":459787,"d":"459,787.0"},546,{"v":231554,"d":"231,554.0"},299,0,0,0,0,{"v":4444894,"d":"4,444,894.0"},309,0,0,0,0,{"v":77559,"d":"77,559.0"},269,{"v":91590.6,"d":"91,590.6"},55,0,0,{"v":25,"d":"25.0"},1,0,0,{"v":288,"d":"288.0"},1,{"v":116641,"d":"116,641.0"},254,0,0,{"v":18477,"d":"18,477.0"},13,{"v":5346.3,"d":"5,346.3"},3,{"v":52699.9,"d":"52,699.9"},36,{"v":104581,"d":"104,581.0"},21,0,0,{"v":12219,"d":"12,219.0"},23,0,0,0,0,0,0,{"v":1566,"d":"1,566.0"},1,0,0,{"v":3628,"d":"3,628.0"},10,{"v":4097,"d":"4,097.0"},7]
["만흥동",{"v":7434343.5,"d":"7,434,343.5"},{"v":3919,"d":"3,919"},{"v":832481,"d":"832,481.0"},{"v":1042,"d":"1,042"},{"v":628408,"d":"628,408.0"},717,0,0,0,0,{"v":5048933,"d":"5,048,933.0"},685,0,0,0,0,{"v":137794,"d":"137,794.0"},414,{"v":45135,"d":"45,135.0"},22,{"v":11073,"d":"11,073.0"},1,{"v":2793,"d":"2,793.0"},3,{"v":1185,"d":"1,185.0"},3,{"v":3536,"d":"3,536.0"},7,{"v":367782.6,"d":"367,782.6"},732,{"v":107838,"d":"107,838.0"},71,{"v":927,"d":"927.0"},3,{"v":7761,"d":"7,761.0"},5,{"v":71514.9,"d":"71,514.9"},56,0,0,0,0,{"v":8882,"d":"8,882.0"},33,0,0,0,0,0,0,{"v":3841,"d":"3,841.0"},3,0,0,{"v":21068,"d":"21,068.0"},48,{"v":133391,"d":"133,391.0"},74]
["덕충동",{"v":2921780.3000000003,"d":"2,921,780.3"},{"v":3006,"d":"3,006"},{"v":351110,"d":"351,110.0"},709,{"v":71183,"d":"71,183.0"},146,0,0,0,0,{"v":1125311,"d":"1,125,311.0"},368,0,0,0,0,{"v":572085.2,"d":"572,085.2"},{"v":1044,"d":"1,044"},{"v":17722,"d":"17,722.0"},9,{"v":55772,"d":"55,772.0"},7,{"v":32177.8,"d":"32,177.8"},5,0,0,{"v":429,"d":"429.0"},2,{"v":250768.7,"d":"250,768.7"},460,{"v":63034,"d":"63,034.0"},108,{"v":12306.4,"d":"12,306.4"},6,{"v":6663.6,"d":"6,663.6"},1,{"v":21495,"d":"21,495.0"},22,0,0,0,0,{"v":9638.7,"d":"9,638.7"},13,{"v":128954.6,"d":"128,954.6"},26,{"v":400,"d":"400.0"},3,0,0,{"v":14477.8,"d":"14,477.8"},16,0,0,{"v":21363,"d":"21,363.0"},34,{"v":166888.5,"d":"166,888.5"},27]
["경호동",{"v":3082577.0000000005,"d":"3,082,577.0"},{"v":3896,"d":"3,896"},{"v":1125433,"d":"1,125,433.0"},{"v":1368,"d":"1,368"},{"v":158586,"d":"158,586.0"},264,0,0,0,0,{"v":1527349,"d":"1,527,349.0"},896,0,0,0,0,{"v":145262.7,"d":"145,262.7"},721,0,0,{"v":11350,"d":"11,350.0"},2,821.6,8,0,0,0,0,{"v":55796.1,"d":"55,796.1"},515,0,0,{"v":11391,"d":"11,391.0"},27,{"v":1220,"d":"1,220.0"},5,{"v":107,"d":"107.0"},1,{"v":2473,"d":"2,473.0"},2,{"v":1601,"d":"1,601.0"},1,0,0,{"v":7918.6,"d":"7,918.6"},11,0,0,0,0,{"v":1145,"d":"1,145.0"},2,0,0,{"v":12358,"d":"12,358.0"},27,{"v":19765,"d":"19,765.0"},46]
["학동",{"v":1429258.9000000001,"d":"1,429,258.9"},{"v":1768,"d":"1,768"},{"v":7488,"d":"7,488.0"},30,{"v":646,"d":"646.0"},8,0,0,0,0,{"v":79011.2,"d":"79,011.2"},34,0,0,0,0,{"v":802698.6,"d":"802,698.6"},{"v":1495,"d":"1,495"},0,0,{"v":23943,"d":"23,943.0"},2,{"v":10098.3,"d":"10,098.3"},15,{"v":2423,"d":"2,423.0"},4,{"v":299,"d":"299.0"},1,{"v":360485.9,"d":"360,485.9"},148,0,0,0,0,0,0,830.7,9,{"v":7506.5,"d":"7,506.5"},1,0,0,0,0,{"v":119956.8,"d":"119,956.8"},14,{"v":10945.6,"d":"10,945.6"},1,{"v":66,"d":"66.0"},1,{"v":1125,"d":"1,125.0"},1,0,0,0,0,{"v":1735.3,"d":"1,735.3"},4]
["학용동",{"v":966619,"d":"966,619.0"},574,{"v":129040,"d":"129,040.0"},235,{"v":11542,"d":"11,542.0"},26,{"v":3486,"d":"3,486.0"},3,0,0,{"v":672245,"d":"672,245.0"},145,0,0,0,0,{"v":2737,"d":"2,737.0"},6,0,0,0,0,0,0,{"v":3215,"d":"3,215.0"},3,0,0,{"v":21192,"d":"21,192.0"},35,{"v":73480,"d":"73,480.0"},71,0,0,{"v":5158,"d":"5,158.0"},12,{"v":3960,"d":"3,960.0"},9,0,0,0,0,{"v":20058,"d":"20,058.0"},3,{"v":2489,"d":"2,489.0"},5,0,0,0,0,0,0,0,0,{"v":18017,"d":"18,017.0"},21,0,0]
["안산동",{"v":1468379.8000000003,"d":"1,468,379.8"},{"v":1540,"d":"1,540"},{"v":53240,"d":"53,240.0"},124,{"v":23047,"d":"23,047.0"},46,0,0,0,0,{"v":523049.6,"d":"523,049.6"},156,0,0,0,0,{"v":587516.5,"d":"587,516.5"},{"v":1036,"d":"1,036"},0,0,{"v":38644.1,"d":"38,644.1"},4,{"v":2124.9,"d":"2,124.9"},5,440.2,2,{"v":363,"d":"363.0"},1,{"v":196504.1,"d":"196,504.1"},133,0,0,{"v":1296.4,"d":"1,296.4"},1,{"v":1060,"d":"1,060.0"},2,{"v":4498.8,"d":"4,498.8"},10,0,0,0,0,0,0,{"v":21255.1,"d":"21,255.1"},3,0,0,0,0,{"v":14502.1,"d":"14,502.1"},12,0,0,{"v":317,"d":"317.0"},2,{"v":521,"d":"521.0"},3]
["소호동",{"v":3301703.1999999993,"d":"3,301,703.2"},{"v":2299,"d":"2,299"},{"v":327322,"d":"327,322.0"},420,{"v":340750,"d":"340,750.0"},374,{"v":340,"d":"340.0"},1,0,0,{"v":1526891.4,"d":"1,526,891.4"},331,0,0,0,0,{"v":681777.5,"d":"681,777.5"},688,{"v":12954,"d":"12,954.0"},11,{"v":30757.4,"d":"30,757.4"},3,{"v":14374.8,"d":"14,374.8"},13,{"v":1526,"d":"1,526.0"},1,{"v":2480,"d":"2,480.0"},2,{"v":224912.1,"d":"224,912.1"},352,0,0,{"v":5785.8,"d":"5,785.8"},6,{"v":144,"d":"144.0"},2,{"v":17152,"d":"17,152.0"},10,{"v":4182,"d":"4,182.0"},3,0,0,0,0,{"v":4193,"d":"4,193.0"},2,0,0,{"v":49588.3,"d":"49,588.3"},1,{"v":6488,"d":"6,488.0"},6,0,0,{"v":15047,"d":"15,047.0"},33,{"v":35037.9,"d":"35,037.9"},40]
["시전동",{"v":1851919.4,"d":"1,851,919.4"},964,{"v":272258,"d":"272,258.0"},317,{"v":89758,"d":"89,758.0"},114,0,0,0,0,{"v":1206490,"d":"1,206,490.0"},318,0,0,0,0,{"v":38328.4,"d":"38,328.4"},58,0,0,0,0,0,0,{"v":3904,"d":"3,904.0"},4,0,0,{"v":41468,"d":"41,468.0"},93,0,0,0,0,{"v":177,"d":"177.0"},2,{"v":13583,"d":"13,583.0"},23,0,0,0,0,{"v":9,"d":"9.0"},1,0,0,{"v":157345,"d":"157,345.0"},4,0,0,{"v":13946,"d":"13,946.0"},3,0,0,{"v":8810,"d":"8,810.0"},22,{"v":5843,"d":"5,843.0"},5]
["신기동",{"v":984004,"d":"984,004.0"},{"v":1488,"d":"1,488"},0,0,0,0,0,0,0,0,{"v":43922.6,"d":"43,922.6"},15,0,0,0,0,{"v":615853.8,"d":"615,853.8"},{"v":1402,"d":"1,402"},0,0,{"v":34096.3,"d":"34,096.3"},2,{"v":2812,"d":"2,812.0"},10,661.2,1,0,0,{"v":261986.2,"d":"261,986.2"},42,0,0,0,0,0,0,0,0,0,0,0,0,0,0,{"v":19675.2,"d":"19,675.2"},11,0,0,0,0,{"v":4996.7,"d":"4,996.7"},5,0,0,0,0,0,0]
["웅천동",{"v":3422392.4000000004,"d":"3,422,392.4"},{"v":3841,"d":"3,841"},{"v":800327,"d":"800,327.0"},{"v":1030,"d":"1,030"},{"v":386914,"d":"386,914.0"},632,{"v":4119,"d":"4,119.0"},4,0,0,{"v":1169459,"d":"1,169,459.0"},621,0,0,0,0,{"v":430614.5,"d":"430,614.5"},844,0,0,{"v":30448.7,"d":"30,448.7"},2,{"v":22037.3,"d":"22,037.3"},10,0,0,{"v":350,"d":"350.0"},1,{"v":281731.1,"d":"281,731.1"},559,0,0,{"v":1881.6,"d":"1,881.6"},6,{"v":378,"d":"378.0"},2,{"v":35326,"d":"35,326.0"},16,{"v":22484,"d":"22,484.0"},30,0,0,{"v":3733.1,"d":"3,733.1"},12,{"v":155520.9,"d":"155,520.9"},29,0,0,0,0,{"v":1541,"d":"1,541.0"},2,0,0,{"v":15558,"d":"15,558.0"},29,{"v":59969.2,"d":"59,969.2"},12]
["선원동",{"v":2552238.3,"d":"2,552,238.3"},{"v":2823,"d":"2,823"},{"v":279286,"d":"279,286.0"},376,{"v":327487,"d":"327,487.0"},389,{"v":5341,"d":"5,341.0"},4,0,0,{"v":720399,"d":"720,399.0"},298,0,0,0,0,{"v":659164.2,"d":"659,164.2"},{"v":1349,"d":"1,349"},{"v":2149,"d":"2,149.0"},1,{"v":79321.7,"d":"79,321.7"},4,{"v":14013.8,"d":"14,013.8"},16,{"v":2654.1,"d":"2,654.1"},7,{"v":7924,"d":"7,924.0"},4,{"v":328823.4,"d":"328,823.4"},258,{"v":46158,"d":"46,158.0"},33,0,0,{"v":23299,"d":"23,299.0"},5,{"v":29266.8,"d":"29,266.8"},49,{"v":20,"d":"20.0"},1,0,0,0,0,{"v":5252,"d":"5,252.0"},5,0,0,0,0,{"v":10177.2,"d":"10,177.2"},6,0,0,{"v":8373,"d":"8,373.0"},13,{"v":3129.1,"d":"3,129.1"},5]
["여천동",{"v":2390634,"d":"2,390,634.0"},{"v":1897,"d":"1,897"},{"v":322359,"d":"322,359.0"},368,{"v":715338,"d":"715,338.0"},714,0,0,{"v":1905,"d":"1,905.0"},4,{"v":912524,"d":"912,524.0"},97,0,0,0,0,{"v":80143,"d":"80,143.0"},182,{"v":3097,"d":"3,097.0"},2,0,0,{"v":6568,"d":"6,568.0"},12,{"v":6626,"d":"6,626.0"},9,{"v":5314,"d":"5,314.0"},11,{"v":149642,"d":"149,642.0"},312,0,0,0,0,{"v":49578,"d":"49,578.0"},41,{"v":51312,"d":"51,312.0"},83,{"v":23868,"d":"23,868.0"},16,{"v":1016,"d":"1,016.0"},1,{"v":30576,"d":"30,576.0"},9,0,0,0,0,0,0,{"v":9967,"d":"9,967.0"},6,{"v":6450,"d":"6,450.0"},2,{"v":2113,"d":"2,113.0"},9,{"v":12238,"d":"12,238.0"},19]
["화장동",{"v":2588217.3000000003,"d":"2,588,217.3"},{"v":2707,"d":"2,707"},{"v":211979,"d":"211,979.0"},251,{"v":205911,"d":"205,911.0"},238,{"v":12103,"d":"12,103.0"},1,{"v":1758,"d":"1,758.0"},2,{"v":839054.5,"d":"839,054.5"},210,0,0,0,0,{"v":579342.6,"d":"579,342.6"},{"v":1653,"d":"1,653"},0,0,{"v":83225.7,"d":"83,225.7"},4,{"v":20608.1,"d":"20,608.1"},20,{"v":5317.7,"d":"5,317.7"},3,{"v":2156,"d":"2,156.0"},3,{"v":386809,"d":"386,809.0"},220,{"v":28780,"d":"28,780.0"},22,0,0,{"v":14754,"d":"14,754.0"},7,{"v":9251.1,"d":"9,251.1"},32,0,0,0,0,{"v":2005,"d":"2,005.0"},4,{"v":171055.4,"d":"171,055.4"},22,0,0,0,0,490.2,2,0,0,{"v":4377,"d":"4,377.0"},6,{"v":9240,"d":"9,240.0"},7]
["주삼동",{"v":3678263.4,"d":"3,678,263.4"},{"v":3228,"d":"3,228"},{"v":424542,"d":"424,542.0"},480,{"v":995544,"d":"995,544.0"},940,0,0,{"v":3794,"d":"3,794.0"},6,{"v":1342143,"d":"1,342,143.0"},364,0,0,0,0,{"v":178356,"d":"178,356.0"},371,{"v":118934,"d":"118,934.0"},43,{"v":22025,"d":"22,025.0"},2,{"v":16336,"d":"16,336.0"},8,{"v":13248,"d":"13,248.0"},8,{"v":2222,"d":"2,222.0"},5,{"v":382702.8,"d":"382,702.8"},848,{"v":11899,"d":"11,899.0"},14,{"v":4129,"d":"4,129.0"},7,{"v":10347,"d":"10,347.0"},9,{"v":83853,"d":"83,853.0"},56,{"v":4734,"d":"4,734.0"},9,0,0,0,0,0,0,{"v":6682,"d":"6,682.0"},1,0,0,0,0,0,0,{"v":7583,"d":"7,583.0"},5,{"v":49189.6,"d":"49,189.6"},52]
["봉계동",{"v":5348415,"d":"5,348,415.0"},{"v":2665,"d":"2,665"},{"v":361828,"d":"361,828.0"},473,{"v":375494,"d":"375,494.0"},412,0,0,{"v":993,"d":"993.0"},1,{"v":3292902,"d":"3,292,902.0"},510,0,0,0,0,{"v":301879,"d":"301,879.0"},414,{"v":10163,"d":"10,163.0"},5,{"v":62850,"d":"62,850.0"},1,{"v":5386,"d":"5,386.0"},5,{"v":5879,"d":"5,879.0"},7,{"v":8281,"d":"8,281.0"},15,{"v":211889,"d":"211,889.0"},678,0,0,{"v":536,"d":"536.0"},1,{"v":5447,"d":"5,447.0"},8,{"v":68612,"d":"68,612.0"},51,{"v":92036,"d":"92,036.0"},35,0,0,0,0,0,0,{"v":508106,"d":"508,106.0"},1,0,0,{"v":9549,"d":"9,549.0"},7,0,0,{"v":1452,"d":"1,452.0"},3,{"v":25133,"d":"25,133.0"},38]
["해산동",{"v":2501433,"d":"2,501,433.0"},{"v":2660,"d":"2,660"},{"v":293204,"d":"293,204.0"},439,{"v":674902.4,"d":"674,902.4"},748,{"v":3307,"d":"3,307.0"},1,{"v":1746,"d":"1,746.0"},3,{"v":844762,"d":"844,762.0"},237,0,0,0,0,{"v":90586.7,"d":"90,586.7"},209,{"v":1380,"d":"1,380.0"},1,0,0,{"v":4614,"d":"4,614.0"},4,{"v":7963,"d":"7,963.0"},12,{"v":5300,"d":"5,300.0"},6,{"v":321577.7,"d":"321,577.7"},693,{"v":48430.2,"d":"48,430.2"},64,{"v":4536,"d":"4,536.0"},3,{"v":93230,"d":"93,230.0"},41,{"v":49375,"d":"49,375.0"},124,{"v":23174,"d":"23,174.0"},14,0,0,{"v":3567,"d":"3,567.0"},7,0,0,0,0,0,0,0,0,0,0,{"v":2891,"d":"2,891.0"},10,{"v":26887,"d":"26,887.0"},44]
["화치동",{"v":5909274.2,"d":"5,909,274.2"},876,{"v":108739,"d":"108,739.0"},100,{"v":129529.5,"d":"129,529.5"},128,0,0,0,0,{"v":1627953.6,"d":"1,627,953.6"},253,0,0,0,0,{"v":180722.9,"d":"180,722.9"},42,{"v":2960876.7,"d":"2,960,876.7"},148,0,0,{"v":3683,"d":"3,683.0"},1,769.9,1,{"v":11159.4,"d":"11,159.4"},2,{"v":379397.2,"d":"379,397.2"},74,{"v":4905,"d":"4,905.0"},4,{"v":15948.8,"d":"15,948.8"},13,{"v":349539.6,"d":"349,539.6"},13,{"v":27892.6,"d":"27,892.6"},52,{"v":2313,"d":"2,313.0"},5,0,0,{"v":13143,"d":"13,143.0"},10,0,0,0,0,0,0,0,0,0,0,{"v":11217,"d":"11,217.0"},3,{"v":81484,"d":"81,484.0"},27]
["월하동",{"v":2833857.4,"d":"2,833,857.4"},616,{"v":33732,"d":"33,732.0"},58,{"v":6152,"d":"6,152.0"},18,0,0,0,0,{"v":782238.3,"d":"782,238.3"},80,0,0,0,0,{"v":59451.8,"d":"59,451.8"},47,{"v":1491409.6,"d":"1,491,409.6"},76,0,0,999.9,1,{"v":3085,"d":"3,085.0"},10,{"v":4004,"d":"4,004.0"},2,{"v":253147.5,"d":"253,147.5"},229,{"v":29456,"d":"29,456.0"},6,0,0,{"v":44367,"d":"44,367.0"},13,{"v":29379.9,"d":"29,379.9"},25,0,0,0,0,{"v":7282,"d":"7,282.0"},2,0,0,0,0,0,0,0,0,0,0,0,0,{"v":89152.4,"d":"89,152.4"},49]
["평여동",{"v":6851431.4,"d":"6,851,431.4"},719,{"v":42045,"d":"42,045.0"},61,{"v":28288,"d":"28,288.0"},59,0,0,0,0,{"v":4317786.1,"d":"4,317,786.1"},316,0,0,0,0,{"v":16392.7,"d":"16,392.7"},32,{"v":1860078.2,"d":"1,860,078.2"},47,0,0,0,0,{"v":2739,"d":"2,739.0"},2,0,0,{"v":250447,"d":"250,447.0"},73,{"v":69282,"d":"69,282.0"},13,0,0,{"v":52523.4,"d":"52,523.4"},13,{"v":33233.8,"d":"33,233.8"},24,{"v":64841,"d":"64,841.0"},30,0,0,{"v":28134,"d":"28,134.0"},4,{"v":4556.2,"d":"4,556.2"},1,0,0,0,0,0,0,0,0,{"v":24,"d":"24.0"},1,{"v":81061,"d":"81,061.0"},43]
["중흥동",{"v":10557703.4,"d":"10,557,703.4"},{"v":2830,"d":"2,830"},{"v":190101,"d":"190,101.0"},388,{"v":102085,"d":"102,085.0"},197,{"v":8766,"d":"8,766.0"},3,{"v":250,"d":"250.0"},1,{"v":5873394.4,"d":"5,873,394.4"},442,0,0,0,0,{"v":416450.7,"d":"416,450.7"},655,{"v":2774231.4,"d":"2,774,231.4"},150,{"v":27075,"d":"27,075.0"},6,{"v":4867.8,"d":"4,867.8"},2,{"v":9239,"d":"9,239.0"},7,{"v":5826,"d":"5,826.0"},3,{"v":450640.5,"d":"450,640.5"},598,{"v":94802,"d":"94,802.0"},99,{"v":15591.9,"d":"15,591.9"},11,{"v":109471,"d":"109,471.0"},54,{"v":30519,"d":"30,519.0"},41,{"v":10299,"d":"10,299.0"},14,0,0,{"v":10112.2,"d":"10,112.2"},7,{"v":2216.8,"d":"2,216.8"},1,{"v":1544,"d":"1,544.0"},2,0,0,{"v":29235,"d":"29,235.0"},16,0,0,{"v":24262,"d":"24,262.0"},18,{"v":366723.7,"d":"366,723.7"},115]
["적량동",{"v":4922794,"d":"4,922,794.0"},{"v":1175,"d":"1,175"},{"v":271545,"d":"271,545.0"},290,{"v":184490,"d":"184,490.0"},228,{"v":5808,"d":"5,808.0"},3,0,0,{"v":2181333.8,"d":"2,181,333.8"},315,0,0,0,0,{"v":18697,"d":"18,697.0"},62,{"v":1956874,"d":"1,956,874.0"},38,{"v":9924,"d":"9,924.0"},2,0,0,0,0,0,0,{"v":120166,"d":"120,166.0"},103,{"v":29159,"d":"29,159.0"},14,{"v":5315.7,"d":"5,315.7"},2,{"v":25378,"d":"25,378.0"},15,{"v":25658.7,"d":"25,658.7"},23,{"v":42003,"d":"42,003.0"},37,0,0,0,0,0,0,0,0,0,0,{"v":290,"d":"290.0"},1,0,0,{"v":3358,"d":"3,358.0"},5,{"v":42793.8,"d":"42,793.8"},37]
["월내동",{"v":5490316.9,"d":"5,490,316.9"},{"v":1194,"d":"1,194"},{"v":208839,"d":"208,839.0"},207,{"v":185570,"d":"185,570.0"},202,0,0,0,0,{"v":2169828.9,"d":"2,169,828.9"},272,0,0,0,0,{"v":105304,"d":"105,304.0"},24,{"v":1883537.6,"d":"1,883,537.6"},51,{"v":1103,"d":"1,103.0"},1,0,0,0,0,0,0,{"v":191450.2,"d":"191,450.2"},171,{"v":44995,"d":"44,995.0"},54,{"v":14333,"d":"14,333.0"},7,{"v":10172,"d":"10,172.0"},23,{"v":37258.4,"d":"37,258.4"},54,{"v":11926,"d":"11,926.0"},15,0,0,0,0,0,0,0,0,0,0,0,0,0,0,{"v":3705,"d":"3,705.0"},18,{"v":622294.8,"d":"622,294.8"},95]
["묘도동",{"v":11515440.6,"d":"11,515,440.6"},{"v":5824,"d":"5,824"},{"v":1323015,"d":"1,323,015.0"},{"v":1328,"d":"1,328"},{"v":935425,"d":"935,425.0"},{"v":1081,"d":"1,081"},{"v":3155,"d":"3,155.0"},3,{"v":1592,"d":"1,592.0"},4,{"v":5653600,"d":"5,653,600.0"},{"v":1680,"d":"1,680"},0,0,0,0,{"v":180663,"d":"180,663.0"},663,0,0,{"v":18801,"d":"18,801.0"},4,{"v":28,"d":"28.0"},1,{"v":589,"d":"589.0"},1,{"v":3651,"d":"3,651.0"},6,{"v":137561,"d":"137,561.0"},895,0,0,{"v":113398.6,"d":"113,398.6"},13,{"v":15454,"d":"15,454.0"},2,{"v":63958,"d":"63,958.0"},27,{"v":22036,"d":"22,036.0"},27,0,0,0,0,0,0,0,0,0,0,{"v":3681,"d":"3,681.0"},2,0,0,{"v":29108,"d":"29,108.0"},39,{"v":3009725,"d":"3,009,725.0"},48]
["낙포동",{"v":8403883.1,"d":"8,403,883.1"},{"v":1834,"d":"1,834"},{"v":343422,"d":"343,422.0"},386,{"v":164211,"d":"164,211.0"},216,0,0,0,0,{"v":4611110.6,"d":"4,611,110.6"},365,0,0,0,0,{"v":119017.4,"d":"119,017.4"},40,{"v":1103012.4,"d":"1,103,012.4"},192,0,0,0,0,{"v":180944.8,"d":"180,944.8"},18,0,0,{"v":300375.8,"d":"300,375.8"},197,{"v":2969,"d":"2,969.0"},1,{"v":55471,"d":"55,471.0"},31,{"v":101731,"d":"101,731.0"},33,{"v":21570,"d":"21,570.0"},50,{"v":8417,"d":"8,417.0"},1,0,0,{"v":6417.5,"d":"6,417.5"},5,0,0,0,0,0,0,{"v":264,"d":"264.0"},1,0,0,{"v":3588,"d":"3,588.0"},10,{"v":1381361.6,"d":"1,381,361.6"},288]
["신덕동",{"v":5668176.4,"d":"5,668,176.4"},{"v":1815,"d":"1,815"},{"v":254426,"d":"254,426.0"},364,{"v":172515,"d":"172,515.0"},240,{"v":11302,"d":"11,302.0"},4,0,0,{"v":4560715,"d":"4,560,715.0"},403,0,0,0,0,{"v":65526,"d":"65,526.0"},250,0,0,{"v":4555,"d":"4,555.0"},1,{"v":2843,"d":"2,843.0"},2,{"v":141181.2,"d":"141,181.2"},2,0,0,{"v":242164.4,"d":"242,164.4"},462,0,0,{"v":1518.1,"d":"1,518.1"},2,{"v":51435,"d":"51,435.0"},33,{"v":1084,"d":"1,084.0"},5,{"v":7634,"d":"7,634.0"},17,0,0,0,0,{"v":2677.7,"d":"2,677.7"},3,0,0,0,0,{"v":1185,"d":"1,185.0"},1,0,0,{"v":6720,"d":"6,720.0"},11,{"v":140695,"d":"140,695.0"},15]
["상암동",{"v":6715329,"d":"6,715,329.0"},{"v":4322,"d":"4,322"},{"v":710149,"d":"710,149.0"},840,{"v":1135795,"d":"1,135,795.0"},{"v":1240,"d":"1,240"},{"v":2815,"d":"2,815.0"},3,0,0,{"v":4209198,"d":"4,209,198.0"},410,0,0,0,0,{"v":216780,"d":"216,780.0"},582,{"v":6181,"d":"6,181.0"},7,{"v":19951,"d":"19,951.0"},2,{"v":4614,"d":"4,614.0"},9,{"v":3690,"d":"3,690.0"},3,{"v":1511,"d":"1,511.0"},4,{"v":198306,"d":"198,306.0"},998,0,0,{"v":149,"d":"149.0"},1,{"v":78697,"d":"78,697.0"},65,{"v":55493,"d":"55,493.0"},52,{"v":28805,"d":"28,805.0"},39,0,0,0,0,0,0,0,0,0,0,{"v":3487,"d":"3,487.0"},7,0,0,{"v":11711,"d":"11,711.0"},22,{"v":27997,"d":"27,997.0"},38]
["호명동",{"v":10859013,"d":"10,859,013.0"},{"v":3804,"d":"3,804"},{"v":682902,"d":"682,902.0"},763,{"v":1080004,"d":"1,080,004.0"},{"v":1007,"d":"1,007"},{"v":7648,"d":"7,648.0"},1,{"v":7221,"d":"7,221.0"},4,{"v":8417886,"d":"8,417,886.0"},665,0,0,0,0,{"v":170391,"d":"170,391.0"},376,0,0,0,0,0,0,{"v":2457,"d":"2,457.0"},5,{"v":1322,"d":"1,322.0"},1,{"v":269852,"d":"269,852.0"},825,0,0,0,0,{"v":79117,"d":"79,117.0"},65,{"v":70219,"d":"70,219.0"},25,{"v":25005,"d":"25,005.0"},29,0,0,0,0,0,0,0,0,0,0,{"v":2634,"d":"2,634.0"},3,0,0,{"v":22113,"d":"22,113.0"},20,{"v":20242,"d":"20,242.0"},15]
["돌산읍 군내리",{"v":3829862,"d":"3,829,862.0"},{"v":3521,"d":"3,521"},{"v":1071186,"d":"1,071,186.0"},{"v":1301,"d":"1,301"},{"v":68824,"d":"68,824.0"},137,{"v":3389,"d":"3,389.0"},2,0,0,{"v":2255085,"d":"2,255,085.0"},643,0,0,0,0,{"v":134136,"d":"134,136.0"},732,{"v":3276,"d":"3,276.0"},3,{"v":50877,"d":"50,877.0"},9,0,0,{"v":947,"d":"947.0"},4,{"v":840,"d":"840.0"},4,{"v":114207,"d":"114,207.0"},444,0,0,{"v":3736,"d":"3,736.0"},19,{"v":3154,"d":"3,154.0"},4,{"v":33389,"d":"33,389.0"},48,{"v":4553,"d":"4,553.0"},13,{"v":18436,"d":"18,436.0"},7,0,0,0,0,0,0,0,0,{"v":6538,"d":"6,538.0"},10,{"v":883,"d":"883.0"},4,{"v":19273,"d":"19,273.0"},39,{"v":37133,"d":"37,133.0"},98]
["돌산읍 신복리",{"v":8278753.4,"d":"8,278,753.4"},{"v":4199,"d":"4,199"},{"v":1003284,"d":"1,003,284.0"},911,{"v":607213,"d":"607,213.0"},750,0,0,{"v":16201,"d":"16,201.0"},8,{"v":5963184,"d":"5,963,184.0"},759,0,0,0,0,{"v":113366,"d":"113,366.0"},494,{"v":10525,"d":"10,525.0"},5,{"v":11467,"d":"11,467.0"},1,0,0,0,0,{"v":5694,"d":"5,694.0"},11,{"v":170821.7,"d":"170,821.7"},858,0,0,{"v":23510.9,"d":"23,510.9"},38,{"v":3568,"d":"3,568.0"},16,{"v":73212,"d":"73,212.0"},79,{"v":113200,"d":"113,200.0"},160,{"v":37282,"d":"37,282.0"},19,{"v":99,"d":"99.0"},1,0,0,0,0,0,0,{"v":7667,"d":"7,667.0"},4,0,0,{"v":66315,"d":"66,315.0"},22,{"v":52143.8,"d":"52,143.8"},63]
["돌산읍 금성리",{"v":5508147,"d":"5,508,147.0"},{"v":2430,"d":"2,430"},{"v":836079,"d":"836,079.0"},871,{"v":55012,"d":"55,012.0"},132,0,0,0,0,{"v":4330530,"d":"4,330,530.0"},608,0,0,0,0,{"v":79434,"d":"79,434.0"},343,0,0,{"v":6963,"d":"6,963.0"},1,0,0,0,0,{"v":740,"d":"740.0"},2,{"v":151455,"d":"151,455.0"},400,0,0,{"v":2067,"d":"2,067.0"},5,{"v":1852,"d":"1,852.0"},11,{"v":14698,"d":"14,698.0"},10,{"v":149,"d":"149.0"},1,{"v":3627,"d":"3,627.0"},6,0,0,0,0,0,0,0,0,{"v":796,"d":"796.0"},2,0,0,{"v":7022,"d":"7,022.0"},12,{"v":17723,"d":"17,723.0"},26]
["돌산읍 율림리",{"v":7064808,"d":"7,064,808.0"},{"v":2980,"d":"2,980"},{"v":760890,"d":"760,890.0"},887,{"v":69585,"d":"69,585.0"},132,0,0,{"v":1140,"d":"1,140.0"},1,{"v":5739631,"d":"5,739,631.0"},701,0,0,0,0,{"v":124390,"d":"124,390.0"},410,0,0,{"v":6136,"d":"6,136.0"},8,{"v":435,"d":"435.0"},2,{"v":796,"d":"796.0"},1,{"v":6325,"d":"6,325.0"},5,{"v":216877,"d":"216,877.0"},726,0,0,{"v":1292,"d":"1,292.0"},4,{"v":442,"d":"442.0"},7,{"v":51592,"d":"51,592.0"},38,0,0,{"v":23086,"d":"23,086.0"},6,0,0,0,0,0,0,0,0,{"v":860,"d":"860.0"},2,0,0,{"v":8182,"d":"8,182.0"},9,{"v":53149,"d":"53,149.0"},41]
["돌산읍 죽포리",{"v":5934440,"d":"5,934,440.0"},{"v":4918,"d":"4,918"},{"v":1069778,"d":"1,069,778.0"},{"v":1236,"d":"1,236"},{"v":795109,"d":"795,109.0"},{"v":1066,"d":"1,066"},0,0,{"v":11612,"d":"11,612.0"},3,{"v":3514080,"d":"3,514,080.0"},519,0,0,0,0,{"v":174416,"d":"174,416.0"},621,{"v":3760,"d":"3,760.0"},2,{"v":16300,"d":"16,300.0"},3,0,0,{"v":1221,"d":"1,221.0"},4,{"v":5017,"d":"5,017.0"},10,{"v":172475,"d":"172,475.0"},{"v":1187,"d":"1,187"},0,0,{"v":4534,"d":"4,534.0"},12,{"v":14195,"d":"14,195.0"},9,{"v":72158,"d":"72,158.0"},134,{"v":2083,"d":"2,083.0"},2,{"v":4713,"d":"4,713.0"},5,0,0,0,0,0,0,0,0,{"v":1781,"d":"1,781.0"},2,0,0,{"v":25252,"d":"25,252.0"},51,{"v":45956,"d":"45,956.0"},52]
["돌산읍 서덕리",{"v":4661900,"d":"4,661,900.0"},{"v":3253,"d":"3,253"},{"v":734021,"d":"734,021.0"},851,{"v":492849,"d":"492,849.0"},718,0,0,{"v":119707,"d":"119,707.0"},12,{"v":2954588,"d":"2,954,588.0"},573,0,0,0,0,{"v":64623,"d":"64,623.0"},261,{"v":2118,"d":"2,118.0"},1,0,0,0,0,0,0,{"v":1020,"d":"1,020.0"},2,{"v":69794,"d":"69,794.0"},585,0,0,{"v":25372,"d":"25,372.0"},69,{"v":105,"d":"105.0"},4,{"v":39026,"d":"39,026.0"},69,{"v":125530,"d":"125,530.0"},61,0,0,{"v":734,"d":"734.0"},1,0,0,0,0,0,0,{"v":632,"d":"632.0"},2,0,0,{"v":25844,"d":"25,844.0"},28,{"v":5937,"d":"5,937.0"},16]
["돌산읍 금봉리",{"v":8262721,"d":"8,262,721.0"},{"v":5101,"d":"5,101"},{"v":1255510,"d":"1,255,510.0"},{"v":1345,"d":"1,345"},{"v":760093,"d":"760,093.0"},976,{"v":5767,"d":"5,767.0"},4,{"v":10002,"d":"10,002.0"},2,{"v":5662803,"d":"5,662,803.0"},973,0,0,0,0,{"v":163508,"d":"163,508.0"},521,{"v":5255,"d":"5,255.0"},6,{"v":3285,"d":"3,285.0"},5,0,0,0,0,{"v":4720,"d":"4,720.0"},10,{"v":167236,"d":"167,236.0"},876,0,0,{"v":2744,"d":"2,744.0"},4,{"v":771,"d":"771.0"},9,{"v":83341,"d":"83,341.0"},64,{"v":15733,"d":"15,733.0"},36,{"v":21622,"d":"21,622.0"},14,0,0,0,0,0,0,0,0,{"v":3791,"d":"3,791.0"},4,0,0,{"v":26883,"d":"26,883.0"},27,{"v":69657,"d":"69,657.0"},225]
["돌산읍 둔전리",{"v":5390743.2,"d":"5,390,743.2"},{"v":3731,"d":"3,731"},{"v":684072,"d":"684,072.0"},830,{"v":913730,"d":"913,730.0"},872,{"v":6852,"d":"6,852.0"},2,{"v":33087,"d":"33,087.0"},10,{"v":3270817,"d":"3,270,817.0"},599,0,0,0,0,{"v":108253,"d":"108,253.0"},327,{"v":4188,"d":"4,188.0"},3,{"v":26614,"d":"26,614.0"},9,0,0,0,0,{"v":2748,"d":"2,748.0"},8,{"v":173249.9,"d":"173,249.9"},896,0,0,0,0,{"v":545,"d":"545.0"},3,{"v":113591.2,"d":"113,591.2"},93,{"v":27550,"d":"27,550.0"},36,{"v":3253.1,"d":"3,253.1"},4,0,0,0,0,0,0,0,0,{"v":980,"d":"980.0"},2,0,0,{"v":5621,"d":"5,621.0"},16,{"v":15592,"d":"15,592.0"},21]
["돌산읍 평사리",{"v":15228758.9,"d":"15,228,758.9"},{"v":8209,"d":"8,209"},{"v":1796685,"d":"1,796,685.0"},{"v":1840,"d":"1,840"},{"v":740804.2,"d":"740,804.2"},963,{"v":75756,"d":"75,756.0"},14,{"v":813335,"d":"813,335.0"},26,{"v":10484450,"d":"10,484,450.0"},{"v":2003,"d":"2,003"},0,0,0,0,{"v":362179,"d":"362,179.0"},970,{"v":9434,"d":"9,434.0"},15,{"v":13092,"d":"13,092.0"},3,{"v":2297,"d":"2,297.0"},6,{"v":2939,"d":"2,939.0"},4,{"v":8523,"d":"8,523.0"},15,{"v":493404,"d":"493,404.0"},{"v":1857,"d":"1,857"},0,0,{"v":18673,"d":"18,673.0"},24,{"v":34879.3,"d":"34,879.3"},24,{"v":58965.8,"d":"58,965.8"},117,{"v":116024,"d":"116,024.0"},19,0,0,0,0,0,0,0,0,{"v":38544.6,"d":"38,544.6"},1,{"v":19021,"d":"19,021.0"},10,0,0,{"v":26916,"d":"26,916.0"},26,{"v":112837,"d":"112,837.0"},272]
["돌산읍 우두리",{"v":7762177.1,"d":"7,762,177.1"},{"v":6897,"d":"6,897"},{"v":1288874.7,"d":"1,288,874.7"},{"v":1400,"d":"1,400"},{"v":510600,"d":"510,600.0"},631,{"v":3347,"d":"3,347.0"},3,{"v":2124,"d":"2,124.0"},2,{"v":4006684,"d":"4,006,684.0"},{"v":1534,"d":"1,534"},0,0,0,0,{"v":874351.9,"d":"874,351.9"},{"v":2313,"d":"2,313"},{"v":16882,"d":"16,882.0"},14,{"v":37447.5,"d":"37,447.5"},4,{"v":4358.6,"d":"4,358.6"},5,{"v":1981,"d":"1,981.0"},4,{"v":12489.6,"d":"12,489.6"},16,{"v":514508.1,"d":"514,508.1"},630,0,0,{"v":12894.4,"d":"12,894.4"},16,0,0,{"v":36651,"d":"36,651.0"},37,{"v":22150,"d":"22,150.0"},24,{"v":6892,"d":"6,892.0"},7,0,0,{"v":56646.3,"d":"56,646.3"},12,0,0,{"v":175596,"d":"175,596.0"},1,{"v":16061.8,"d":"16,061.8"},10,0,0,{"v":8479,"d":"8,479.0"},21,{"v":153158.2,"d":"153,158.2"},213]
["소라면 덕양리",{"v":6256493.3,"d":"6,256,493.3"},{"v":5486,"d":"5,486"},{"v":873106,"d":"873,106.0"},{"v":1240,"d":"1,240"},{"v":906221.8,"d":"906,221.8"},{"v":1062,"d":"1,062"},0,0,{"v":5926,"d":"5,926.0"},12,{"v":3194021,"d":"3,194,021.0"},530,0,0,0,0,{"v":365254,"d":"365,254.0"},{"v":1238,"d":"1,238"},{"v":10468,"d":"10,468.0"},6,{"v":35902,"d":"35,902.0"},8,{"v":5398,"d":"5,398.0"},7,{"v":12478,"d":"12,478.0"},16,{"v":14582,"d":"14,582.0"},18,{"v":415590.7,"d":"415,590.7"},{"v":1030,"d":"1,030"},{"v":64766,"d":"64,766.0"},32,{"v":7630,"d":"7,630.0"},3,{"v":124055,"d":"124,055.0"},26,{"v":120189.8,"d":"120,189.8"},127,{"v":21372,"d":"21,372.0"},1,0,0,{"v":3552,"d":"3,552.0"},25,{"v":1111,"d":"1,111.0"},1,0,0,0,0,{"v":7592,"d":"7,592.0"},11,0,0,{"v":11159,"d":"11,159.0"},14,{"v":56119,"d":"56,119.0"},79]
["소라면 죽림리",{"v":4051514.8,"d":"4,051,514.8"},{"v":3363,"d":"3,363"},{"v":518570,"d":"518,570.0"},723,{"v":586873.8,"d":"586,873.8"},696,{"v":1653,"d":"1,653.0"},5,{"v":6724,"d":"6,724.0"},3,{"v":1735829,"d":"1,735,829.0"},920,0,0,0,0,{"v":366949.1,"d":"366,949.1"},478,{"v":229,"d":"229.0"},1,{"v":19658.7,"d":"19,658.7"},2,{"v":7168.1,"d":"7,168.1"},11,675.7,1,{"v":200,"d":"200.0"},1,{"v":309146.5,"d":"309,146.5"},382,0,0,0,0,{"v":14425,"d":"14,425.0"},8,{"v":39893.8,"d":"39,893.8"},24,{"v":263646,"d":"263,646.0"},18,0,0,0,0,{"v":144569.8,"d":"144,569.8"},51,{"v":6110,"d":"6,110.0"},8,0,0,{"v":6224.3,"d":"6,224.3"},3,0,0,{"v":13542,"d":"13,542.0"},21,{"v":9427,"d":"9,427.0"},7]
["소라면 관기리",{"v":4106636.9,"d":"4,106,636.9"},{"v":4063,"d":"4,063"},{"v":625952.2,"d":"625,952.2"},803,{"v":1809874.7,"d":"1,809,874.7"},{"v":1489,"d":"1,489"},0,0,0,0,{"v":1118100,"d":"1,118,100.0"},715,0,0,0,0,{"v":128547,"d":"128,547.0"},339,0,0,{"v":10598,"d":"10,598.0"},2,{"v":3451,"d":"3,451.0"},3,{"v":3407,"d":"3,407.0"},2,{"v":2230,"d":"2,230.0"},3,{"v":191189.4,"d":"191,189.4"},583,0,0,{"v":8113.4,"d":"8,113.4"},3,{"v":63689.5,"d":"63,689.5"},18,{"v":99370.7,"d":"99,370.7"},67,{"v":14736,"d":"14,736.0"},1,0,0,0,0,0,0,0,0,0,0,{"v":2112,"d":"2,112.0"},2,0,0,{"v":14832,"d":"14,832.0"},25,{"v":10434,"d":"10,434.0"},8]
["소라면 현천리",{"v":5576890.600000001,"d":"5,576,890.6"},{"v":2991,"d":"2,991"},{"v":757195,"d":"757,195.0"},759,{"v":1257972.4,"d":"1,257,972.4"},734,0,0,{"v":9881,"d":"9,881.0"},11,{"v":2770972,"d":"2,770,972.0"},478,0,0,0,0,{"v":171671,"d":"171,671.0"},332,{"v":2736,"d":"2,736.0"},2,{"v":9141,"d":"9,141.0"},1,0,0,0,0,{"v":3790,"d":"3,790.0"},10,{"v":184875.2,"d":"184,875.2"},508,0,0,{"v":19477.2,"d":"19,477.2"},7,{"v":38076,"d":"38,076.0"},8,{"v":107108.2,"d":"107,108.2"},81,{"v":211411.6,"d":"211,411.6"},9,0,0,0,0,0,0,0,0,0,0,{"v":2258,"d":"2,258.0"},5,0,0,{"v":14807,"d":"14,807.0"},17,{"v":15519,"d":"15,519.0"},29]
["소라면 복산리",{"$f":"SUM(D71,F71,H71,J71,L71,N71,P71,R71,T71,V71,X71,Z71,AB71,AD71,AF71,AH71,AJ71,AL71,AN71,AP71,AR71,AT71,AV71,AX71,AZ71,BB71,BD71,BF71)","v":{"v":10087580.4,"d":"10,087,580.4"}},{"$f":"SUM(E71,G71,I71,K71,M71,O71,Q71,S71,U71,W71,Y71,AA71,AC71,AE71,AG71,AI71,AK71,AM71,AO71,AQ71,AS71,AU71,AW71,AY71,BA71,BC71,BE71,BG71)","v":{"v":6085,"d":"6,085"}},{"v":1650818,"d":"1,650,818.0"},{"v":1553,"d":"1,553"},{"v":1416254.9,"d":"1,416,254.9"},{"v":1153,"d":"1,153"},{"v":22480,"d":"22,480.0"},3,{"v":89388,"d":"89,388.0"},35,{"v":5712549,"d":"5,712,549.0"},{"v":1184,"d":"1,184"},0,0,0,0,{"v":237545,"d":"237,545.0"},563,{"v":20996,"d":"20,996.0"},7,{"v":14027,"d":"14,027.0"},2,{"v":10816,"d":"10,816.0"},11,{"v":4120,"d":"4,120.0"},3,{"v":18407,"d":"18,407.0"},18,{"v":427243.1,"d":"427,243.1"},{"v":1256,"d":"1,256"},0,0,{"v":11412,"d":"11,412.0"},16,{"v":52341,"d":"52,341.0"},1,{"v":158626.4,"d":"158,626.4"},104,{"v":114331,"d":"114,331.0"},62,{"v":1375,"d":"1,375.0"},1,0,0,0,0,0,0,0,0,{"v":4486,"d":"4,486.0"},6,0,0,{"v":55922,"d":"55,922.0"},53,{"v":64443,"d":"64,443.0"},54]
["소라면 사곡리",{"v":6381070,"d":"6,381,070.0"},{"v":3482,"d":"3,482"},{"v":1014806,"d":"1,014,806.0"},988,{"v":487462,"d":"487,462.0"},603,0,0,{"v":42091,"d":"42,091.0"},22,{"v":4243704,"d":"4,243,704.0"},648,0,0,0,0,{"v":157644,"d":"157,644.0"},409,{"v":2082,"d":"2,082.0"},2,{"v":6591,"d":"6,591.0"},1,{"v":1096,"d":"1,096.0"},2,{"v":2599,"d":"2,599.0"},4,{"v":1621,"d":"1,621.0"},4,{"v":273923,"d":"273,923.0"},682,0,0,{"v":3338,"d":"3,338.0"},6,0,0,{"v":91805,"d":"91,805.0"},44,{"v":19679,"d":"19,679.0"},22,0,0,0,0,0,0,0,0,0,0,{"v":821,"d":"821.0"},2,0,0,{"v":9582,"d":"9,582.0"},12,{"v":22226,"d":"22,226.0"},31]
["소라면 봉두리",{"v":13498860,"d":"13,498,860.0"},{"v":3412,"d":"3,412"},{"v":668993,"d":"668,993.0"},637,{"v":833659,"d":"833,659.0"},750,{"v":11874,"d":"11,874.0"},4,{"v":6946,"d":"6,946.0"},7,{"v":11089041,"d":"11,089,041.0"},852,0,0,0,0,{"v":105559,"d":"105,559.0"},278,{"v":10965,"d":"10,965.0"},4,{"v":6193,"d":"6,193.0"},1,{"v":1445,"d":"1,445.0"},3,0,0,{"v":5331,"d":"5,331.0"},11,{"v":230527,"d":"230,527.0"},684,0,0,0,0,{"v":116321,"d":"116,321.0"},10,{"v":99855,"d":"99,855.0"},78,{"v":41516,"d":"41,516.0"},11,0,0,0,0,0,0,0,0,0,0,{"v":1154,"d":"1,154.0"},3,0,0,{"v":221487,"d":"221,487.0"},27,{"v":47994,"d":"47,994.0"},52]
["소라면 대포리",{"v":10603295.200000001,"d":"10,603,295.2"},{"v":5728,"d":"5,728"},{"v":746679,"d":"746,679.0"},{"v":1165,"d":"1,165"},{"v":2444020.8,"d":"2,444,020.8"},{"v":1707,"d":"1,707"},0,0,{"v":378,"d":"378.0"},2,{"v":5681318,"d":"5,681,318.0"},582,0,0,0,0,{"v":249388,"d":"249,388.0"},700,{"v":14121,"d":"14,121.0"},13,0,0,{"v":10656,"d":"10,656.0"},8,{"v":8162,"d":"8,162.0"},10,{"v":13994,"d":"13,994.0"},21,{"v":341748.4,"d":"341,748.4"},907,{"v":30277,"d":"30,277.0"},26,{"v":13561,"d":"13,561.0"},5,{"v":384368,"d":"384,368.0"},49,{"v":232086.2,"d":"232,086.2"},334,{"v":264724,"d":"264,724.0"},64,0,0,{"v":21162.8,"d":"21,162.8"},34,0,0,0,0,0,0,{"v":4225,"d":"4,225.0"},7,0,0,{"v":7437,"d":"7,437.0"},15,{"v":134989,"d":"134,989.0"},79]
["율촌면 조화리",{"v":3209412.7,"d":"3,209,412.7"},{"v":3650,"d":"3,650"},{"v":377332,"d":"377,332.0"},560,{"v":929200,"d":"929,200.0"},{"v":1217,"d":"1,217"},{"v":30833,"d":"30,833.0"},18,{"v":2898,"d":"2,898.0"},2,{"v":235380,"d":"235,380.0"},138,0,0,0,0,{"v":211035,"d":"211,035.0"},744,{"v":158390.4,"d":"158,390.4"},8,{"v":30492,"d":"30,492.0"},3,{"v":20263.8,"d":"20,263.8"},5,{"v":7590,"d":"7,590.0"},10,{"v":7017,"d":"7,017.0"},11,{"v":405130,"d":"405,130.0"},658,{"v":60135,"d":"60,135.0"},31,{"v":15512,"d":"15,512.0"},6,{"v":31101,"d":"31,101.0"},4,{"v":74960.3,"d":"74,960.3"},89,{"v":72259,"d":"72,259.0"},17,{"v":2992,"d":"2,992.0"},2,{"v":28082,"d":"28,082.0"},47,{"v":177938.1,"d":"177,938.1"},15,0,0,0,0,{"v":7727,"d":"7,727.0"},4,0,0,{"v":14765,"d":"14,765.0"},11,{"v":308380.1,"d":"308,380.1"},50]
["율촌면 월산리",{"v":4433164.7,"d":"4,433,164.7"},{"v":4134,"d":"4,134"},{"v":494382,"d":"494,382.0"},588,{"v":863141,"d":"863,141.0"},{"v":1080,"d":"1,080"},{"v":58546,"d":"58,546.0"},21,{"v":4665,"d":"4,665.0"},4,{"v":2283241.7,"d":"2,283,241.7"},896,0,0,0,0,{"v":264664.6,"d":"264,664.6"},543,{"v":10477,"d":"10,477.0"},5,{"v":7621,"d":"7,621.0"},2,{"v":6740.7,"d":"6,740.7"},9,{"v":1445,"d":"1,445.0"},3,{"v":7048,"d":"7,048.0"},4,{"v":302347.8,"d":"302,347.8"},770,0,0,0,0,{"v":18988,"d":"18,988.0"},10,{"v":71366,"d":"71,366.0"},132,{"v":1528,"d":"1,528.0"},6,0,0,0,0,{"v":9716.8,"d":"9,716.8"},3,0,0,0,0,{"v":4634,"d":"4,634.0"},6,0,0,{"v":2184,"d":"2,184.0"},10,{"v":20428.1,"d":"20,428.1"},42]
["율촌면 산수리",{"v":5323247,"d":"5,323,247.0"},{"v":3821,"d":"3,821"},{"v":497206,"d":"497,206.0"},606,{"v":1068212,"d":"1,068,212.0"},{"v":1085,"d":"1,085"},{"v":9349,"d":"9,349.0"},2,{"v":18129,"d":"18,129.0"},17,{"v":3252762,"d":"3,252,762.0"},942,0,0,0,0,{"v":151196,"d":"151,196.0"},399,{"v":1200,"d":"1,200.0"},1,{"v":8387,"d":"8,387.0"},3,0,0,0,0,0,0,{"v":141411,"d":"141,411.0"},625,0,0,0,0,{"v":10955,"d":"10,955.0"},4,{"v":112127,"d":"112,127.0"},71,{"v":25680,"d":"25,680.0"},25,0,0,{"v":549,"d":"549.0"},1,0,0,0,0,0,0,{"v":2870,"d":"2,870.0"},4,0,0,{"v":5314,"d":"5,314.0"},13,{"v":17900,"d":"17,900.0"},23]
["율촌면 가장리",{"v":9705370.700000001,"d":"9,705,370.7"},{"v":4420,"d":"4,420"},{"v":816045,"d":"816,045.0"},725,{"v":1564818,"d":"1,564,818.0"},{"v":1262,"d":"1,262"},{"v":32100,"d":"32,100.0"},5,{"v":212239,"d":"212,239.0"},36,{"v":6335180.4,"d":"6,335,180.4"},{"v":1021,"d":"1,021"},0,0,0,0,{"v":181742.9,"d":"181,742.9"},393,0,0,0,0,{"v":3412,"d":"3,412.0"},2,0,0,{"v":516,"d":"516.0"},1,{"v":208160,"d":"208,160.0"},700,0,0,0,0,{"v":61605,"d":"61,605.0"},18,{"v":198676,"d":"198,676.0"},181,{"v":51340,"d":"51,340.0"},34,0,0,0,0,{"v":1015.4,"d":"1,015.4"},1,0,0,0,0,{"v":3845,"d":"3,845.0"},5,0,0,{"v":16248,"d":"16,248.0"},17,{"v":18428,"d":"18,428.0"},19]
["율촌면 봉전리",{"v":4094175,"d":"4,094,175.0"},{"v":2191,"d":"2,191"},{"v":613001,"d":"613,001.0"},640,{"v":388689,"d":"388,689.0"},361,0,0,{"v":2789,"d":"2,789.0"},2,{"v":2791751,"d":"2,791,751.0"},496,0,0,{"v":1937,"d":"1,937.0"},4,{"v":66893,"d":"66,893.0"},183,{"v":7693,"d":"7,693.0"},2,0,0,0,0,0,0,{"v":1166,"d":"1,166.0"},3,{"v":94657,"d":"94,657.0"},397,0,0,{"v":4488,"d":"4,488.0"},6,{"v":777,"d":"777.0"},1,{"v":34686,"d":"34,686.0"},20,{"v":16514,"d":"16,514.0"},9,0,0,0,0,0,0,0,0,0,0,{"v":1740,"d":"1,740.0"},5,0,0,{"v":17603,"d":"17,603.0"},40,{"v":49791,"d":"49,791.0"},22]
["율촌면 반월리",{"v":2277936,"d":"2,277,936.0"},{"v":1309,"d":"1,309"},{"v":320434,"d":"320,434.0"},337,{"v":306616,"d":"306,616.0"},290,0,0,{"v":5573,"d":"5,573.0"},2,{"v":1450667,"d":"1,450,667.0"},243,0,0,0,0,{"v":45965,"d":"45,965.0"},147,0,0,0,0,0,0,{"v":618,"d":"618.0"},1,{"v":306,"d":"306.0"},2,{"v":56906,"d":"56,906.0"},215,0,0,{"v":1679,"d":"1,679.0"},2,0,0,{"v":53541,"d":"53,541.0"},22,{"v":23227,"d":"23,227.0"},18,0,0,0,0,0,0,0,0,0,0,{"v":607,"d":"607.0"},1,0,0,{"v":6884,"d":"6,884.0"},17,{"v":4913,"d":"4,913.0"},12]
["율촌면 취적리",{"v":7664474,"d":"7,664,474.0"},{"v":4221,"d":"4,221"},{"v":790866,"d":"790,866.0"},862,{"v":979665,"d":"979,665.0"},{"v":1056,"d":"1,056"},{"v":4732,"d":"4,732.0"},1,{"v":601,"d":"601.0"},1,{"v":5025748,"d":"5,025,748.0"},698,0,0,0,0,{"v":212130,"d":"212,130.0"},451,{"v":15602,"d":"15,602.0"},6,0,0,{"v":3780,"d":"3,780.0"},7,{"v":11117,"d":"11,117.0"},5,{"v":1403,"d":"1,403.0"},2,{"v":256549,"d":"256,549.0"},779,{"v":50854,"d":"50,854.0"},54,{"v":3356,"d":"3,356.0"},4,{"v":7481,"d":"7,481.0"},12,{"v":121532,"d":"121,532.0"},124,{"v":41915,"d":"41,915.0"},41,0,0,{"v":36531,"d":"36,531.0"},34,0,0,0,0,0,0,0,0,0,0,{"v":28898,"d":"28,898.0"},31,{"v":71714,"d":"71,714.0"},53]
["율촌면 신풍리",{"v":6263260.6,"d":"6,263,260.6"},{"v":4940,"d":"4,940"},{"v":571475,"d":"571,475.0"},761,{"v":1408602,"d":"1,408,602.0"},{"v":1352,"d":"1,352"},{"v":79424,"d":"79,424.0"},31,{"v":91478,"d":"91,478.0"},158,{"v":2537235.8,"d":"2,537,235.8"},488,0,0,0,0,{"v":408104.6,"d":"408,104.6"},800,{"v":20943,"d":"20,943.0"},11,{"v":15992,"d":"15,992.0"},3,{"v":3368,"d":"3,368.0"},4,{"v":1840,"d":"1,840.0"},1,{"v":4952,"d":"4,952.0"},8,{"v":226660.8,"d":"226,660.8"},881,{"v":54023,"d":"54,023.0"},31,{"v":7354,"d":"7,354.0"},7,{"v":52152,"d":"52,152.0"},13,{"v":163272,"d":"163,272.0"},134,{"v":108889,"d":"108,889.0"},41,0,0,{"v":25685,"d":"25,685.0"},22,0,0,0,0,0,0,{"v":3814,"d":"3,814.0"},4,0,0,{"v":18554,"d":"18,554.0"},19,{"v":459442.4,"d":"459,442.4"},171]
["율촌면 상봉리",{"v":3343442,"d":"3,343,442.0"},{"v":1921,"d":"1,921"},{"v":442590,"d":"442,590.0"},443,{"v":358629,"d":"358,629.0"},361,{"v":1693,"d":"1,693.0"},1,{"v":27928,"d":"27,928.0"},16,{"v":2175694,"d":"2,175,694.0"},363,0,0,0,0,{"v":79608,"d":"79,608.0"},187,{"v":7369,"d":"7,369.0"},2,{"v":12729,"d":"12,729.0"},2,{"v":1358,"d":"1,358.0"},1,{"v":331,"d":"331.0"},1,{"v":7942,"d":"7,942.0"},10,{"v":143055,"d":"143,055.0"},462,0,0,{"v":1263,"d":"1,263.0"},2,{"v":869,"d":"869.0"},1,{"v":61606,"d":"61,606.0"},48,0,0,0,0,0,0,0,0,0,0,0,0,{"v":3436,"d":"3,436.0"},2,0,0,{"v":11675,"d":"11,675.0"},6,{"v":5667,"d":"5,667.0"},13]
["율촌면 여동리",{"v":1038472,"d":"1,038,472.0"},846,{"v":226722,"d":"226,722.0"},332,{"v":16175,"d":"16,175.0"},45,{"v":14883,"d":"14,883.0"},2,{"v":1011,"d":"1,011.0"},1,{"v":723461,"d":"723,461.0"},241,0,0,0,0,{"v":28318,"d":"28,318.0"},161,0,0,{"v":7128,"d":"7,128.0"},5,0,0,0,0,0,0,{"v":14908,"d":"14,908.0"},45,0,0,{"v":483,"d":"483.0"},5,0,0,{"v":836,"d":"836.0"},1,0,0,0,0,0,0,0,0,0,0,0,0,0,0,0,0,{"v":2585,"d":"2,585.0"},1,{"v":1962,"d":"1,962.0"},7]
["화양면 나진리",{"v":5832098.800000001,"d":"5,832,098.8"},{"v":3049,"d":"3,049"},{"v":588403,"d":"588,403.0"},607,{"v":433438.4,"d":"433,438.4"},417,{"v":9693,"d":"9,693.0"},3,{"v":6456,"d":"6,456.0"},8,{"v":4248387,"d":"4,248,387.0"},836,0,0,0,0,{"v":143972,"d":"143,972.0"},356,{"v":46586,"d":"46,586.0"},17,{"v":30464,"d":"30,464.0"},11,{"v":647,"d":"647.0"},2,0,0,{"v":2886,"d":"2,886.0"},3,{"v":187850.7,"d":"187,850.7"},643,0,0,{"v":2307,"d":"2,307.0"},12,{"v":393,"d":"393.0"},1,{"v":66371.9,"d":"66,371.9"},74,{"v":11023.8,"d":"11,023.8"},10,{"v":654,"d":"654.0"},1,0,0,0,0,0,0,0,0,{"v":6314,"d":"6,314.0"},9,0,0,{"v":6108,"d":"6,108.0"},8,{"v":40144,"d":"40,144.0"},31]
["화양면 용주리",{"v":4529423,"d":"4,529,423.0"},{"v":3561,"d":"3,561"},{"v":1247767,"d":"1,247,767.0"},{"v":1151,"d":"1,151"},{"v":520059,"d":"520,059.0"},381,{"v":14075,"d":"14,075.0"},24,{"v":26913,"d":"26,913.0"},5,{"v":2104361,"d":"2,104,361.0"},545,0,0,0,0,{"v":170984,"d":"170,984.0"},544,{"v":39150,"d":"39,150.0"},17,{"v":10482,"d":"10,482.0"},2,0,0,{"v":1123,"d":"1,123.0"},1,{"v":9566,"d":"9,566.0"},13,{"v":197423,"d":"197,423.0"},725,0,0,{"v":8892,"d":"8,892.0"},11,{"v":8213,"d":"8,213.0"},8,{"v":47340,"d":"47,340.0"},21,{"v":19287,"d":"19,287.0"},12,{"v":10905,"d":"10,905.0"},5,0,0,0,0,0,0,0,0,{"v":4604,"d":"4,604.0"},5,{"v":6161,"d":"6,161.0"},3,{"v":26285,"d":"26,285.0"},31,{"v":55833,"d":"55,833.0"},57]
["화양면 창무리",{"v":3958859.3000000003,"d":"3,958,859.3"},{"v":2455,"d":"2,455"},{"v":813478,"d":"813,478.0"},758,{"v":388941,"d":"388,941.0"},325,0,0,{"v":10950,"d":"10,950.0"},3,{"v":2226205,"d":"2,226,205.0"},384,0,0,0,0,{"v":98965,"d":"98,965.0"},280,{"v":9573,"d":"9,573.0"},5,0,0,{"v":1164,"d":"1,164.0"},2,{"v":7189,"d":"7,189.0"},4,{"v":5053,"d":"5,053.0"},10,{"v":104317.7,"d":"104,317.7"},584,0,0,{"v":3438,"d":"3,438.0"},1,{"v":28449.7,"d":"28,449.7"},20,{"v":47551.4,"d":"47,551.4"},41,{"v":194774,"d":"194,774.0"},4,0,0,0,0,0,0,0,0,0,0,{"v":1103,"d":"1,103.0"},5,0,0,{"v":5902,"d":"5,902.0"},3,{"v":11805.5,"d":"11,805.5"},26]
["화양면 이천리",{"v":3554284,"d":"3,554,284.0"},{"v":2082,"d":"2,082"},{"v":779726,"d":"779,726.0"},770,{"v":111021,"d":"111,021.0"},172,{"v":5849,"d":"5,849.0"},3,{"v":1761,"d":"1,761.0"},1,{"v":2342264,"d":"2,342,264.0"},425,0,0,0,0,{"v":112988,"d":"112,988.0"},304,{"v":444,"d":"444.0"},1,{"v":9352,"d":"9,352.0"},6,{"v":1265,"d":"1,265.0"},2,0,0,{"v":1054,"d":"1,054.0"},2,{"v":146025,"d":"146,025.0"},333,0,0,{"v":4742,"d":"4,742.0"},14,0,0,{"v":19164,"d":"19,164.0"},22,{"v":3481,"d":"3,481.0"},2,0,0,0,0,0,0,0,0,0,0,{"v":992,"d":"992.0"},1,0,0,{"v":1478,"d":"1,478.0"},4,{"v":12678,"d":"12,678.0"},20]
["화양면 옥적리",{"v":11946182.299999999,"d":"11,946,182.3"},{"v":4837,"d":"4,837"},{"v":1447009,"d":"1,447,009.0"},{"v":1359,"d":"1,359"},{"v":1290801.6,"d":"1,290,801.6"},{"v":1170,"d":"1,170"},{"v":56059,"d":"56,059.0"},9,{"v":31798,"d":"31,798.0"},6,{"v":8302382,"d":"8,302,382.0"},937,0,0,0,0,{"v":123974,"d":"123,974.0"},339,{"v":13000,"d":"13,000.0"},9,{"v":30,"d":"30.0"},1,{"v":2538,"d":"2,538.0"},3,0,0,{"v":4276,"d":"4,276.0"},9,{"v":246155.2,"d":"246,155.2"},711,0,0,{"v":8921,"d":"8,921.0"},5,{"v":60004.4,"d":"60,004.4"},16,{"v":165909.1,"d":"165,909.1"},129,{"v":161919,"d":"161,919.0"},100,0,0,0,0,0,0,0,0,0,0,{"v":1692,"d":"1,692.0"},2,0,0,{"v":16448,"d":"16,448.0"},11,{"v":13266,"d":"13,266.0"},21]
["화양면 화동리",{"v":7418353.699999999,"d":"7,418,353.7"},{"v":4091,"d":"4,091"},{"v":1065748.7,"d":"1,065,748.7"},{"v":1037,"d":"1,037"},{"v":866095.7,"d":"866,095.7"},824,{"v":1850,"d":"1,850.0"},2,{"v":12543,"d":"12,543.0"},4,{"v":4741096.8,"d":"4,741,096.8"},745,0,0,0,0,{"v":124587.5,"d":"124,587.5"},420,{"v":101598.2,"d":"101,598.2"},22,{"v":33365,"d":"33,365.0"},4,{"v":1088,"d":"1,088.0"},1,{"v":1811,"d":"1,811.0"},1,{"v":5578,"d":"5,578.0"},11,{"v":204075.5,"d":"204,075.5"},679,0,0,0,0,{"v":3568,"d":"3,568.0"},10,{"v":132195.1,"d":"132,195.1"},244,{"v":79538,"d":"79,538.0"},36,0,0,0,0,0,0,0,0,0,0,{"v":2095,"d":"2,095.0"},5,0,0,{"v":22954,"d":"22,954.0"},17,{"v":18566.2,"d":"18,566.2"},29]
["화양면 서촌리",{"v":6225081.699999999,"d":"6,225,081.7"},{"v":3234,"d":"3,234"},{"v":953709,"d":"953,709.0"},875,{"v":710973,"d":"710,973.0"},693,{"v":10611,"d":"10,611.0"},2,{"v":16806,"d":"16,806.0"},12,{"v":4163729,"d":"4,163,729.0"},556,0,0,0,0,{"v":88371,"d":"88,371.0"},320,{"v":2921,"d":"2,921.0"},1,0,0,0,0,0,0,{"v":1029,"d":"1,029.0"},3,{"v":116568.6,"d":"116,568.6"},579,0,0,{"v":2298,"d":"2,298.0"},1,{"v":1736,"d":"1,736.0"},10,{"v":105848.1,"d":"105,848.1"},137,{"v":18192,"d":"18,192.0"},14,0,0,0,0,0,0,0,0,0,0,{"v":1718,"d":"1,718.0"},5,0,0,{"v":12032,"d":"12,032.0"},12,{"v":18540,"d":"18,540.0"},14]
["화양면 이목리",{"v":8996418,"d":"8,996,418.0"},{"v":4871,"d":"4,871"},{"v":1076490,"d":"1,076,490.0"},{"v":1015,"d":"1,015"},{"v":640637,"d":"640,637.0"},988,0,0,{"v":44312,"d":"44,312.0"},8,{"v":6727626,"d":"6,727,626.0"},{"v":1530,"d":"1,530"},0,0,0,0,{"v":151807,"d":"151,807.0"},426,0,0,{"v":5586,"d":"5,586.0"},7,0,0,0,0,{"v":958,"d":"958.0"},3,{"v":238395,"d":"238,395.0"},780,0,0,{"v":2730,"d":"2,730.0"},16,{"v":205,"d":"205.0"},2,{"v":67408,"d":"67,408.0"},35,{"v":10156,"d":"10,156.0"},8,0,0,0,0,0,0,0,0,0,0,{"v":1344,"d":"1,344.0"},3,0,0,{"v":13686,"d":"13,686.0"},20,{"v":15078,"d":"15,078.0"},30]
["화양면 장수리",{"v":5244685,"d":"5,244,685.0"},{"v":3667,"d":"3,667"},{"v":1163843,"d":"1,163,843.0"},{"v":1170,"d":"1,170"},{"v":302255,"d":"302,255.0"},515,{"v":2420,"d":"2,420.0"},1,{"v":12255,"d":"12,255.0"},10,{"v":3354556,"d":"3,354,556.0"},824,0,0,0,0,{"v":129714,"d":"129,714.0"},428,0,0,{"v":21516,"d":"21,516.0"},5,0,0,0,0,{"v":1209,"d":"1,209.0"},5,{"v":194753,"d":"194,753.0"},597,0,0,{"v":7575,"d":"7,575.0"},18,0,0,{"v":22526,"d":"22,526.0"},30,0,0,{"v":1524,"d":"1,524.0"},2,0,0,0,0,0,0,0,0,0,0,0,0,{"v":14373,"d":"14,373.0"},24,{"v":16166,"d":"16,166.0"},38]
["화양면 안포리",{"v":12415737.3,"d":"12,415,737.3"},{"v":6843,"d":"6,843"},{"v":1559859,"d":"1,559,859.0"},{"v":1755,"d":"1,755"},{"v":795687.5,"d":"795,687.5"},{"v":1140,"d":"1,140"},{"v":29555,"d":"29,555.0"},7,{"v":51637,"d":"51,637.0"},27,{"v":9134361,"d":"9,134,361.0"},{"v":1798,"d":"1,798"},0,0,0,0,{"v":206004,"d":"206,004.0"},627,{"v":7050,"d":"7,050.0"},1,{"v":6792,"d":"6,792.0"},2,0,0,{"v":1629,"d":"1,629.0"},1,{"v":8885,"d":"8,885.0"},15,{"v":359440.9,"d":"359,440.9"},{"v":1111,"d":"1,111"},0,0,{"v":7422,"d":"7,422.0"},19,{"v":393,"d":"393.0"},2,{"v":95720.9,"d":"95,720.9"},108,{"v":66302,"d":"66,302.0"},85,{"v":20344,"d":"20,344.0"},13,0,0,0,0,0,0,0,0,{"v":3533,"d":"3,533.0"},5,0,0,{"v":16871,"d":"16,871.0"},31,{"v":44251,"d":"44,251.0"},96]
["남면 우학리",{"v":4513342,"d":"4,513,342.0"},{"v":2764,"d":"2,764"},{"v":1231831,"d":"1,231,831.0"},930,{"v":235752,"d":"235,752.0"},480,0,0,0,0,{"v":2686018,"d":"2,686,018.0"},522,0,0,0,0,{"v":89683,"d":"89,683.0"},339,0,0,{"v":33393,"d":"33,393.0"},6,0,0,0,0,0,0,{"v":152033,"d":"152,033.0"},417,0,0,{"v":1925,"d":"1,925.0"},8,0,0,{"v":26106,"d":"26,106.0"},20,0,0,{"v":4524,"d":"4,524.0"},3,{"v":926,"d":"926.0"},3,0,0,0,0,0,0,{"v":1523,"d":"1,523.0"},3,0,0,{"v":27528,"d":"27,528.0"},5,{"v":22100,"d":"22,100.0"},28]
["남면 심장리",{"v":4435606,"d":"4,435,606.0"},{"v":2514,"d":"2,514"},{"v":1418086,"d":"1,418,086.0"},954,{"v":123199,"d":"123,199.0"},308,0,0,0,0,{"v":2625292,"d":"2,625,292.0"},423,0,0,0,0,{"v":95032,"d":"95,032.0"},399,0,0,{"v":4663,"d":"4,663.0"},2,0,0,0,0,{"v":243,"d":"243.0"},1,{"v":113254,"d":"113,254.0"},315,0,0,{"v":4234,"d":"4,234.0"},15,{"v":403,"d":"403.0"},1,{"v":15465,"d":"15,465.0"},15,{"v":582,"d":"582.0"},1,{"v":8684,"d":"8,684.0"},10,0,0,0,0,0,0,0,0,{"v":232,"d":"232.0"},1,0,0,{"v":16265,"d":"16,265.0"},15,{"v":9972,"d":"9,972.0"},54]
["남면 두모리",{"v":11121400,"d":"11,121,400.0"},{"v":3554,"d":"3,554"},{"v":1266397,"d":"1,266,397.0"},{"v":1067,"d":"1,067"},{"v":438169,"d":"438,169.0"},918,0,0,0,0,{"v":9092302,"d":"9,092,302.0"},693,0,0,0,0,{"v":67377,"d":"67,377.0"},254,0,0,{"v":5557,"d":"5,557.0"},5,0,0,0,0,{"v":465,"d":"465.0"},2,{"v":174689,"d":"174,689.0"},471,0,0,{"v":3155,"d":"3,155.0"},9,{"v":12780,"d":"12,780.0"},43,{"v":18015,"d":"18,015.0"},17,{"v":29746,"d":"29,746.0"},40,{"v":400,"d":"400.0"},1,{"v":1484,"d":"1,484.0"},2,0,0,0,0,0,0,{"v":694,"d":"694.0"},1,0,0,{"v":1200,"d":"1,200.0"},3,{"v":8970,"d":"8,970.0"},28]
["남면 유송리",{"v":7687371,"d":"7,687,371.0"},{"v":3235,"d":"3,235"},{"v":1653381,"d":"1,653,381.0"},{"v":1370,"d":"1,370"},{"v":166070,"d":"166,070.0"},423,0,0,0,0,{"v":5615712,"d":"5,615,712.0"},717,0,0,0,0,{"v":86509,"d":"86,509.0"},366,0,0,{"v":12875,"d":"12,875.0"},5,0,0,0,0,{"v":192,"d":"192.0"},1,{"v":94124,"d":"94,124.0"},265,0,0,{"v":7454,"d":"7,454.0"},20,{"v":1015,"d":"1,015.0"},3,{"v":23784,"d":"23,784.0"},29,0,0,0,0,0,0,0,0,0,0,0,0,{"v":317,"d":"317.0"},2,0,0,{"v":12476,"d":"12,476.0"},3,{"v":13462,"d":"13,462.0"},31]
["남면 안도리",{"v":3744761,"d":"3,744,761.0"},{"v":2544,"d":"2,544"},{"v":1132053,"d":"1,132,053.0"},{"v":1213,"d":"1,213"},{"v":55180,"d":"55,180.0"},151,0,0,0,0,{"v":2339157,"d":"2,339,157.0"},565,0,0,0,0,{"v":89868,"d":"89,868.0"},379,0,0,{"v":5182,"d":"5,182.0"},6,0,0,0,0,0,0,{"v":43878,"d":"43,878.0"},142,0,0,{"v":4513,"d":"4,513.0"},5,{"v":390,"d":"390.0"},1,{"v":17466,"d":"17,466.0"},17,0,0,0,0,0,0,0,0,0,0,0,0,{"v":231,"d":"231.0"},1,0,0,{"v":20261,"d":"20,261.0"},40,{"v":36582,"d":"36,582.0"},24]
["남면 연도리",{"v":7098200,"d":"7,098,200.0"},{"v":3447,"d":"3,447"},{"v":1147203,"d":"1,147,203.0"},{"v":1365,"d":"1,365"},{"v":267794,"d":"267,794.0"},618,0,0,{"v":598,"d":"598.0"},1,{"v":5317225,"d":"5,317,225.0"},708,0,0,0,0,{"v":102517,"d":"102,517.0"},466,0,0,{"v":11875,"d":"11,875.0"},9,0,0,0,0,0,0,{"v":108587,"d":"108,587.0"},147,0,0,{"v":3309,"d":"3,309.0"},16,0,0,{"v":21744,"d":"21,744.0"},30,0,0,{"v":9734,"d":"9,734.0"},3,0,0,0,0,0,0,0,0,0,0,0,0,{"v":38318,"d":"38,318.0"},36,{"v":69296,"d":"69,296.0"},48]
["남면 두라리",{"v":1328121,"d":"1,328,121.0"},925,{"v":400815,"d":"400,815.0"},471,{"v":19540,"d":"19,540.0"},59,0,0,0,0,{"v":844388,"d":"844,388.0"},210,0,0,0,0,{"v":29790,"d":"29,790.0"},120,0,0,{"v":6844,"d":"6,844.0"},4,0,0,0,0,0,0,{"v":18156,"d":"18,156.0"},31,0,0,{"v":1233,"d":"1,233.0"},5,0,0,{"v":886,"d":"886.0"},2,{"v":1025,"d":"1,025.0"},3,{"v":195,"d":"195.0"},1,0,0,0,0,0,0,0,0,{"v":1037,"d":"1,037.0"},1,0,0,{"v":1164,"d":"1,164.0"},4,{"v":3048,"d":"3,048.0"},14]
["남면 화태리",{"v":2189331,"d":"2,189,331.0"},{"v":1801,"d":"1,801"},{"v":646913,"d":"646,913.0"},701,{"v":116502,"d":"116,502.0"},227,0,0,0,0,{"v":1263594,"d":"1,263,594.0"},448,0,0,0,0,{"v":59062,"d":"59,062.0"},240,0,0,{"v":12637,"d":"12,637.0"},4,0,0,0,0,0,0,{"v":52653,"d":"52,653.0"},110,0,0,{"v":6159,"d":"6,159.0"},19,0,0,{"v":4965,"d":"4,965.0"},9,{"v":6712,"d":"6,712.0"},9,{"v":2923,"d":"2,923.0"},3,0,0,0,0,0,0,0,0,{"v":544,"d":"544.0"},4,0,0,{"v":6354,"d":"6,354.0"},8,{"v":10313,"d":"10,313.0"},19]
["남면 횡간리",{"v":431660,"d":"431,660.0"},526,{"v":263932,"d":"263,932.0"},308,{"v":7482,"d":"7,482.0"},21,0,0,0,0,{"v":114747,"d":"114,747.0"},32,0,0,0,0,{"v":19294,"d":"19,294.0"},104,0,0,{"v":4408,"d":"4,408.0"},4,0,0,0,0,0,0,{"v":8244,"d":"8,244.0"},9,0,0,{"v":1599,"d":"1,599.0"},7,{"v":129,"d":"129.0"},1,{"v":254,"d":"254.0"},1,{"v":43,"d":"43.0"},1,0,0,0,0,0,0,0,0,0,0,{"v":128,"d":"128.0"},1,0,0,{"v":2942,"d":"2,942.0"},13,{"v":8458,"d":"8,458.0"},24]
["화정면 백야리",{"v":3057979,"d":"3,057,979.0"},{"v":2088,"d":"2,088"},{"v":880084,"d":"880,084.0"},853,{"v":157507,"d":"157,507.0"},212,0,0,{"v":1208,"d":"1,208.0"},1,{"v":1836412,"d":"1,836,412.0"},465,0,0,0,0,{"v":83291,"d":"83,291.0"},265,0,0,{"v":16874,"d":"16,874.0"},4,0,0,0,0,0,0,{"v":46984,"d":"46,984.0"},247,0,0,{"v":3313,"d":"3,313.0"},11,0,0,{"v":1706,"d":"1,706.0"},2,{"v":1513,"d":"1,513.0"},2,{"v":9763,"d":"9,763.0"},3,0,0,0,0,0,0,0,0,{"v":1892,"d":"1,892.0"},4,0,0,{"v":4530,"d":"4,530.0"},4,{"v":12902,"d":"12,902.0"},15]
["화정면 월호리",{"v":2023140,"d":"2,023,140.0"},{"v":1046,"d":"1,046"},{"v":639572,"d":"639,572.0"},516,{"v":41547,"d":"41,547.0"},80,0,0,0,0,{"v":1254387,"d":"1,254,387.0"},240,0,0,0,0,{"v":36971,"d":"36,971.0"},135,0,0,{"v":7999,"d":"7,999.0"},3,0,0,0,0,0,0,{"v":21946,"d":"21,946.0"},34,0,0,{"v":1909,"d":"1,909.0"},10,0,0,{"v":2956,"d":"2,956.0"},6,{"v":40,"d":"40.0"},1,{"v":1561,"d":"1,561.0"},3,0,0,0,0,0,0,0,0,0,0,0,0,{"v":1818,"d":"1,818.0"},4,{"v":12434,"d":"12,434.0"},14]
["화정면 개도리",{"v":9728737,"d":"9,728,737.0"},{"v":4572,"d":"4,572"},{"v":1575181,"d":"1,575,181.0"},{"v":1500,"d":"1,500"},{"v":463100,"d":"463,100.0"},464,0,0,0,0,{"v":7082662,"d":"7,082,662.0"},{"v":1358,"d":"1,358"},0,0,0,0,{"v":135869,"d":"135,869.0"},512,0,0,{"v":19803,"d":"19,803.0"},4,0,0,0,0,0,0,{"v":214861,"d":"214,861.0"},574,0,0,{"v":21970,"d":"21,970.0"},17,0,0,{"v":86466,"d":"86,466.0"},50,{"v":63652,"d":"63,652.0"},19,{"v":19921,"d":"19,921.0"},17,0,0,0,0,0,0,0,0,{"v":1336,"d":"1,336.0"},4,0,0,{"v":12085,"d":"12,085.0"},11,{"v":31831,"d":"31,831.0"},42]
["화정면 제도리",{"v":1098088,"d":"1,098,088.0"},809,{"v":366730,"d":"366,730.0"},307,{"v":51007,"d":"51,007.0"},80,0,0,{"v":1719,"d":"1,719.0"},2,{"v":603017,"d":"603,017.0"},164,0,0,0,0,{"v":34418,"d":"34,418.0"},105,0,0,{"v":81,"d":"81.0"},3,0,0,0,0,0,0,{"v":16816,"d":"16,816.0"},109,0,0,{"v":2932,"d":"2,932.0"},9,0,0,{"v":4572,"d":"4,572.0"},3,{"v":1842,"d":"1,842.0"},1,0,0,0,0,0,0,0,0,0,0,0,0,0,0,{"v":3114,"d":"3,114.0"},10,{"v":11840,"d":"11,840.0"},16]
["화정면 상화리",{"v":672426,"d":"672,426.0"},578,{"v":301408,"d":"301,408.0"},342,{"v":5980,"d":"5,980.0"},17,0,0,0,0,{"v":325737,"d":"325,737.0"},109,0,0,0,0,{"v":20999,"d":"20,999.0"},83,0,0,{"v":54,"d":"54.0"},1,0,0,0,0,0,0,{"v":11087,"d":"11,087.0"},10,0,0,{"v":1519,"d":"1,519.0"},4,0,0,0,0,0,0,0,0,0,0,0,0,0,0,0,0,{"v":1117,"d":"1,117.0"},1,0,0,{"v":2446,"d":"2,446.0"},8,{"v":2079,"d":"2,079.0"},3]
["화정면 하화리",{"v":673278,"d":"673,278.0"},535,{"v":256512,"d":"256,512.0"},289,{"v":2435,"d":"2,435.0"},15,0,0,0,0,{"v":369876,"d":"369,876.0"},116,0,0,0,0,{"v":17319,"d":"17,319.0"},65,0,0,{"v":1908,"d":"1,908.0"},3,0,0,0,0,0,0,{"v":4531,"d":"4,531.0"},12,0,0,{"v":606,"d":"606.0"},5,0,0,{"v":9045,"d":"9,045.0"},8,0,0,0,0,0,0,0,0,0,0,0,0,0,0,0,0,{"v":7061,"d":"7,061.0"},13,{"v":3985,"d":"3,985.0"},9]
["화정면 낭도리",{"v":5608745,"d":"5,608,745.0"},{"v":3252,"d":"3,252"},{"v":1443180,"d":"1,443,180.0"},{"v":1573,"d":"1,573"},{"v":155524,"d":"155,524.0"},209,{"v":1895,"d":"1,895.0"},2,0,0,{"v":3708952,"d":"3,708,952.0"},745,0,0,{"v":8625,"d":"8,625.0"},2,{"v":72869,"d":"72,869.0"},361,0,0,{"v":33324,"d":"33,324.0"},13,0,0,0,0,{"v":395,"d":"395.0"},1,{"v":57290,"d":"57,290.0"},212,0,0,{"v":10962,"d":"10,962.0"},17,{"v":11323,"d":"11,323.0"},5,{"v":25833,"d":"25,833.0"},27,{"v":7590,"d":"7,590.0"},3,0,0,0,0,0,0,0,0,0,0,{"v":753,"d":"753.0"},2,0,0,{"v":20087,"d":"20,087.0"},37,{"v":50143,"d":"50,143.0"},43]
["화정면 조발리",{"v":1940570,"d":"1,940,570.0"},956,{"v":344423,"d":"344,423.0"},409,{"v":17238,"d":"17,238.0"},32,0,0,0,0,{"v":1531543,"d":"1,531,543.0"},333,0,0,0,0,{"v":23495,"d":"23,495.0"},120,0,0,{"v":2465,"d":"2,465.0"},5,0,0,0,0,0,0,{"v":13072,"d":"13,072.0"},26,0,0,{"v":616,"d":"616.0"},6,0,0,{"v":1074,"d":"1,074.0"},5,0,0,0,0,0,0,0,0,0,0,0,0,0,0,0,0,{"v":3829,"d":"3,829.0"},10,{"v":2815,"d":"2,815.0"},10]
["화정면 적금리",{"v":855046,"d":"855,046.0"},{"v":1187,"d":"1,187"},{"v":556292,"d":"556,292.0"},789,{"v":17487,"d":"17,487.0"},24,0,0,0,0,{"v":157636,"d":"157,636.0"},66,0,0,0,0,{"v":48700,"d":"48,700.0"},189,0,0,{"v":4543,"d":"4,543.0"},5,0,0,0,0,0,0,{"v":18639,"d":"18,639.0"},11,0,0,{"v":1318,"d":"1,318.0"},5,{"v":4642,"d":"4,642.0"},11,{"v":790,"d":"790.0"},1,0,0,0,0,0,0,0,0,0,0,0,0,0,0,0,0,{"v":40152,"d":"40,152.0"},72,{"v":4847,"d":"4,847.0"},14]
["화정면 여자리",{"v":694152,"d":"694,152.0"},857,{"v":366860,"d":"366,860.0"},421,{"v":7848,"d":"7,848.0"},10,0,0,0,0,{"v":213234,"d":"213,234.0"},108,0,0,0,0,{"v":44730,"d":"44,730.0"},187,0,0,{"v":8451,"d":"8,451.0"},4,0,0,0,0,0,0,{"v":25108,"d":"25,108.0"},52,0,0,{"v":2998,"d":"2,998.0"},10,0,0,{"v":1656,"d":"1,656.0"},1,0,0,{"v":662,"d":"662.0"},1,0,0,0,0,0,0,0,0,{"v":2273,"d":"2,273.0"},2,0,0,{"v":13993,"d":"13,993.0"},45,{"v":6339,"d":"6,339.0"},16]
["삼산면 거문리",{"v":932449,"d":"932,449.0"},679,{"v":106524,"d":"106,524.0"},157,0,0,0,0,0,0,{"v":737137,"d":"737,137.0"},123,0,0,0,0,{"v":44025,"d":"44,025.0"},347,0,0,{"v":6338,"d":"6,338.0"},2,0,0,0,0,0,0,{"v":14267,"d":"14,267.0"},30,0,0,{"v":4275,"d":"4,275.0"},5,0,0,0,0,0,0,0,0,0,0,0,0,0,0,0,0,{"v":208,"d":"208.0"},1,0,0,{"v":641,"d":"641.0"},2,{"v":19034,"d":"19,034.0"},12]
["삼산면 덕촌리",{"v":3849842,"d":"3,849,842.0"},{"v":2535,"d":"2,535"},{"v":571632,"d":"571,632.0"},801,{"v":22013,"d":"22,013.0"},89,{"v":981,"d":"981.0"},1,0,0,{"v":2795389,"d":"2,795,389.0"},{"v":1101,"d":"1,101"},0,0,0,0,{"v":89867,"d":"89,867.0"},381,0,0,{"v":17072,"d":"17,072.0"},3,0,0,0,0,{"v":612,"d":"612.0"},3,{"v":52240,"d":"52,240.0"},93,0,0,{"v":1687,"d":"1,687.0"},3,{"v":1127,"d":"1,127.0"},6,{"v":6576,"d":"6,576.0"},5,{"v":1404,"d":"1,404.0"},2,0,0,0,0,0,0,0,0,0,0,0,0,0,0,{"v":268109,"d":"268,109.0"},37,{"v":21133,"d":"21,133.0"},10]
["삼산면 서도리",{"v":3430497,"d":"3,430,497.0"},{"v":2499,"d":"2,499"},{"v":705438,"d":"705,438.0"},{"v":1030,"d":"1,030"},{"v":28626,"d":"28,626.0"},93,0,0,0,0,{"v":2426864,"d":"2,426,864.0"},691,0,0,0,0,{"v":71026,"d":"71,026.0"},374,0,0,{"v":7708,"d":"7,708.0"},6,0,0,0,0,0,0,{"v":52908,"d":"52,908.0"},103,0,0,{"v":2707,"d":"2,707.0"},6,0,0,{"v":6271,"d":"6,271.0"},5,{"v":122,"d":"122.0"},1,{"v":3702,"d":"3,702.0"},4,0,0,0,0,0,0,0,0,{"v":539,"d":"539.0"},4,0,0,{"v":55427,"d":"55,427.0"},111,{"v":69159,"d":"69,159.0"},71]
["삼산면 동도리",{"v":4565912,"d":"4,565,912.0"},{"v":2617,"d":"2,617"},{"v":874710,"d":"874,710.0"},{"v":1130,"d":"1,130"},{"v":6382,"d":"6,382.0"},27,0,0,0,0,{"v":3447411,"d":"3,447,411.0"},910,0,0,0,0,{"v":65212,"d":"65,212.0"},335,0,0,{"v":7242,"d":"7,242.0"},5,0,0,0,0,0,0,{"v":34630,"d":"34,630.0"},44,0,0,{"v":11599,"d":"11,599.0"},10,0,0,{"v":12089,"d":"12,089.0"},9,{"v":1878,"d":"1,878.0"},1,{"v":6222,"d":"6,222.0"},5,0,0,0,0,0,0,0,0,{"v":225,"d":"225.0"},1,0,0,{"v":81359,"d":"81,359.0"},105,{"v":16953,"d":"16,953.0"},35]
["삼산면 초도리",{"v":8557524,"d":"8,557,524.0"},{"v":3722,"d":"3,722"},{"v":1643354,"d":"1,643,354.0"},{"v":1571,"d":"1,571"},{"v":186959,"d":"186,959.0"},350,0,0,{"v":61489,"d":"61,489.0"},5,{"v":6270624,"d":"6,270,624.0"},968,0,0,0,0,{"v":124363,"d":"124,363.0"},417,0,0,{"v":23337,"d":"23,337.0"},5,0,0,0,0,{"v":156,"d":"156.0"},1,{"v":177356,"d":"177,356.0"},359,0,0,{"v":7593,"d":"7,593.0"},13,0,0,{"v":10019,"d":"10,019.0"},8,0,0,0,0,0,0,0,0,0,0,0,0,{"v":793,"d":"793.0"},2,0,0,{"v":12496,"d":"12,496.0"},1,{"v":38985,"d":"38,985.0"},22]
["삼산면 손죽리",{"v":6207214,"d":"6,207,214.0"},{"v":1950,"d":"1,950"},{"v":903900,"d":"903,900.0"},{"v":1013,"d":"1,013"},{"v":41528,"d":"41,528.0"},119,0,0,{"v":20002,"d":"20,002.0"},1,{"v":5058865,"d":"5,058,865.0"},440,0,0,0,0,{"v":85341,"d":"85,341.0"},300,0,0,{"v":10215,"d":"10,215.0"},4,0,0,0,0,0,0,{"v":60428,"d":"60,428.0"},36,0,0,{"v":1024,"d":"1,024.0"},5,{"v":297,"d":"297.0"},2,{"v":13491,"d":"13,491.0"},8,{"v":893,"d":"893.0"},1,0,0,0,0,0,0,0,0,0,0,{"v":198,"d":"198.0"},1,0,0,{"v":3968,"d":"3,968.0"},4,{"v":7064,"d":"7,064.0"},16]

{"sheet":"행정동(2013)","index":1,"n_rows":30,"n_cols":59,"rows_kept":30,"merged":[[0,0,1,0],[0,1,0,2],[0,3,0,4],[0,5,0,6],[0,7,0,8],[0,9,0,10],[0,11,0,12],[0,13,0,14],[0,15,0,16],[0,17,0,18],[0,19,0,20],[0,21,0,22],[0,23,0,24],[0,27,0,28],[0,29,0,30],[0,31,0,32],[0,33,0,34],[0,35,0,36],[0,37,0,38],[0,39,0,40],[0,41,0,42],[0,43,0,44],[0,45,0,46],[0,47,0,48],[0,49,0,50],[0,51,0,52],[0,53,0,54],[0,55,0,56],[0,57,0,58]]}
["구    분","합      계",null,"전",null,"답",null,"과수원",null,"목장용지",null,"임야",null,"광천지",null,"염전",null,"대",null,"공장용지",null,"학교용지",null,"주차장",null,"주유소용지",null,"창고용지",null,"도로",null,"철도용지",null,"제방",null,"하천",null,"구거",null,"유지",null,"양어장",null,"수도용지",null,"공원",null,"체육용지",null,"유원지",null,"종교용지",null,"사적지",null,"묘지",null,"잡종지"]
[null,"면  적","지번수","면  적","지번수","면  적","지번수","면  적","지번수","면  적","지번수","면  적","지번수","면  적","지번수","면  적","지번수","면  적","지번수","면  적","지번수","면  적","지번수","면  적","지번수","면  적","지번수","면  적","지번수","면  적","지번수","면  적","지번수","면  적","지번수","면  적","지번수","면  적","지번수","면  적","지번수","면  적","지번수","면  적","지번수","면  적","지번수","면  적","지번수","면  적","지번수","면  적","지번수","면  적","지번수","면  적","지번수","면  적","지번수"]
["합  계",{"$f":"SUM(B4:B30)","v":{"v":504308958.00000006,"d":"504,308,958.0"}},{"$f":"SUM(C4:C30)","v":{"v":310125,"d":"310,125"}},{"v":66829496.599999994,"d":"66,829,496.60"},{"v":74906,"d":"74,906"},{"v":41689757.699999996,"d":"41,689,757.70"},{"v":46705,"d":"46,705"},{"v":564671,"d":"564,671.00"},204,{"v":1855559,"d":"1,855,559.00"},514,{"v":306283875.2,"d":"306,283,875.20"},{"v":54429,"d":"54,429"},0,0,{"v":10562,"d":"10,562.00"},6,{"v":21564759.399999995,"d":"21,564,759.40"},{"v":65811,"d":"65,811"},{"v":15756522.9,"d":"15,756,522.90"},{"v":1190,"d":"1,190"},{"v":2005867,"d":"2,005,867.00"},376,{"v":346626.39999999997,"d":"346,626.40"},394,{"v":501120.30000000005,"d":"501,120.30"},244,{"v":262666.6,"d":"262,666.60"},398,{"v":19684967,"d":"19,684,967.00"},{"v":48468,"d":"48,468"},{"v":1028567.2,"d":"1,028,567.20"},875,{"$f":"SUM(AH4:AH30)","v":{"v":657269.2000000001,"d":"657,269.20"}},788,{"v":2414211.7,"d":"2,414,211.70"},942,{"v":4612411.300000001,"d":"4,612,411.30"},{"v":4741,"d":"4,741"},{"v":2910786.9000000004,"d":"2,910,786.90"},{"v":1438,"d":"1,438"},{"v":227613.1,"d":"227,613.10"},148,{"v":475653.9,"d":"475,653.90"},405,{"v":1318673.2,"d":"1,318,673.20"},291,{"v":1176999.6,"d":"1,176,999.60"},45,{"v":263794.9,"d":"263,794.90"},4,{"v":417357.6,"d":"417,357.60"},445,{"v":20795,"d":"20,795.00"},15,{"v":1820471,"d":"1,820,471.00"},{"v":1928,"d":"1,928"},{"v":9607902.3,"d":"9,607,902.30"},{"v":4415,"d":"4,415"}]
["돌산읍",{"$f":"SUM('법정동(2013)'!B57:B66)","v":{"v":71922310.6,"d":"71,922,310.6"}},{"$f":"SUM('법정동(2013)'!C57:C66)","v":{"v":45239,"d":"45,239"}},{"$f":"SUM('법정동(2013)'!D57:D66)","v":{"v":10500379.7,"d":"10,500,379.70"}},{"$f":"SUM('법정동(2013)'!E57:E66)","v":{"v":11472,"d":"11,472"}},{"$f":"SUM('법정동(2013)'!F57:F66)","v":{"v":5013819.2,"d":"5,013,819.20"}},{"$f":"SUM('법정동(2013)'!G57:G66)","v":{"v":6377,"d":"6,377"}},{"$f":"SUM('법정동(2013)'!H57:H66)","v":{"v":95111,"d":"95,111.00"}},{"$f":"SUM('법정동(2013)'!I57:I66)","v":25},{"$f":"SUM('법정동(2013)'!J57:J66)","v":{"v":1007208,"d":"1,007,208.00"}},{"$f":"SUM('법정동(2013)'!K57:K66)","v":64},{"$f":"SUM('법정동(2013)'!L57:L66)","v":{"v":48181852,"d":"48,181,852.00"}},{"$f":"SUM('법정동(2013)'!M57:M66)","v":{"v":8912,"d":"8,912"}},{"$f":"SUM('법정동(2013)'!N57:N66)","v":0},{"$f":"SUM('법정동(2013)'!O57:O66)","v":0},{"$f":"SUM('법정동(2013)'!P57:P66)","v":0},{"$f":"SUM('법정동(2013)'!Q57:Q66)","v":0},{"$f":"SUM('법정동(2013)'!R57:R66)","v":{"v":2198656.9,"d":"2,198,656.90"}},{"$f":"SUM('법정동(2013)'!S57:S66)","v":{"v":6992,"d":"6,992"}},{"$f":"SUM('법정동(2013)'!T57:T66)","v":{"v":55438,"d":"55,438.00"}},{"$f":"SUM('법정동(2013)'!U57:U66)","v":49},{"$f":"SUM('법정동(2013)'!V57:V66)","v":{"v":172181.5,"d":"172,181.50"}},{"$f":"SUM('법정동(2013)'!W57:W66)","v":43},{"$f":"SUM('법정동(2013)'!X57:X66)","v":{"v":7090.6,"d":"7,090.60"}},{"$f":"SUM('법정동(2013)'!Y57:Y66)","v":13},{"$f":"SUM('법정동(2013)'!Z57:Z66)","v":{"v":7884,"d":"7,884.00"}},{"$f":"SUM('법정동(2013)'!AA57:AA66)","v":17},{"$f":"SUM('법정동(2013)'!AB57:AB66)","v":{"v":48116.6,"d":"48,116.60"}},{"$f":"SUM('법정동(2013)'!AC57:AC66)","v":83},{"$f":"SUM('법정동(2013)'!AD57:AD66)","v":{"v":2244027.6999999997,"d":"2,244,027.70"}},{"$f":"SUM('법정동(2013)'!AE57:AE66)","v":{"v":8459,"d":"8,459"}},{"$f":"SUM('법정동(2013)'!AF57:AF66)","v":0},{"$f":"SUM('법정동(2013)'!AG57:AG66)","v":0},{"$f":"SUM('법정동(2013)'!AH57:AH66)","v":{"v":94823.29999999999,"d":"94,823.30"}},{"$f":"SUM('법정동(2013)'!AI57:AI66)","v":191},{"$f":"SUM('법정동(2013)'!AJ57:AJ66)","v":{"v":59511.3,"d":"59,511.30"}},{"$f":"SUM('법정동(2013)'!AK57:AK66)","v":87},{"$f":"SUM('법정동(2013)'!AL57:AL66)","v":{"v":576624,"d":"576,624.00"}},{"$f":"SUM('법정동(2013)'!AM57:AM66)","v":689},{"$f":"SUM('법정동(2013)'!AN57:AN66)","v":{"v":426972,"d":"426,972.00"}},{"$f":"SUM('법정동(2013)'!AO57:AO66)","v":352},{"$f":"SUM('법정동(2013)'!AP57:AP66)","v":{"v":118911.1,"d":"118,911.10"}},{"$f":"SUM('법정동(2013)'!AQ57:AQ66)","v":68},{"$f":"SUM('법정동(2013)'!AR57:AR66)","v":{"v":833,"d":"833.00"}},{"$f":"SUM('법정동(2013)'!AS57:AS66)","v":2},{"$f":"SUM('법정동(2013)'!AT57:AT66)","v":{"v":56646.3,"d":"56,646.30"}},{"$f":"SUM('법정동(2013)'!AU57:AU66)","v":12},{"$f":"SUM('법정동(2013)'!AV57:AV66)","v":0},{"$f":"SUM('법정동(2013)'!AW57:AW66)","v":0},{"$f":"SUM('법정동(2013)'!AX57:AX66)","v":{"v":214140.6,"d":"214,140.60"}},{"$f":"SUM('법정동(2013)'!AY57:AY66)","v":2},{"$f":"SUM('법정동(2013)'!AZ57:AZ66)","v":{"v":58127.8,"d":"58,127.80"}},{"$f":"SUM('법정동(2013)'!BA57:BA66)","v":48},{"$f":"SUM('법정동(2013)'!BB57:BB66)","v":{"v":883,"d":"883.00"}},{"$f":"SUM('법정동(2013)'!BC57:BC66)","v":4},{"$f":"SUM('법정동(2013)'!BD57:BD66)","v":{"v":219787,"d":"219,787.00"}},{"$f":"SUM('법정동(2013)'!BE57:BE66)","v":251},{"$f":"SUM('법정동(2013)'!BF57:BF66)","v":{"v":563286,"d":"563,286.00"}},{"$f":"SUM('법정동(2013)'!BG57:BG66)","v":{"v":1027,"d":"1,027"}}]
["소라면",{"$f":"SUM('법정동(2013)'!B67:B74)","v":{"v":60562341.2,"d":"60,562,341.2"}},{"$f":"SUM('법정동(2013)'!C67:C74)","v":{"v":34610,"d":"34,610"}},{"$f":"SUM('법정동(2013)'!D67:D74)","v":{"v":6856119.2,"d":"6,856,119.20"}},{"$f":"SUM('법정동(2013)'!E67:E74)","v":{"v":7868,"d":"7,868"}},{"$f":"SUM('법정동(2013)'!F67:F74)","v":{"v":9742339.399999999,"d":"9,742,339.40"}},{"$f":"SUM('법정동(2013)'!G67:G74)","v":{"v":8194,"d":"8,194"}},{"$f":"SUM('법정동(2013)'!H67:H74)","v":{"v":36007,"d":"36,007.00"}},{"$f":"SUM('법정동(2013)'!I67:I74)","v":12},{"$f":"SUM('법정동(2013)'!J67:J74)","v":{"v":161334,"d":"161,334.00"}},{"$f":"SUM('법정동(2013)'!K67:K74)","v":92},{"$f":"SUM('법정동(2013)'!L67:L74)","v":{"v":35545534,"d":"35,545,534.00"}},{"$f":"SUM('법정동(2013)'!M67:M74)","v":{"v":5909,"d":"5,909"}},{"$f":"SUM('법정동(2013)'!N67:N74)","v":0},{"$f":"SUM('법정동(2013)'!O67:O74)","v":0},{"$f":"SUM('법정동(2013)'!P67:P74)","v":0},{"$f":"SUM('법정동(2013)'!Q67:Q74)","v":0},{"$f":"SUM('법정동(2013)'!R67:R74)","v":{"v":1782557.1,"d":"1,782,557.10"}},{"$f":"SUM('법정동(2013)'!S67:S74)","v":{"v":4337,"d":"4,337"}},{"$f":"SUM('법정동(2013)'!T67:T74)","v":{"v":61597,"d":"61,597.00"}},{"$f":"SUM('법정동(2013)'!U67:U74)","v":35},{"$f":"SUM('법정동(2013)'!V67:V74)","v":{"v":102110.7,"d":"102,110.70"}},{"$f":"SUM('법정동(2013)'!W67:W74)","v":17},{"$f":"SUM('법정동(2013)'!X67:X74)","v":{"v":40030.1,"d":"40,030.10"}},{"$f":"SUM('법정동(2013)'!Y67:Y74)","v":45},{"$f":"SUM('법정동(2013)'!Z67:Z74)","v":{"v":31441.7,"d":"31,441.70"}},{"$f":"SUM('법정동(2013)'!AA67:AA74)","v":36},{"$f":"SUM('법정동(2013)'!AB67:AB74)","v":{"v":60155,"d":"60,155.00"}},{"$f":"SUM('법정동(2013)'!AC67:AC74)","v":86},{"$f":"SUM('법정동(2013)'!AD67:AD74)","v":{"v":2374243.3,"d":"2,374,243.30"}},{"$f":"SUM('법정동(2013)'!AE67:AE74)","v":{"v":6032,"d":"6,032"}},{"$f":"SUM('법정동(2013)'!AF67:AF74)","v":{"v":95043,"d":"95,043.00"}},{"$f":"SUM('법정동(2013)'!AG67:AG74)","v":58},{"$f":"SUM('법정동(2013)'!AH67:AH74)","v":{"v":63531.6,"d":"63,531.60"}},{"$f":"SUM('법정동(2013)'!AI67:AI74)","v":40},{"$f":"SUM('법정동(2013)'!AJ67:AJ74)","v":{"v":793275.5,"d":"793,275.50"}},{"$f":"SUM('법정동(2013)'!AK67:AK74)","v":120},{"$f":"SUM('법정동(2013)'!AL67:AL74)","v":{"v":948935.1000000001,"d":"948,935.10"}},{"$f":"SUM('법정동(2013)'!AM67:AM74)","v":859},{"$f":"SUM('법정동(2013)'!AN67:AN74)","v":{"v":951415.6,"d":"951,415.60"}},{"$f":"SUM('법정동(2013)'!AO67:AO74)","v":188},{"$f":"SUM('법정동(2013)'!AP67:AP74)","v":{"v":1375,"d":"1,375.00"}},{"$f":"SUM('법정동(2013)'!AQ67:AQ74)","v":1},{"$f":"SUM('법정동(2013)'!AR67:AR74)","v":{"v":24714.8,"d":"24,714.80"}},{"$f":"SUM('법정동(2013)'!AS67:AS74)","v":59},{"$f":"SUM('법정동(2013)'!AT67:AT74)","v":{"v":145680.8,"d":"145,680.80"}},{"$f":"SUM('법정동(2013)'!AU67:AU74)","v":52},{"$f":"SUM('법정동(2013)'!AV67:AV74)","v":{"v":6110,"d":"6,110.00"}},{"$f":"SUM('법정동(2013)'!AW67:AW74)","v":8},{"$f":"SUM('법정동(2013)'!AX67:AX74)","v":0},{"$f":"SUM('법정동(2013)'!AY67:AY74)","v":0},{"$f":"SUM('법정동(2013)'!AZ67:AZ74)","v":{"v":28872.3,"d":"28,872.30"}},{"$f":"SUM('법정동(2013)'!BA67:BA74)","v":39},{"$f":"SUM('법정동(2013)'!BB67:BB74)","v":0},{"$f":"SUM('법정동(2013)'!BC67:BC74)","v":0},{"$f":"SUM('법정동(2013)'!BD67:BD74)","v":{"v":348768,"d":"348,768.00"}},{"$f":"SUM('법정동(2013)'!BE67:BE74)","v":184},{"$f":"SUM('법정동(2013)'!BF67:BF74)","v":{"v":361151,"d":"361,151.00"}},{"$f":"SUM('법정동(2013)'!BG67:BG74)","v":339}]
["율촌면",{"$f":"SUM('법정동(2013)'!B75:B84)","v":{"v":47352954.7,"d":"47,352,954.7"}},{"$f":"SUM('법정동(2013)'!C75:C84)","v":{"v":31453,"d":"31,453"}},{"$f":"SUM('법정동(2013)'!D75:D84)","v":{"v":5150053,"d":"5,150,053.00"}},{"$f":"SUM('법정동(2013)'!E75:E84)","v":{"v":5854,"d":"5,854"}},{"$f":"SUM('법정동(2013)'!F75:F84)","v":{"v":7883747,"d":"7,883,747.00"}},{"$f":"SUM('법정동(2013)'!G75:G84)","v":{"v":8109,"d":"8,109"}},{"$f":"SUM('법정동(2013)'!H75:H84)","v":{"v":231560,"d":"231,560.00"}},{"$f":"SUM('법정동(2013)'!I75:I84)","v":81},{"$f":"SUM('법정동(2013)'!J75:J84)","v":{"v":367311,"d":"367,311.00"}},{"$f":"SUM('법정동(2013)'!K75:K84)","v":239},{"$f":"SUM('법정동(2013)'!L75:L84)","v":{"v":26811120.900000002,"d":"26,811,120.90"}},{"$f":"SUM('법정동(2013)'!M75:M84)","v":{"v":5526,"d":"5,526"}},{"$f":"SUM('법정동(2013)'!N75:N84)","v":0},{"$f":"SUM('법정동(2013)'!O75:O84)","v":0},{"$f":"SUM('법정동(2013)'!P75:P84)","v":{"v":1937,"d":"1,937.00"}},{"$f":"SUM('법정동(2013)'!Q75:Q84)","v":4},{"$f":"SUM('법정동(2013)'!R75:R84)","v":{"v":1649657.1,"d":"1,649,657.10"}},{"$f":"SUM('법정동(2013)'!S75:S84)","v":{"v":4008,"d":"4,008"}},{"$f":"SUM('법정동(2013)'!T75:T84)","v":{"v":221674.4,"d":"221,674.40"}},{"$f":"SUM('법정동(2013)'!U75:U84)","v":35},{"$f":"SUM('법정동(2013)'!V75:V84)","v":{"v":82349,"d":"82,349.00"}},{"$f":"SUM('법정동(2013)'!W75:W84)","v":18},{"$f":"SUM('법정동(2013)'!X75:X84)","v":{"v":38922.5,"d":"38,922.50"}},{"$f":"SUM('법정동(2013)'!Y75:Y84)","v":28},{"$f":"SUM('법정동(2013)'!Z75:Z84)","v":{"v":22941,"d":"22,941.00"}},{"$f":"SUM('법정동(2013)'!AA75:AA84)","v":21},{"$f":"SUM('법정동(2013)'!AB75:AB84)","v":{"v":30350,"d":"30,350.00"}},{"$f":"SUM('법정동(2013)'!AC75:AC84)","v":41},{"$f":"SUM('법정동(2013)'!AD75:AD84)","v":{"v":1849784.6,"d":"1,849,784.60"}},{"$f":"SUM('법정동(2013)'!AE75:AE84)","v":{"v":5532,"d":"5,532"}},{"$f":"SUM('법정동(2013)'!AF75:AF84)","v":{"v":165012,"d":"165,012.00"}},{"$f":"SUM('법정동(2013)'!AG75:AG84)","v":116},{"$f":"SUM('법정동(2013)'!AH75:AH84)","v":{"v":34135,"d":"34,135.00"}},{"$f":"SUM('법정동(2013)'!AI75:AI84)","v":32},{"$f":"SUM('법정동(2013)'!AJ75:AJ84)","v":{"v":183928,"d":"183,928.00"}},{"$f":"SUM('법정동(2013)'!AK75:AK84)","v":63},{"$f":"SUM('법정동(2013)'!AL75:AL84)","v":{"v":892602.3,"d":"892,602.30"}},{"$f":"SUM('법정동(2013)'!AM75:AM84)","v":822},{"$f":"SUM('법정동(2013)'!AN75:AN84)","v":{"v":341352,"d":"341,352.00"}},{"$f":"SUM('법정동(2013)'!AO75:AO84)","v":191},{"$f":"SUM('법정동(2013)'!AP75:AP84)","v":{"v":2992,"d":"2,992.00"}},{"$f":"SUM('법정동(2013)'!AQ75:AQ84)","v":2},{"$f":"SUM('법정동(2013)'!AR75:AR84)","v":{"v":90847,"d":"90,847.00"}},{"$f":"SUM('법정동(2013)'!AS75:AS84)","v":104},{"$f":"SUM('법정동(2013)'!AT75:AT84)","v":{"v":188670.3,"d":"188,670.30"}},{"$f":"SUM('법정동(2013)'!AU75:AU84)","v":19},{"$f":"SUM('법정동(2013)'!AV75:AV84)","v":0},{"$f":"SUM('법정동(2013)'!AW75:AW84)","v":0},{"$f":"SUM('법정동(2013)'!AX75:AX84)","v":0},{"$f":"SUM('법정동(2013)'!AY75:AY84)","v":0},{"$f":"SUM('법정동(2013)'!AZ75:AZ84)","v":{"v":28673,"d":"28,673.00"}},{"$f":"SUM('법정동(2013)'!BA75:BA84)","v":31},{"$f":"SUM('법정동(2013)'!BB75:BB84)","v":0},{"$f":"SUM('법정동(2013)'!BC75:BC84)","v":0},{"$f":"SUM('법정동(2013)'!BD75:BD84)","v":{"v":124710,"d":"124,710.00"}},{"$f":"SUM('법정동(2013)'!BE75:BE84)","v":165},{"$f":"SUM('법정동(2013)'!BF75:BF84)","v":{"v":958625.6,"d":"958,625.60"}},{"$f":"SUM('법정동(2013)'!BG75:BG84)","v":412}]
["화양면",{"$f":"SUM('법정동(2013)'!B85:B94)","v":{"v":70121123.1,"d":"70,121,123.1"}},{"$f":"SUM('법정동(2013)'!C85:C94)","v":{"v":38690,"d":"38,690"}},{"$f":"SUM('법정동(2013)'!D85:D94)","v":{"v":10696032.7,"d":"10,696,032.70"}},{"$f":"SUM('법정동(2013)'!E85:E94)","v":{"v":10497,"d":"10,497"}},{"$f":"SUM('법정동(2013)'!F85:F94)","v":{"v":6059909.2,"d":"6,059,909.20"}},{"$f":"SUM('법정동(2013)'!G85:G94)","v":{"v":6625,"d":"6,625"}},{"$f":"SUM('법정동(2013)'!H85:H94)","v":{"v":130112,"d":"130,112.00"}},{"$f":"SUM('법정동(2013)'!I85:I94)","v":51},{"$f":"SUM('법정동(2013)'!J85:J94)","v":{"v":215431,"d":"215,431.00"}},{"$f":"SUM('법정동(2013)'!K85:K94)","v":84},{"$f":"SUM('법정동(2013)'!L85:L94)","v":{"v":47344967.8,"d":"47,344,967.80"}},{"$f":"SUM('법정동(2013)'!M85:M94)","v":{"v":8580,"d":"8,580"}},{"$f":"SUM('법정동(2013)'!N85:N94)","v":0},{"$f":"SUM('법정동(2013)'!O85:O94)","v":0},{"$f":"SUM('법정동(2013)'!P85:P94)","v":0},{"$f":"SUM('법정동(2013)'!Q85:Q94)","v":0},{"$f":"SUM('법정동(2013)'!R85:R94)","v":{"v":1351366.5,"d":"1,351,366.50"}},{"$f":"SUM('법정동(2013)'!S85:S94)","v":{"v":4044,"d":"4,044"}},{"$f":"SUM('법정동(2013)'!T85:T94)","v":{"v":220322.2,"d":"220,322.20"}},{"$f":"SUM('법정동(2013)'!U85:U94)","v":73},{"$f":"SUM('법정동(2013)'!V85:V94)","v":{"v":117587,"d":"117,587.00"}},{"$f":"SUM('법정동(2013)'!W85:W94)","v":38},{"$f":"SUM('법정동(2013)'!X85:X94)","v":{"v":6702,"d":"6,702.00"}},{"$f":"SUM('법정동(2013)'!Y85:Y94)","v":10},{"$f":"SUM('법정동(2013)'!Z85:Z94)","v":{"v":11752,"d":"11,752.00"}},{"$f":"SUM('법정동(2013)'!AA85:AA94)","v":7},{"$f":"SUM('법정동(2013)'!AB85:AB94)","v":{"v":40494,"d":"40,494.00"}},{"$f":"SUM('법정동(2013)'!AC85:AC94)","v":74},{"$f":"SUM('법정동(2013)'!AD85:AD94)","v":{"v":1995004.6,"d":"1,995,004.60"}},{"$f":"SUM('법정동(2013)'!AE85:AE94)","v":{"v":6742,"d":"6,742"}},{"$f":"SUM('법정동(2013)'!AF85:AF94)","v":0},{"$f":"SUM('법정동(2013)'!AG85:AG94)","v":0},{"$f":"SUM('법정동(2013)'!AH85:AH94)","v":{"v":48325,"d":"48,325.00"}},{"$f":"SUM('법정동(2013)'!AI85:AI94)","v":97},{"$f":"SUM('법정동(2013)'!AJ85:AJ94)","v":{"v":102962.1,"d":"102,962.10"}},{"$f":"SUM('법정동(2013)'!AK85:AK94)","v":69},{"$f":"SUM('법정동(2013)'!AL85:AL94)","v":{"v":770034.5,"d":"770,034.50"}},{"$f":"SUM('법정동(2013)'!AM85:AM94)","v":841},{"$f":"SUM('법정동(2013)'!AN85:AN94)","v":{"v":564672.8,"d":"564,672.80"}},{"$f":"SUM('법정동(2013)'!AO85:AO94)","v":271},{"$f":"SUM('법정동(2013)'!AP85:AP94)","v":{"v":33427,"d":"33,427.00"}},{"$f":"SUM('법정동(2013)'!AQ85:AQ94)","v":21},{"$f":"SUM('법정동(2013)'!AR85:AR94)","v":0},{"$f":"SUM('법정동(2013)'!AS85:AS94)","v":0},{"$f":"SUM('법정동(2013)'!AT85:AT94)","v":0},{"$f":"SUM('법정동(2013)'!AU85:AU94)","v":0},{"$f":"SUM('법정동(2013)'!AV85:AV94)","v":0},{"$f":"SUM('법정동(2013)'!AW85:AW94)","v":0},{"$f":"SUM('법정동(2013)'!AX85:AX94)","v":0},{"$f":"SUM('법정동(2013)'!AY85:AY94)","v":0},{"$f":"SUM('법정동(2013)'!AZ85:AZ94)","v":{"v":23395,"d":"23,395.00"}},{"$f":"SUM('법정동(2013)'!BA85:BA94)","v":40},{"$f":"SUM('법정동(2013)'!BB85:BB94)","v":{"v":6161,"d":"6,161.00"}},{"$f":"SUM('법정동(2013)'!BC85:BC94)","v":3},{"$f":"SUM('법정동(2013)'!BD85:BD94)","v":{"v":136137,"d":"136,137.00"}},{"$f":"SUM('법정동(2013)'!BE85:BE94)","v":161},{"$f":"SUM('법정동(2013)'!BF85:BF94)","v":{"v":246327.7,"d":"246,327.70"}},{"$f":"SUM('법정동(2013)'!BG85:BG94)","v":362}]
["남   면",{"$f":"SUM('법정동(2013)'!B95:B103)","v":{"v":42549792,"d":"42,549,792.0"}},{"$f":"SUM('법정동(2013)'!C95:C103)","v":{"v":21310,"d":"21,310"}},{"$f":"SUM('법정동(2013)'!D95:D103)","v":{"v":9160611,"d":"9,160,611.00"}},{"$f":"SUM('법정동(2013)'!E95:E103)","v":{"v":8379,"d":"8,379"}},{"$f":"SUM('법정동(2013)'!F95:F103)","v":{"v":1429688,"d":"1,429,688.00"}},{"$f":"SUM('법정동(2013)'!G95:G103)","v":{"v":3205,"d":"3,205"}},{"$f":"SUM('법정동(2013)'!H95:H103)","v":0},{"$f":"SUM('법정동(2013)'!I95:I103)","v":0},{"$f":"SUM('법정동(2013)'!J95:J103)","v":{"v":598,"d":"598.00"}},{"$f":"SUM('법정동(2013)'!K95:K103)","v":1},{"$f":"SUM('법정동(2013)'!L95:L103)","v":{"v":29898435,"d":"29,898,435.00"}},{"$f":"SUM('법정동(2013)'!M95:M103)","v":{"v":4318,"d":"4,318"}},{"$f":"SUM('법정동(2013)'!N95:N103)","v":0},{"$f":"SUM('법정동(2013)'!O95:O103)","v":0},{"$f":"SUM('법정동(2013)'!P95:P103)","v":0},{"$f":"SUM('법정동(2013)'!Q95:Q103)","v":0},{"$f":"SUM('법정동(2013)'!R95:R103)","v":{"v":639132,"d":"639,132.00"}},{"$f":"SUM('법정동(2013)'!S95:S103)","v":{"v":2667,"d":"2,667"}},{"$f":"SUM('법정동(2013)'!T95:T103)","v":0},{"$f":"SUM('법정동(2013)'!U95:U103)","v":0},{"$f":"SUM('법정동(2013)'!V95:V103)","v":{"v":97434,"d":"97,434.00"}},{"$f":"SUM('법정동(2013)'!W95:W103)","v":45},{"$f":"SUM('법정동(2013)'!X95:X103)","v":0},{"$f":"SUM('법정동(2013)'!Y95:Y103)","v":0},{"$f":"SUM('법정동(2013)'!Z95:Z103)","v":0},{"$f":"SUM('법정동(2013)'!AA95:AA103)","v":0},{"$f":"SUM('법정동(2013)'!AB95:AB103)","v":{"v":900,"d":"900.00"}},{"$f":"SUM('법정동(2013)'!AC95:AC103)","v":4},{"$f":"SUM('법정동(2013)'!AD95:AD103)","v":{"v":765618,"d":"765,618.00"}},{"$f":"SUM('법정동(2013)'!AE95:AE103)","v":{"v":1907,"d":"1,907"}},{"$f":"SUM('법정동(2013)'!AF95:AF103)","v":0},{"$f":"SUM('법정동(2013)'!AG95:AG103)","v":0},{"$f":"SUM('법정동(2013)'!AH95:AH103)","v":{"v":33581,"d":"33,581.00"}},{"$f":"SUM('법정동(2013)'!AI95:AI103)","v":104},{"$f":"SUM('법정동(2013)'!AJ95:AJ103)","v":{"v":14717,"d":"14,717.00"}},{"$f":"SUM('법정동(2013)'!AK95:AK103)","v":49},{"$f":"SUM('법정동(2013)'!AL95:AL103)","v":{"v":128685,"d":"128,685.00"}},{"$f":"SUM('법정동(2013)'!AM95:AM103)","v":140},{"$f":"SUM('법정동(2013)'!AN95:AN103)","v":{"v":38108,"d":"38,108.00"}},{"$f":"SUM('법정동(2013)'!AO95:AO103)","v":54},{"$f":"SUM('법정동(2013)'!AP95:AP103)","v":{"v":26460,"d":"26,460.00"}},{"$f":"SUM('법정동(2013)'!AQ95:AQ103)","v":21},{"$f":"SUM('법정동(2013)'!AR95:AR103)","v":{"v":2410,"d":"2,410.00"}},{"$f":"SUM('법정동(2013)'!AS95:AS103)","v":5},{"$f":"SUM('법정동(2013)'!AT95:AT103)","v":0},{"$f":"SUM('법정동(2013)'!AU95:AU103)","v":0},{"$f":"SUM('법정동(2013)'!AV95:AV103)","v":0},{"$f":"SUM('법정동(2013)'!AW95:AW103)","v":0},{"$f":"SUM('법정동(2013)'!AX95:AX103)","v":0},{"$f":"SUM('법정동(2013)'!AY95:AY103)","v":0},{"$f":"SUM('법정동(2013)'!AZ95:AZ103)","v":{"v":4706,"d":"4,706.00"}},{"$f":"SUM('법정동(2013)'!BA95:BA103)","v":14},{"$f":"SUM('법정동(2013)'!BB95:BB103)","v":0},{"$f":"SUM('법정동(2013)'!BC95:BC103)","v":0},{"$f":"SUM('법정동(2013)'!BD95:BD103)","v":{"v":126508,"d":"126,508.00"}},{"$f":"SUM('법정동(2013)'!BE95:BE103)","v":127},{"$f":"SUM('법정동(2013)'!BF95:BF103)","v":{"v":182201,"d":"182,201.00"}},{"$f":"SUM('법정동(2013)'!BG95:BG103)","v":270}]
["화정면",{"$f":"SUM('법정동(2013)'!B104:B113)","v":{"v":26352161,"d":"26,352,161.0"}},{"$f":"SUM('법정동(2013)'!C104:C113)","v":{"v":15880,"d":"15,880"}},{"$f":"SUM('법정동(2013)'!D104:D113)","v":{"v":6730242,"d":"6,730,242.00"}},{"$f":"SUM('법정동(2013)'!E104:E113)","v":{"v":6999,"d":"6,999"}},{"$f":"SUM('법정동(2013)'!F104:F113)","v":{"v":919673,"d":"919,673.00"}},{"$f":"SUM('법정동(2013)'!G104:G113)","v":{"v":1143,"d":"1,143"}},{"$f":"SUM('법정동(2013)'!H104:H113)","v":{"v":1895,"d":"1,895.00"}},{"$f":"SUM('법정동(2013)'!I104:I113)","v":2},{"$f":"SUM('법정동(2013)'!J104:J113)","v":{"v":2927,"d":"2,927.00"}},{"$f":"SUM('법정동(2013)'!K104:K113)","v":3},{"$f":"SUM('법정동(2013)'!L104:L113)","v":{"v":17083456,"d":"17,083,456.00"}},{"$f":"SUM('법정동(2013)'!M104:M113)","v":{"v":3704,"d":"3,704"}},{"$f":"SUM('법정동(2013)'!N104:N113)","v":0},{"$f":"SUM('법정동(2013)'!O104:O113)","v":0},{"$f":"SUM('법정동(2013)'!P104:P113)","v":{"v":8625,"d":"8,625.00"}},{"$f":"SUM('법정동(2013)'!Q104:Q113)","v":2},{"$f":"SUM('법정동(2013)'!R104:R113)","v":{"v":518661,"d":"518,661.00"}},{"$f":"SUM('법정동(2013)'!S104:S113)","v":{"v":2022,"d":"2,022"}},{"$f":"SUM('법정동(2013)'!T104:T113)","v":0},{"$f":"SUM('법정동(2013)'!U104:U113)","v":0},{"$f":"SUM('법정동(2013)'!V104:V113)","v":{"v":95502,"d":"95,502.00"}},{"$f":"SUM('법정동(2013)'!W104:W113)","v":45},{"$f":"SUM('법정동(2013)'!X104:X113)","v":0},{"$f":"SUM('법정동(2013)'!Y104:Y113)","v":0},{"$f":"SUM('법정동(2013)'!Z104:Z113)","v":0},{"$f":"SUM('법정동(2013)'!AA104:AA113)","v":0},{"$f":"SUM('법정동(2013)'!AB104:AB113)","v":{"v":395,"d":"395.00"}},{"$f":"SUM('법정동(2013)'!AC104:AC113)","v":1},{"$f":"SUM('법정동(2013)'!AD104:AD113)","v":{"v":430334,"d":"430,334.00"}},{"$f":"SUM('법정동(2013)'!AE104:AE113)","v":{"v":1287,"d":"1,287"}},{"$f":"SUM('법정동(2013)'!AF104:AF113)","v":0},{"$f":"SUM('법정동(2013)'!AG104:AG113)","v":0},{"$f":"SUM('법정동(2013)'!AH104:AH113)","v":{"v":48143,"d":"48,143.00"}},{"$f":"SUM('법정동(2013)'!AI104:AI113)","v":94},{"$f":"SUM('법정동(2013)'!AJ104:AJ113)","v":{"v":15965,"d":"15,965.00"}},{"$f":"SUM('법정동(2013)'!AK104:AK113)","v":16},{"$f":"SUM('법정동(2013)'!AL104:AL113)","v":{"v":134098,"d":"134,098.00"}},{"$f":"SUM('법정동(2013)'!AM104:AM113)","v":103},{"$f":"SUM('법정동(2013)'!AN104:AN113)","v":{"v":74637,"d":"74,637.00"}},{"$f":"SUM('법정동(2013)'!AO104:AO113)","v":26},{"$f":"SUM('법정동(2013)'!AP104:AP113)","v":{"v":31907,"d":"31,907.00"}},{"$f":"SUM('법정동(2013)'!AQ104:AQ113)","v":24},{"$f":"SUM('법정동(2013)'!AR104:AR113)","v":0},{"$f":"SUM('법정동(2013)'!AS104:AS113)","v":0},{"$f":"SUM('법정동(2013)'!AT104:AT113)","v":0},{"$f":"SUM('법정동(2013)'!AU104:AU113)","v":0},{"$f":"SUM('법정동(2013)'!AV104:AV113)","v":0},{"$f":"SUM('법정동(2013)'!AW104:AW113)","v":0},{"$f":"SUM('법정동(2013)'!AX104:AX113)","v":0},{"$f":"SUM('법정동(2013)'!AY104:AY113)","v":0},{"$f":"SUM('법정동(2013)'!AZ104:AZ113)","v":{"v":7371,"d":"7,371.00"}},{"$f":"SUM('법정동(2013)'!BA104:BA113)","v":13},{"$f":"SUM('법정동(2013)'!BB104:BB113)","v":0},{"$f":"SUM('법정동(2013)'!BC104:BC113)","v":0},{"$f":"SUM('법정동(2013)'!BD104:BD113)","v":{"v":109115,"d":"109,115.00"}},{"$f":"SUM('법정동(2013)'!BE104:BE113)","v":214},{"$f":"SUM('법정동(2013)'!BF104:BF113)","v":{"v":139215,"d":"139,215.00"}},{"$f":"SUM('법정동(2013)'!BG104:BG113)","v":182}]
["삼산면",{"$f":"SUM('법정동(2013)'!B114:B119)","v":{"v":27543438,"d":"27,543,438.0"}},{"$f":"SUM('법정동(2013)'!C114:C119)","v":{"v":14002,"d":"14,002"}},{"$f":"SUM('법정동(2013)'!D114:D119)","v":{"v":4805558,"d":"4,805,558.00"}},{"$f":"SUM('법정동(2013)'!E114:E119)","v":{"v":5702,"d":"5,702"}},{"$f":"SUM('법정동(2013)'!F114:F119)","v":{"v":285508,"d":"285,508.00"}},{"$f":"SUM('법정동(2013)'!G114:G119)","v":678},{"$f":"SUM('법정동(2013)'!H114:H119)","v":{"v":981,"d":"981.00"}},{"$f":"SUM('법정동(2013)'!I114:I119)","v":1},{"$f":"SUM('법정동(2013)'!J114:J119)","v":{"v":81491,"d":"81,491.00"}},{"$f":"SUM('법정동(2013)'!K114:K119)","v":6},{"$f":"SUM('법정동(2013)'!L114:L119)","v":{"v":20736290,"d":"20,736,290.00"}},{"$f":"SUM('법정동(2013)'!M114:M119)","v":{"v":4233,"d":"4,233"}},{"$f":"SUM('법정동(2013)'!N114:N119)","v":0},{"$f":"SUM('법정동(2013)'!O114:O119)","v":0},{"$f":"SUM('법정동(2013)'!P114:P119)","v":0},{"$f":"SUM('법정동(2013)'!Q114:Q119)","v":0},{"$f":"SUM('법정동(2013)'!R114:R119)","v":{"v":479834,"d":"479,834.00"}},{"$f":"SUM('법정동(2013)'!S114:S119)","v":{"v":2154,"d":"2,154"}},{"$f":"SUM('법정동(2013)'!T114:T119)","v":0},{"$f":"SUM('법정동(2013)'!U114:U119)","v":0},{"$f":"SUM('법정동(2013)'!V114:V119)","v":{"v":71912,"d":"71,912.00"}},{"$f":"SUM('법정동(2013)'!W114:W119)","v":25},{"$f":"SUM('법정동(2013)'!X114:X119)","v":0},{"$f":"SUM('법정동(2013)'!Y114:Y119)","v":0},{"$f":"SUM('법정동(2013)'!Z114:Z119)","v":0},{"$f":"SUM('법정동(2013)'!AA114:AA119)","v":0},{"$f":"SUM('법정동(2013)'!AB114:AB119)","v":{"v":768,"d":"768.00"}},{"$f":"SUM('법정동(2013)'!AC114:AC119)","v":4},{"$f":"SUM('법정동(2013)'!AD114:AD119)","v":{"v":391829,"d":"391,829.00"}},{"$f":"SUM('법정동(2013)'!AE114:AE119)","v":665},{"$f":"SUM('법정동(2013)'!AF114:AF119)","v":0},{"$f":"SUM('법정동(2013)'!AG114:AG119)","v":0},{"$f":"SUM('법정동(2013)'!AH114:AH119)","v":{"v":28885,"d":"28,885.00"}},{"$f":"SUM('법정동(2013)'!AI114:AI119)","v":42},{"$f":"SUM('법정동(2013)'!AJ114:AJ119)","v":{"v":1424,"d":"1,424.00"}},{"$f":"SUM('법정동(2013)'!AK114:AK119)","v":8},{"$f":"SUM('법정동(2013)'!AL114:AL119)","v":{"v":48446,"d":"48,446.00"}},{"$f":"SUM('법정동(2013)'!AM114:AM119)","v":35},{"$f":"SUM('법정동(2013)'!AN114:AN119)","v":{"v":4297,"d":"4,297.00"}},{"$f":"SUM('법정동(2013)'!AO114:AO119)","v":5},{"$f":"SUM('법정동(2013)'!AP114:AP119)","v":{"v":9924,"d":"9,924.00"}},{"$f":"SUM('법정동(2013)'!AQ114:AQ119)","v":9},{"$f":"SUM('법정동(2013)'!AR114:AR119)","v":0},{"$f":"SUM('법정동(2013)'!AS114:AS119)","v":0},{"$f":"SUM('법정동(2013)'!AT114:AT119)","v":0},{"$f":"SUM('법정동(2013)'!AU114:AU119)","v":0},{"$f":"SUM('법정동(2013)'!AV114:AV119)","v":0},{"$f":"SUM('법정동(2013)'!AW114:AW119)","v":0},{"$f":"SUM('법정동(2013)'!AX114:AX119)","v":0},{"$f":"SUM('법정동(2013)'!AY114:AY119)","v":0},{"$f":"SUM('법정동(2013)'!AZ114:AZ119)","v":{"v":1963,"d":"1,963.00"}},{"$f":"SUM('법정동(2013)'!BA114:BA119)","v":9},{"$f":"SUM('법정동(2013)'!BB114:BB119)","v":0},{"$f":"SUM('법정동(2013)'!BC114:BC119)","v":0},{"$f":"SUM('법정동(2013)'!BD114:BD119)","v":{"v":422000,"d":"422,000.00"}},{"$f":"SUM('법정동(2013)'!BE114:BE119)","v":260},{"$f":"SUM('법정동(2013)'!BF114:BF119)","v":{"v":172328,"d":"172,328.00"}},{"$f":"SUM('법정동(2013)'!BG114:BG119)","v":166}]
["동문동",{"$f":"SUM('법정동(2013)'!B6,'법정동(2013)'!B9,'법정동(2013)'!B11)","v":{"v":930673,"d":"930,673.0"}},{"$f":"SUM('법정동(2013)'!C6,'법정동(2013)'!C9,'법정동(2013)'!C11)","v":{"v":4533,"d":"4,533"}},{"$f":"SUM('법정동(2013)'!D6,'법정동(2013)'!D9,'법정동(2013)'!D11)","v":{"v":109719,"d":"109,719.00"}},{"$f":"SUM('법정동(2013)'!E6,'법정동(2013)'!E9,'법정동(2013)'!E11)","v":358},{"$f":"SUM('법정동(2013)'!F6,'법정동(2013)'!F9,'법정동(2013)'!F11)","v":{"v":4253,"d":"4,253.00"}},{"$f":"SUM('법정동(2013)'!G6,'법정동(2013)'!G9,'법정동(2013)'!G11)","v":23},{"$f":"SUM('법정동(2013)'!H6,'법정동(2013)'!H9,'법정동(2013)'!H11)","v":0},{"$f":"SUM('법정동(2013)'!I6,'법정동(2013)'!I9,'법정동(2013)'!I11)","v":0},{"$f":"SUM('법정동(2013)'!J6,'법정동(2013)'!J9,'법정동(2013)'!J11)","v":0},{"$f":"SUM('법정동(2013)'!K6,'법정동(2013)'!K9,'법정동(2013)'!K11)","v":0},{"$f":"SUM('법정동(2013)'!L6,'법정동(2013)'!L9,'법정동(2013)'!L11)","v":{"v":154022,"d":"154,022.00"}},{"$f":"SUM('법정동(2013)'!M6,'법정동(2013)'!M9,'법정동(2013)'!M11)","v":107},{"$f":"SUM('법정동(2013)'!N6,'법정동(2013)'!N9,'법정동(2013)'!N11)","v":0},{"$f":"SUM('법정동(2013)'!O6,'법정동(2013)'!O9,'법정동(2013)'!O11)","v":0},{"$f":"SUM('법정동(2013)'!P6,'법정동(2013)'!P9,'법정동(2013)'!P11)","v":0},{"$f":"SUM('법정동(2013)'!Q6,'법정동(2013)'!Q9,'법정동(2013)'!Q11)","v":0},{"$f":"SUM('법정동(2013)'!R6,'법정동(2013)'!R9,'법정동(2013)'!R11)","v":{"v":343443,"d":"343,443.00"}},{"$f":"SUM('법정동(2013)'!S6,'법정동(2013)'!S9,'법정동(2013)'!S11)","v":{"v":3241,"d":"3,241"}},{"$f":"SUM('법정동(2013)'!T6,'법정동(2013)'!T9,'법정동(2013)'!T11)","v":0},{"$f":"SUM('법정동(2013)'!U6,'법정동(2013)'!U9,'법정동(2013)'!U11)","v":0},{"$f":"SUM('법정동(2013)'!V6,'법정동(2013)'!V9,'법정동(2013)'!V11)","v":{"v":76324,"d":"76,324.00"}},{"$f":"SUM('법정동(2013)'!W6,'법정동(2013)'!W9,'법정동(2013)'!W11)","v":8},{"$f":"SUM('법정동(2013)'!X6,'법정동(2013)'!X9,'법정동(2013)'!X11)","v":{"v":1247,"d":"1,247.00"}},{"$f":"SUM('법정동(2013)'!Y6,'법정동(2013)'!Y9,'법정동(2013)'!Y11)","v":9},{"$f":"SUM('법정동(2013)'!Z6,'법정동(2013)'!Z9,'법정동(2013)'!Z11)","v":0},{"$f":"SUM('법정동(2013)'!AA6,'법정동(2013)'!AA9,'법정동(2013)'!AA11)","v":0},{"$f":"SUM('법정동(2013)'!AB6,'법정동(2013)'!AB9,'법정동(2013)'!AB11)","v":{"v":177,"d":"177.00"}},{"$f":"SUM('법정동(2013)'!AC6,'법정동(2013)'!AC9,'법정동(2013)'!AC11)","v":1},{"$f":"SUM('법정동(2013)'!AD6,'법정동(2013)'!AD9,'법정동(2013)'!AD11)","v":{"v":122288,"d":"122,288.00"}},{"$f":"SUM('법정동(2013)'!AE6,'법정동(2013)'!AE9,'법정동(2013)'!AE11)","v":693},{"$f":"SUM('법정동(2013)'!AF6,'법정동(2013)'!AF9,'법정동(2013)'!AF11)","v":0},{"$f":"SUM('법정동(2013)'!AG6,'법정동(2013)'!AG9,'법정동(2013)'!AG11)","v":0},{"$f":"SUM('법정동(2013)'!AH6,'법정동(2013)'!AH9,'법정동(2013)'!AH11)","v":{"v":2134,"d":"2,134.00"}},{"$f":"SUM('법정동(2013)'!AI6,'법정동(2013)'!AI9,'법정동(2013)'!AI11)","v":5},{"$f":"SUM('법정동(2013)'!AJ6,'법정동(2013)'!AJ9,'법정동(2013)'!AJ11)","v":0},{"$f":"SUM('법정동(2013)'!AK6,'법정동(2013)'!AK9,'법정동(2013)'!AK11)","v":0},{"$f":"SUM('법정동(2013)'!AL6,'법정동(2013)'!AL9,'법정동(2013)'!AL11)","v":{"v":5328,"d":"5,328.00"}},{"$f":"SUM('법정동(2013)'!AM6,'법정동(2013)'!AM9,'법정동(2013)'!AM11)","v":21},{"$f":"SUM('법정동(2013)'!AN6,'법정동(2013)'!AN9,'법정동(2013)'!AN11)","v":0},{"$f":"SUM('법정동(2013)'!AO6,'법정동(2013)'!AO9,'법정동(2013)'!AO11)","v":0},{"$f":"SUM('법정동(2013)'!AP6,'법정동(2013)'!AP9,'법정동(2013)'!AP11)","v":0},{"$f":"SUM('법정동(2013)'!AQ6,'법정동(2013)'!AQ9,'법정동(2013)'!AQ11)","v":0},{"$f":"SUM('법정동(2013)'!AR6,'법정동(2013)'!AR9,'법정동(2013)'!AR11)","v":{"v":5945,"d":"5,945.00"}},{"$f":"SUM('법정동(2013)'!AS6,'법정동(2013)'!AS9,'법정동(2013)'!AS11)","v":6},{"$f":"SUM('법정동(2013)'!AT6,'법정동(2013)'!AT9,'법정동(2013)'!AT11)","v":{"v":84607,"d":"84,607.00"}},{"$f":"SUM('법정동(2013)'!AU6,'법정동(2013)'!AU9,'법정동(2013)'!AU11)","v":15},{"$f":"SUM('법정동(2013)'!AV6,'법정동(2013)'!AV9,'법정동(2013)'!AV11)","v":0},{"$f":"SUM('법정동(2013)'!AW6,'법정동(2013)'!AW9,'법정동(2013)'!AW11)","v":0},{"$f":"SUM('법정동(2013)'!AX6,'법정동(2013)'!AX9,'법정동(2013)'!AX11)","v":0},{"$f":"SUM('법정동(2013)'!AY6,'법정동(2013)'!AY9,'법정동(2013)'!AY11)","v":0},{"$f":"SUM('법정동(2013)'!AZ6,'법정동(2013)'!AZ9,'법정동(2013)'!AZ11)","v":{"v":3567,"d":"3,567.00"}},{"$f":"SUM('법정동(2013)'!BA6,'법정동(2013)'!BA9,'법정동(2013)'!BA11)","v":11},{"$f":"SUM('법정동(2013)'!BB6,'법정동(2013)'!BB9,'법정동(2013)'!BB11)","v":0},{"$f":"SUM('법정동(2013)'!BC6,'법정동(2013)'!BC9,'법정동(2013)'!BC11)","v":0},{"$f":"SUM('법정동(2013)'!BD6,'법정동(2013)'!BD9,'법정동(2013)'!BD11)","v":{"v":4334,"d":"4,334.00"}},{"$f":"SUM('법정동(2013)'!BE6,'법정동(2013)'!BE9,'법정동(2013)'!BE11)","v":15},{"$f":"SUM('법정동(2013)'!BF6,'법정동(2013)'!BF9,'법정동(2013)'!BF11)","v":{"v":13285,"d":"13,285.00"}},{"$f":"SUM('법정동(2013)'!BG6,'법정동(2013)'!BG9,'법정동(2013)'!BG11)","v":20}]
["한려동",{"$f":"SUM('법정동(2013)'!B7:B8)","v":{"v":949848.7,"d":"949,848.7"}},{"$f":"SUM('법정동(2013)'!C7:C8)","v":{"v":3150,"d":"3,150"}},{"$f":"SUM('법정동(2013)'!D7:D8)","v":{"v":42514,"d":"42,514.00"}},{"$f":"SUM('법정동(2013)'!E7:E8)","v":251},{"$f":"SUM('법정동(2013)'!F7:F8)","v":0},{"$f":"SUM('법정동(2013)'!G7:G8)","v":0},{"$f":"SUM('법정동(2013)'!H7:H8)","v":0},{"$f":"SUM('법정동(2013)'!I7:I8)","v":0},{"$f":"SUM('법정동(2013)'!J7:J8)","v":0},{"$f":"SUM('법정동(2013)'!K7:K8)","v":0},{"$f":"SUM('법정동(2013)'!L7:L8)","v":{"v":131879,"d":"131,879.00"}},{"$f":"SUM('법정동(2013)'!M7:M8)","v":51},{"$f":"SUM('법정동(2013)'!N7:N8)","v":0},{"$f":"SUM('법정동(2013)'!O7:O8)","v":0},{"$f":"SUM('법정동(2013)'!P7:P8)","v":0},{"$f":"SUM('법정동(2013)'!Q7:Q8)","v":0},{"$f":"SUM('법정동(2013)'!R7:R8)","v":{"v":323834.8,"d":"323,834.80"}},{"$f":"SUM('법정동(2013)'!S7:S8)","v":{"v":2221,"d":"2,221"}},{"$f":"SUM('법정동(2013)'!T7:T8)","v":0},{"$f":"SUM('법정동(2013)'!U7:U8)","v":0},{"$f":"SUM('법정동(2013)'!V7:V8)","v":{"v":89058,"d":"89,058.00"}},{"$f":"SUM('법정동(2013)'!W7:W8)","v":8},{"$f":"SUM('법정동(2013)'!X7:X8)","v":{"v":14505.8,"d":"14,505.80"}},{"$f":"SUM('법정동(2013)'!Y7:Y8)","v":11},{"$f":"SUM('법정동(2013)'!Z7:Z8)","v":{"v":1141,"d":"1,141.00"}},{"$f":"SUM('법정동(2013)'!AA7:AA8)","v":4},{"$f":"SUM('법정동(2013)'!AB7:AB8)","v":0},{"$f":"SUM('법정동(2013)'!AC7:AC8)","v":0},{"$f":"SUM('법정동(2013)'!AD7:AD8)","v":{"v":212354.3,"d":"212,354.30"}},{"$f":"SUM('법정동(2013)'!AE7:AE8)","v":504},{"$f":"SUM('법정동(2013)'!AF7:AF8)","v":{"v":3858,"d":"3,858.00"}},{"$f":"SUM('법정동(2013)'!AG7:AG8)","v":28},{"$f":"SUM('법정동(2013)'!AH7:AH8)","v":{"v":11759,"d":"11,759.00"}},{"$f":"SUM('법정동(2013)'!AI7:AI8)","v":4},{"$f":"SUM('법정동(2013)'!AJ7:AJ8)","v":0},{"$f":"SUM('법정동(2013)'!AK7:AK8)","v":0},{"$f":"SUM('법정동(2013)'!AL7:AL8)","v":{"v":3480,"d":"3,480.00"}},{"$f":"SUM('법정동(2013)'!AM7:AM8)","v":22},{"$f":"SUM('법정동(2013)'!AN7:AN8)","v":0},{"$f":"SUM('법정동(2013)'!AO7:AO8)","v":0},{"$f":"SUM('법정동(2013)'!AP7:AP8)","v":0},{"$f":"SUM('법정동(2013)'!AQ7:AQ8)","v":0},{"$f":"SUM('법정동(2013)'!AR7:AR8)","v":0},{"$f":"SUM('법정동(2013)'!AS7:AS8)","v":0},{"$f":"SUM('법정동(2013)'!AT7:AT8)","v":{"v":73715.6,"d":"73,715.60"}},{"$f":"SUM('법정동(2013)'!AU7:AU8)","v":8},{"$f":"SUM('법정동(2013)'!AV7:AV8)","v":0},{"$f":"SUM('법정동(2013)'!AW7:AW8)","v":0},{"$f":"SUM('법정동(2013)'!AX7:AX8)","v":0},{"$f":"SUM('법정동(2013)'!AY7:AY8)","v":0},{"$f":"SUM('법정동(2013)'!AZ7:AZ8)","v":{"v":6337,"d":"6,337.00"}},{"$f":"SUM('법정동(2013)'!BA7:BA8)","v":9},{"$f":"SUM('법정동(2013)'!BB7:BB8)","v":0},{"$f":"SUM('법정동(2013)'!BC7:BC8)","v":0},{"$f":"SUM('법정동(2013)'!BD7:BD8)","v":{"v":1128,"d":"1,128.00"}},{"$f":"SUM('법정동(2013)'!BE7:BE8)","v":5},{"$f":"SUM('법정동(2013)'!BF7:BF8)","v":{"v":34284.2,"d":"34,284.20"}},{"$f":"SUM('법정동(2013)'!BG7:BG8)","v":24}]
["중앙동",{"$f":"SUM('법정동(2013)'!B10,'법정동(2013)'!B12:B13)","v":{"v":501936.2,"d":"501,936.2"}},{"$f":"SUM('법정동(2013)'!C10,'법정동(2013)'!C12:C13)","v":{"v":3288,"d":"3,288"}},{"$f":"SUM('법정동(2013)'!D10,'법정동(2013)'!D12:D13)","v":{"v":16605,"d":"16,605.00"}},{"$f":"SUM('법정동(2013)'!E10,'법정동(2013)'!E12:E13)","v":104},{"$f":"SUM('법정동(2013)'!F10,'법정동(2013)'!F12:F13)","v":0},{"$f":"SUM('법정동(2013)'!G10,'법정동(2013)'!G12:G13)","v":0},{"$f":"SUM('법정동(2013)'!H10,'법정동(2013)'!H12:H13)","v":0},{"$f":"SUM('법정동(2013)'!I10,'법정동(2013)'!I12:I13)","v":0},{"$f":"SUM('법정동(2013)'!J10,'법정동(2013)'!J12:J13)","v":0},{"$f":"SUM('법정동(2013)'!K10,'법정동(2013)'!K12:K13)","v":0},{"$f":"SUM('법정동(2013)'!L10,'법정동(2013)'!L12:L13)","v":{"v":21202,"d":"21,202.00"}},{"$f":"SUM('법정동(2013)'!M10,'법정동(2013)'!M12:M13)","v":24},{"$f":"SUM('법정동(2013)'!N10,'법정동(2013)'!N12:N13)","v":0},{"$f":"SUM('법정동(2013)'!O10,'법정동(2013)'!O12:O13)","v":0},{"$f":"SUM('법정동(2013)'!P10,'법정동(2013)'!P12:P13)","v":0},{"$f":"SUM('법정동(2013)'!Q10,'법정동(2013)'!Q12:Q13)","v":0},{"$f":"SUM('법정동(2013)'!R10,'법정동(2013)'!R12:R13)","v":{"v":279748,"d":"279,748.00"}},{"$f":"SUM('법정동(2013)'!S10,'법정동(2013)'!S12:S13)","v":{"v":2555,"d":"2,555"}},{"$f":"SUM('법정동(2013)'!T10,'법정동(2013)'!T12:T13)","v":0},{"$f":"SUM('법정동(2013)'!U10,'법정동(2013)'!U12:U13)","v":0},{"$f":"SUM('법정동(2013)'!V10,'법정동(2013)'!V12:V13)","v":0},{"$f":"SUM('법정동(2013)'!W10,'법정동(2013)'!W12:W13)","v":0},{"$f":"SUM('법정동(2013)'!X10,'법정동(2013)'!X12:X13)","v":{"v":6241.2,"d":"6,241.20"}},{"$f":"SUM('법정동(2013)'!Y10,'법정동(2013)'!Y12:Y13)","v":7},{"$f":"SUM('법정동(2013)'!Z10,'법정동(2013)'!Z12:Z13)","v":0},{"$f":"SUM('법정동(2013)'!AA10,'법정동(2013)'!AA12:AA13)","v":0},{"$f":"SUM('법정동(2013)'!AB10,'법정동(2013)'!AB12:AB13)","v":0},{"$f":"SUM('법정동(2013)'!AC10,'법정동(2013)'!AC12:AC13)","v":0},{"$f":"SUM('법정동(2013)'!AD10,'법정동(2013)'!AD12:AD13)","v":{"v":135266,"d":"135,266.00"}},{"$f":"SUM('법정동(2013)'!AE10,'법정동(2013)'!AE12:AE13)","v":562},{"$f":"SUM('법정동(2013)'!AF10,'법정동(2013)'!AF12:AF13)","v":0},{"$f":"SUM('법정동(2013)'!AG10,'법정동(2013)'!AG12:AG13)","v":0},{"$f":"SUM('법정동(2013)'!AH10,'법정동(2013)'!AH12:AH13)","v":{"v":800,"d":"800.00"}},{"$f":"SUM('법정동(2013)'!AI10,'법정동(2013)'!AI12:AI13)","v":2},{"$f":"SUM('법정동(2013)'!AJ10,'법정동(2013)'!AJ12:AJ13)","v":{"v":9005,"d":"9,005.00"}},{"$f":"SUM('법정동(2013)'!AK10,'법정동(2013)'!AK12:AK13)","v":1},{"$f":"SUM('법정동(2013)'!AL10,'법정동(2013)'!AL12:AL13)","v":{"v":445,"d":"445.00"}},{"$f":"SUM('법정동(2013)'!AM10,'법정동(2013)'!AM12:AM13)","v":5},{"$f":"SUM('법정동(2013)'!AN10,'법정동(2013)'!AN12:AN13)","v":0},{"$f":"SUM('법정동(2013)'!AO10,'법정동(2013)'!AO12:AO13)","v":0},{"$f":"SUM('법정동(2013)'!AP10,'법정동(2013)'!AP12:AP13)","v":0},{"$f":"SUM('법정동(2013)'!AQ10,'법정동(2013)'!AQ12:AQ13)","v":0},{"$f":"SUM('법정동(2013)'!AR10,'법정동(2013)'!AR12:AR13)","v":{"v":671,"d":"671.00"}},{"$f":"SUM('법정동(2013)'!AS10,'법정동(2013)'!AS12:AS13)","v":1},{"$f":"SUM('법정동(2013)'!AT10,'법정동(2013)'!AT12:AT13)","v":{"v":9732,"d":"9,732.00"}},{"$f":"SUM('법정동(2013)'!AU10,'법정동(2013)'!AU12:AU13)","v":1},{"$f":"SUM('법정동(2013)'!AV10,'법정동(2013)'!AV12:AV13)","v":0},{"$f":"SUM('법정동(2013)'!AW10,'법정동(2013)'!AW12:AW13)","v":0},{"$f":"SUM('법정동(2013)'!AX10,'법정동(2013)'!AX12:AX13)","v":0},{"$f":"SUM('법정동(2013)'!AY10,'법정동(2013)'!AY12:AY13)","v":0},{"$f":"SUM('법정동(2013)'!AZ10,'법정동(2013)'!AZ12:AZ13)","v":{"v":3526,"d":"3,526.00"}},{"$f":"SUM('법정동(2013)'!BA10,'법정동(2013)'!BA12:BA13)","v":4},{"$f":"SUM('법정동(2013)'!BB10,'법정동(2013)'!BB12:BB13)","v":{"v":1583,"d":"1,583.00"}},{"$f":"SUM('법정동(2013)'!BC10,'법정동(2013)'!BC12:BC13)","v":1},{"$f":"SUM('법정동(2013)'!BD10,'법정동(2013)'!BD12:BD13)","v":{"v":78,"d":"78.00"}},{"$f":"SUM('법정동(2013)'!BE10,'법정동(2013)'!BE12:BE13)","v":3},{"$f":"SUM('법정동(2013)'!BF10,'법정동(2013)'!BF12:BF13)","v":{"v":17034,"d":"17,034.00"}},{"$f":"SUM('법정동(2013)'!BG10,'법정동(2013)'!BG12:BG13)","v":18}]
["충무동",{"$f":"SUM('법정동(2013)'!B14:B16)","v":{"v":1349528.5,"d":"1,349,528.5"}},{"$f":"SUM('법정동(2013)'!C14:C16)","v":{"v":3789,"d":"3,789"}},{"$f":"SUM('법정동(2013)'!D14:D16)","v":{"v":231270,"d":"231,270.00"}},{"$f":"SUM('법정동(2013)'!E14:E16)","v":514},{"$f":"SUM('법정동(2013)'!F14:F16)","v":{"v":45899,"d":"45,899.00"}},{"$f":"SUM('법정동(2013)'!G14:G16)","v":82},{"$f":"SUM('법정동(2013)'!H14:H16)","v":0},{"$f":"SUM('법정동(2013)'!I14:I16)","v":0},{"$f":"SUM('법정동(2013)'!J14:J16)","v":0},{"$f":"SUM('법정동(2013)'!K14:K16)","v":0},{"$f":"SUM('법정동(2013)'!L14:L16)","v":{"v":447669.8,"d":"447,669.80"}},{"$f":"SUM('법정동(2013)'!M14:M16)","v":157},{"$f":"SUM('법정동(2013)'!N14:N16)","v":0},{"$f":"SUM('법정동(2013)'!O14:O16)","v":0},{"$f":"SUM('법정동(2013)'!P14:P16)","v":0},{"$f":"SUM('법정동(2013)'!Q14:Q16)","v":0},{"$f":"SUM('법정동(2013)'!R14:R16)","v":{"v":308443.1,"d":"308,443.10"}},{"$f":"SUM('법정동(2013)'!S14:S16)","v":{"v":2462,"d":"2,462"}},{"$f":"SUM('법정동(2013)'!T14:T16)","v":{"v":696.7,"d":"696.70"}},{"$f":"SUM('법정동(2013)'!U14:U16)","v":1},{"$f":"SUM('법정동(2013)'!V14:V16)","v":{"v":21502,"d":"21,502.00"}},{"$f":"SUM('법정동(2013)'!W14:W16)","v":3},{"$f":"SUM('법정동(2013)'!X14:X16)","v":{"v":2838,"d":"2,838.00"}},{"$f":"SUM('법정동(2013)'!Y14:Y16)","v":12},{"$f":"SUM('법정동(2013)'!Z14:Z16)","v":{"v":1946.1,"d":"1,946.10"}},{"$f":"SUM('법정동(2013)'!AA14:AA16)","v":7},{"$f":"SUM('법정동(2013)'!AB14:AB16)","v":{"v":2638.4,"d":"2,638.40"}},{"$f":"SUM('법정동(2013)'!AC14:AC16)","v":3},{"$f":"SUM('법정동(2013)'!AD14:AD16)","v":{"v":201920,"d":"201,920.00"}},{"$f":"SUM('법정동(2013)'!AE14:AE16)","v":445},{"$f":"SUM('법정동(2013)'!AF14:AF16)","v":0},{"$f":"SUM('법정동(2013)'!AG14:AG16)","v":0},{"$f":"SUM('법정동(2013)'!AH14:AH16)","v":0},{"$f":"SUM('법정동(2013)'!AI14:AI16)","v":0},{"$f":"SUM('법정동(2013)'!AJ14:AJ16)","v":{"v":20098,"d":"20,098.00"}},{"$f":"SUM('법정동(2013)'!AK14:AK16)","v":23},{"$f":"SUM('법정동(2013)'!AL14:AL16)","v":{"v":34073.4,"d":"34,073.40"}},{"$f":"SUM('법정동(2013)'!AM14:AM16)","v":26},{"$f":"SUM('법정동(2013)'!AN14:AN16)","v":0},{"$f":"SUM('법정동(2013)'!AO14:AO16)","v":0},{"$f":"SUM('법정동(2013)'!AP14:AP16)","v":0},{"$f":"SUM('법정동(2013)'!AQ14:AQ16)","v":0},{"$f":"SUM('법정동(2013)'!AR14:AR16)","v":{"v":2189.1,"d":"2,189.10"}},{"$f":"SUM('법정동(2013)'!AS14:AS16)","v":4},{"$f":"SUM('법정동(2013)'!AT14:AT16)","v":{"v":991.9,"d":"991.90"}},{"$f":"SUM('법정동(2013)'!AU14:AU16)","v":1},{"$f":"SUM('법정동(2013)'!AV14:AV16)","v":0},{"$f":"SUM('법정동(2013)'!AW14:AW16)","v":0},{"$f":"SUM('법정동(2013)'!AX14:AX16)","v":0},{"$f":"SUM('법정동(2013)'!AY14:AY16)","v":0},{"$f":"SUM('법정동(2013)'!AZ14:AZ16)","v":{"v":9435,"d":"9,435.00"}},{"$f":"SUM('법정동(2013)'!BA14:BA16)","v":17},{"$f":"SUM('법정동(2013)'!BB14:BB16)","v":{"v":5718,"d":"5,718.00"}},{"$f":"SUM('법정동(2013)'!BC14:BC16)","v":5},{"$f":"SUM('법정동(2013)'!BD14:BD16)","v":{"v":5021,"d":"5,021.00"}},{"$f":"SUM('법정동(2013)'!BE14:BE16)","v":9},{"$f":"SUM('법정동(2013)'!BF14:BF16)","v":{"v":7179,"d":"7,179.00"}},{"$f":"SUM('법정동(2013)'!BG14:BG16)","v":18}]
["광림동",{"$f":"SUM('법정동(2013)'!B17,'법정동(2013)'!B26)","v":{"v":3395957.1,"d":"3,395,957.1"}},{"$f":"SUM('법정동(2013)'!C17,'법정동(2013)'!C26)","v":{"v":4570,"d":"4,570"}},{"$f":"SUM('법정동(2013)'!D17,'법정동(2013)'!D26)","v":{"v":374738,"d":"374,738.00"}},{"$f":"SUM('법정동(2013)'!E17,'법정동(2013)'!E26)","v":698},{"$f":"SUM('법정동(2013)'!F17,'법정동(2013)'!F26)","v":{"v":65058,"d":"65,058.00"}},{"$f":"SUM('법정동(2013)'!G17,'법정동(2013)'!G26)","v":149},{"$f":"SUM('법정동(2013)'!H17,'법정동(2013)'!H26)","v":0},{"$f":"SUM('법정동(2013)'!I17,'법정동(2013)'!I26)","v":0},{"$f":"SUM('법정동(2013)'!J17,'법정동(2013)'!J26)","v":0},{"$f":"SUM('법정동(2013)'!K17,'법정동(2013)'!K26)","v":0},{"$f":"SUM('법정동(2013)'!L17,'법정동(2013)'!L26)","v":{"v":1763396,"d":"1,763,396.00"}},{"$f":"SUM('법정동(2013)'!M17,'법정동(2013)'!M26)","v":389},{"$f":"SUM('법정동(2013)'!N17,'법정동(2013)'!N26)","v":0},{"$f":"SUM('법정동(2013)'!O17,'법정동(2013)'!O26)","v":0},{"$f":"SUM('법정동(2013)'!P17,'법정동(2013)'!P26)","v":0},{"$f":"SUM('법정동(2013)'!Q17,'법정동(2013)'!Q26)","v":0},{"$f":"SUM('법정동(2013)'!R17,'법정동(2013)'!R26)","v":{"v":410560,"d":"410,560.00"}},{"$f":"SUM('법정동(2013)'!S17,'법정동(2013)'!S26)","v":{"v":2354,"d":"2,354"}},{"$f":"SUM('법정동(2013)'!T17,'법정동(2013)'!T26)","v":{"v":895,"d":"895.00"}},{"$f":"SUM('법정동(2013)'!U17,'법정동(2013)'!U26)","v":1},{"$f":"SUM('법정동(2013)'!V17,'법정동(2013)'!V26)","v":{"v":45635,"d":"45,635.00"}},{"$f":"SUM('법정동(2013)'!W17,'법정동(2013)'!W26)","v":7},{"$f":"SUM('법정동(2013)'!X17,'법정동(2013)'!X26)","v":{"v":2396.3,"d":"2,396.30"}},{"$f":"SUM('법정동(2013)'!Y17,'법정동(2013)'!Y26)","v":5},{"$f":"SUM('법정동(2013)'!Z17,'법정동(2013)'!Z26)","v":{"v":3635.6000000000004,"d":"3,635.60"}},{"$f":"SUM('법정동(2013)'!AA17,'법정동(2013)'!AA26)","v":9},{"$f":"SUM('법정동(2013)'!AB17,'법정동(2013)'!AB26)","v":{"v":894,"d":"894.00"}},{"$f":"SUM('법정동(2013)'!AC17,'법정동(2013)'!AC26)","v":2},{"$f":"SUM('법정동(2013)'!AD17,'법정동(2013)'!AD26)","v":{"v":265137.8,"d":"265,137.80"}},{"$f":"SUM('법정동(2013)'!AE17,'법정동(2013)'!AE26)","v":764},{"$f":"SUM('법정동(2013)'!AF17,'법정동(2013)'!AF26)","v":{"v":33331,"d":"33,331.00"}},{"$f":"SUM('법정동(2013)'!AG17,'법정동(2013)'!AG26)","v":33},{"$f":"SUM('법정동(2013)'!AH17,'법정동(2013)'!AH26)","v":0},{"$f":"SUM('법정동(2013)'!AI17,'법정동(2013)'!AI26)","v":0},{"$f":"SUM('법정동(2013)'!AJ17,'법정동(2013)'!AJ26)","v":{"v":25852.4,"d":"25,852.40"}},{"$f":"SUM('법정동(2013)'!AK17,'법정동(2013)'!AK26)","v":16},{"$f":"SUM('법정동(2013)'!AL17,'법정동(2013)'!AL26)","v":{"v":19052.100000000002,"d":"19,052.10"}},{"$f":"SUM('법정동(2013)'!AM17,'법정동(2013)'!AM26)","v":43},{"$f":"SUM('법정동(2013)'!AN17,'법정동(2013)'!AN26)","v":{"v":10,"d":"10.00"}},{"$f":"SUM('법정동(2013)'!AO17,'법정동(2013)'!AO26)","v":1},{"$f":"SUM('법정동(2013)'!AP17,'법정동(2013)'!AP26)","v":0},{"$f":"SUM('법정동(2013)'!AQ17,'법정동(2013)'!AQ26)","v":0},{"$f":"SUM('법정동(2013)'!AR17,'법정동(2013)'!AR26)","v":{"v":12938,"d":"12,938.00"}},{"$f":"SUM('법정동(2013)'!AS17,'법정동(2013)'!AS26)","v":16},{"$f":"SUM('법정동(2013)'!AT17,'법정동(2013)'!AT26)","v":{"v":2315.4,"d":"2,315.40"}},{"$f":"SUM('법정동(2013)'!AU17,'법정동(2013)'!AU26)","v":2},{"$f":"SUM('법정동(2013)'!AV17,'법정동(2013)'!AV26)","v":{"v":310227,"d":"310,227.00"}},{"$f":"SUM('법정동(2013)'!AW17,'법정동(2013)'!AW26)","v":14},{"$f":"SUM('법정동(2013)'!AX17,'법정동(2013)'!AX26)","v":0},{"$f":"SUM('법정동(2013)'!AY17,'법정동(2013)'!AY26)","v":0},{"$f":"SUM('법정동(2013)'!AZ17,'법정동(2013)'!AZ26)","v":{"v":8655.9,"d":"8,655.90"}},{"$f":"SUM('법정동(2013)'!BA17,'법정동(2013)'!BA26)","v":12},{"$f":"SUM('법정동(2013)'!BB17,'법정동(2013)'!BB26)","v":0},{"$f":"SUM('법정동(2013)'!BC17,'법정동(2013)'!BC26)","v":0},{"$f":"SUM('법정동(2013)'!BD17,'법정동(2013)'!BD26)","v":{"v":39638,"d":"39,638.00"}},{"$f":"SUM('법정동(2013)'!BE17,'법정동(2013)'!BE26)","v":26},{"$f":"SUM('법정동(2013)'!BF17,'법정동(2013)'!BF26)","v":{"v":11591.6,"d":"11,591.60"}},{"$f":"SUM('법정동(2013)'!BG17,'법정동(2013)'!BG26)","v":29}]
["서강동",{"$f":"SUM('법정동(2013)'!B18:B19)","v":{"v":655394.5,"d":"655,394.5"}},{"$f":"SUM('법정동(2013)'!C18:C19)","v":{"v":2767,"d":"2,767"}},{"$f":"SUM('법정동(2013)'!D18:D19)","v":{"v":79595,"d":"79,595.00"}},{"$f":"SUM('법정동(2013)'!E18:E19)","v":172},{"$f":"SUM('법정동(2013)'!F18:F19)","v":{"v":27350,"d":"27,350.00"}},{"$f":"SUM('법정동(2013)'!G18:G19)","v":58},{"$f":"SUM('법정동(2013)'!H18:H19)","v":0},{"$f":"SUM('법정동(2013)'!I18:I19)","v":0},{"$f":"SUM('법정동(2013)'!J18:J19)","v":0},{"$f":"SUM('법정동(2013)'!K18:K19)","v":0},{"$f":"SUM('법정동(2013)'!L18:L19)","v":{"v":156344,"d":"156,344.00"}},{"$f":"SUM('법정동(2013)'!M18:M19)","v":55},{"$f":"SUM('법정동(2013)'!N18:N19)","v":0},{"$f":"SUM('법정동(2013)'!O18:O19)","v":0},{"$f":"SUM('법정동(2013)'!P18:P19)","v":0},{"$f":"SUM('법정동(2013)'!Q18:Q19)","v":0},{"$f":"SUM('법정동(2013)'!R18:R19)","v":{"v":207727.2,"d":"207,727.20"}},{"$f":"SUM('법정동(2013)'!S18:S19)","v":{"v":1783,"d":"1,783"}},{"$f":"SUM('법정동(2013)'!T18:T19)","v":0},{"$f":"SUM('법정동(2013)'!U18:U19)","v":0},{"$f":"SUM('법정동(2013)'!V18:V19)","v":{"v":55144,"d":"55,144.00"}},{"$f":"SUM('법정동(2013)'!W18:W19)","v":3},{"$f":"SUM('법정동(2013)'!X18:X19)","v":{"v":7312,"d":"7,312.00"}},{"$f":"SUM('법정동(2013)'!Y18:Y19)","v":6},{"$f":"SUM('법정동(2013)'!Z18:Z19)","v":0},{"$f":"SUM('법정동(2013)'!AA18:AA19)","v":0},{"$f":"SUM('법정동(2013)'!AB18:AB19)","v":0},{"$f":"SUM('법정동(2013)'!AC18:AC19)","v":0},{"$f":"SUM('법정동(2013)'!AD18:AD19)","v":{"v":95180.7,"d":"95,180.70"}},{"$f":"SUM('법정동(2013)'!AE18:AE19)","v":627},{"$f":"SUM('법정동(2013)'!AF18:AF19)","v":0},{"$f":"SUM('법정동(2013)'!AG18:AG19)","v":0},{"$f":"SUM('법정동(2013)'!AH18:AH19)","v":0},{"$f":"SUM('법정동(2013)'!AI18:AI19)","v":0},{"$f":"SUM('법정동(2013)'!AJ18:AJ19)","v":{"v":8724,"d":"8,724.00"}},{"$f":"SUM('법정동(2013)'!AK18:AK19)","v":4},{"$f":"SUM('법정동(2013)'!AL18:AL19)","v":{"v":4157,"d":"4,157.00"}},{"$f":"SUM('법정동(2013)'!AM18:AM19)","v":26},{"$f":"SUM('법정동(2013)'!AN18:AN19)","v":0},{"$f":"SUM('법정동(2013)'!AO18:AO19)","v":0},{"$f":"SUM('법정동(2013)'!AP18:AP19)","v":0},{"$f":"SUM('법정동(2013)'!AQ18:AQ19)","v":0},{"$f":"SUM('법정동(2013)'!AR18:AR19)","v":0},{"$f":"SUM('법정동(2013)'!AS18:AS19)","v":0},{"$f":"SUM('법정동(2013)'!AT18:AT19)","v":{"v":2049.9,"d":"2,049.90"}},{"$f":"SUM('법정동(2013)'!AU18:AU19)","v":2},{"$f":"SUM('법정동(2013)'!AV18:AV19)","v":0},{"$f":"SUM('법정동(2013)'!AW18:AW19)","v":0},{"$f":"SUM('법정동(2013)'!AX18:AX19)","v":0},{"$f":"SUM('법정동(2013)'!AY18:AY19)","v":0},{"$f":"SUM('법정동(2013)'!AZ18:AZ19)","v":{"v":8250,"d":"8,250.00"}},{"$f":"SUM('법정동(2013)'!BA18:BA19)","v":7},{"$f":"SUM('법정동(2013)'!BB18:BB19)","v":0},{"$f":"SUM('법정동(2013)'!BC18:BC19)","v":0},{"$f":"SUM('법정동(2013)'!BD18:BD19)","v":0},{"$f":"SUM('법정동(2013)'!BE18:BE19)","v":0},{"$f":"SUM('법정동(2013)'!BF18:BF19)","v":{"v":3560.7,"d":"3,560.70"}},{"$f":"SUM('법정동(2013)'!BG18:BG19)","v":24}]
["대교동",{"$f":"SUM('법정동(2013)'!B20:B21)","v":{"v":1614169.7,"d":"1,614,169.7"}},{"$f":"SUM('법정동(2013)'!C20:C21)","v":{"v":4807,"d":"4,807"}},{"$f":"SUM('법정동(2013)'!D20:D21)","v":{"v":242927,"d":"242,927.00"}},{"$f":"SUM('법정동(2013)'!E20:E21)","v":527},{"$f":"SUM('법정동(2013)'!F20:F21)","v":{"v":43040,"d":"43,040.00"}},{"$f":"SUM('법정동(2013)'!G20:G21)","v":102},{"$f":"SUM('법정동(2013)'!H20:H21)","v":0},{"$f":"SUM('법정동(2013)'!I20:I21)","v":0},{"$f":"SUM('법정동(2013)'!J20:J21)","v":0},{"$f":"SUM('법정동(2013)'!K20:K21)","v":0},{"$f":"SUM('법정동(2013)'!L20:L21)","v":{"v":385533,"d":"385,533.00"}},{"$f":"SUM('법정동(2013)'!M20:M21)","v":95},{"$f":"SUM('법정동(2013)'!N20:N21)","v":0},{"$f":"SUM('법정동(2013)'!O20:O21)","v":0},{"$f":"SUM('법정동(2013)'!P20:P21)","v":0},{"$f":"SUM('법정동(2013)'!Q20:Q21)","v":0},{"$f":"SUM('법정동(2013)'!R20:R21)","v":{"v":546175.1,"d":"546,175.10"}},{"$f":"SUM('법정동(2013)'!S20:S21)","v":{"v":3187,"d":"3,187"}},{"$f":"SUM('법정동(2013)'!T20:T21)","v":{"v":353.1,"d":"353.10"}},{"$f":"SUM('법정동(2013)'!U20:U21)","v":1},{"$f":"SUM('법정동(2013)'!V20:V21)","v":{"v":33929,"d":"33,929.00"}},{"$f":"SUM('법정동(2013)'!W20:W21)","v":8},{"$f":"SUM('법정동(2013)'!X20:X21)","v":{"v":3693.1,"d":"3,693.10"}},{"$f":"SUM('법정동(2013)'!Y20:Y21)","v":7},{"$f":"SUM('법정동(2013)'!Z20:Z21)","v":{"v":2234.6,"d":"2,234.60"}},{"$f":"SUM('법정동(2013)'!AA20:AA21)","v":4},{"$f":"SUM('법정동(2013)'!AB20:AB21)","v":{"v":1297.1,"d":"1,297.10"}},{"$f":"SUM('법정동(2013)'!AC20:AC21)","v":4},{"$f":"SUM('법정동(2013)'!AD20:AD21)","v":{"v":284670.7,"d":"284,670.70"}},{"$f":"SUM('법정동(2013)'!AE20:AE21)","v":793},{"$f":"SUM('법정동(2013)'!AF20:AF21)","v":0},{"$f":"SUM('법정동(2013)'!AG20:AG21)","v":0},{"$f":"SUM('법정동(2013)'!AH20:AH21)","v":{"v":273,"d":"273.00"}},{"$f":"SUM('법정동(2013)'!AI20:AI21)","v":4},{"$f":"SUM('법정동(2013)'!AJ20:AJ21)","v":{"v":9140,"d":"9,140.00"}},{"$f":"SUM('법정동(2013)'!AK20:AK21)","v":1},{"$f":"SUM('법정동(2013)'!AL20:AL21)","v":{"v":4499,"d":"4,499.00"}},{"$f":"SUM('법정동(2013)'!AM20:AM21)","v":16},{"$f":"SUM('법정동(2013)'!AN20:AN21)","v":{"v":27,"d":"27.00"}},{"$f":"SUM('법정동(2013)'!AO20:AO21)","v":2},{"$f":"SUM('법정동(2013)'!AP20:AP21)","v":0},{"$f":"SUM('법정동(2013)'!AQ20:AQ21)","v":0},{"$f":"SUM('법정동(2013)'!AR20:AR21)","v":{"v":283,"d":"283.00"}},{"$f":"SUM('법정동(2013)'!AS20:AS21)","v":2},{"$f":"SUM('법정동(2013)'!AT20:AT21)","v":0},{"$f":"SUM('법정동(2013)'!AU20:AU21)","v":0},{"$f":"SUM('법정동(2013)'!AV20:AV21)","v":0},{"$f":"SUM('법정동(2013)'!AW20:AW21)","v":0},{"$f":"SUM('법정동(2013)'!AX20:AX21)","v":0},{"$f":"SUM('법정동(2013)'!AY20:AY21)","v":0},{"$f":"SUM('법정동(2013)'!AZ20:AZ21)","v":{"v":7586,"d":"7,586.00"}},{"$f":"SUM('법정동(2013)'!BA20:BA21)","v":6},{"$f":"SUM('법정동(2013)'!BB20:BB21)","v":0},{"$f":"SUM('법정동(2013)'!BC20:BC21)","v":0},{"$f":"SUM('법정동(2013)'!BD20:BD21)","v":{"v":2565,"d":"2,565.00"}},{"$f":"SUM('법정동(2013)'!BE20:BE21)","v":11},{"$f":"SUM('법정동(2013)'!BF20:BF21)","v":{"v":45944,"d":"45,944.00"}},{"$f":"SUM('법정동(2013)'!BG20:BG21)","v":37}]
["국   동",{"$f":"SUM('법정동(2013)'!B22)","v":{"v":1533342.3,"d":"1,533,342.3"}},{"$f":"SUM('법정동(2013)'!C22)","v":{"v":3253,"d":"3,253"}},{"$f":"SUM('법정동(2013)'!D22)","v":{"v":98672,"d":"98,672.00"}},{"$f":"SUM('법정동(2013)'!E22)","v":452},{"$f":"SUM('법정동(2013)'!F22)","v":{"v":15592,"d":"15,592.00"}},{"$f":"SUM('법정동(2013)'!G22)","v":83},{"$f":"SUM('법정동(2013)'!H22)","v":{"v":815,"d":"815.00"}},{"$f":"SUM('법정동(2013)'!I22)","v":1},{"$f":"SUM('법정동(2013)'!J22)","v":0},{"$f":"SUM('법정동(2013)'!K22)","v":0},{"$f":"SUM('법정동(2013)'!L22)","v":{"v":486239,"d":"486,239.00"}},{"$f":"SUM('법정동(2013)'!M22)","v":91},{"$f":"SUM('법정동(2013)'!N22)","v":0},{"$f":"SUM('법정동(2013)'!O22)","v":0},{"$f":"SUM('법정동(2013)'!P22)","v":0},{"$f":"SUM('법정동(2013)'!Q22)","v":0},{"$f":"SUM('법정동(2013)'!R22)","v":{"v":527745.2,"d":"527,745.20"}},{"$f":"SUM('법정동(2013)'!S22)","v":{"v":1887,"d":"1,887"}},{"$f":"SUM('법정동(2013)'!T22)","v":{"v":5044,"d":"5,044.00"}},{"$f":"SUM('법정동(2013)'!U22)","v":9},{"$f":"SUM('법정동(2013)'!V22)","v":{"v":126054.2,"d":"126,054.20"}},{"$f":"SUM('법정동(2013)'!W22)","v":32},{"$f":"SUM('법정동(2013)'!X22)","v":{"v":5577,"d":"5,577.00"}},{"$f":"SUM('법정동(2013)'!Y22)","v":5},{"$f":"SUM('법정동(2013)'!Z22)","v":{"v":1291,"d":"1,291.00"}},{"$f":"SUM('법정동(2013)'!AA22)","v":2},{"$f":"SUM('법정동(2013)'!AB22)","v":{"v":609,"d":"609.00"}},{"$f":"SUM('법정동(2013)'!AC22)","v":4},{"$f":"SUM('법정동(2013)'!AD22)","v":{"v":174089.6,"d":"174,089.60"}},{"$f":"SUM('법정동(2013)'!AE22)","v":583},{"$f":"SUM('법정동(2013)'!AF22)","v":0},{"$f":"SUM('법정동(2013)'!AG22)","v":0},{"$f":"SUM('법정동(2013)'!AH22)","v":{"v":2006,"d":"2,006.00"}},{"$f":"SUM('법정동(2013)'!AI22)","v":1},{"$f":"SUM('법정동(2013)'!AJ22)","v":0},{"$f":"SUM('법정동(2013)'!AK22)","v":0},{"$f":"SUM('법정동(2013)'!AL22)","v":{"v":15931,"d":"15,931.00"}},{"$f":"SUM('법정동(2013)'!AM22)","v":14},{"$f":"SUM('법정동(2013)'!AN22)","v":0},{"$f":"SUM('법정동(2013)'!AO22)","v":0},{"$f":"SUM('법정동(2013)'!AP22)","v":0},{"$f":"SUM('법정동(2013)'!AQ22)","v":0},{"$f":"SUM('법정동(2013)'!AR22)","v":{"v":3092,"d":"3,092.00"}},{"$f":"SUM('법정동(2013)'!AS22)","v":6},{"$f":"SUM('법정동(2013)'!AT22)","v":0},{"$f":"SUM('법정동(2013)'!AU22)","v":0},{"$f":"SUM('법정동(2013)'!AV22)","v":0},{"$f":"SUM('법정동(2013)'!AW22)","v":0},{"$f":"SUM('법정동(2013)'!AX22)","v":0},{"$f":"SUM('법정동(2013)'!AY22)","v":0},{"$f":"SUM('법정동(2013)'!AZ22)","v":{"v":7538.5,"d":"7,538.50"}},{"$f":"SUM('법정동(2013)'!BA22)","v":17},{"$f":"SUM('법정동(2013)'!BB22)","v":0},{"$f":"SUM('법정동(2013)'!BC22)","v":0},{"$f":"SUM('법정동(2013)'!BD22)","v":{"v":1035,"d":"1,035.00"}},{"$f":"SUM('법정동(2013)'!BE22)","v":10},{"$f":"SUM('법정동(2013)'!BF22)","v":{"v":62011.8,"d":"62,011.80"}},{"$f":"SUM('법정동(2013)'!BG22)","v":56}]
["월호동",{"$f":"SUM('법정동(2013)'!B23,'법정동(2013)'!B32)","v":{"v":6797563.5,"d":"6,797,563.5"}},{"$f":"SUM('법정동(2013)'!C23,'법정동(2013)'!C32)","v":{"v":6430,"d":"6,430"}},{"$f":"SUM('법정동(2013)'!D23,'법정동(2013)'!D32)","v":{"v":1737922,"d":"1,737,922.00"}},{"$f":"SUM('법정동(2013)'!E23,'법정동(2013)'!E32)","v":{"v":2218,"d":"2,218"}},{"$f":"SUM('법정동(2013)'!F23,'법정동(2013)'!F32)","v":{"v":278116,"d":"278,116.00"}},{"$f":"SUM('법정동(2013)'!G23,'법정동(2013)'!G32)","v":458},{"$f":"SUM('법정동(2013)'!H23,'법정동(2013)'!H32)","v":0},{"$f":"SUM('법정동(2013)'!I23,'법정동(2013)'!I32)","v":0},{"$f":"SUM('법정동(2013)'!J23,'법정동(2013)'!J32)","v":0},{"$f":"SUM('법정동(2013)'!K23,'법정동(2013)'!K32)","v":0},{"$f":"SUM('법정동(2013)'!L23,'법정동(2013)'!L32)","v":{"v":2930499,"d":"2,930,499.00"}},{"$f":"SUM('법정동(2013)'!M23,'법정동(2013)'!M32)","v":{"v":1222,"d":"1,222"}},{"$f":"SUM('법정동(2013)'!N23,'법정동(2013)'!N32)","v":0},{"$f":"SUM('법정동(2013)'!O23,'법정동(2013)'!O32)","v":0},{"$f":"SUM('법정동(2013)'!P23,'법정동(2013)'!P32)","v":0},{"$f":"SUM('법정동(2013)'!Q23,'법정동(2013)'!Q32)","v":0},{"$f":"SUM('법정동(2013)'!R23,'법정동(2013)'!R32)","v":{"v":387272.2,"d":"387,272.20"}},{"$f":"SUM('법정동(2013)'!S23,'법정동(2013)'!S32)","v":{"v":1231,"d":"1,231"}},{"$f":"SUM('법정동(2013)'!T23,'법정동(2013)'!T32)","v":{"v":849314,"d":"849,314.00"}},{"$f":"SUM('법정동(2013)'!U23,'법정동(2013)'!U32)","v":124},{"$f":"SUM('법정동(2013)'!V23,'법정동(2013)'!V32)","v":{"v":19320,"d":"19,320.00"}},{"$f":"SUM('법정동(2013)'!W23,'법정동(2013)'!W32)","v":3},{"$f":"SUM('법정동(2013)'!X23,'법정동(2013)'!X32)","v":{"v":2408.6,"d":"2,408.60"}},{"$f":"SUM('법정동(2013)'!Y23,'법정동(2013)'!Y32)","v":9},{"$f":"SUM('법정동(2013)'!Z23,'법정동(2013)'!Z32)","v":{"v":2571,"d":"2,571.00"}},{"$f":"SUM('법정동(2013)'!AA23,'법정동(2013)'!AA32)","v":10},{"$f":"SUM('법정동(2013)'!AB23,'법정동(2013)'!AB32)","v":{"v":1810,"d":"1,810.00"}},{"$f":"SUM('법정동(2013)'!AC23,'법정동(2013)'!AC32)","v":2},{"$f":"SUM('법정동(2013)'!AD23,'법정동(2013)'!AD32)","v":{"v":259304.1,"d":"259,304.10"}},{"$f":"SUM('법정동(2013)'!AE23,'법정동(2013)'!AE32)","v":841},{"$f":"SUM('법정동(2013)'!AF23,'법정동(2013)'!AF32)","v":0},{"$f":"SUM('법정동(2013)'!AG23,'법정동(2013)'!AG32)","v":0},{"$f":"SUM('법정동(2013)'!AH23,'법정동(2013)'!AH32)","v":{"v":17272,"d":"17,272.00"}},{"$f":"SUM('법정동(2013)'!AI23,'법정동(2013)'!AI32)","v":46},{"$f":"SUM('법정동(2013)'!AJ23,'법정동(2013)'!AJ32)","v":{"v":1220,"d":"1,220.00"}},{"$f":"SUM('법정동(2013)'!AK23,'법정동(2013)'!AK32)","v":5},{"$f":"SUM('법정동(2013)'!AL23,'법정동(2013)'!AL32)","v":{"v":45561,"d":"45,561.00"}},{"$f":"SUM('법정동(2013)'!AM23,'법정동(2013)'!AM32)","v":21},{"$f":"SUM('법정동(2013)'!AN23,'법정동(2013)'!AN32)","v":{"v":2473,"d":"2,473.00"}},{"$f":"SUM('법정동(2013)'!AO23,'법정동(2013)'!AO32)","v":2},{"$f":"SUM('법정동(2013)'!AP23,'법정동(2013)'!AP32)","v":{"v":1601,"d":"1,601.00"}},{"$f":"SUM('법정동(2013)'!AQ23,'법정동(2013)'!AQ32)","v":1},{"$f":"SUM('법정동(2013)'!AR23,'법정동(2013)'!AR32)","v":0},{"$f":"SUM('법정동(2013)'!AS23,'법정동(2013)'!AS32)","v":0},{"$f":"SUM('법정동(2013)'!AT23,'법정동(2013)'!AT32)","v":{"v":7918.6,"d":"7,918.60"}},{"$f":"SUM('법정동(2013)'!AU23,'법정동(2013)'!AU32)","v":11},{"$f":"SUM('법정동(2013)'!AV23,'법정동(2013)'!AV32)","v":0},{"$f":"SUM('법정동(2013)'!AW23,'법정동(2013)'!AW32)","v":0},{"$f":"SUM('법정동(2013)'!AX23,'법정동(2013)'!AX32)","v":0},{"$f":"SUM('법정동(2013)'!AY23,'법정동(2013)'!AY32)","v":0},{"$f":"SUM('법정동(2013)'!AZ23,'법정동(2013)'!AZ32)","v":{"v":10386,"d":"10,386.00"}},{"$f":"SUM('법정동(2013)'!BA23,'법정동(2013)'!BA32)","v":11},{"$f":"SUM('법정동(2013)'!BB23,'법정동(2013)'!BB32)","v":0},{"$f":"SUM('법정동(2013)'!BC23,'법정동(2013)'!BC32)","v":0},{"$f":"SUM('법정동(2013)'!BD23,'법정동(2013)'!BD32)","v":{"v":18366,"d":"18,366.00"}},{"$f":"SUM('법정동(2013)'!BE23,'법정동(2013)'!BE32)","v":53},{"$f":"SUM('법정동(2013)'!BF23,'법정동(2013)'!BF32)","v":{"v":224229,"d":"224,229.00"}},{"$f":"SUM('법정동(2013)'!BG23,'법정동(2013)'!BG32)","v":162}]
["여서동",{"$f":"SUM('법정동(2013)'!B24)","v":{"v":2575399.9,"d":"2,575,399.9"}},{"$f":"SUM('법정동(2013)'!C24)","v":{"v":1920,"d":"1,920"}},{"$f":"SUM('법정동(2013)'!D24)","v":{"v":204480,"d":"204,480.00"}},{"$f":"SUM('법정동(2013)'!E24)","v":278},{"$f":"SUM('법정동(2013)'!F24)","v":{"v":116419,"d":"116,419.00"}},{"$f":"SUM('법정동(2013)'!G24)","v":189},{"$f":"SUM('법정동(2013)'!H24)","v":0},{"$f":"SUM('법정동(2013)'!I24)","v":0},{"$f":"SUM('법정동(2013)'!J24)","v":0},{"$f":"SUM('법정동(2013)'!K24)","v":0},{"$f":"SUM('법정동(2013)'!L24)","v":{"v":1223736,"d":"1,223,736.00"}},{"$f":"SUM('법정동(2013)'!M24)","v":291},{"$f":"SUM('법정동(2013)'!N24)","v":0},{"$f":"SUM('법정동(2013)'!O24)","v":0},{"$f":"SUM('법정동(2013)'!P24)","v":0},{"$f":"SUM('법정동(2013)'!Q24)","v":0},{"$f":"SUM('법정동(2013)'!R24)","v":{"v":562622.2,"d":"562,622.20"}},{"$f":"SUM('법정동(2013)'!S24)","v":751},{"$f":"SUM('법정동(2013)'!T24)","v":0},{"$f":"SUM('법정동(2013)'!U24)","v":0},{"$f":"SUM('법정동(2013)'!V24)","v":{"v":58011,"d":"58,011.00"}},{"$f":"SUM('법정동(2013)'!W24)","v":4},{"$f":"SUM('법정동(2013)'!X24)","v":{"v":15531.6,"d":"15,531.60"}},{"$f":"SUM('법정동(2013)'!Y24)","v":15},{"$f":"SUM('법정동(2013)'!Z24)","v":{"v":1488,"d":"1,488.00"}},{"$f":"SUM('법정동(2013)'!AA24)","v":1},{"$f":"SUM('법정동(2013)'!AB24)","v":{"v":884,"d":"884.00"}},{"$f":"SUM('법정동(2013)'!AC24)","v":1},{"$f":"SUM('법정동(2013)'!AD24)","v":{"v":291248.5,"d":"291,248.50"}},{"$f":"SUM('법정동(2013)'!AE24)","v":281},{"$f":"SUM('법정동(2013)'!AF24)","v":0},{"$f":"SUM('법정동(2013)'!AG24)","v":0},{"$f":"SUM('법정동(2013)'!AH24)","v":0},{"$f":"SUM('법정동(2013)'!AI24)","v":0},{"$f":"SUM('법정동(2013)'!AJ24)","v":0},{"$f":"SUM('법정동(2013)'!AK24)","v":0},{"$f":"SUM('법정동(2013)'!AL24)","v":{"v":15119.9,"d":"15,119.90"}},{"$f":"SUM('법정동(2013)'!AM24)","v":20},{"$f":"SUM('법정동(2013)'!AN24)","v":{"v":958,"d":"958.00"}},{"$f":"SUM('법정동(2013)'!AO24)","v":2},{"$f":"SUM('법정동(2013)'!AP24)","v":0},{"$f":"SUM('법정동(2013)'!AQ24)","v":0},{"$f":"SUM('법정동(2013)'!AR24)","v":{"v":11855,"d":"11,855.00"}},{"$f":"SUM('법정동(2013)'!AS24)","v":5},{"$f":"SUM('법정동(2013)'!AT24)","v":{"v":19406.8,"d":"19,406.80"}},{"$f":"SUM('법정동(2013)'!AU24)","v":7},{"$f":"SUM('법정동(2013)'!AV24)","v":{"v":9361,"d":"9,361.00"}},{"$f":"SUM('법정동(2013)'!AW24)","v":5},{"$f":"SUM('법정동(2013)'!AX24)","v":0},{"$f":"SUM('법정동(2013)'!AY24)","v":0},{"$f":"SUM('법정동(2013)'!AZ24)","v":{"v":15908.4,"d":"15,908.40"}},{"$f":"SUM('법정동(2013)'!BA24)","v":22},{"$f":"SUM('법정동(2013)'!BB24)","v":0},{"$f":"SUM('법정동(2013)'!BC24)","v":0},{"$f":"SUM('법정동(2013)'!BD24)","v":{"v":2630,"d":"2,630.00"}},{"$f":"SUM('법정동(2013)'!BE24)","v":8},{"$f":"SUM('법정동(2013)'!BF24)","v":{"v":25740.5,"d":"25,740.50"}},{"$f":"SUM('법정동(2013)'!BG24)","v":40}]
["문수동",{"$f":"SUM('법정동(2013)'!B25)","v":{"v":2244118.3000000003,"d":"2,244,118.3"}},{"$f":"SUM('법정동(2013)'!C25)","v":{"v":3187,"d":"3,187"}},{"$f":"SUM('법정동(2013)'!D25)","v":{"v":175919,"d":"175,919.00"}},{"$f":"SUM('법정동(2013)'!E25)","v":321},{"$f":"SUM('법정동(2013)'!F25)","v":{"v":34182,"d":"34,182.00"}},{"$f":"SUM('법정동(2013)'!G25)","v":95},{"$f":"SUM('법정동(2013)'!H25)","v":0},{"$f":"SUM('법정동(2013)'!I25)","v":0},{"$f":"SUM('법정동(2013)'!J25)","v":0},{"$f":"SUM('법정동(2013)'!K25)","v":0},{"$f":"SUM('법정동(2013)'!L25)","v":{"v":836075.7,"d":"836,075.70"}},{"$f":"SUM('법정동(2013)'!M25)","v":325},{"$f":"SUM('법정동(2013)'!N25)","v":0},{"$f":"SUM('법정동(2013)'!O25)","v":0},{"$f":"SUM('법정동(2013)'!P25)","v":0},{"$f":"SUM('법정동(2013)'!Q25)","v":0},{"$f":"SUM('법정동(2013)'!R25)","v":{"v":715330.5,"d":"715,330.50"}},{"$f":"SUM('법정동(2013)'!S25)","v":{"v":1891,"d":"1,891"}},{"$f":"SUM('법정동(2013)'!T25)","v":0},{"$f":"SUM('법정동(2013)'!U25)","v":0},{"$f":"SUM('법정동(2013)'!V25)","v":{"v":122894.6,"d":"122,894.60"}},{"$f":"SUM('법정동(2013)'!W25)","v":10},{"$f":"SUM('법정동(2013)'!X25)","v":{"v":13515.4,"d":"13,515.40"}},{"$f":"SUM('법정동(2013)'!Y25)","v":44},{"$f":"SUM('법정동(2013)'!Z25)","v":{"v":1109.1,"d":"1,109.10"}},{"$f":"SUM('법정동(2013)'!AA25)","v":2},{"$f":"SUM('법정동(2013)'!AB25)","v":{"v":205,"d":"205.00"}},{"$f":"SUM('법정동(2013)'!AC25)","v":1},{"$f":"SUM('법정동(2013)'!AD25)","v":{"v":225509.9,"d":"225,509.90"}},{"$f":"SUM('법정동(2013)'!AE25)","v":367},{"$f":"SUM('법정동(2013)'!AF25)","v":0},{"$f":"SUM('법정동(2013)'!AG25)","v":0},{"$f":"SUM('법정동(2013)'!AH25)","v":0},{"$f":"SUM('법정동(2013)'!AI25)","v":0},{"$f":"SUM('법정동(2013)'!AJ25)","v":{"v":8513,"d":"8,513.00"}},{"$f":"SUM('법정동(2013)'!AK25)","v":5},{"$f":"SUM('법정동(2013)'!AL25)","v":{"v":9438.4,"d":"9,438.40"}},{"$f":"SUM('법정동(2013)'!AM25)","v":13},{"$f":"SUM('법정동(2013)'!AN25)","v":0},{"$f":"SUM('법정동(2013)'!AO25)","v":0},{"$f":"SUM('법정동(2013)'!AP25)","v":0},{"$f":"SUM('법정동(2013)'!AQ25)","v":0},{"$f":"SUM('법정동(2013)'!AR25)","v":{"v":31,"d":"31.00"}},{"$f":"SUM('법정동(2013)'!AS25)","v":1},{"$f":"SUM('법정동(2013)'!AT25)","v":{"v":54362.1,"d":"54,362.10"}},{"$f":"SUM('법정동(2013)'!AU25)","v":21},{"$f":"SUM('법정동(2013)'!AV25)","v":0},{"$f":"SUM('법정동(2013)'!AW25)","v":0},{"$f":"SUM('법정동(2013)'!AX25)","v":0},{"$f":"SUM('법정동(2013)'!AY25)","v":0},{"$f":"SUM('법정동(2013)'!AZ25)","v":{"v":25861,"d":"25,861.00"}},{"$f":"SUM('법정동(2013)'!BA25)","v":15},{"$f":"SUM('법정동(2013)'!BB25)","v":0},{"$f":"SUM('법정동(2013)'!BC25)","v":0},{"$f":"SUM('법정동(2013)'!BD25)","v":{"v":3861,"d":"3,861.00"}},{"$f":"SUM('법정동(2013)'!BE25)","v":19},{"$f":"SUM('법정동(2013)'!BF25)","v":{"v":17310.6,"d":"17,310.60"}},{"$f":"SUM('법정동(2013)'!BG25)","v":57}]
["미평동",{"$f":"SUM('법정동(2013)'!B27)","v":{"v":3089016.9,"d":"3,089,016.9"}},{"$f":"SUM('법정동(2013)'!C27)","v":{"v":2688,"d":"2,688"}},{"$f":"SUM('법정동(2013)'!D27)","v":{"v":142659,"d":"142,659.00"}},{"$f":"SUM('법정동(2013)'!E27)","v":329},{"$f":"SUM('법정동(2013)'!F27)","v":{"v":97075,"d":"97,075.00"}},{"$f":"SUM('법정동(2013)'!G27)","v":235},{"$f":"SUM('법정동(2013)'!H27)","v":0},{"$f":"SUM('법정동(2013)'!I27)","v":0},{"$f":"SUM('법정동(2013)'!J27)","v":0},{"$f":"SUM('법정동(2013)'!K27)","v":0},{"$f":"SUM('법정동(2013)'!L27)","v":{"v":1767325,"d":"1,767,325.00"}},{"$f":"SUM('법정동(2013)'!M27)","v":209},{"$f":"SUM('법정동(2013)'!N27)","v":0},{"$f":"SUM('법정동(2013)'!O27)","v":0},{"$f":"SUM('법정동(2013)'!P27)","v":0},{"$f":"SUM('법정동(2013)'!Q27)","v":0},{"$f":"SUM('법정동(2013)'!R27)","v":{"v":470726.1,"d":"470,726.10"}},{"$f":"SUM('법정동(2013)'!S27)","v":{"v":1169,"d":"1,169"}},{"$f":"SUM('법정동(2013)'!T27)","v":{"v":1501,"d":"1,501.00"}},{"$f":"SUM('법정동(2013)'!U27)","v":3},{"$f":"SUM('법정동(2013)'!V27)","v":{"v":64631.1,"d":"64,631.10"}},{"$f":"SUM('법정동(2013)'!W27)","v":10},{"$f":"SUM('법정동(2013)'!X27)","v":{"v":5010.8,"d":"5,010.80"}},{"$f":"SUM('법정동(2013)'!Y27)","v":14},{"$f":"SUM('법정동(2013)'!Z27)","v":{"v":1804.2,"d":"1,804.20"}},{"$f":"SUM('법정동(2013)'!AA27)","v":3},{"$f":"SUM('법정동(2013)'!AB27)","v":{"v":177.4,"d":"177.40"}},{"$f":"SUM('법정동(2013)'!AC27)","v":1},{"$f":"SUM('법정동(2013)'!AD27)","v":{"v":284889.4,"d":"284,889.40"}},{"$f":"SUM('법정동(2013)'!AE27)","v":528},{"$f":"SUM('법정동(2013)'!AF27)","v":{"v":53203,"d":"53,203.00"}},{"$f":"SUM('법정동(2013)'!AG27)","v":33},{"$f":"SUM('법정동(2013)'!AH27)","v":0},{"$f":"SUM('법정동(2013)'!AI27)","v":0},{"$f":"SUM('법정동(2013)'!AJ27)","v":{"v":9529.4,"d":"9,529.40"}},{"$f":"SUM('법정동(2013)'!AK27)","v":3},{"$f":"SUM('법정동(2013)'!AL27)","v":{"v":25651,"d":"25,651.00"}},{"$f":"SUM('법정동(2013)'!AM27)","v":50},{"$f":"SUM('법정동(2013)'!AN27)","v":0},{"$f":"SUM('법정동(2013)'!AO27)","v":0},{"$f":"SUM('법정동(2013)'!AP27)","v":0},{"$f":"SUM('법정동(2013)'!AQ27)","v":0},{"$f":"SUM('법정동(2013)'!AR27)","v":{"v":91230.5,"d":"91,230.50"}},{"$f":"SUM('법정동(2013)'!AS27)","v":57},{"$f":"SUM('법정동(2013)'!AT27)","v":{"v":16700.4,"d":"16,700.40"}},{"$f":"SUM('법정동(2013)'!AU27)","v":10},{"$f":"SUM('법정동(2013)'!AV27)","v":0},{"$f":"SUM('법정동(2013)'!AW27)","v":0},{"$f":"SUM('법정동(2013)'!AX27)","v":0},{"$f":"SUM('법정동(2013)'!AY27)","v":0},{"$f":"SUM('법정동(2013)'!AZ27)","v":{"v":8992.4,"d":"8,992.40"}},{"$f":"SUM('법정동(2013)'!BA27)","v":9},{"$f":"SUM('법정동(2013)'!BB27)","v":0},{"$f":"SUM('법정동(2013)'!BC27)","v":0},{"$f":"SUM('법정동(2013)'!BD27)","v":{"v":5712,"d":"5,712.00"}},{"$f":"SUM('법정동(2013)'!BE27)","v":7},{"$f":"SUM('법정동(2013)'!BF27)","v":{"v":42199.2,"d":"42,199.20"}},{"$f":"SUM('법정동(2013)'!BG27)","v":18}]
["둔덕동",{"$f":"SUM('법정동(2013)'!B28)","v":{"v":4076115.1,"d":"4,076,115.1"}},{"$f":"SUM('법정동(2013)'!C28)","v":{"v":2323,"d":"2,323"}},{"$f":"SUM('법정동(2013)'!D28)","v":{"v":178315,"d":"178,315.00"}},{"$f":"SUM('법정동(2013)'!E28)","v":288},{"$f":"SUM('법정동(2013)'!F28)","v":{"v":425547,"d":"425,547.00"}},{"$f":"SUM('법정동(2013)'!G28)","v":481},{"$f":"SUM('법정동(2013)'!H28)","v":0},{"$f":"SUM('법정동(2013)'!I28)","v":0},{"$f":"SUM('법정동(2013)'!J28)","v":0},{"$f":"SUM('법정동(2013)'!K28)","v":0},{"$f":"SUM('법정동(2013)'!L28)","v":{"v":2181263,"d":"2,181,263.00"}},{"$f":"SUM('법정동(2013)'!M28)","v":332},{"$f":"SUM('법정동(2013)'!N28)","v":0},{"$f":"SUM('법정동(2013)'!O28)","v":0},{"$f":"SUM('법정동(2013)'!P28)","v":0},{"$f":"SUM('법정동(2013)'!Q28)","v":0},{"$f":"SUM('법정동(2013)'!R28)","v":{"v":475434.9,"d":"475,434.90"}},{"$f":"SUM('법정동(2013)'!S28)","v":648},{"$f":"SUM('법정동(2013)'!T28)","v":{"v":362,"d":"362.00"}},{"$f":"SUM('법정동(2013)'!U28)","v":1},{"$f":"SUM('법정동(2013)'!V28)","v":{"v":722,"d":"722.00"}},{"$f":"SUM('법정동(2013)'!W28)","v":1},{"$f":"SUM('법정동(2013)'!X28)","v":{"v":2599.7,"d":"2,599.70"}},{"$f":"SUM('법정동(2013)'!Y28)","v":11},{"$f":"SUM('법정동(2013)'!Z28)","v":{"v":10143.9,"d":"10,143.90"}},{"$f":"SUM('법정동(2013)'!AA28)","v":8},{"$f":"SUM('법정동(2013)'!AB28)","v":{"v":6380.7,"d":"6,380.70"}},{"$f":"SUM('법정동(2013)'!AC28)","v":9},{"$f":"SUM('법정동(2013)'!AD28)","v":{"v":383843.6,"d":"383,843.60"}},{"$f":"SUM('법정동(2013)'!AE28)","v":414},{"$f":"SUM('법정동(2013)'!AF28)","v":{"v":22933,"d":"22,933.00"}},{"$f":"SUM('법정동(2013)'!AG28)","v":33},{"$f":"SUM('법정동(2013)'!AH28)","v":0},{"$f":"SUM('법정동(2013)'!AI28)","v":0},{"$f":"SUM('법정동(2013)'!AJ28)","v":{"v":9119.1,"d":"9,119.10"}},{"$f":"SUM('법정동(2013)'!AK28)","v":3},{"$f":"SUM('법정동(2013)'!AL28)","v":{"v":21254,"d":"21,254.00"}},{"$f":"SUM('법정동(2013)'!AM28)","v":11},{"$f":"SUM('법정동(2013)'!AN28)","v":0},{"$f":"SUM('법정동(2013)'!AO28)","v":0},{"$f":"SUM('법정동(2013)'!AP28)","v":0},{"$f":"SUM('법정동(2013)'!AQ28)","v":0},{"$f":"SUM('법정동(2013)'!AR28)","v":{"v":72838,"d":"72,838.00"}},{"$f":"SUM('법정동(2013)'!AS28)","v":4},{"$f":"SUM('법정동(2013)'!AT28)","v":{"v":18073.4,"d":"18,073.40"}},{"$f":"SUM('법정동(2013)'!AU28)","v":8},{"$f":"SUM('법정동(2013)'!AV28)","v":{"v":166279,"d":"166,279.00"}},{"$f":"SUM('법정동(2013)'!AW28)","v":6},{"$f":"SUM('법정동(2013)'!AX28)","v":0},{"$f":"SUM('법정동(2013)'!AY28)","v":0},{"$f":"SUM('법정동(2013)'!AZ28)","v":{"v":14763.3,"d":"14,763.30"}},{"$f":"SUM('법정동(2013)'!BA28)","v":10},{"$f":"SUM('법정동(2013)'!BB28)","v":0},{"$f":"SUM('법정동(2013)'!BC28)","v":0},{"$f":"SUM('법정동(2013)'!BD28)","v":{"v":2675,"d":"2,675.00"}},{"$f":"SUM('법정동(2013)'!BE28)","v":8},{"$f":"SUM('법정동(2013)'!BF28)","v":{"v":83568.5,"d":"83,568.50"}},{"$f":"SUM('법정동(2013)'!BG28)","v":47}]
["만덕동",{"$f":"SUM('법정동(2013)'!B29:B31)","v":{"v":15981076.600000001,"d":"15,981,076.6"}},{"$f":"SUM('법정동(2013)'!C29:C31)","v":{"v":8773,"d":"8,773"}},{"$f":"SUM('법정동(2013)'!D29:D31)","v":{"v":1643378,"d":"1,643,378.00"}},{"$f":"SUM('법정동(2013)'!E29:E31)","v":{"v":2297,"d":"2,297"}},{"$f":"SUM('법정동(2013)'!F29:F31)","v":{"v":931145,"d":"931,145.00"}},{"$f":"SUM('법정동(2013)'!G29:G31)","v":{"v":1162,"d":"1,162"}},{"$f":"SUM('법정동(2013)'!H29:H31)","v":0},{"$f":"SUM('법정동(2013)'!I29:I31)","v":0},{"$f":"SUM('법정동(2013)'!J29:J31)","v":0},{"$f":"SUM('법정동(2013)'!K29:K31)","v":0},{"$f":"SUM('법정동(2013)'!L29:L31)","v":{"v":10619138,"d":"10,619,138.00"}},{"$f":"SUM('법정동(2013)'!M29:M31)","v":{"v":1362,"d":"1,362"}},{"$f":"SUM('법정동(2013)'!N29:N31)","v":0},{"$f":"SUM('법정동(2013)'!O29:O31)","v":0},{"$f":"SUM('법정동(2013)'!P29:P31)","v":0},{"$f":"SUM('법정동(2013)'!Q29:Q31)","v":0},{"$f":"SUM('법정동(2013)'!R29:R31)","v":{"v":787438.2,"d":"787,438.20"}},{"$f":"SUM('법정동(2013)'!S29:S31)","v":{"v":1727,"d":"1,727"}},{"$f":"SUM('법정동(2013)'!T29:T31)","v":{"v":154447.6,"d":"154,447.60"}},{"$f":"SUM('법정동(2013)'!U29:U31)","v":86},{"$f":"SUM('법정동(2013)'!V29:V31)","v":{"v":66845,"d":"66,845.00"}},{"$f":"SUM('법정동(2013)'!W29:W31)","v":8},{"$f":"SUM('법정동(2013)'!X29:X31)","v":{"v":34995.8,"d":"34,995.80"}},{"$f":"SUM('법정동(2013)'!Y29:Y31)","v":9},{"$f":"SUM('법정동(2013)'!Z29:Z31)","v":{"v":1185,"d":"1,185.00"}},{"$f":"SUM('법정동(2013)'!AA29:AA31)","v":3},{"$f":"SUM('법정동(2013)'!AB29:AB31)","v":{"v":4253,"d":"4,253.00"}},{"$f":"SUM('법정동(2013)'!AC29:AC31)","v":10},{"$f":"SUM('법정동(2013)'!AD29:AD31)","v":{"v":735192.3,"d":"735,192.30"}},{"$f":"SUM('법정동(2013)'!AE29:AE31)","v":{"v":1446,"d":"1,446"}},{"$f":"SUM('법정동(2013)'!AF29:AF31)","v":{"v":170872,"d":"170,872.00"}},{"$f":"SUM('법정동(2013)'!AG29:AG31)","v":179},{"$f":"SUM('법정동(2013)'!AH29:AH31)","v":{"v":31710.4,"d":"31,710.40"}},{"$f":"SUM('법정동(2013)'!AI29:AI31)","v":22},{"$f":"SUM('법정동(2013)'!AJ29:AJ31)","v":{"v":19770.9,"d":"19,770.90"}},{"$f":"SUM('법정동(2013)'!AK29:AK31)","v":9},{"$f":"SUM('법정동(2013)'!AL29:AL31)","v":{"v":145709.8,"d":"145,709.80"}},{"$f":"SUM('법정동(2013)'!AM29:AM31)","v":114},{"$f":"SUM('법정동(2013)'!AN29:AN31)","v":{"v":104581,"d":"104,581.00"}},{"$f":"SUM('법정동(2013)'!AO29:AO31)","v":21},{"$f":"SUM('법정동(2013)'!AP29:AP31)","v":0},{"$f":"SUM('법정동(2013)'!AQ29:AQ31)","v":0},{"$f":"SUM('법정동(2013)'!AR29:AR31)","v":{"v":30739.7,"d":"30,739.70"}},{"$f":"SUM('법정동(2013)'!AS29:AS31)","v":69},{"$f":"SUM('법정동(2013)'!AT29:AT31)","v":{"v":128954.6,"d":"128,954.60"}},{"$f":"SUM('법정동(2013)'!AU29:AU31)","v":26},{"$f":"SUM('법정동(2013)'!AV29:AV31)","v":{"v":400,"d":"400.00"}},{"$f":"SUM('법정동(2013)'!AW29:AW31)","v":3},{"$f":"SUM('법정동(2013)'!AX29:AX31)","v":0},{"$f":"SUM('법정동(2013)'!AY29:AY31)","v":0},{"$f":"SUM('법정동(2013)'!AZ29:AZ31)","v":{"v":19884.8,"d":"19,884.80"}},{"$f":"SUM('법정동(2013)'!BA29:BA31)","v":20},{"$f":"SUM('법정동(2013)'!BB29:BB31)","v":0},{"$f":"SUM('법정동(2013)'!BC29:BC31)","v":0},{"$f":"SUM('법정동(2013)'!BD29:BD31)","v":{"v":46059,"d":"46,059.00"}},{"$f":"SUM('법정동(2013)'!BE29:BE31)","v":92},{"$f":"SUM('법정동(2013)'!BF29:BF31)","v":{"v":304376.5,"d":"304,376.50"}},{"$f":"SUM('법정동(2013)'!BG29:BG31)","v":108}]
["쌍봉동",{"$f":"SUM('법정동(2013)'!B33:B36)","v":{"v":7165960.9,"d":"7,165,960.9"}},{"$f":"SUM('법정동(2013)'!C33:C36)","v":{"v":6181,"d":"6,181"}},{"$f":"SUM('법정동(2013)'!D33:D36)","v":{"v":517090,"d":"517,090.00"}},{"$f":"SUM('법정동(2013)'!E33:E36)","v":809},{"$f":"SUM('법정동(2013)'!F33:F36)","v":{"v":375985,"d":"375,985.00"}},{"$f":"SUM('법정동(2013)'!G33:G36)","v":454},{"$f":"SUM('법정동(2013)'!H33:H36)","v":{"v":3826,"d":"3,826.00"}},{"$f":"SUM('법정동(2013)'!I33:I36)","v":4},{"$f":"SUM('법정동(2013)'!J33:J36)","v":0},{"$f":"SUM('법정동(2013)'!K33:K36)","v":0},{"$f":"SUM('법정동(2013)'!L33:L36)","v":{"v":2801197.1999999997,"d":"2,801,197.20"}},{"$f":"SUM('법정동(2013)'!M33:M36)","v":666},{"$f":"SUM('법정동(2013)'!N33:N36)","v":0},{"$f":"SUM('법정동(2013)'!O33:O36)","v":0},{"$f":"SUM('법정동(2013)'!P33:P36)","v":0},{"$f":"SUM('법정동(2013)'!Q33:Q36)","v":0},{"$f":"SUM('법정동(2013)'!R33:R36)","v":{"v":2074729.6,"d":"2,074,729.60"}},{"$f":"SUM('법정동(2013)'!S33:S36)","v":{"v":3225,"d":"3,225"}},{"$f":"SUM('법정동(2013)'!T33:T36)","v":{"v":12954,"d":"12,954.00"}},{"$f":"SUM('법정동(2013)'!U33:U36)","v":11},{"$f":"SUM('법정동(2013)'!V33:V36)","v":{"v":93344.5,"d":"93,344.50"}},{"$f":"SUM('법정동(2013)'!W33:W36)","v":9},{"$f":"SUM('법정동(2013)'!X33:X36)","v":{"v":26598,"d":"26,598.00"}},{"$f":"SUM('법정동(2013)'!Y33:Y36)","v":33},{"$f":"SUM('법정동(2013)'!Z33:Z36)","v":{"v":7604.2,"d":"7,604.20"}},{"$f":"SUM('법정동(2013)'!AA33:AA36)","v":10},{"$f":"SUM('법정동(2013)'!AB33:AB36)","v":{"v":3142,"d":"3,142.00"}},{"$f":"SUM('법정동(2013)'!AC33:AC36)","v":4},{"$f":"SUM('법정동(2013)'!AD33:AD36)","v":{"v":803094.1,"d":"803,094.10"}},{"$f":"SUM('법정동(2013)'!AE33:AE36)","v":668},{"$f":"SUM('법정동(2013)'!AF33:AF36)","v":{"v":73480,"d":"73,480.00"}},{"$f":"SUM('법정동(2013)'!AG33:AG36)","v":71},{"$f":"SUM('법정동(2013)'!AH33:AH36)","v":{"v":7082.200000000001,"d":"7,082.20"}},{"$f":"SUM('법정동(2013)'!AI33:AI36)","v":7},{"$f":"SUM('법정동(2013)'!AJ33:AJ36)","v":{"v":6362,"d":"6,362.00"}},{"$f":"SUM('법정동(2013)'!AK33:AK36)","v":16},{"$f":"SUM('법정동(2013)'!AL33:AL36)","v":{"v":26441.5,"d":"26,441.50"}},{"$f":"SUM('법정동(2013)'!AM33:AM36)","v":38},{"$f":"SUM('법정동(2013)'!AN33:AN36)","v":{"v":11688.5,"d":"11,688.50"}},{"$f":"SUM('법정동(2013)'!AO33:AO36)","v":4},{"$f":"SUM('법정동(2013)'!AP33:AP36)","v":0},{"$f":"SUM('법정동(2013)'!AQ33:AQ36)","v":0},{"$f":"SUM('법정동(2013)'!AR33:AR36)","v":{"v":20058,"d":"20,058.00"}},{"$f":"SUM('법정동(2013)'!AS33:AS36)","v":3},{"$f":"SUM('법정동(2013)'!AT33:AT36)","v":{"v":147893.9,"d":"147,893.90"}},{"$f":"SUM('법정동(2013)'!AU33:AU36)","v":24},{"$f":"SUM('법정동(2013)'!AV33:AV36)","v":{"v":10945.6,"d":"10,945.60"}},{"$f":"SUM('법정동(2013)'!AW33:AW36)","v":1},{"$f":"SUM('법정동(2013)'!AX33:AX36)","v":{"v":49654.3,"d":"49,654.30"}},{"$f":"SUM('법정동(2013)'!AY33:AY36)","v":2},{"$f":"SUM('법정동(2013)'!AZ33:AZ36)","v":{"v":22115.1,"d":"22,115.10"}},{"$f":"SUM('법정동(2013)'!BA33:BA36)","v":19},{"$f":"SUM('법정동(2013)'!BB33:BB36)","v":0},{"$f":"SUM('법정동(2013)'!BC33:BC36)","v":0},{"$f":"SUM('법정동(2013)'!BD33:BD36)","v":{"v":33381,"d":"33,381.00"}},{"$f":"SUM('법정동(2013)'!BE33:BE36)","v":56},{"$f":"SUM('법정동(2013)'!BF33:BF36)","v":{"v":37294.200000000004,"d":"37,294.20"}},{"$f":"SUM('법정동(2013)'!BG33:BG36)","v":47}]
["시전동",{"$f":"SUM('법정동(2013)'!B37:B39)","v":{"v":6258315.800000001,"d":"6,258,315.8"}},{"$f":"SUM('법정동(2013)'!C37:C39)","v":{"v":6293,"d":"6,293"}},{"$f":"SUM('법정동(2013)'!D37:D39)","v":{"v":1072585,"d":"1,072,585.00"}},{"$f":"SUM('법정동(2013)'!E37:E39)","v":{"v":1347,"d":"1,347"}},{"$f":"SUM('법정동(2013)'!F37:F39)","v":{"v":476672,"d":"476,672.00"}},{"$f":"SUM('법정동(2013)'!G37:G39)","v":746},{"$f":"SUM('법정동(2013)'!H37:H39)","v":{"v":4119,"d":"4,119.00"}},{"$f":"SUM('법정동(2013)'!I37:I39)","v":4},{"$f":"SUM('법정동(2013)'!J37:J39)","v":0},{"$f":"SUM('법정동(2013)'!K37:K39)","v":0},{"$f":"SUM('법정동(2013)'!L37:L39)","v":{"v":2419871.6,"d":"2,419,871.60"}},{"$f":"SUM('법정동(2013)'!M37:M39)","v":954},{"$f":"SUM('법정동(2013)'!N37:N39)","v":0},{"$f":"SUM('법정동(2013)'!O37:O39)","v":0},{"$f":"SUM('법정동(2013)'!P37:P39)","v":0},{"$f":"SUM('법정동(2013)'!Q37:Q39)","v":0},{"$f":"SUM('법정동(2013)'!R37:R39)","v":{"v":1084796.7000000002,"d":"1,084,796.70"}},{"$f":"SUM('법정동(2013)'!S37:S39)","v":{"v":2304,"d":"2,304"}},{"$f":"SUM('법정동(2013)'!T37:T39)","v":0},{"$f":"SUM('법정동(2013)'!U37:U39)","v":0},{"$f":"SUM('법정동(2013)'!V37:V39)","v":{"v":64545,"d":"64,545.00"}},{"$f":"SUM('법정동(2013)'!W37:W39)","v":4},{"$f":"SUM('법정동(2013)'!X37:X39)","v":{"v":24849.3,"d":"24,849.30"}},{"$f":"SUM('법정동(2013)'!Y37:Y39)","v":20},{"$f":"SUM('법정동(2013)'!Z37:Z39)","v":{"v":4565.2,"d":"4,565.20"}},{"$f":"SUM('법정동(2013)'!AA37:AA39)","v":5},{"$f":"SUM('법정동(2013)'!AB37:AB39)","v":{"v":350,"d":"350.00"}},{"$f":"SUM('법정동(2013)'!AC37:AC39)","v":1},{"$f":"SUM('법정동(2013)'!AD37:AD39)","v":{"v":585185.3,"d":"585,185.30"}},{"$f":"SUM('법정동(2013)'!AE37:AE39)","v":694},{"$f":"SUM('법정동(2013)'!AF37:AF39)","v":0},{"$f":"SUM('법정동(2013)'!AG37:AG39)","v":0},{"$f":"SUM('법정동(2013)'!AH37:AH39)","v":{"v":1881.6,"d":"1,881.60"}},{"$f":"SUM('법정동(2013)'!AI37:AI39)","v":6},{"$f":"SUM('법정동(2013)'!AJ37:AJ39)","v":{"v":555,"d":"555.00"}},{"$f":"SUM('법정동(2013)'!AK37:AK39)","v":4},{"$f":"SUM('법정동(2013)'!AL37:AL39)","v":{"v":48909,"d":"48,909.00"}},{"$f":"SUM('법정동(2013)'!AM37:AM39)","v":39},{"$f":"SUM('법정동(2013)'!AN37:AN39)","v":{"v":22484,"d":"22,484.00"}},{"$f":"SUM('법정동(2013)'!AO37:AO39)","v":30},{"$f":"SUM('법정동(2013)'!AP37:AP39)","v":0},{"$f":"SUM('법정동(2013)'!AQ37:AQ39)","v":0},{"$f":"SUM('법정동(2013)'!AR37:AR39)","v":{"v":3742.1,"d":"3,742.10"}},{"$f":"SUM('법정동(2013)'!AS37:AS39)","v":13},{"$f":"SUM('법정동(2013)'!AT37:AT39)","v":{"v":175196.1,"d":"175,196.10"}},{"$f":"SUM('법정동(2013)'!AU37:AU39)","v":40},{"$f":"SUM('법정동(2013)'!AV37:AV39)","v":{"v":157345,"d":"157,345.00"}},{"$f":"SUM('법정동(2013)'!AW37:AW39)","v":4},{"$f":"SUM('법정동(2013)'!AX37:AX39)","v":0},{"$f":"SUM('법정동(2013)'!AY37:AY39)","v":0},{"$f":"SUM('법정동(2013)'!AZ37:AZ39)","v":{"v":20483.7,"d":"20,483.70"}},{"$f":"SUM('법정동(2013)'!BA37:BA39)","v":10},{"$f":"SUM('법정동(2013)'!BB37:BB39)","v":0},{"$f":"SUM('법정동(2013)'!BC37:BC39)","v":0},{"$f":"SUM('법정동(2013)'!BD37:BD39)","v":{"v":24368,"d":"24,368.00"}},{"$f":"SUM('법정동(2013)'!BE37:BE39)","v":51},{"$f":"SUM('법정동(2013)'!BF37:BF39)","v":{"v":65812.2,"d":"65,812.20"}},{"$f":"SUM('법정동(2013)'!BG37:BG39)","v":17}]
["여천동",{"$f":"SUM('법정동(2013)'!B40:B42)","v":{"v":7531089.6,"d":"7,531,089.6"}},{"$f":"SUM('법정동(2013)'!C40:C42)","v":{"v":7427,"d":"7,427"}},{"$f":"SUM('법정동(2013)'!D40:D42)","v":{"v":813624,"d":"813,624.00"}},{"$f":"SUM('법정동(2013)'!E40:E42)","v":995},{"$f":"SUM('법정동(2013)'!F40:F42)","v":{"v":1248736,"d":"1,248,736.00"}},{"$f":"SUM('법정동(2013)'!G40:G42)","v":{"v":1341,"d":"1,341"}},{"$f":"SUM('법정동(2013)'!H40:H42)","v":{"v":17444,"d":"17,444.00"}},{"$f":"SUM('법정동(2013)'!I40:I42)","v":5},{"$f":"SUM('법정동(2013)'!J40:J42)","v":{"v":3663,"d":"3,663.00"}},{"$f":"SUM('법정동(2013)'!K40:K42)","v":6},{"$f":"SUM('법정동(2013)'!L40:L42)","v":{"v":2471977.5,"d":"2,471,977.50"}},{"$f":"SUM('법정동(2013)'!M40:M42)","v":605},{"$f":"SUM('법정동(2013)'!N40:N42)","v":0},{"$f":"SUM('법정동(2013)'!O40:O42)","v":0},{"$f":"SUM('법정동(2013)'!P40:P42)","v":0},{"$f":"SUM('법정동(2013)'!Q40:Q42)","v":0},{"$f":"SUM('법정동(2013)'!R40:R42)","v":{"v":1318649.7999999998,"d":"1,318,649.80"}},{"$f":"SUM('법정동(2013)'!S40:S42)","v":{"v":3184,"d":"3,184"}},{"$f":"SUM('법정동(2013)'!T40:T42)","v":{"v":5246,"d":"5,246.00"}},{"$f":"SUM('법정동(2013)'!U40:U42)","v":3},{"$f":"SUM('법정동(2013)'!V40:V42)","v":{"v":162547.4,"d":"162,547.40"}},{"$f":"SUM('법정동(2013)'!W40:W42)","v":8},{"$f":"SUM('법정동(2013)'!X40:X42)","v":{"v":41189.899999999994,"d":"41,189.90"}},{"$f":"SUM('법정동(2013)'!Y40:Y42)","v":48},{"$f":"SUM('법정동(2013)'!Z40:Z42)","v":{"v":14597.8,"d":"14,597.80"}},{"$f":"SUM('법정동(2013)'!AA40:AA42)","v":19},{"$f":"SUM('법정동(2013)'!AB40:AB42)","v":{"v":15394,"d":"15,394.00"}},{"$f":"SUM('법정동(2013)'!AC40:AC42)","v":18},{"$f":"SUM('법정동(2013)'!AD40:AD42)","v":{"v":865274.4,"d":"865,274.40"}},{"$f":"SUM('법정동(2013)'!AE40:AE42)","v":790},{"$f":"SUM('법정동(2013)'!AF40:AF42)","v":{"v":74938,"d":"74,938.00"}},{"$f":"SUM('법정동(2013)'!AG40:AG42)","v":55},{"$f":"SUM('법정동(2013)'!AH40:AH42)","v":0},{"$f":"SUM('법정동(2013)'!AI40:AI42)","v":0},{"$f":"SUM('법정동(2013)'!AJ40:AJ42)","v":{"v":87631,"d":"87,631.00"}},{"$f":"SUM('법정동(2013)'!AK40:AK42)","v":53},{"$f":"SUM('법정동(2013)'!AL40:AL42)","v":{"v":89829.90000000001,"d":"89,829.90"}},{"$f":"SUM('법정동(2013)'!AM40:AM42)","v":164},{"$f":"SUM('법정동(2013)'!AN40:AN42)","v":{"v":23888,"d":"23,888.00"}},{"$f":"SUM('법정동(2013)'!AO40:AO42)","v":17},{"$f":"SUM('법정동(2013)'!AP40:AP42)","v":{"v":1016,"d":"1,016.00"}},{"$f":"SUM('법정동(2013)'!AQ40:AQ42)","v":1},{"$f":"SUM('법정동(2013)'!AR40:AR42)","v":{"v":32581,"d":"32,581.00"}},{"$f":"SUM('법정동(2013)'!AS40:AS42)","v":13},{"$f":"SUM('법정동(2013)'!AT40:AT42)","v":{"v":176307.4,"d":"176,307.40"}},{"$f":"SUM('법정동(2013)'!AU40:AU42)","v":27},{"$f":"SUM('법정동(2013)'!AV40:AV42)","v":0},{"$f":"SUM('법정동(2013)'!AW40:AW42)","v":0},{"$f":"SUM('법정동(2013)'!AX40:AX42)","v":0},{"$f":"SUM('법정동(2013)'!AY40:AY42)","v":0},{"$f":"SUM('법정동(2013)'!AZ40:AZ42)","v":{"v":20634.4,"d":"20,634.40"}},{"$f":"SUM('법정동(2013)'!BA40:BA42)","v":14},{"$f":"SUM('법정동(2013)'!BB40:BB42)","v":{"v":6450,"d":"6,450.00"}},{"$f":"SUM('법정동(2013)'!BC40:BC42)","v":2},{"$f":"SUM('법정동(2013)'!BD40:BD42)","v":{"v":14863,"d":"14,863.00"}},{"$f":"SUM('법정동(2013)'!BE40:BE42)","v":28},{"$f":"SUM('법정동(2013)'!BF40:BF42)","v":{"v":24607.1,"d":"24,607.10"}},{"$f":"SUM('법정동(2013)'!BG40:BG42)","v":31}]
["주삼동",{"$f":"SUM('법정동(2013)'!B43:B45)","v":{"v":11528111.4,"d":"11,528,111.4"}},{"$f":"SUM('법정동(2013)'!C43:C45)","v":{"v":8553,"d":"8,553"}},{"$f":"SUM('법정동(2013)'!D43:D45)","v":{"v":1079574,"d":"1,079,574.00"}},{"$f":"SUM('법정동(2013)'!E43:E45)","v":{"v":1392,"d":"1,392"}},{"$f":"SUM('법정동(2013)'!F43:F45)","v":{"v":2045940.4,"d":"2,045,940.40"}},{"$f":"SUM('법정동(2013)'!G43:G45)","v":{"v":2100,"d":"2,100"}},{"$f":"SUM('법정동(2013)'!H43:H45)","v":{"v":3307,"d":"3,307.00"}},{"$f":"SUM('법정동(2013)'!I43:I45)","v":1},{"$f":"SUM('법정동(2013)'!J43:J45)","v":{"v":6533,"d":"6,533.00"}},{"$f":"SUM('법정동(2013)'!K43:K45)","v":10},{"$f":"SUM('법정동(2013)'!L43:L45)","v":{"v":5479807,"d":"5,479,807.00"}},{"$f":"SUM('법정동(2013)'!M43:M45)","v":{"v":1111,"d":"1,111"}},{"$f":"SUM('법정동(2013)'!N43:N45)","v":0},{"$f":"SUM('법정동(2013)'!O43:O45)","v":0},{"$f":"SUM('법정동(2013)'!P43:P45)","v":0},{"$f":"SUM('법정동(2013)'!Q43:Q45)","v":0},{"$f":"SUM('법정동(2013)'!R43:R45)","v":{"v":570821.7,"d":"570,821.70"}},{"$f":"SUM('법정동(2013)'!S43:S45)","v":994},{"$f":"SUM('법정동(2013)'!T43:T45)","v":{"v":130477,"d":"130,477.00"}},{"$f":"SUM('법정동(2013)'!U43:U45)","v":49},{"$f":"SUM('법정동(2013)'!V43:V45)","v":{"v":84875,"d":"84,875.00"}},{"$f":"SUM('법정동(2013)'!W43:W45)","v":3},{"$f":"SUM('법정동(2013)'!X43:X45)","v":{"v":26336,"d":"26,336.00"}},{"$f":"SUM('법정동(2013)'!Y43:Y45)","v":17},{"$f":"SUM('법정동(2013)'!Z43:Z45)","v":{"v":27090,"d":"27,090.00"}},{"$f":"SUM('법정동(2013)'!AA43:AA45)","v":27},{"$f":"SUM('법정동(2013)'!AB43:AB45)","v":{"v":15803,"d":"15,803.00"}},{"$f":"SUM('법정동(2013)'!AC43:AC45)","v":26},{"$f":"SUM('법정동(2013)'!AD43:AD45)","v":{"v":916169.5,"d":"916,169.50"}},{"$f":"SUM('법정동(2013)'!AE43:AE45)","v":{"v":2219,"d":"2,219"}},{"$f":"SUM('법정동(2013)'!AF43:AF45)","v":{"v":60329.2,"d":"60,329.20"}},{"$f":"SUM('법정동(2013)'!AG43:AG45)","v":78},{"$f":"SUM('법정동(2013)'!AH43:AH45)","v":{"v":9201,"d":"9,201.00"}},{"$f":"SUM('법정동(2013)'!AI43:AI45)","v":11},{"$f":"SUM('법정동(2013)'!AJ43:AJ45)","v":{"v":109024,"d":"109,024.00"}},{"$f":"SUM('법정동(2013)'!AK43:AK45)","v":58},{"$f":"SUM('법정동(2013)'!AL43:AL45)","v":{"v":201840,"d":"201,840.00"}},{"$f":"SUM('법정동(2013)'!AM43:AM45)","v":231},{"$f":"SUM('법정동(2013)'!AN43:AN45)","v":{"v":119944,"d":"119,944.00"}},{"$f":"SUM('법정동(2013)'!AO43:AO45)","v":58},{"$f":"SUM('법정동(2013)'!AP43:AP45)","v":0},{"$f":"SUM('법정동(2013)'!AQ43:AQ45)","v":0},{"$f":"SUM('법정동(2013)'!AR43:AR45)","v":{"v":3567,"d":"3,567.00"}},{"$f":"SUM('법정동(2013)'!AS43:AS45)","v":7},{"$f":"SUM('법정동(2013)'!AT43:AT45)","v":0},{"$f":"SUM('법정동(2013)'!AU43:AU45)","v":0},{"$f":"SUM('법정동(2013)'!AV43:AV45)","v":{"v":514788,"d":"514,788.00"}},{"$f":"SUM('법정동(2013)'!AW43:AW45)","v":2},{"$f":"SUM('법정동(2013)'!AX43:AX45)","v":0},{"$f":"SUM('법정동(2013)'!AY43:AY45)","v":0},{"$f":"SUM('법정동(2013)'!AZ43:AZ45)","v":{"v":9549,"d":"9,549.00"}},{"$f":"SUM('법정동(2013)'!BA43:BA45)","v":7},{"$f":"SUM('법정동(2013)'!BB43:BB45)","v":0},{"$f":"SUM('법정동(2013)'!BC43:BC45)","v":0},{"$f":"SUM('법정동(2013)'!BD43:BD45)","v":{"v":11926,"d":"11,926.00"}},{"$f":"SUM('법정동(2013)'!BE43:BE45)","v":18},{"$f":"SUM('법정동(2013)'!BF43:BF45)","v":{"v":101209.6,"d":"101,209.60"}},{"$f":"SUM('법정동(2013)'!BG43:BG45)","v":134}]
["삼일동",{"$f":"SUM('법정동(2013)'!B46:B51,'법정동(2013)'!B53:B56)","v":{"v":68211778.8,"d":"68,211,778.8"}},{"$f":"SUM('법정동(2013)'!C46:C51,'법정동(2013)'!C53:C56)","v":{"v":19185,"d":"19,185"}},{"$f":"SUM('법정동(2013)'!D46:D51,'법정동(2013)'!D53:D56)","v":{"v":2845900,"d":"2,845,900.00"}},{"$f":"SUM('법정동(2013)'!E46:E51,'법정동(2013)'!E53:E56)","v":{"v":3457,"d":"3,457"}},{"$f":"SUM('법정동(2013)'!F46:F51,'법정동(2013)'!F53:F56)","v":{"v":3188639.5,"d":"3,188,639.50"}},{"$f":"SUM('법정동(2013)'!G46:G51,'법정동(2013)'!G53:G56)","v":{"v":3535,"d":"3,535"}},{"$f":"SUM('법정동(2013)'!H46:H51,'법정동(2013)'!H53:H56)","v":{"v":36339,"d":"36,339.00"}},{"$f":"SUM('법정동(2013)'!I46:I51,'법정동(2013)'!I53:I56)","v":14},{"$f":"SUM('법정동(2013)'!J46:J51,'법정동(2013)'!J53:J56)","v":{"v":7471,"d":"7,471.00"}},{"$f":"SUM('법정동(2013)'!K46:K51,'법정동(2013)'!K53:K56)","v":5},{"$f":"SUM('법정동(2013)'!L46:L51,'법정동(2013)'!L53:L56)","v":{"v":38751444.699999996,"d":"38,751,444.70"}},{"$f":"SUM('법정동(2013)'!M46:M51,'법정동(2013)'!M53:M56)","v":{"v":3521,"d":"3,521"}},{"$f":"SUM('법정동(2013)'!N46:N51,'법정동(2013)'!N53:N56)","v":0},{"$f":"SUM('법정동(2013)'!O46:O51,'법정동(2013)'!O53:O56)","v":0},{"$f":"SUM('법정동(2013)'!P46:P51,'법정동(2013)'!P53:P56)","v":0},{"$f":"SUM('법정동(2013)'!Q46:Q51,'법정동(2013)'!Q53:Q56)","v":0},{"$f":"SUM('법정동(2013)'!R46:R51,'법정동(2013)'!R53:R56)","v":{"v":1368733.5,"d":"1,368,733.50"}},{"$f":"SUM('법정동(2013)'!S46:S51,'법정동(2013)'!S53:S56)","v":{"v":2110,"d":"2,110"}},{"$f":"SUM('법정동(2013)'!T46:T51,'법정동(2013)'!T53:T56)","v":{"v":14036200.9,"d":"14,036,200.90"}},{"$f":"SUM('법정동(2013)'!U46:U51,'법정동(2013)'!U53:U56)","v":709},{"$f":"SUM('법정동(2013)'!V46:V51,'법정동(2013)'!V53:V56)","v":{"v":62608,"d":"62,608.00"}},{"$f":"SUM('법정동(2013)'!W46:W51,'법정동(2013)'!W53:W56)","v":12},{"$f":"SUM('법정동(2013)'!X46:X51,'법정동(2013)'!X53:X56)","v":{"v":17007.7,"d":"17,007.70"}},{"$f":"SUM('법정동(2013)'!Y46:Y51,'법정동(2013)'!Y53:Y56)","v":15},{"$f":"SUM('법정동(2013)'!Z46:Z51,'법정동(2013)'!Z53:Z56)","v":{"v":344105.9,"d":"344,105.90"}},{"$f":"SUM('법정동(2013)'!AA46:AA51,'법정동(2013)'!AA53:AA56)","v":48},{"$f":"SUM('법정동(2013)'!AB46:AB51,'법정동(2013)'!AB53:AB56)","v":{"v":23822.4,"d":"23,822.40"}},{"$f":"SUM('법정동(2013)'!AC46:AC51,'법정동(2013)'!AC53:AC56)","v":12},{"$f":"SUM('법정동(2013)'!AD46:AD51,'법정동(2013)'!AD53:AD56)","v":{"v":2655946.6,"d":"2,655,946.60"}},{"$f":"SUM('법정동(2013)'!AE46:AE51,'법정동(2013)'!AE53:AE56)","v":{"v":3730,"d":"3,730"}},{"$f":"SUM('법정동(2013)'!AF46:AF51,'법정동(2013)'!AF53:AF56)","v":{"v":275568,"d":"275,568.00"}},{"$f":"SUM('법정동(2013)'!AG46:AG51,'법정동(2013)'!AG53:AG56)","v":191},{"$f":"SUM('법정동(2013)'!AH46:AH51,'법정동(2013)'!AH53:AH56)","v":{"v":108327.5,"d":"108,327.50"}},{"$f":"SUM('법정동(2013)'!AI46:AI51,'법정동(2013)'!AI53:AI56)","v":67},{"$f":"SUM('법정동(2013)'!AJ46:AJ51,'법정동(2013)'!AJ53:AJ56)","v":{"v":902431,"d":"902,431.00"}},{"$f":"SUM('법정동(2013)'!AK46:AK51,'법정동(2013)'!AK53:AK56)","v":327},{"$f":"SUM('법정동(2013)'!AL46:AL51,'법정동(2013)'!AL53:AL56)","v":{"v":332308.4,"d":"332,308.40"}},{"$f":"SUM('법정동(2013)'!AM46:AM51,'법정동(2013)'!AM53:AM56)","v":351},{"$f":"SUM('법정동(2013)'!AN46:AN51,'법정동(2013)'!AN53:AN56)","v":{"v":201243,"d":"201,243.00"}},{"$f":"SUM('법정동(2013)'!AO46:AO51,'법정동(2013)'!AO53:AO56)","v":187},{"$f":"SUM('법정동(2013)'!AP46:AP51,'법정동(2013)'!AP53:AP56)","v":0},{"$f":"SUM('법정동(2013)'!AQ46:AQ51,'법정동(2013)'!AQ53:AQ56)","v":0},{"$f":"SUM('법정동(2013)'!AR46:AR51,'법정동(2013)'!AR53:AR56)","v":{"v":65088.7,"d":"65,088.70"}},{"$f":"SUM('법정동(2013)'!AS46:AS51,'법정동(2013)'!AS53:AS56)","v":28},{"$f":"SUM('법정동(2013)'!AT46:AT51,'법정동(2013)'!AT53:AT56)","v":{"v":9450.7,"d":"9,450.70"}},{"$f":"SUM('법정동(2013)'!AU46:AU51,'법정동(2013)'!AU53:AU56)","v":5},{"$f":"SUM('법정동(2013)'!AV46:AV51,'법정동(2013)'!AV53:AV56)","v":{"v":1544,"d":"1,544.00"}},{"$f":"SUM('법정동(2013)'!AW46:AW51,'법정동(2013)'!AW53:AW56)","v":2},{"$f":"SUM('법정동(2013)'!AX46:AX51,'법정동(2013)'!AX53:AX56)","v":0},{"$f":"SUM('법정동(2013)'!AY46:AY51,'법정동(2013)'!AY53:AY56)","v":0},{"$f":"SUM('법정동(2013)'!AZ46:AZ51,'법정동(2013)'!AZ53:AZ56)","v":{"v":37095,"d":"37,095.00"}},{"$f":"SUM('법정동(2013)'!BA46:BA51,'법정동(2013)'!BA53:BA56)","v":29},{"$f":"SUM('법정동(2013)'!BB46:BB51,'법정동(2013)'!BB53:BB56)","v":0},{"$f":"SUM('법정동(2013)'!BC46:BC51,'법정동(2013)'!BC53:BC56)","v":0},{"$f":"SUM('법정동(2013)'!BD46:BD51,'법정동(2013)'!BD53:BD56)","v":{"v":86698,"d":"86,698.00"}},{"$f":"SUM('법정동(2013)'!BE46:BE51,'법정동(2013)'!BE53:BE56)","v":108},{"$f":"SUM('법정동(2013)'!BF46:BF51,'법정동(2013)'!BF53:BF56)","v":{"v":2853805.3000000003,"d":"2,853,805.30"}},{"$f":"SUM('법정동(2013)'!BG46:BG51,'법정동(2013)'!BG53:BG56)","v":722}]
["묘도동",{"$f":"SUM('법정동(2013)'!B52)","v":{"v":11515440.6,"d":"11,515,440.6"}},{"$f":"SUM('법정동(2013)'!C52)","v":{"v":5824,"d":"5,824"}},{"$f":"SUM('법정동(2013)'!D52)","v":{"v":1323015,"d":"1,323,015.00"}},{"$f":"SUM('법정동(2013)'!E52)","v":{"v":1328,"d":"1,328"}},{"$f":"SUM('법정동(2013)'!F52)","v":{"v":935425,"d":"935,425.00"}},{"$f":"SUM('법정동(2013)'!G52)","v":{"v":1081,"d":"1,081"}},{"$f":"SUM('법정동(2013)'!H52)","v":{"v":3155,"d":"3,155.00"}},{"$f":"SUM('법정동(2013)'!I52)","v":3},{"$f":"SUM('법정동(2013)'!J52)","v":{"v":1592,"d":"1,592.00"}},{"$f":"SUM('법정동(2013)'!K52)","v":4},{"$f":"SUM('법정동(2013)'!L52)","v":{"v":5653600,"d":"5,653,600.00"}},{"$f":"SUM('법정동(2013)'!M52)","v":{"v":1680,"d":"1,680"}},{"$f":"SUM('법정동(2013)'!N52)","v":0},{"$f":"SUM('법정동(2013)'!O52)","v":0},{"$f":"SUM('법정동(2013)'!P52)","v":0},{"$f":"SUM('법정동(2013)'!Q52)","v":0},{"$f":"SUM('법정동(2013)'!R52)","v":{"v":180663,"d":"180,663.00"}},{"$f":"SUM('법정동(2013)'!S52)","v":663},{"$f":"SUM('법정동(2013)'!T52)","v":0},{"$f":"SUM('법정동(2013)'!U52)","v":0},{"$f":"SUM('법정동(2013)'!V52)","v":{"v":18801,"d":"18,801.00"}},{"$f":"SUM('법정동(2013)'!W52)","v":4},{"$f":"SUM('법정동(2013)'!X52)","v":{"v":28,"d":"28.00"}},{"$f":"SUM('법정동(2013)'!Y52)","v":1},{"$f":"SUM('법정동(2013)'!Z52)","v":{"v":589,"d":"589.00"}},{"$f":"SUM('법정동(2013)'!AA52)","v":1},{"$f":"SUM('법정동(2013)'!AB52)","v":{"v":3651,"d":"3,651.00"}},{"$f":"SUM('법정동(2013)'!AC52)","v":6},{"$f":"SUM('법정동(2013)'!AD52)","v":{"v":137561,"d":"137,561.00"}},{"$f":"SUM('법정동(2013)'!AE52)","v":895},{"$f":"SUM('법정동(2013)'!AF52)","v":0},{"$f":"SUM('법정동(2013)'!AG52)","v":0},{"$f":"SUM('법정동(2013)'!AH52)","v":{"v":113398.6,"d":"113,398.60"}},{"$f":"SUM('법정동(2013)'!AI52)","v":13},{"$f":"SUM('법정동(2013)'!AJ52)","v":{"v":15454,"d":"15,454.00"}},{"$f":"SUM('법정동(2013)'!AK52)","v":2},{"$f":"SUM('법정동(2013)'!AL52)","v":{"v":63958,"d":"63,958.00"}},{"$f":"SUM('법정동(2013)'!AM52)","v":27},{"$f":"SUM('법정동(2013)'!AN52)","v":{"v":22036,"d":"22,036.00"}},{"$f":"SUM('법정동(2013)'!AO52)","v":27},{"$f":"SUM('법정동(2013)'!AP52)","v":0},{"$f":"SUM('법정동(2013)'!AQ52)","v":0},{"$f":"SUM('법정동(2013)'!AR52)","v":0},{"$f":"SUM('법정동(2013)'!AS52)","v":0},{"$f":"SUM('법정동(2013)'!AT52)","v":0},{"$f":"SUM('법정동(2013)'!AU52)","v":0},{"$f":"SUM('법정동(2013)'!AV52)","v":0},{"$f":"SUM('법정동(2013)'!AW52)","v":0},{"$f":"SUM('법정동(2013)'!AX52)","v":0},{"$f":"SUM('법정동(2013)'!AY52)","v":0},{"$f":"SUM('법정동(2013)'!AZ52)","v":{"v":3681,"d":"3,681.00"}},{"$f":"SUM('법정동(2013)'!BA52)","v":2},{"$f":"SUM('법정동(2013)'!BB52)","v":0},{"$f":"SUM('법정동(2013)'!BC52)","v":0},{"$f":"SUM('법정동(2013)'!BD52)","v":{"v":29108,"d":"29,108.00"}},{"$f":"SUM('법정동(2013)'!BE52)","v":39},{"$f":"SUM('법정동(2013)'!BF52)","v":{"v":3009725,"d":"3,009,725.00"}},{"$f":"SUM('법정동(2013)'!BG52)","v":48}]

{"sheet":"법정동(2012)","index":2,"n_rows":121,"n_cols":59,"rows_kept":121,"merged":[[4,0,5,0],[4,1,4,2],[4,3,4,4],[4,5,4,6],[4,7,4,8],[4,9,4,10],[4,11,4,12],[4,13,4,14],[4,15,4,16],[4,17,4,18],[4,19,4,20],[4,21,4,22],[4,23,4,24],[4,27,4,28],[4,29,4,30],[4,31,4,32],[4,33,4,34],[4,35,4,36],[4,37,4,38],[4,39,4,40],[4,41,4,42],[4,43,4,44],[4,45,4,46],[4,47,4,48],[4,49,4,50],[4,51,4,52],[4,53,4,54],[4,55,4,56],[4,57,4,58]]}
["여수시 지적통계 현황"]
[]
["기준일자 : 2013. 6. 30."]
["단위: 필지,㎡"]
["구    분","계",null,"전",null,"답",null,"과수원",null,"목장용지",null,"임야",null,"광천지",null,"염전",null,"대",null,"공장용지",null,"학교용지",null,"주차장",null,"주유소용지",null,"창고용지",null,"도로",null,"철도용지",null,"제방",null,"하천",null,"구거",null,"유지",null,"양어장",null,"수도용지",null,"공원",null,"체육용지",null,"유원지",null,"종교용지",null,"사적지",null,"묘지",null,"잡종지"]
[null,"면  적","지번수","면  적","지번수","면  적","지번수","면  적","지번수","면  적","지번수","면  적","지번수","면  적","지번수","면  적","지번수","면  적","지번수","면  적","지번수","면  적","지번수","면  적","지번수","면  적","지번수","면  적","지번수","면  적","지번수","면  적","지번수","면  적","지번수","면  적","지번수","면  적","지번수","면  적","지번수","면  적","지번수","면  적","지번수","면  적","지번수","면  적","지번수","면  적","지번수","면  적","지번수","면  적","지번수","면  적","지번수","면  적","지번수"]
["합  계",{"v":503831583.2,"d":"503,831,583.2"},{"v":310879,"d":"310,879"},{"v":67411592.9,"d":"67,411,592.9"},{"v":75588,"d":"75,588"},{"v":42166086.5,"d":"42,166,086.5"},{"v":46957,"d":"46,957"},{"v":561624,"d":"561,624.0"},199,{"v":1855900,"d":"1,855,900.0"},512,{"v":307268635.4,"d":"307,268,635.4"},{"v":54497,"d":"54,497"},0,0,{"v":10562,"d":"10,562.0"},6,{"v":21341498.2,"d":"21,341,498.2"},{"v":66617,"d":"66,617"},{"v":15504955.6,"d":"15,504,955.6"},{"v":1146,"d":"1,146"},{"v":2013132,"d":"2,013,132.0"},388,{"v":254052.9,"d":"254,052.9"},361,{"v":355598.9,"d":"355,598.9"},237,{"v":251909.9,"d":"251,909.9"},381,{"v":18133951.3,"d":"18,133,951.3"},{"v":47462,"d":"47,462"},{"v":1237045.2,"d":"1,237,045.2"},999,{"v":684443.2,"d":"684,443.2"},795,{"v":2413103.1,"d":"2,413,103.1"},940,{"v":4627161.3,"d":"4,627,161.3"},{"v":4730,"d":"4,730"},{"v":2923010.9,"d":"2,923,010.9"},{"v":1445,"d":"1,445"},{"v":217999.1,"d":"217,999.1"},144,{"v":489498.2,"d":"489,498.2"},410,{"v":1022615.7,"d":"1,022,615.7"},248,{"v":1186214.6,"d":"1,186,214.6"},47,{"v":263794.9,"d":"263,794.9"},4,{"v":412284.8,"d":"412,284.8"},438,{"v":20795,"d":"20,795.0"},15,{"v":1815152,"d":"1,815,152.0"},{"v":1945,"d":"1,945"},{"v":9388965.6,"d":"9,388,965.6"},{"v":4368,"d":"4,368"}]
["종화동",{"v":401782,"d":"401,782.0"},{"v":1680,"d":"1,680"},{"v":73471,"d":"73,471.0"},224,{"v":1267,"d":"1,267.0"},12,0,0,0,0,{"v":23655,"d":"23,655.0"},51,0,0,0,0,{"v":111914,"d":"111,914.0"},{"v":1050,"d":"1,050"},0,0,{"v":16641,"d":"16,641.0"},1,{"v":60,"d":"60.0"},1,0,0,{"v":177,"d":"177.0"},1,{"v":65423,"d":"65,423.0"},271,0,0,{"v":2678,"d":"2,678.0"},8,0,0,{"v":2501,"d":"2,501.0"},11,0,0,0,0,{"v":985,"d":"985.0"},2,{"v":84607,"d":"84,607.0"},15,0,0,0,0,{"v":1094,"d":"1,094.0"},4,0,0,{"v":4334,"d":"4,334.0"},15,{"v":12975,"d":"12,975.0"},14]
["수정동",{"v":640903,"d":"640,903.0"},{"v":1651,"d":"1,651"},{"v":44111,"d":"44,111.0"},243,0,0,0,0,0,0,{"v":133215,"d":"133,215.0"},56,0,0,0,0,{"v":248792,"d":"248,792.0"},{"v":1007,"d":"1,007"},{"v":3705,"d":"3,705.0"},4,{"v":37527,"d":"37,527.0"},2,{"v":338,"d":"338.0"},5,0,0,0,0,{"v":73042,"d":"73,042.0"},252,{"v":52747,"d":"52,747.0"},32,{"v":28149,"d":"28,149.0"},18,0,0,0,0,0,0,0,0,0,0,{"v":4533,"d":"4,533.0"},2,0,0,0,0,0,0,0,0,{"v":1128,"d":"1,128.0"},5,{"v":13616,"d":"13,616.0"},25]
["공화동",{"v":310102,"d":"310,102.0"},{"v":1821,"d":"1,821"},{"v":3450,"d":"3,450.0"},38,0,0,0,0,0,0,{"v":1696,"d":"1,696.0"},3,0,0,0,0,{"v":137749,"d":"137,749.0"},{"v":1446,"d":"1,446"},0,0,{"v":51531,"d":"51,531.0"},6,{"v":2169,"d":"2,169.0"},4,{"v":1141,"d":"1,141.0"},4,0,0,{"v":65248,"d":"65,248.0"},228,{"v":37199,"d":"37,199.0"},60,0,0,0,0,{"v":3480,"d":"3,480.0"},22,0,0,0,0,0,0,0,0,0,0,0,0,{"v":6337,"d":"6,337.0"},9,0,0,0,0,{"v":102,"d":"102.0"},1]
["관문동",{"v":248473,"d":"248,473.0"},{"v":1601,"d":"1,601"},{"v":4579,"d":"4,579.0"},59,{"v":221,"d":"221.0"},5,0,0,0,0,{"v":5774,"d":"5,774.0"},30,0,0,0,0,{"v":145687,"d":"145,687.0"},{"v":1243,"d":"1,243"},0,0,{"v":48901,"d":"48,901.0"},6,{"v":631,"d":"631.0"},4,0,0,0,0,{"v":40568,"d":"40,568.0"},243,0,0,0,0,0,0,{"v":139,"d":"139.0"},4,0,0,0,0,0,0,0,0,0,0,0,0,{"v":1704,"d":"1,704.0"},4,0,0,0,0,{"v":269,"d":"269.0"},3]
["고소동",{"v":176568,"d":"176,568.0"},{"v":1319,"d":"1,319"},{"v":16553,"d":"16,553.0"},100,0,0,0,0,0,0,{"v":913,"d":"913.0"},8,0,0,0,0,{"v":116686,"d":"116,686.0"},890,0,0,0,0,{"v":324,"d":"324.0"},2,0,0,0,0,{"v":35649,"d":"35,649.0"},305,0,0,0,0,0,0,0,0,0,0,0,0,{"v":671,"d":"671.0"},1,0,0,0,0,0,0,{"v":3526,"d":"3,526.0"},4,{"v":1583,"d":"1,583.0"},1,{"v":78,"d":"78.0"},3,{"v":585,"d":"585.0"},5]
["동산동",{"v":279543,"d":"279,543.0"},{"v":1216,"d":"1,216"},{"v":32423,"d":"32,423.0"},77,{"v":2765,"d":"2,765.0"},6,0,0,0,0,{"v":125910,"d":"125,910.0"},25,0,0,0,0,{"v":85639,"d":"85,639.0"},924,0,0,{"v":10782,"d":"10,782.0"},1,{"v":556,"d":"556.0"},3,0,0,0,0,{"v":13048,"d":"13,048.0"},169,0,0,0,0,0,0,{"v":2655,"d":"2,655.0"},3,0,0,0,0,{"v":4960,"d":"4,960.0"},4,0,0,0,0,0,0,{"v":769,"d":"769.0"},3,0,0,0,0,{"v":36,"d":"36.0"},1]
["중앙동",{"v":159282,"d":"159,282.0"},796,{"v":52,"d":"52.0"},4,0,0,0,0,0,0,{"v":20706,"d":"20,706.0"},17,0,0,0,0,{"v":65873,"d":"65,873.0"},583,0,0,0,0,{"v":1679,"d":"1,679.0"},1,0,0,0,0,{"v":49487,"d":"49,487.0"},180,0,0,0,0,0,0,0,0,0,0,0,0,0,0,{"v":9732,"d":"9,732.0"},1,0,0,0,0,0,0,0,0,0,0,{"v":11753,"d":"11,753.0"},10]
["교동",{"v":166086.2,"d":"166,086.2"},{"v":1172,"d":"1,172"},0,0,0,0,0,0,0,0,0,0,0,0,0,0,{"v":96868,"d":"96,868.0"},{"v":1081,"d":"1,081"},0,0,0,0,{"v":4238.2,"d":"4,238.2"},4,0,0,0,0,{"v":50034,"d":"50,034.0"},76,0,0,{"v":800,"d":"800.0"},2,{"v":9005,"d":"9,005.0"},1,{"v":445,"d":"445.0"},5,0,0,0,0,0,0,0,0,0,0,0,0,0,0,0,0,0,0,{"v":4696,"d":"4,696.0"},3]
["군자동",{"v":121235,"d":"121,235.0"},639,{"v":34418,"d":"34,418.0"},74,0,0,0,0,0,0,0,0,0,0,0,0,{"v":53813,"d":"53,813.0"},490,0,0,{"v":7308,"d":"7,308.0"},1,{"v":827,"d":"827.0"},4,0,0,0,0,{"v":14973,"d":"14,973.0"},57,0,0,0,0,0,0,{"v":1068,"d":"1,068.0"},3,0,0,0,0,{"v":363,"d":"363.0"},2,0,0,0,0,0,0,{"v":2650,"d":"2,650.0"},2,{"v":5642,"d":"5,642.0"},4,0,0,{"v":173,"d":"173.0"},2]
["충무동",{"v":144556,"d":"144,556.0"},997,{"v":2822,"d":"2,822.0"},21,{"v":2141,"d":"2,141.0"},12,0,0,0,0,0,0,0,0,0,0,{"v":93901,"d":"93,901.0"},837,0,0,0,0,{"v":1470,"d":"1,470.0"},5,0,0,0,0,{"v":36048,"d":"36,048.0"},103,0,0,0,0,{"v":5576,"d":"5,576.0"},2,{"v":271,"d":"271.0"},1,0,0,0,0,0,0,0,0,0,0,0,0,{"v":1799,"d":"1,799.0"},10,0,0,0,0,{"v":528,"d":"528.0"},6]
["연등동",{"v":1083737.5,"d":"1,083,737.5"},{"v":2151,"d":"2,151"},{"v":194112,"d":"194,112.0"},419,{"v":43758,"d":"43,758.0"},70,0,0,0,0,{"v":447669.8,"d":"447,669.8"},157,0,0,0,0,{"v":160891.1,"d":"160,891.1"},{"v":1137,"d":"1,137"},696.7,1,{"v":14194,"d":"14,194.0"},2,{"v":321,"d":"321.0"},1,{"v":1946.1,"d":"1,946.1"},7,{"v":2638.4,"d":"2,638.4"},3,{"v":150875,"d":"150,875.0"},283,0,0,0,0,{"v":14522,"d":"14,522.0"},21,{"v":32734.4,"d":"32,734.4"},22,0,0,0,0,{"v":1826.1,"d":"1,826.1"},2,991.9,1,0,0,0,0,{"v":4986,"d":"4,986.0"},5,{"v":76,"d":"76.0"},1,{"v":5021,"d":"5,021.0"},9,{"v":6478,"d":"6,478.0"},10]
["광무동",{"v":1266131.4,"d":"1,266,131.4"},{"v":2927,"d":"2,927"},{"v":224345,"d":"224,345.0"},437,{"v":6722,"d":"6,722.0"},36,0,0,0,0,{"v":624305,"d":"624,305.0"},95,0,0,0,0,{"v":233524.4,"d":"233,524.4"},{"v":1799,"d":"1,799"},0,0,{"v":19814,"d":"19,814.0"},5,{"v":2331,"d":"2,331.0"},4,695.8,1,0,0,{"v":122068.7,"d":"122,068.7"},476,0,0,0,0,{"v":8810,"d":"8,810.0"},10,{"v":3739.9,"d":"3,739.9"},10,0,0,0,0,{"v":3837,"d":"3,837.0"},11,{"v":616,"d":"616.0"},1,0,0,0,0,{"v":5548,"d":"5,548.0"},9,0,0,{"v":4347,"d":"4,347.0"},16,{"v":5427.6,"d":"5,427.6"},17]
["서교동",{"v":169257,"d":"169,257.0"},{"v":1160,"d":"1,160"},{"v":136,"d":"136.0"},2,{"v":378,"d":"378.0"},7,0,0,0,0,0,0,0,0,0,0,{"v":85306,"d":"85,306.0"},863,0,0,{"v":19165,"d":"19,165.0"},1,{"v":6734,"d":"6,734.0"},4,0,0,0,0,{"v":42923,"d":"42,923.0"},262,0,0,0,0,{"v":8724,"d":"8,724.0"},4,{"v":753,"d":"753.0"},13,0,0,0,0,0,0,{"v":143,"d":"143.0"},1,0,0,0,0,{"v":4598,"d":"4,598.0"},2,0,0,0,0,{"v":397,"d":"397.0"},1]
["봉강동",{"v":486137.5,"d":"486,137.5"},{"v":1610,"d":"1,610"},{"v":79548,"d":"79,548.0"},170,{"v":26972,"d":"26,972.0"},51,0,0,0,0,{"v":156344,"d":"156,344.0"},55,0,0,0,0,{"v":122433.2,"d":"122,433.2"},924,0,0,{"v":35979,"d":"35,979.0"},2,{"v":578,"d":"578.0"},2,0,0,0,0,{"v":52156.7,"d":"52,156.7"},364,0,0,0,0,0,0,{"v":3404,"d":"3,404.0"},13,0,0,0,0,0,0,{"v":1906.9,"d":"1,906.9"},1,0,0,0,0,{"v":3652,"d":"3,652.0"},5,0,0,0,0,{"v":3163.7,"d":"3,163.7"},23]
["봉산동",{"v":1204875.7,"d":"1,204,875.7"},{"v":2888,"d":"2,888"},{"v":147302,"d":"147,302.0"},304,{"v":43663,"d":"43,663.0"},100,0,0,0,0,{"v":352775,"d":"352,775.0"},61,0,0,0,0,{"v":413726.3,"d":"413,726.3"},{"v":1931,"d":"1,931"},353.1,1,{"v":29460,"d":"29,460.0"},6,107.1,1,{"v":1618.4,"d":"1,618.4"},3,{"v":1297.1,"d":"1,297.1"},4,{"v":185038.7,"d":"185,038.7"},445,0,0,0,0,0,0,{"v":3904,"d":"3,904.0"},10,{"v":27,"d":"27.0"},2,0,0,0,0,0,0,0,0,0,0,{"v":7586,"d":"7,586.0"},6,0,0,{"v":2507,"d":"2,507.0"},9,{"v":15511,"d":"15,511.0"},5]
["남산동",{"v":400212,"d":"400,212.0"},{"v":1898,"d":"1,898"},{"v":95675,"d":"95,675.0"},211,{"v":126,"d":"126.0"},4,0,0,0,0,{"v":32758,"d":"32,758.0"},30,0,0,0,0,{"v":133543,"d":"133,543.0"},{"v":1262,"d":"1,262"},0,0,{"v":4469,"d":"4,469.0"},2,{"v":2110,"d":"2,110.0"},5,0,0,0,0,{"v":99707,"d":"99,707.0"},340,0,0,{"v":273,"d":"273.0"},4,{"v":9140,"d":"9,140.0"},1,{"v":595,"d":"595.0"},6,0,0,0,0,{"v":283,"d":"283.0"},2,0,0,0,0,0,0,0,0,0,0,{"v":58,"d":"58.0"},2,{"v":21475,"d":"21,475.0"},29]
["국동",{"v":1533308.3,"d":"1,533,308.3"},{"v":3250,"d":"3,250"},{"v":107621,"d":"107,621.0"},493,{"v":15729,"d":"15,729.0"},84,{"v":815,"d":"815.0"},1,0,0,{"v":488434,"d":"488,434.0"},110,0,0,0,0,{"v":531604.2,"d":"531,604.2"},{"v":1935,"d":"1,935"},{"v":5044,"d":"5,044.0"},9,{"v":125146.2,"d":"125,146.2"},32,{"v":5979,"d":"5,979.0"},4,{"v":420,"d":"420.0"},1,{"v":609,"d":"609.0"},4,{"v":160572.6,"d":"160,572.6"},473,0,0,{"v":2006,"d":"2,006.0"},1,0,0,{"v":15931,"d":"15,931.0"},14,0,0,0,0,{"v":3092,"d":"3,092.0"},6,0,0,0,0,0,0,{"v":7076.5,"d":"7,076.5"},14,0,0,{"v":1035,"d":"1,035.0"},10,{"v":62193.8,"d":"62,193.8"},59]
["신월동",{"v":3711729.5,"d":"3,711,729.5"},{"v":2627,"d":"2,627"},{"v":615874,"d":"615,874.0"},869,{"v":121231,"d":"121,231.0"},203,0,0,0,0,{"v":1407166,"d":"1,407,166.0"},326,0,0,0,0,{"v":240604.5,"d":"240,604.5"},509,{"v":844847,"d":"844,847.0"},121,{"v":7970,"d":"7,970.0"},1,{"v":1587,"d":"1,587.0"},1,{"v":2571,"d":"2,571.0"},10,{"v":1810,"d":"1,810.0"},2,{"v":200439,"d":"200,439.0"},402,0,0,{"v":5811,"d":"5,811.0"},16,0,0,{"v":45454,"d":"45,454.0"},20,0,0,0,0,0,0,0,0,0,0,0,0,{"v":8822,"d":"8,822.0"},9,0,0,{"v":6008,"d":"6,008.0"},26,{"v":201535,"d":"201,535.0"},112]
["여서동",{"v":2575399.9,"d":"2,575,399.9"},{"v":1908,"d":"1,908"},{"v":204480,"d":"204,480.0"},276,{"v":116419,"d":"116,419.0"},188,0,0,0,0,{"v":1223736,"d":"1,223,736.0"},284,0,0,0,0,{"v":562616.9,"d":"562,616.9"},751,0,0,{"v":58011,"d":"58,011.0"},4,{"v":15531.6,"d":"15,531.6"},15,{"v":1488,"d":"1,488.0"},1,{"v":884,"d":"884.0"},1,{"v":291253.8,"d":"291,253.8"},279,0,0,0,0,0,0,{"v":15119.9,"d":"15,119.9"},20,{"v":958,"d":"958.0"},2,0,0,{"v":11855,"d":"11,855.0"},5,{"v":19406.8,"d":"19,406.8"},7,{"v":9361,"d":"9,361.0"},5,0,0,{"v":15908.4,"d":"15,908.4"},22,0,0,{"v":2630,"d":"2,630.0"},8,{"v":25740.5,"d":"25,740.5"},40]
["문수동",{"v":2244609.3,"d":"2,244,609.3"},{"v":3215,"d":"3,215"},{"v":177192,"d":"177,192.0"},329,{"v":35111,"d":"35,111.0"},96,0,0,0,0,{"v":836566.7,"d":"836,566.7"},324,0,0,0,0,{"v":714845.5,"d":"714,845.5"},{"v":1903,"d":"1,903"},0,0,{"v":122894.6,"d":"122,894.6"},10,{"v":13688.4,"d":"13,688.4"},55,{"v":1109.1,"d":"1,109.1"},2,{"v":205,"d":"205.0"},1,{"v":223619.9,"d":"223,619.9"},364,0,0,0,0,{"v":8513,"d":"8,513.0"},5,{"v":9438.4,"d":"9,438.4"},13,0,0,0,0,{"v":31,"d":"31.0"},1,{"v":54362.1,"d":"54,362.1"},21,0,0,0,0,{"v":25861,"d":"25,861.0"},15,0,0,{"v":3861,"d":"3,861.0"},19,{"v":17310.6,"d":"17,310.6"},57]
["오림동",{"v":2130079.7,"d":"2,130,079.7"},{"v":1640,"d":"1,640"},{"v":150620,"d":"150,620.0"},265,{"v":58336,"d":"58,336.0"},112,0,0,0,0,{"v":1139109,"d":"1,139,109.0"},294,0,0,0,0,{"v":176766.6,"d":"176,766.6"},550,{"v":895,"d":"895.0"},1,{"v":25821,"d":"25,821.0"},2,65.3,1,{"v":2939.8,"d":"2,939.8"},8,{"v":894,"d":"894.0"},2,{"v":143222.1,"d":"143,222.1"},287,{"v":33331,"d":"33,331.0"},33,0,0,{"v":17042.4,"d":"17,042.4"},6,{"v":15437.2,"d":"15,437.2"},33,{"v":10,"d":"10.0"},1,0,0,{"v":9101,"d":"9,101.0"},5,{"v":1699.4,"d":"1,699.4"},1,{"v":310227,"d":"310,227.0"},14,0,0,{"v":3107.9,"d":"3,107.9"},3,0,0,{"v":35291,"d":"35,291.0"},10,{"v":6164,"d":"6,164.0"},12]
["미평동",{"v":3089016.9,"d":"3,089,016.9"},{"v":2722,"d":"2,722"},{"v":148751,"d":"148,751.0"},352,{"v":102764,"d":"102,764.0"},237,0,0,0,0,{"v":1834922,"d":"1,834,922.0"},229,0,0,0,0,{"v":465875.5,"d":"465,875.5"},{"v":1158,"d":"1,158"},{"v":1501,"d":"1,501.0"},3,{"v":64631.1,"d":"64,631.1"},10,{"v":3550.8,"d":"3,550.8"},11,{"v":1804.2,"d":"1,804.2"},3,177.4,1,{"v":195839.4,"d":"195,839.4"},523,{"v":53203,"d":"53,203.0"},33,0,0,{"v":9529.4,"d":"9,529.4"},3,{"v":25760,"d":"25,760.0"},52,0,0,0,0,{"v":106673.5,"d":"106,673.5"},62,{"v":16700.4,"d":"16,700.4"},10,0,0,0,0,{"v":8992.4,"d":"8,992.4"},9,0,0,{"v":5712,"d":"5,712.0"},7,{"v":42629.8,"d":"42,629.8"},19]
["둔덕동",{"v":4076115.1,"d":"4,076,115.1"},{"v":2397,"d":"2,397"},{"v":183604,"d":"183,604.0"},305,{"v":428387,"d":"428,387.0"},490,0,0,0,0,{"v":2322711,"d":"2,322,711.0"},399,0,0,0,0,{"v":466098.7,"d":"466,098.7"},649,{"v":362,"d":"362.0"},1,0,0,{"v":1073.9,"d":"1,073.9"},3,{"v":10143.9,"d":"10,143.9"},8,{"v":6380.7,"d":"6,380.7"},9,{"v":246103.6,"d":"246,103.6"},400,{"v":22933,"d":"22,933.0"},33,0,0,{"v":9119.1,"d":"9,119.1"},3,{"v":21297,"d":"21,297.0"},13,0,0,0,0,{"v":72838,"d":"72,838.0"},4,{"v":18073.4,"d":"18,073.4"},8,{"v":166279,"d":"166,279.0"},6,0,0,{"v":14763.3,"d":"14,763.3"},10,0,0,{"v":2675,"d":"2,675.0"},8,{"v":83272.5,"d":"83,272.5"},48]
["오천동",{"v":5624952.8,"d":"5,624,952.8"},{"v":1841,"d":"1,841"},{"v":459787,"d":"459,787.0"},545,{"v":231614,"d":"231,614.0"},298,0,0,0,0,{"v":4445624,"d":"4,445,624.0"},310,0,0,0,0,{"v":76887,"d":"76,887.0"},265,{"v":91590.6,"d":"91,590.6"},54,0,0,{"v":25,"d":"25.0"},1,0,0,{"v":288,"d":"288.0"},1,{"v":116523,"d":"116,523.0"},253,0,0,{"v":18477,"d":"18,477.0"},13,{"v":5346.3,"d":"5,346.3"},3,{"v":52699.9,"d":"52,699.9"},36,{"v":104581,"d":"104,581.0"},21,0,0,{"v":12219,"d":"12,219.0"},23,0,0,0,0,0,0,{"v":1566,"d":"1,566.0"},1,0,0,{"v":3628,"d":"3,628.0"},10,{"v":4097,"d":"4,097.0"},7]
["만흥동",{"v":7434177.5,"d":"7,434,177.5"},{"v":3929,"d":"3,929"},{"v":882655,"d":"882,655.0"},{"v":1049,"d":"1,049"},{"v":636419,"d":"636,419.0"},721,0,0,0,0,{"v":5219767,"d":"5,219,767.0"},742,0,0,0,0,{"v":135520,"d":"135,520.0"},396,{"v":45135,"d":"45,135.0"},22,{"v":11073,"d":"11,073.0"},1,{"v":2793,"d":"2,793.0"},3,{"v":1185,"d":"1,185.0"},2,{"v":3299,"d":"3,299.0"},5,{"v":150341.6,"d":"150,341.6"},704,{"v":109086,"d":"109,086.0"},73,{"v":927,"d":"927.0"},3,{"v":7761,"d":"7,761.0"},5,{"v":72261.9,"d":"72,261.9"},59,0,0,0,0,{"v":9147,"d":"9,147.0"},35,0,0,0,0,0,0,{"v":3841,"d":"3,841.0"},3,0,0,{"v":21332,"d":"21,332.0"},47,{"v":121634,"d":"121,634.0"},59]
["덕충동",{"v":2920826.1,"d":"2,920,826.1"},{"v":4745,"d":"4,745"},{"v":528131,"d":"528,131.0"},{"v":1129,"d":"1,129"},{"v":94060,"d":"94,060.0"},209,0,0,0,0,{"v":1141427,"d":"1,141,427.0"},404,0,0,0,0,{"v":499627,"d":"499,627.0"},{"v":1913,"d":"1,913"},{"v":27182,"d":"27,182.0"},13,{"v":56349,"d":"56,349.0"},21,0,0,0,0,{"v":429,"d":"429.0"},2,{"v":123827,"d":"123,827.0"},698,{"v":183895,"d":"183,895.0"},177,{"v":23473.4,"d":"23,473.4"},19,0,0,{"v":31153,"d":"31,153.0"},42,0,0,0,0,{"v":8065,"d":"8,065.0"},12,0,0,{"v":9615,"d":"9,615.0"},5,0,0,{"v":11572,"d":"11,572.0"},17,0,0,{"v":23924,"d":"23,924.0"},47,{"v":158096.7,"d":"158,096.7"},37]
["경호동",{"v":3078917,"d":"3,078,917.0"},{"v":3721,"d":"3,721"},{"v":1126228,"d":"1,126,228.0"},{"v":1266,"d":"1,266"},{"v":158586,"d":"158,586.0"},262,0,0,0,0,{"v":1523689,"d":"1,523,689.0"},842,0,0,0,0,{"v":144495.7,"d":"144,495.7"},715,0,0,{"v":11350,"d":"11,350.0"},2,821.6,8,0,0,0,0,{"v":55768.1,"d":"55,768.1"},504,0,0,{"v":11391,"d":"11,391.0"},27,{"v":1220,"d":"1,220.0"},5,{"v":107,"d":"107.0"},1,{"v":2473,"d":"2,473.0"},2,{"v":1601,"d":"1,601.0"},1,0,0,{"v":7918.6,"d":"7,918.6"},11,0,0,0,0,{"v":1145,"d":"1,145.0"},2,0,0,{"v":12358,"d":"12,358.0"},27,{"v":19765,"d":"19,765.0"},46]
["학동",{"v":1429258.9,"d":"1,429,258.9"},{"v":1772,"d":"1,772"},{"v":7488,"d":"7,488.0"},30,{"v":646,"d":"646.0"},8,0,0,0,0,{"v":79011.2,"d":"79,011.2"},34,0,0,0,0,{"v":802301.6,"d":"802,301.6"},{"v":1498,"d":"1,498"},0,0,{"v":23943,"d":"23,943.0"},2,{"v":10098.3,"d":"10,098.3"},15,{"v":2820,"d":"2,820.0"},5,{"v":299,"d":"299.0"},1,{"v":360485.9,"d":"360,485.9"},148,0,0,0,0,0,0,830.7,9,{"v":7506.5,"d":"7,506.5"},1,0,0,0,0,{"v":119956.8,"d":"119,956.8"},14,{"v":10945.6,"d":"10,945.6"},1,{"v":66,"d":"66.0"},1,{"v":1125,"d":"1,125.0"},1,0,0,0,0,{"v":1735.3,"d":"1,735.3"},4]
["학용동",{"v":966619,"d":"966,619.0"},574,{"v":129040,"d":"129,040.0"},235,{"v":11542,"d":"11,542.0"},26,{"v":3486,"d":"3,486.0"},3,0,0,{"v":672245,"d":"672,245.0"},145,0,0,0,0,{"v":2737,"d":"2,737.0"},6,0,0,0,0,0,0,{"v":3215,"d":"3,215.0"},3,0,0,{"v":21192,"d":"21,192.0"},35,{"v":73480,"d":"73,480.0"},71,0,0,{"v":5158,"d":"5,158.0"},12,{"v":3960,"d":"3,960.0"},9,0,0,0,0,{"v":20058,"d":"20,058.0"},3,{"v":2489,"d":"2,489.0"},5,0,0,0,0,0,0,0,0,{"v":18017,"d":"18,017.0"},21,0,0]
["안산동",{"v":1468379.8,"d":"1,468,379.8"},{"v":1537,"d":"1,537"},{"v":53240,"d":"53,240.0"},124,{"v":23047,"d":"23,047.0"},46,0,0,0,0,{"v":523049.6,"d":"523,049.6"},155,0,0,0,0,{"v":587550.3,"d":"587,550.3"},{"v":1038,"d":"1,038"},0,0,{"v":38644.1,"d":"38,644.1"},4,{"v":2048.1,"d":"2,048.1"},4,440.2,2,{"v":363,"d":"363.0"},1,{"v":196547.1,"d":"196,547.1"},131,0,0,{"v":1296.4,"d":"1,296.4"},1,{"v":1060,"d":"1,060.0"},2,{"v":4498.8,"d":"4,498.8"},10,0,0,0,0,0,0,{"v":21255.1,"d":"21,255.1"},3,0,0,0,0,{"v":14502.1,"d":"14,502.1"},12,0,0,{"v":317,"d":"317.0"},1,{"v":521,"d":"521.0"},3]
["소호동",{"v":3293988.2,"d":"3,293,988.2"},{"v":2295,"d":"2,295"},{"v":333660,"d":"333,660.0"},434,{"v":343752,"d":"343,752.0"},381,0,0,0,0,{"v":1536782.4,"d":"1,536,782.4"},337,0,0,0,0,{"v":683117.5,"d":"683,117.5"},694,{"v":12954,"d":"12,954.0"},11,{"v":30757.4,"d":"30,757.4"},3,{"v":14374.8,"d":"14,374.8"},13,{"v":1526,"d":"1,526.0"},1,{"v":3470,"d":"3,470.0"},3,{"v":195636.1,"d":"195,636.1"},314,0,0,{"v":5785.8,"d":"5,785.8"},6,{"v":144,"d":"144.0"},2,{"v":17152,"d":"17,152.0"},10,{"v":4182,"d":"4,182.0"},3,0,0,0,0,{"v":4193,"d":"4,193.0"},2,0,0,{"v":49588.3,"d":"49,588.3"},1,{"v":6488,"d":"6,488.0"},6,0,0,{"v":15387,"d":"15,387.0"},34,{"v":35037.9,"d":"35,037.9"},40]
["시전동",{"v":1852629.4,"d":"1,852,629.4"},949,{"v":271818,"d":"271,818.0"},316,{"v":89758,"d":"89,758.0"},114,0,0,0,0,{"v":1206622,"d":"1,206,622.0"},312,0,0,0,0,{"v":38328.4,"d":"38,328.4"},58,0,0,0,0,0,0,{"v":3904,"d":"3,904.0"},4,0,0,{"v":42392,"d":"42,392.0"},91,0,0,0,0,{"v":177,"d":"177.0"},2,{"v":14482,"d":"14,482.0"},18,0,0,0,0,{"v":9,"d":"9.0"},1,0,0,{"v":157345,"d":"157,345.0"},4,0,0,{"v":13946,"d":"13,946.0"},3,0,0,{"v":8810,"d":"8,810.0"},22,{"v":5038,"d":"5,038.0"},4]
["신기동",{"v":984004,"d":"984,004.0"},{"v":1488,"d":"1,488"},0,0,0,0,0,0,0,0,{"v":43922.6,"d":"43,922.6"},15,0,0,0,0,{"v":615853.8,"d":"615,853.8"},{"v":1402,"d":"1,402"},0,0,{"v":34096.3,"d":"34,096.3"},2,{"v":2812,"d":"2,812.0"},10,661.2,1,0,0,{"v":261986.2,"d":"261,986.2"},42,0,0,0,0,0,0,0,0,0,0,0,0,0,0,{"v":19675.2,"d":"19,675.2"},11,0,0,0,0,{"v":4996.7,"d":"4,996.7"},5,0,0,0,0,0,0]
["웅천동",{"v":3423661,"d":"3,423,661.0"},{"v":3759,"d":"3,759"},{"v":801604,"d":"801,604.0"},{"v":1028,"d":"1,028"},{"v":401828,"d":"401,828.0"},631,{"v":4119,"d":"4,119.0"},4,0,0,{"v":1169609,"d":"1,169,609.0"},592,0,0,0,0,{"v":415610.9,"d":"415,610.9"},780,0,0,{"v":30448.7,"d":"30,448.7"},2,{"v":21649.5,"d":"21,649.5"},9,0,0,{"v":350,"d":"350.0"},1,{"v":282049.1,"d":"282,049.1"},574,0,0,{"v":1881.6,"d":"1,881.6"},6,{"v":378,"d":"378.0"},2,{"v":35951,"d":"35,951.0"},17,{"v":22484,"d":"22,484.0"},30,0,0,{"v":3733.1,"d":"3,733.1"},12,{"v":155520.9,"d":"155,520.9"},29,0,0,0,0,{"v":1541,"d":"1,541.0"},2,0,0,{"v":15558,"d":"15,558.0"},29,{"v":59345.2,"d":"59,345.2"},11]
["선원동",{"v":2552218.3,"d":"2,552,218.3"},{"v":2765,"d":"2,765"},{"v":278140,"d":"278,140.0"},374,{"v":330607,"d":"330,607.0"},346,{"v":5341,"d":"5,341.0"},4,0,0,{"v":720399,"d":"720,399.0"},298,0,0,0,0,{"v":659164.2,"d":"659,164.2"},{"v":1348,"d":"1,348"},{"v":2149,"d":"2,149.0"},1,{"v":79321.7,"d":"79,321.7"},4,{"v":12717.8,"d":"12,717.8"},15,{"v":2654.1,"d":"2,654.1"},7,{"v":7924,"d":"7,924.0"},4,{"v":328770.4,"d":"328,770.4"},253,{"v":46158,"d":"46,158.0"},32,0,0,{"v":23299,"d":"23,299.0"},5,{"v":29266.8,"d":"29,266.8"},45,{"v":20,"d":"20.0"},1,0,0,0,0,{"v":5252,"d":"5,252.0"},5,0,0,0,0,{"v":10177.2,"d":"10,177.2"},6,0,0,{"v":8373,"d":"8,373.0"},13,{"v":2484.1,"d":"2,484.1"},4]
["여천동",{"v":2390511,"d":"2,390,511.0"},{"v":1871,"d":"1,871"},{"v":327268,"d":"327,268.0"},371,{"v":717540,"d":"717,540.0"},696,0,0,{"v":1905,"d":"1,905.0"},4,{"v":911889,"d":"911,889.0"},95,0,0,0,0,{"v":73999,"d":"73,999.0"},179,{"v":3097,"d":"3,097.0"},2,0,0,{"v":5579,"d":"5,579.0"},11,{"v":6626,"d":"6,626.0"},8,{"v":6062,"d":"6,062.0"},12,{"v":149428,"d":"149,428.0"},308,0,0,0,0,{"v":49578,"d":"49,578.0"},41,{"v":51312,"d":"51,312.0"},82,{"v":23868,"d":"23,868.0"},16,{"v":1016,"d":"1,016.0"},1,{"v":30576,"d":"30,576.0"},9,0,0,0,0,0,0,{"v":9967,"d":"9,967.0"},6,{"v":6450,"d":"6,450.0"},2,{"v":2113,"d":"2,113.0"},9,{"v":12238,"d":"12,238.0"},19]
["화장동",{"v":2588444.3,"d":"2,588,444.3"},{"v":2693,"d":"2,693"},{"v":207080,"d":"207,080.0"},248,{"v":211861,"d":"211,861.0"},236,{"v":12103,"d":"12,103.0"},1,{"v":1758,"d":"1,758.0"},2,{"v":842751.5,"d":"842,751.5"},210,0,0,0,0,{"v":578568,"d":"578,568.0"},{"v":1651,"d":"1,651"},0,0,{"v":83225.7,"d":"83,225.7"},4,{"v":20120.4,"d":"20,120.4"},18,{"v":5317.7,"d":"5,317.7"},3,{"v":2100.3,"d":"2,100.3"},3,{"v":387055,"d":"387,055.0"},218,{"v":29028,"d":"29,028.0"},21,0,0,{"v":14754,"d":"14,754.0"},7,{"v":9251.1,"d":"9,251.1"},31,0,0,0,0,{"v":2005,"d":"2,005.0"},4,{"v":171055.4,"d":"171,055.4"},22,0,0,0,0,490.2,2,0,0,{"v":4377,"d":"4,377.0"},6,{"v":5543,"d":"5,543.0"},6]
["주삼동",{"v":3678414.4,"d":"3,678,414.4"},{"v":3278,"d":"3,278"},{"v":440652,"d":"440,652.0"},518,{"v":1012492,"d":"1,012,492.0"},969,0,0,{"v":3794,"d":"3,794.0"},6,{"v":1368817,"d":"1,368,817.0"},394,0,0,0,0,{"v":161694,"d":"161,694.0"},364,{"v":119119.8,"d":"119,119.8"},48,{"v":22025,"d":"22,025.0"},1,{"v":6191,"d":"6,191.0"},5,{"v":13248,"d":"13,248.0"},10,{"v":4772,"d":"4,772.0"},4,{"v":351644,"d":"351,644.0"},801,{"v":11899,"d":"11,899.0"},14,{"v":4129,"d":"4,129.0"},7,{"v":10347,"d":"10,347.0"},9,{"v":83853,"d":"83,853.0"},56,{"v":4734,"d":"4,734.0"},9,0,0,0,0,0,0,{"v":6682,"d":"6,682.0"},1,0,0,0,0,0,0,{"v":7583,"d":"7,583.0"},5,{"v":44738.6,"d":"44,738.6"},57]
["봉계동",{"v":5348445,"d":"5,348,445.0"},{"v":2642,"d":"2,642"},{"v":361858,"d":"361,858.0"},458,{"v":375494,"d":"375,494.0"},409,0,0,{"v":993,"d":"993.0"},1,{"v":3292902,"d":"3,292,902.0"},508,0,0,0,0,{"v":302017,"d":"302,017.0"},413,{"v":10163,"d":"10,163.0"},5,{"v":62850,"d":"62,850.0"},1,{"v":5386,"d":"5,386.0"},5,{"v":5879,"d":"5,879.0"},7,{"v":8281,"d":"8,281.0"},15,{"v":211751,"d":"211,751.0"},676,0,0,{"v":536,"d":"536.0"},1,{"v":5447,"d":"5,447.0"},8,{"v":68612,"d":"68,612.0"},51,{"v":92036,"d":"92,036.0"},35,0,0,0,0,0,0,{"v":508106,"d":"508,106.0"},1,0,0,{"v":9549,"d":"9,549.0"},7,0,0,{"v":1452,"d":"1,452.0"},3,{"v":25133,"d":"25,133.0"},38]
["해산동",{"v":2500698,"d":"2,500,698.0"},{"v":2600,"d":"2,600"},{"v":345261,"d":"345,261.0"},522,{"v":697404.5,"d":"697,404.5"},775,{"v":3307,"d":"3,307.0"},1,{"v":3681,"d":"3,681.0"},6,{"v":883761,"d":"883,761.0"},259,0,0,0,0,{"v":83605.3,"d":"83,605.3"},218,0,0,0,0,{"v":4614,"d":"4,614.0"},4,{"v":9509,"d":"9,509.0"},15,{"v":5300,"d":"5,300.0"},6,{"v":210783,"d":"210,783.0"},483,{"v":48437.2,"d":"48,437.2"},61,{"v":4536,"d":"4,536.0"},3,{"v":93230,"d":"93,230.0"},40,{"v":49405,"d":"49,405.0"},122,{"v":23174,"d":"23,174.0"},14,0,0,{"v":3567,"d":"3,567.0"},7,0,0,0,0,0,0,0,0,0,0,{"v":2589,"d":"2,589.0"},10,{"v":28534,"d":"28,534.0"},54]
["화치동",{"v":5909274.2,"d":"5,909,274.2"},890,{"v":108739,"d":"108,739.0"},102,{"v":129529.5,"d":"129,529.5"},128,0,0,0,0,{"v":1627957.6,"d":"1,627,957.6"},254,0,0,0,0,{"v":180722.9,"d":"180,722.9"},42,{"v":2961485.5,"d":"2,961,485.5"},150,0,0,{"v":3683,"d":"3,683.0"},12,769.9,1,{"v":11159.4,"d":"11,159.4"},2,{"v":378784.4,"d":"378,784.4"},72,{"v":4905,"d":"4,905.0"},4,{"v":15948.8,"d":"15,948.8"},13,{"v":349539.6,"d":"349,539.6"},13,{"v":27892.6,"d":"27,892.6"},52,{"v":2313,"d":"2,313.0"},5,0,0,{"v":13143,"d":"13,143.0"},10,0,0,0,0,0,0,0,0,0,0,{"v":11217,"d":"11,217.0"},3,{"v":81484,"d":"81,484.0"},27]
["월하동",{"v":2833869.4,"d":"2,833,869.4"},645,{"v":67819,"d":"67,819.0"},113,{"v":12052,"d":"12,052.0"},32,0,0,0,0,{"v":830326.5,"d":"830,326.5"},104,0,0,0,0,{"v":60256.3,"d":"60,256.3"},48,{"v":1482244.6,"d":"1,482,244.6"},75,0,0,999.9,1,{"v":3085,"d":"3,085.0"},10,{"v":4004,"d":"4,004.0"},2,{"v":171473.8,"d":"171,473.8"},163,{"v":29456,"d":"29,456.0"},6,0,0,{"v":44367,"d":"44,367.0"},13,{"v":29379.9,"d":"29,379.9"},25,0,0,0,0,{"v":7282,"d":"7,282.0"},2,0,0,0,0,0,0,0,0,0,0,0,0,{"v":91123.4,"d":"91,123.4"},51]
["평여동",{"v":6851431.4,"d":"6,851,431.4"},746,{"v":44453,"d":"44,453.0"},69,{"v":31569,"d":"31,569.0"},67,0,0,0,0,{"v":4416435.1,"d":"4,416,435.1"},346,0,0,0,0,{"v":16459.7,"d":"16,459.7"},34,{"v":1860078.2,"d":"1,860,078.2"},47,0,0,0,0,{"v":2739,"d":"2,739.0"},2,0,0,{"v":146042,"d":"146,042.0"},53,{"v":69282,"d":"69,282.0"},13,0,0,{"v":52523.4,"d":"52,523.4"},13,{"v":33233.8,"d":"33,233.8"},24,{"v":64841,"d":"64,841.0"},30,0,0,{"v":28134,"d":"28,134.0"},4,{"v":4556.2,"d":"4,556.2"},1,0,0,0,0,0,0,0,0,{"v":24,"d":"24.0"},1,{"v":81061,"d":"81,061.0"},42]
["중흥동",{"v":10558103.4,"d":"10,558,103.4"},{"v":2820,"d":"2,820"},{"v":239022,"d":"239,022.0"},398,{"v":104182,"d":"104,182.0"},203,{"v":8766,"d":"8,766.0"},3,{"v":250,"d":"250.0"},1,{"v":5880057.4,"d":"5,880,057.4"},448,0,0,0,0,{"v":423656.7,"d":"423,656.7"},654,{"v":2704909.4,"d":"2,704,909.4"},120,{"v":27075,"d":"27,075.0"},6,{"v":4867.8,"d":"4,867.8"},2,{"v":9239,"d":"9,239.0"},7,{"v":5826,"d":"5,826.0"},3,{"v":450475.5,"d":"450,475.5"},588,{"v":94802,"d":"94,802.0"},99,{"v":15591.9,"d":"15,591.9"},11,{"v":109471,"d":"109,471.0"},54,{"v":30956,"d":"30,956.0"},41,{"v":14022,"d":"14,022.0"},21,0,0,{"v":10112.2,"d":"10,112.2"},7,{"v":2216.8,"d":"2,216.8"},1,{"v":1544,"d":"1,544.0"},2,0,0,{"v":28905,"d":"28,905.0"},15,0,0,{"v":24262,"d":"24,262.0"},18,{"v":367893.7,"d":"367,893.7"},118]
["적량동",{"v":4922794,"d":"4,922,794.0"},{"v":1175,"d":"1,175"},{"v":271545,"d":"271,545.0"},290,{"v":184490,"d":"184,490.0"},228,{"v":5808,"d":"5,808.0"},3,0,0,{"v":2181333.8,"d":"2,181,333.8"},315,0,0,0,0,{"v":18697,"d":"18,697.0"},62,{"v":1956874,"d":"1,956,874.0"},38,{"v":9924,"d":"9,924.0"},2,0,0,0,0,0,0,{"v":120166,"d":"120,166.0"},103,{"v":29159,"d":"29,159.0"},14,{"v":5315.7,"d":"5,315.7"},2,{"v":25378,"d":"25,378.0"},15,{"v":25658.7,"d":"25,658.7"},23,{"v":42003,"d":"42,003.0"},37,0,0,0,0,0,0,0,0,0,0,{"v":290,"d":"290.0"},1,0,0,{"v":3358,"d":"3,358.0"},5,{"v":42793.8,"d":"42,793.8"},37]
["월내동",{"v":5489304.2,"d":"5,489,304.2"},{"v":1199,"d":"1,199"},{"v":208839,"d":"208,839.0"},207,{"v":185570,"d":"185,570.0"},202,0,0,0,0,{"v":2244506.9,"d":"2,244,506.9"},274,0,0,0,0,{"v":105946,"d":"105,946.0"},25,{"v":1808320.9,"d":"1,808,320.9"},56,{"v":1103,"d":"1,103.0"},1,0,0,0,0,0,0,{"v":190052.2,"d":"190,052.2"},167,{"v":44995,"d":"44,995.0"},54,{"v":14333,"d":"14,333.0"},7,{"v":10172,"d":"10,172.0"},23,{"v":37258.4,"d":"37,258.4"},54,{"v":11926,"d":"11,926.0"},15,0,0,0,0,0,0,0,0,0,0,0,0,0,0,{"v":3705,"d":"3,705.0"},18,{"v":622576.8,"d":"622,576.8"},96]
["묘도동",{"v":11515745.6,"d":"11,515,745.6"},{"v":5574,"d":"5,574"},{"v":1325083,"d":"1,325,083.0"},{"v":1307,"d":"1,307"},{"v":935770,"d":"935,770.0"},{"v":1047,"d":"1,047"},{"v":6702,"d":"6,702.0"},4,{"v":1592,"d":"1,592.0"},4,{"v":5657933,"d":"5,657,933.0"},{"v":1578,"d":"1,578"},0,0,0,0,{"v":178015,"d":"178,015.0"},638,0,0,{"v":18801,"d":"18,801.0"},2,{"v":28,"d":"28.0"},1,{"v":589,"d":"589.0"},1,{"v":2160,"d":"2,160.0"},5,{"v":131712,"d":"131,712.0"},829,0,0,{"v":113398.6,"d":"113,398.6"},13,{"v":15454,"d":"15,454.0"},2,{"v":63958,"d":"63,958.0"},27,{"v":22036,"d":"22,036.0"},27,0,0,0,0,0,0,0,0,0,0,{"v":3681,"d":"3,681.0"},2,0,0,{"v":29108,"d":"29,108.0"},39,{"v":3009725,"d":"3,009,725.0"},48]
["낙포동",{"v":8320417.1,"d":"8,320,417.1"},{"v":1812,"d":"1,812"},{"v":344879,"d":"344,879.0"},387,{"v":164816,"d":"164,816.0"},221,0,0,0,0,{"v":4616374.6,"d":"4,616,374.6"},371,0,0,0,0,{"v":121035.4,"d":"121,035.4"},40,{"v":1091433.7,"d":"1,091,433.7"},195,0,0,0,0,{"v":180944.8,"d":"180,944.8"},16,0,0,{"v":289227.8,"d":"289,227.8"},177,{"v":2969,"d":"2,969.0"},1,{"v":55471,"d":"55,471.0"},22,{"v":101731,"d":"101,731.0"},33,{"v":21570,"d":"21,570.0"},50,{"v":15887,"d":"15,887.0"},2,0,0,{"v":6417.5,"d":"6,417.5"},5,0,0,0,0,0,0,{"v":264,"d":"264.0"},1,0,0,{"v":3588,"d":"3,588.0"},10,{"v":1303808.3,"d":"1,303,808.3"},281]
["신덕동",{"v":5662690.5,"d":"5,662,690.5"},{"v":1799,"d":"1,799"},{"v":271099,"d":"271,099.0"},374,{"v":235672,"d":"235,672.0"},248,{"v":11302,"d":"11,302.0"},4,0,0,{"v":4626761,"d":"4,626,761.0"},406,0,0,0,0,{"v":57599,"d":"57,599.0"},233,0,0,{"v":4555,"d":"4,555.0"},1,{"v":2843,"d":"2,843.0"},2,0,0,0,0,{"v":237526.4,"d":"237,526.4"},449,0,0,{"v":1518.1,"d":"1,518.1"},2,{"v":56441,"d":"56,441.0"},32,{"v":1084,"d":"1,084.0"},5,{"v":7634,"d":"7,634.0"},17,0,0,0,0,0,0,0,0,0,0,{"v":1185,"d":"1,185.0"},1,0,0,{"v":7123,"d":"7,123.0"},12,{"v":140348,"d":"140,348.0"},13]
["상암동",{"v":6715664,"d":"6,715,664.0"},{"v":4259,"d":"4,259"},{"v":717420,"d":"717,420.0"},861,{"v":1179841,"d":"1,179,841.0"},{"v":1299,"d":"1,299"},{"v":2815,"d":"2,815.0"},3,0,0,{"v":4210958,"d":"4,210,958.0"},413,0,0,0,0,{"v":201948,"d":"201,948.0"},578,{"v":6313,"d":"6,313.0"},8,{"v":20017,"d":"20,017.0"},3,{"v":1302,"d":"1,302.0"},4,{"v":3690,"d":"3,690.0"},3,{"v":1650,"d":"1,650.0"},6,{"v":166626,"d":"166,626.0"},859,0,0,{"v":149,"d":"149.0"},1,{"v":78697,"d":"78,697.0"},65,{"v":55493,"d":"55,493.0"},52,{"v":28805,"d":"28,805.0"},39,0,0,0,0,0,0,0,0,0,0,{"v":3165,"d":"3,165.0"},6,0,0,{"v":11617,"d":"11,617.0"},21,{"v":25158,"d":"25,158.0"},38]
["호명동",{"v":10858968,"d":"10,858,968.0"},{"v":3792,"d":"3,792"},{"v":695973,"d":"695,973.0"},767,{"v":1091199,"d":"1,091,199.0"},{"v":1058,"d":"1,058"},0,0,{"v":7221,"d":"7,221.0"},4,{"v":8435699,"d":"8,435,699.0"},674,0,0,0,0,{"v":151860,"d":"151,860.0"},366,0,0,0,0,0,0,{"v":1477,"d":"1,477.0"},3,{"v":2504,"d":"2,504.0"},4,{"v":253918,"d":"253,918.0"},759,0,0,0,0,{"v":79666,"d":"79,666.0"},66,{"v":69419,"d":"69,419.0"},24,{"v":25005,"d":"25,005.0"},29,0,0,0,0,0,0,0,0,0,0,{"v":2634,"d":"2,634.0"},3,0,0,{"v":22113,"d":"22,113.0"},20,{"v":20280,"d":"20,280.0"},15]
["돌산읍 군내리",{"v":3829814,"d":"3,829,814.0"},{"v":3440,"d":"3,440"},{"v":1071799,"d":"1,071,799.0"},{"v":1258,"d":"1,258"},{"v":69060,"d":"69,060.0"},137,{"v":3389,"d":"3,389.0"},2,0,0,{"v":2255085,"d":"2,255,085.0"},643,0,0,0,0,{"v":133999,"d":"133,999.0"},706,{"v":3276,"d":"3,276.0"},3,{"v":50877,"d":"50,877.0"},9,0,0,{"v":947,"d":"947.0"},4,{"v":840,"d":"840.0"},3,{"v":114004,"d":"114,004.0"},438,0,0,{"v":3736,"d":"3,736.0"},19,{"v":3154,"d":"3,154.0"},4,{"v":33389,"d":"33,389.0"},48,{"v":4553,"d":"4,553.0"},13,{"v":18436,"d":"18,436.0"},7,0,0,0,0,0,0,0,0,{"v":5981,"d":"5,981.0"},9,{"v":883,"d":"883.0"},4,{"v":19273,"d":"19,273.0"},39,{"v":37133,"d":"37,133.0"},94]
["돌산읍 신복리",{"v":8279205.4,"d":"8,279,205.4"},{"v":4198,"d":"4,198"},{"v":1003311,"d":"1,003,311.0"},913,{"v":607698,"d":"607,698.0"},750,0,0,{"v":16201,"d":"16,201.0"},8,{"v":5963636,"d":"5,963,636.0"},759,0,0,0,0,{"v":112370,"d":"112,370.0"},492,{"v":10525,"d":"10,525.0"},5,{"v":11467,"d":"11,467.0"},1,0,0,0,0,{"v":6258,"d":"6,258.0"},12,{"v":170739.7,"d":"170,739.7"},856,0,0,{"v":23510.9,"d":"23,510.9"},38,{"v":3568,"d":"3,568.0"},16,{"v":73212,"d":"73,212.0"},79,{"v":113200,"d":"113,200.0"},160,{"v":37282,"d":"37,282.0"},19,{"v":99,"d":"99.0"},1,0,0,0,0,0,0,{"v":7667,"d":"7,667.0"},4,0,0,{"v":66317,"d":"66,317.0"},22,{"v":52143.8,"d":"52,143.8"},63]
["돌산읍 금성리",{"v":5509983,"d":"5,509,983.0"},{"v":2429,"d":"2,429"},{"v":836066,"d":"836,066.0"},871,{"v":55012,"d":"55,012.0"},132,0,0,0,0,{"v":4332379,"d":"4,332,379.0"},607,0,0,0,0,{"v":79434,"d":"79,434.0"},344,0,0,{"v":6963,"d":"6,963.0"},1,0,0,0,0,{"v":740,"d":"740.0"},2,{"v":151455,"d":"151,455.0"},399,0,0,{"v":2067,"d":"2,067.0"},5,{"v":1852,"d":"1,852.0"},11,{"v":14698,"d":"14,698.0"},10,{"v":149,"d":"149.0"},1,{"v":3627,"d":"3,627.0"},6,0,0,0,0,0,0,0,0,{"v":796,"d":"796.0"},2,0,0,{"v":7022,"d":"7,022.0"},12,{"v":17723,"d":"17,723.0"},26]
["돌산읍 율림리",{"v":7064933,"d":"7,064,933.0"},{"v":3103,"d":"3,103"},{"v":770278,"d":"770,278.0"},928,{"v":69651,"d":"69,651.0"},134,0,0,{"v":1140,"d":"1,140.0"},1,{"v":5749940,"d":"5,749,940.0"},742,0,0,0,0,{"v":123961,"d":"123,961.0"},420,0,0,{"v":6136,"d":"6,136.0"},8,{"v":435,"d":"435.0"},2,{"v":796,"d":"796.0"},1,{"v":6325,"d":"6,325.0"},5,{"v":199326,"d":"199,326.0"},756,0,0,{"v":1292,"d":"1,292.0"},4,{"v":442,"d":"442.0"},7,{"v":51592,"d":"51,592.0"},38,0,0,{"v":23086,"d":"23,086.0"},6,0,0,0,0,0,0,0,0,{"v":860,"d":"860.0"},2,0,0,{"v":8182,"d":"8,182.0"},9,{"v":51491,"d":"51,491.0"},40]
["돌산읍 죽포리",{"v":5934440,"d":"5,934,440.0"},{"v":4931,"d":"4,931"},{"v":1072403,"d":"1,072,403.0"},{"v":1245,"d":"1,245"},{"v":797219,"d":"797,219.0"},{"v":1073,"d":"1,073"},0,0,{"v":11612,"d":"11,612.0"},3,{"v":3514459,"d":"3,514,459.0"},520,0,0,0,0,{"v":170709,"d":"170,709.0"},617,{"v":3760,"d":"3,760.0"},2,{"v":16300,"d":"16,300.0"},3,0,0,{"v":1221,"d":"1,221.0"},4,{"v":4027,"d":"4,027.0"},9,{"v":172162,"d":"172,162.0"},{"v":1184,"d":"1,184"},0,0,{"v":4534,"d":"4,534.0"},12,{"v":14195,"d":"14,195.0"},9,{"v":72158,"d":"72,158.0"},134,{"v":2379,"d":"2,379.0"},3,{"v":4713,"d":"4,713.0"},5,0,0,0,0,0,0,0,0,{"v":1781,"d":"1,781.0"},2,0,0,{"v":25252,"d":"25,252.0"},51,{"v":45556,"d":"45,556.0"},55]
["돌산읍 서덕리",{"v":4662579,"d":"4,662,579.0"},{"v":3257,"d":"3,257"},{"v":731343,"d":"731,343.0"},856,{"v":495527,"d":"495,527.0"},719,0,0,{"v":119707,"d":"119,707.0"},12,{"v":2955267,"d":"2,955,267.0"},571,0,0,0,0,{"v":64623,"d":"64,623.0"},261,{"v":2118,"d":"2,118.0"},1,0,0,0,0,0,0,{"v":1020,"d":"1,020.0"},2,{"v":69794,"d":"69,794.0"},585,0,0,{"v":25372,"d":"25,372.0"},69,{"v":105,"d":"105.0"},4,{"v":39026,"d":"39,026.0"},69,{"v":125530,"d":"125,530.0"},61,0,0,{"v":734,"d":"734.0"},1,0,0,0,0,0,0,{"v":632,"d":"632.0"},2,0,0,{"v":25844,"d":"25,844.0"},28,{"v":5937,"d":"5,937.0"},16]
["돌산읍 금봉리",{"v":8263068,"d":"8,263,068.0"},{"v":5095,"d":"5,095"},{"v":1256613,"d":"1,256,613.0"},{"v":1346,"d":"1,346"},{"v":763025,"d":"763,025.0"},982,{"v":5767,"d":"5,767.0"},4,{"v":10002,"d":"10,002.0"},2,{"v":5663150,"d":"5,663,150.0"},973,0,0,0,0,{"v":162550,"d":"162,550.0"},518,{"v":3239,"d":"3,239.0"},2,{"v":9668,"d":"9,668.0"},7,0,0,0,0,{"v":3597,"d":"3,597.0"},8,{"v":166724,"d":"166,724.0"},871,0,0,{"v":2744,"d":"2,744.0"},4,{"v":771,"d":"771.0"},9,{"v":83341,"d":"83,341.0"},64,{"v":15733,"d":"15,733.0"},36,{"v":21622,"d":"21,622.0"},14,0,0,0,0,0,0,0,0,{"v":3791,"d":"3,791.0"},4,0,0,{"v":26883,"d":"26,883.0"},27,{"v":63848,"d":"63,848.0"},224]
["돌산읍 둔전리",{"v":5390743.2,"d":"5,390,743.2"},{"v":3726,"d":"3,726"},{"v":684072,"d":"684,072.0"},829,{"v":916295,"d":"916,295.0"},875,{"v":6852,"d":"6,852.0"},2,{"v":33087,"d":"33,087.0"},9,{"v":3270817,"d":"3,270,817.0"},598,0,0,0,0,{"v":105934,"d":"105,934.0"},326,{"v":4188,"d":"4,188.0"},3,{"v":26614,"d":"26,614.0"},9,0,0,0,0,{"v":2679,"d":"2,679.0"},7,{"v":173072.9,"d":"173,072.9"},893,0,0,0,0,{"v":545,"d":"545.0"},3,{"v":113591.2,"d":"113,591.2"},93,{"v":27550,"d":"27,550.0"},36,{"v":3253.1,"d":"3,253.1"},4,0,0,0,0,0,0,0,0,{"v":980,"d":"980.0"},2,0,0,{"v":5621,"d":"5,621.0"},16,{"v":15592,"d":"15,592.0"},21]
["돌산읍 평사리",{"v":15228035.9,"d":"15,228,035.9"},{"v":8272,"d":"8,272"},{"v":1805009,"d":"1,805,009.0"},{"v":1850,"d":"1,850"},{"v":747884.2,"d":"747,884.2"},976,{"v":75756,"d":"75,756.0"},13,{"v":813335,"d":"813,335.0"},26,{"v":10530056,"d":"10,530,056.0"},{"v":2049,"d":"2,049"},0,0,0,0,{"v":348362,"d":"348,362.0"},969,{"v":6958,"d":"6,958.0"},12,{"v":13092,"d":"13,092.0"},3,{"v":2297,"d":"2,297.0"},6,{"v":2515,"d":"2,515.0"},3,{"v":7234,"d":"7,234.0"},13,{"v":448939,"d":"448,939.0"},{"v":1843,"d":"1,843"},0,0,{"v":18673,"d":"18,673.0"},24,{"v":34879.3,"d":"34,879.3"},24,{"v":59005.8,"d":"59,005.8"},118,{"v":116024,"d":"116,024.0"},19,0,0,0,0,0,0,0,0,{"v":38544.6,"d":"38,544.6"},1,{"v":19021,"d":"19,021.0"},10,0,0,{"v":26972,"d":"26,972.0"},27,{"v":113479,"d":"113,479.0"},286]
["돌산읍 우두리",{"v":7766896.1,"d":"7,766,896.1"},{"v":6875,"d":"6,875"},{"v":1293489.7,"d":"1,293,489.7"},{"v":1394,"d":"1,394"},{"v":512261,"d":"512,261.0"},634,{"v":4699,"d":"4,699.0"},4,{"v":2124,"d":"2,124.0"},2,{"v":4011442,"d":"4,011,442.0"},{"v":1529,"d":"1,529"},0,0,0,0,{"v":868856.9,"d":"868,856.9"},{"v":2309,"d":"2,309"},{"v":15123,"d":"15,123.0"},8,{"v":37447.5,"d":"37,447.5"},4,{"v":4358.6,"d":"4,358.6"},5,{"v":1981,"d":"1,981.0"},4,{"v":12260.6,"d":"12,260.6"},15,{"v":513484.1,"d":"513,484.1"},623,0,0,{"v":12894.4,"d":"12,894.4"},16,0,0,{"v":36651,"d":"36,651.0"},37,{"v":22150,"d":"22,150.0"},24,{"v":6892,"d":"6,892.0"},7,0,0,{"v":56646.3,"d":"56,646.3"},12,0,0,{"v":175596,"d":"175,596.0"},1,{"v":16061.8,"d":"16,061.8"},10,0,0,{"v":8708,"d":"8,708.0"},22,{"v":153769.2,"d":"153,769.2"},215]
["소라면 덕양리",{"v":6254296.3,"d":"6,254,296.3"},{"v":5391,"d":"5,391"},{"v":877658,"d":"877,658.0"},{"v":1242,"d":"1,242"},{"v":910814.8,"d":"910,814.8"},{"v":1022,"d":"1,022"},0,0,{"v":5926,"d":"5,926.0"},12,{"v":3192985,"d":"3,192,985.0"},519,0,0,0,0,{"v":359261,"d":"359,261.0"},{"v":1226,"d":"1,226"},{"v":10468,"d":"10,468.0"},6,{"v":35902,"d":"35,902.0"},8,{"v":5398,"d":"5,398.0"},7,{"v":12192,"d":"12,192.0"},15,{"v":13110,"d":"13,110.0"},17,{"v":414781.7,"d":"414,781.7"},{"v":1013,"d":"1,013"},{"v":64766,"d":"64,766.0"},32,{"v":7630,"d":"7,630.0"},3,{"v":124055,"d":"124,055.0"},26,{"v":120829.8,"d":"120,829.8"},114,{"v":21372,"d":"21,372.0"},1,0,0,{"v":3552,"d":"3,552.0"},25,{"v":1111,"d":"1,111.0"},1,0,0,0,0,{"v":7592,"d":"7,592.0"},11,0,0,{"v":11159,"d":"11,159.0"},14,{"v":53733,"d":"53,733.0"},77]
["소라면 죽림리",{"v":4051657.8,"d":"4,051,657.8"},{"v":3274,"d":"3,274"},{"v":518011,"d":"518,011.0"},708,{"v":589149.8,"d":"589,149.8"},686,{"v":1653,"d":"1,653.0"},5,{"v":6724,"d":"6,724.0"},3,{"v":1735972,"d":"1,735,972.0"},860,0,0,0,0,{"v":365399.1,"d":"365,399.1"},477,{"v":229,"d":"229.0"},1,{"v":19658.7,"d":"19,658.7"},2,{"v":7168.1,"d":"7,168.1"},11,675.7,1,{"v":200,"d":"200.0"},1,{"v":309146.5,"d":"309,146.5"},382,0,0,0,0,{"v":14425,"d":"14,425.0"},8,{"v":39893.8,"d":"39,893.8"},24,{"v":263646,"d":"263,646.0"},16,0,0,0,0,{"v":144569.8,"d":"144,569.8"},51,{"v":6110,"d":"6,110.0"},8,0,0,{"v":6224.3,"d":"6,224.3"},3,0,0,{"v":13542,"d":"13,542.0"},21,{"v":9260,"d":"9,260.0"},6]
["소라면 관기리",{"v":4106636.9,"d":"4,106,636.9"},{"v":4053,"d":"4,053"},{"v":626159.2,"d":"626,159.2"},802,{"v":1814939.7,"d":"1,814,939.7"},{"v":1480,"d":"1,480"},0,0,0,0,{"v":1121501,"d":"1,121,501.0"},725,0,0,0,0,{"v":123011,"d":"123,011.0"},332,0,0,{"v":10598,"d":"10,598.0"},2,0,0,{"v":3407,"d":"3,407.0"},2,{"v":2230,"d":"2,230.0"},3,{"v":190989.4,"d":"190,989.4"},582,0,0,{"v":8113.4,"d":"8,113.4"},3,{"v":63689.5,"d":"63,689.5"},18,{"v":99370.7,"d":"99,370.7"},67,{"v":14736,"d":"14,736.0"},1,0,0,0,0,0,0,0,0,0,0,{"v":2112,"d":"2,112.0"},2,0,0,{"v":14832,"d":"14,832.0"},25,{"v":10948,"d":"10,948.0"},9]
["소라면 현천리",{"v":5576890.6,"d":"5,576,890.6"},{"v":2959,"d":"2,959"},{"v":756033,"d":"756,033.0"},753,{"v":1264058.4,"d":"1,264,058.4"},737,0,0,{"v":9881,"d":"9,881.0"},11,{"v":2778804,"d":"2,778,804.0"},478,0,0,0,0,{"v":160565,"d":"160,565.0"},331,{"v":2736,"d":"2,736.0"},2,{"v":9141,"d":"9,141.0"},1,0,0,0,0,{"v":3308,"d":"3,308.0"},9,{"v":183521.2,"d":"183,521.2"},483,0,0,{"v":19477.2,"d":"19,477.2"},7,{"v":38076,"d":"38,076.0"},8,{"v":107108.2,"d":"107,108.2"},81,{"v":211411.6,"d":"211,411.6"},9,0,0,0,0,0,0,0,0,0,0,{"v":3682,"d":"3,682.0"},5,0,0,{"v":14807,"d":"14,807.0"},17,{"v":14281,"d":"14,281.0"},27]
["소라면 복산리",{"v":10021830.4,"d":"10,021,830.4"},{"v":6026,"d":"6,026"},{"v":1649513,"d":"1,649,513.0"},{"v":1559,"d":"1,559"},{"v":1426910.9,"d":"1,426,910.9"},{"v":1158,"d":"1,158"},{"v":22480,"d":"22,480.0"},3,{"v":87134,"d":"87,134.0"},32,{"v":5719653,"d":"5,719,653.0"},{"v":1176,"d":"1,176"},0,0,0,0,{"v":224341,"d":"224,341.0"},552,{"v":20996,"d":"20,996.0"},7,{"v":14027,"d":"14,027.0"},2,{"v":11330,"d":"11,330.0"},10,{"v":4215,"d":"4,215.0"},3,{"v":17443,"d":"17,443.0"},17,{"v":361034.1,"d":"361,034.1"},{"v":1211,"d":"1,211"},0,0,{"v":11412,"d":"11,412.0"},16,{"v":52341,"d":"52,341.0"},1,{"v":158443.4,"d":"158,443.4"},103,{"v":114331,"d":"114,331.0"},62,{"v":1375,"d":"1,375.0"},1,0,0,0,0,0,0,0,0,{"v":4486,"d":"4,486.0"},6,0,0,{"v":55922,"d":"55,922.0"},53,{"v":64443,"d":"64,443.0"},54]
["소라면 사곡리",{"v":6362535,"d":"6,362,535.0"},{"v":3454,"d":"3,454"},{"v":1017120,"d":"1,017,120.0"},989,{"v":487291,"d":"487,291.0"},601,0,0,{"v":42091,"d":"42,091.0"},22,{"v":4247444,"d":"4,247,444.0"},650,0,0,0,0,{"v":150532,"d":"150,532.0"},397,{"v":2082,"d":"2,082.0"},2,{"v":6591,"d":"6,591.0"},1,{"v":1096,"d":"1,096.0"},2,{"v":3590,"d":"3,590.0"},5,{"v":1621,"d":"1,621.0"},4,{"v":255806,"d":"255,806.0"},665,0,0,{"v":3338,"d":"3,338.0"},6,0,0,{"v":91805,"d":"91,805.0"},44,{"v":19679,"d":"19,679.0"},22,0,0,0,0,0,0,0,0,0,0,{"v":821,"d":"821.0"},2,0,0,{"v":9582,"d":"9,582.0"},12,{"v":22046,"d":"22,046.0"},30]
["소라면 봉두리",{"v":13498860,"d":"13,498,860.0"},{"v":3403,"d":"3,403"},{"v":672596,"d":"672,596.0"},643,{"v":840605,"d":"840,605.0"},750,{"v":11874,"d":"11,874.0"},4,{"v":6946,"d":"6,946.0"},7,{"v":11089304,"d":"11,089,304.0"},850,0,0,0,0,{"v":104358,"d":"104,358.0"},275,{"v":7922,"d":"7,922.0"},3,{"v":6193,"d":"6,193.0"},1,{"v":984,"d":"984.0"},2,0,0,{"v":5331,"d":"5,331.0"},11,{"v":229391,"d":"229,391.0"},677,0,0,0,0,{"v":116321,"d":"116,321.0"},10,{"v":99855,"d":"99,855.0"},78,{"v":41720,"d":"41,720.0"},12,0,0,0,0,0,0,0,0,0,0,{"v":46,"d":"46.0"},1,0,0,{"v":221487,"d":"221,487.0"},27,{"v":43927,"d":"43,927.0"},52]
["소라면 대포리",{"v":10604852.2,"d":"10,604,852.2"},{"v":5664,"d":"5,664"},{"v":755597,"d":"755,597.0"},{"v":1165,"d":"1,165"},{"v":2452053.8,"d":"2,452,053.8"},{"v":1683,"d":"1,683"},0,0,{"v":378,"d":"378.0"},2,{"v":5685908,"d":"5,685,908.0"},582,0,0,0,0,{"v":249159,"d":"249,159.0"},701,{"v":6738,"d":"6,738.0"},5,0,0,{"v":10559,"d":"10,559.0"},7,{"v":8162,"d":"8,162.0"},10,{"v":8473,"d":"8,473.0"},15,{"v":341327.4,"d":"341,327.4"},893,{"v":30194,"d":"30,194.0"},25,{"v":13561,"d":"13,561.0"},3,{"v":384368,"d":"384,368.0"},49,{"v":232086.2,"d":"232,086.2"},328,{"v":264724,"d":"264,724.0"},64,0,0,{"v":21162.8,"d":"21,162.8"},34,0,0,0,0,0,0,{"v":4225,"d":"4,225.0"},7,0,0,{"v":7437,"d":"7,437.0"},15,{"v":128739,"d":"128,739.0"},76]
["율촌면 조화리",{"v":2963269.8,"d":"2,963,269.8"},{"v":3685,"d":"3,685"},{"v":383933,"d":"383,933.0"},571,{"v":985254,"d":"985,254.0"},{"v":1297,"d":"1,297"},{"v":30833,"d":"30,833.0"},18,{"v":2898,"d":"2,898.0"},2,{"v":253815,"d":"253,815.0"},145,0,0,0,0,{"v":211196,"d":"211,196.0"},747,{"v":87593.9,"d":"87,593.9"},6,{"v":30494,"d":"30,494.0"},4,{"v":2056,"d":"2,056.0"},4,{"v":7590,"d":"7,590.0"},10,{"v":7086,"d":"7,086.0"},11,{"v":258270,"d":"258,270.0"},600,{"v":60135,"d":"60,135.0"},31,{"v":15512,"d":"15,512.0"},6,{"v":31101,"d":"31,101.0"},4,{"v":75122.3,"d":"75,122.3"},81,{"v":72259,"d":"72,259.0"},17,{"v":2992,"d":"2,992.0"},2,{"v":28341,"d":"28,341.0"},47,{"v":82695.5,"d":"82,695.5"},7,0,0,0,0,{"v":7727,"d":"7,727.0"},4,0,0,{"v":14826,"d":"14,826.0"},12,{"v":311540.1,"d":"311,540.1"},59]
["율촌면 월산리",{"v":4433313.7,"d":"4,433,313.7"},{"v":4152,"d":"4,152"},{"v":512000,"d":"512,000.0"},607,{"v":929242,"d":"929,242.0"},{"v":1156,"d":"1,156"},{"v":58546,"d":"58,546.0"},18,{"v":4665,"d":"4,665.0"},4,{"v":2299944.7,"d":"2,299,944.7"},888,0,0,0,0,{"v":263682.6,"d":"263,682.6"},539,{"v":10477,"d":"10,477.0"},5,{"v":7621,"d":"7,621.0"},2,{"v":1020.7,"d":"1,020.7"},2,{"v":1445,"d":"1,445.0"},3,{"v":5978,"d":"5,978.0"},4,{"v":209515.8,"d":"209,515.8"},715,0,0,0,0,{"v":18988,"d":"18,988.0"},10,{"v":73468,"d":"73,468.0"},140,{"v":1528,"d":"1,528.0"},6,0,0,0,0,{"v":9716.8,"d":"9,716.8"},3,0,0,0,0,{"v":4634,"d":"4,634.0"},6,0,0,{"v":2184,"d":"2,184.0"},10,{"v":18657.1,"d":"18,657.1"},34]
["율촌면 산수리",{"v":5323496,"d":"5,323,496.0"},{"v":3747,"d":"3,747"},{"v":497755,"d":"497,755.0"},603,{"v":1068212,"d":"1,068,212.0"},{"v":1050,"d":"1,050"},{"v":9349,"d":"9,349.0"},2,{"v":18129,"d":"18,129.0"},17,{"v":3253011,"d":"3,253,011.0"},913,0,0,0,0,{"v":151201,"d":"151,201.0"},394,{"v":1200,"d":"1,200.0"},1,{"v":8387,"d":"8,387.0"},3,0,0,0,0,0,0,{"v":141406,"d":"141,406.0"},624,0,0,0,0,{"v":10955,"d":"10,955.0"},4,{"v":112127,"d":"112,127.0"},71,{"v":25680,"d":"25,680.0"},25,0,0,0,0,0,0,0,0,0,0,{"v":2870,"d":"2,870.0"},4,0,0,{"v":5314,"d":"5,314.0"},13,{"v":17900,"d":"17,900.0"},23]
["율촌면 가장리",{"v":9705370.7,"d":"9,705,370.7"},{"v":4406,"d":"4,406"},{"v":821048,"d":"821,048.0"},732,{"v":1565498,"d":"1,565,498.0"},{"v":1261,"d":"1,261"},{"v":32100,"d":"32,100.0"},5,{"v":212239,"d":"212,239.0"},36,{"v":6335180.4,"d":"6,335,180.4"},{"v":1015,"d":"1,015"},0,0,0,0,{"v":169745.9,"d":"169,745.9"},381,0,0,{"v":8505,"d":"8,505.0"},3,{"v":1278,"d":"1,278.0"},1,0,0,{"v":516,"d":"516.0"},1,{"v":208103,"d":"208,103.0"},696,0,0,0,0,{"v":61605,"d":"61,605.0"},18,{"v":198676,"d":"198,676.0"},181,{"v":51340,"d":"51,340.0"},34,0,0,0,0,{"v":1015.4,"d":"1,015.4"},1,0,0,0,0,{"v":3845,"d":"3,845.0"},5,0,0,{"v":16248,"d":"16,248.0"},17,{"v":18428,"d":"18,428.0"},19]
["율촌면 봉전리",{"v":4091423,"d":"4,091,423.0"},{"v":2179,"d":"2,179"},{"v":614607,"d":"614,607.0"},641,{"v":363972,"d":"363,972.0"},355,0,0,{"v":2789,"d":"2,789.0"},2,{"v":2792460,"d":"2,792,460.0"},491,0,0,{"v":1937,"d":"1,937.0"},4,{"v":65602,"d":"65,602.0"},181,{"v":7693,"d":"7,693.0"},2,0,0,0,0,0,0,{"v":1166,"d":"1,166.0"},3,{"v":92273,"d":"92,273.0"},394,0,0,{"v":4488,"d":"4,488.0"},6,{"v":777,"d":"777.0"},1,{"v":34686,"d":"34,686.0"},20,{"v":16514,"d":"16,514.0"},9,0,0,0,0,0,0,0,0,0,0,{"v":1740,"d":"1,740.0"},5,0,0,{"v":17603,"d":"17,603.0"},40,{"v":73116,"d":"73,116.0"},25]
["율촌면 반월리",{"v":2277936,"d":"2,277,936.0"},{"v":1307,"d":"1,307"},{"v":320434,"d":"320,434.0"},337,{"v":306616,"d":"306,616.0"},290,0,0,{"v":5573,"d":"5,573.0"},2,{"v":1450667,"d":"1,450,667.0"},243,0,0,0,0,{"v":46049,"d":"46,049.0"},146,0,0,0,0,0,0,{"v":618,"d":"618.0"},1,{"v":306,"d":"306.0"},2,{"v":56822,"d":"56,822.0"},214,0,0,{"v":1679,"d":"1,679.0"},2,0,0,{"v":53541,"d":"53,541.0"},22,{"v":23227,"d":"23,227.0"},18,0,0,0,0,0,0,0,0,0,0,{"v":607,"d":"607.0"},1,0,0,{"v":6884,"d":"6,884.0"},17,{"v":4913,"d":"4,913.0"},12]
["율촌면 취적리",{"v":7664729,"d":"7,664,729.0"},{"v":4194,"d":"4,194"},{"v":794126,"d":"794,126.0"},861,{"v":981027,"d":"981,027.0"},{"v":1052,"d":"1,052"},{"v":4732,"d":"4,732.0"},1,{"v":601,"d":"601.0"},1,{"v":5025741,"d":"5,025,741.0"},697,0,0,0,0,{"v":210976,"d":"210,976.0"},449,{"v":13496,"d":"13,496.0"},5,0,0,{"v":2421,"d":"2,421.0"},6,{"v":11117,"d":"11,117.0"},5,{"v":1403,"d":"1,403.0"},2,{"v":256699,"d":"256,699.0"},769,{"v":50963,"d":"50,963.0"},49,{"v":3356,"d":"3,356.0"},4,{"v":7481,"d":"7,481.0"},12,{"v":121532,"d":"121,532.0"},122,{"v":41915,"d":"41,915.0"},41,0,0,{"v":36531,"d":"36,531.0"},34,0,0,0,0,0,0,0,0,0,0,{"v":28898,"d":"28,898.0"},31,{"v":71714,"d":"71,714.0"},53]
["율촌면 신풍리",{"v":6263260.6,"d":"6,263,260.6"},{"v":4903,"d":"4,903"},{"v":572502,"d":"572,502.0"},756,{"v":1411029,"d":"1,411,029.0"},{"v":1344,"d":"1,344"},{"v":79424,"d":"79,424.0"},31,{"v":91478,"d":"91,478.0"},158,{"v":2541365.8,"d":"2,541,365.8"},487,0,0,0,0,{"v":408439.6,"d":"408,439.6"},799,{"v":20943,"d":"20,943.0"},11,{"v":15992,"d":"15,992.0"},3,{"v":3143,"d":"3,143.0"},2,{"v":1840,"d":"1,840.0"},1,{"v":4952,"d":"4,952.0"},8,{"v":219206.8,"d":"219,206.8"},863,{"v":54023,"d":"54,023.0"},31,{"v":7114,"d":"7,114.0"},6,{"v":52152,"d":"52,152.0"},13,{"v":163272,"d":"163,272.0"},134,{"v":108889,"d":"108,889.0"},41,0,0,{"v":25685,"d":"25,685.0"},22,0,0,0,0,0,0,{"v":3814,"d":"3,814.0"},4,0,0,{"v":18554,"d":"18,554.0"},18,{"v":459442.4,"d":"459,442.4"},171]
["율촌면 상봉리",{"v":3343665,"d":"3,343,665.0"},{"v":1919,"d":"1,919"},{"v":443083,"d":"443,083.0"},444,{"v":358629,"d":"358,629.0"},361,{"v":1693,"d":"1,693.0"},1,{"v":27928,"d":"27,928.0"},16,{"v":2175694,"d":"2,175,694.0"},363,0,0,0,0,{"v":78760,"d":"78,760.0"},185,{"v":7369,"d":"7,369.0"},2,{"v":12729,"d":"12,729.0"},2,{"v":1358,"d":"1,358.0"},1,{"v":331,"d":"331.0"},1,{"v":7942,"d":"7,942.0"},10,{"v":143253,"d":"143,253.0"},460,0,0,{"v":1263,"d":"1,263.0"},2,{"v":869,"d":"869.0"},1,{"v":61606,"d":"61,606.0"},48,0,0,0,0,0,0,0,0,0,0,0,0,{"v":3436,"d":"3,436.0"},2,0,0,{"v":12055,"d":"12,055.0"},7,{"v":5667,"d":"5,667.0"},13]
["율촌면 여동리",{"v":1038472,"d":"1,038,472.0"},846,{"v":226722,"d":"226,722.0"},332,{"v":16175,"d":"16,175.0"},45,{"v":14883,"d":"14,883.0"},2,{"v":1011,"d":"1,011.0"},1,{"v":723461,"d":"723,461.0"},241,0,0,0,0,{"v":28318,"d":"28,318.0"},161,0,0,{"v":7128,"d":"7,128.0"},5,0,0,0,0,0,0,{"v":14908,"d":"14,908.0"},45,0,0,{"v":483,"d":"483.0"},5,0,0,{"v":836,"d":"836.0"},1,0,0,0,0,0,0,0,0,0,0,0,0,0,0,0,0,{"v":2585,"d":"2,585.0"},1,{"v":1962,"d":"1,962.0"},7]
["화양면 나진리",{"v":5832309.8,"d":"5,832,309.8"},{"v":3026,"d":"3,026"},{"v":590439,"d":"590,439.0"},606,{"v":433438.4,"d":"433,438.4"},409,{"v":9693,"d":"9,693.0"},3,{"v":6456,"d":"6,456.0"},8,{"v":4249327,"d":"4,249,327.0"},836,0,0,0,0,{"v":141574,"d":"141,574.0"},344,{"v":46586,"d":"46,586.0"},17,{"v":30464,"d":"30,464.0"},11,0,0,0,0,{"v":2886,"d":"2,886.0"},3,{"v":187523.7,"d":"187,523.7"},642,0,0,{"v":2307,"d":"2,307.0"},12,{"v":393,"d":"393.0"},1,{"v":66371.9,"d":"66,371.9"},74,{"v":11023.8,"d":"11,023.8"},10,{"v":654,"d":"654.0"},1,0,0,0,0,0,0,0,0,{"v":6921,"d":"6,921.0"},10,0,0,{"v":6108,"d":"6,108.0"},8,{"v":40144,"d":"40,144.0"},31]
["화양면 용주리",{"v":4529539,"d":"4,529,539.0"},{"v":3558,"d":"3,558"},{"v":1234400,"d":"1,234,400.0"},{"v":1157,"d":"1,157"},{"v":569350,"d":"569,350.0"},413,{"v":14075,"d":"14,075.0"},24,{"v":26913,"d":"26,913.0"},5,{"v":2110550,"d":"2,110,550.0"},558,0,0,0,0,{"v":168423,"d":"168,423.0"},538,{"v":39150,"d":"39,150.0"},17,{"v":10482,"d":"10,482.0"},2,0,0,{"v":1123,"d":"1,123.0"},1,{"v":8911,"d":"8,911.0"},12,{"v":161924,"d":"161,924.0"},680,0,0,{"v":8892,"d":"8,892.0"},11,{"v":8213,"d":"8,213.0"},8,{"v":47340,"d":"47,340.0"},21,{"v":19287,"d":"19,287.0"},12,{"v":7590,"d":"7,590.0"},4,0,0,0,0,0,0,0,0,{"v":4604,"d":"4,604.0"},5,{"v":6161,"d":"6,161.0"},3,{"v":26285,"d":"26,285.0"},31,{"v":55866,"d":"55,866.0"},56]
["화양면 창무리",{"v":3959236.3,"d":"3,959,236.3"},{"v":2425,"d":"2,425"},{"v":814198,"d":"814,198.0"},737,{"v":389407,"d":"389,407.0"},321,0,0,{"v":11610,"d":"11,610.0"},4,{"v":2226582,"d":"2,226,582.0"},380,0,0,0,0,{"v":97810,"d":"97,810.0"},282,{"v":9573,"d":"9,573.0"},5,0,0,{"v":5356,"d":"5,356.0"},4,{"v":2997,"d":"2,997.0"},2,{"v":4362,"d":"4,362.0"},8,{"v":104317.7,"d":"104,317.7"},583,0,0,{"v":3438,"d":"3,438.0"},1,{"v":28449.7,"d":"28,449.7"},20,{"v":47551.4,"d":"47,551.4"},41,{"v":194774,"d":"194,774.0"},4,0,0,0,0,0,0,0,0,0,0,{"v":1103,"d":"1,103.0"},5,0,0,{"v":5902,"d":"5,902.0"},3,{"v":11805.5,"d":"11,805.5"},25]
["화양면 이천리",{"v":3554225,"d":"3,554,225.0"},{"v":2054,"d":"2,054"},{"v":781160,"d":"781,160.0"},762,{"v":112439,"d":"112,439.0"},173,{"v":5891,"d":"5,891.0"},2,{"v":1761,"d":"1,761.0"},1,{"v":2342205,"d":"2,342,205.0"},411,0,0,0,0,{"v":110944,"d":"110,944.0"},302,{"v":444,"d":"444.0"},1,{"v":9352,"d":"9,352.0"},6,{"v":1265,"d":"1,265.0"},2,0,0,{"v":1054,"d":"1,054.0"},2,{"v":145175,"d":"145,175.0"},329,0,0,{"v":4742,"d":"4,742.0"},14,0,0,{"v":19164,"d":"19,164.0"},22,{"v":3481,"d":"3,481.0"},2,0,0,0,0,0,0,0,0,0,0,{"v":992,"d":"992.0"},1,0,0,{"v":1478,"d":"1,478.0"},4,{"v":12678,"d":"12,678.0"},20]
["화양면 옥적리",{"v":11946359.3,"d":"11,946,359.3"},{"v":4830,"d":"4,830"},{"v":1452669,"d":"1,452,669.0"},{"v":1360,"d":"1,360"},{"v":1289314.6,"d":"1,289,314.6"},{"v":1169,"d":"1,169"},{"v":56059,"d":"56,059.0"},9,{"v":31798,"d":"31,798.0"},6,{"v":8307404,"d":"8,307,404.0"},937,0,0,0,0,{"v":122663,"d":"122,663.0"},340,{"v":8050,"d":"8,050.0"},2,{"v":30,"d":"30.0"},1,{"v":2538,"d":"2,538.0"},3,0,0,{"v":4276,"d":"4,276.0"},9,{"v":246155.2,"d":"246,155.2"},711,0,0,{"v":8921,"d":"8,921.0"},5,{"v":60004.4,"d":"60,004.4"},16,{"v":165909.1,"d":"165,909.1"},129,{"v":161919,"d":"161,919.0"},100,0,0,0,0,0,0,0,0,0,0,{"v":1692,"d":"1,692.0"},2,0,0,{"v":16448,"d":"16,448.0"},11,{"v":10509,"d":"10,509.0"},20]
["화양면 화동리",{"v":7418739.7,"d":"7,418,739.7"},{"v":4093,"d":"4,093"},{"v":1061889,"d":"1,061,889.0"},{"v":1038,"d":"1,038"},{"v":870417.4,"d":"870,417.4"},829,{"v":1850,"d":"1,850.0"},2,{"v":12543,"d":"12,543.0"},4,{"v":4741482.8,"d":"4,741,482.8"},743,0,0,0,0,{"v":124210.5,"d":"124,210.5"},419,{"v":101598.2,"d":"101,598.2"},22,{"v":33365,"d":"33,365.0"},4,{"v":1088,"d":"1,088.0"},1,{"v":1811,"d":"1,811.0"},1,{"v":5578,"d":"5,578.0"},11,{"v":203990.5,"d":"203,990.5"},678,0,0,0,0,{"v":3568,"d":"3,568.0"},10,{"v":132195.1,"d":"132,195.1"},244,{"v":79538,"d":"79,538.0"},36,0,0,0,0,0,0,0,0,0,0,{"v":2095,"d":"2,095.0"},5,0,0,{"v":22954,"d":"22,954.0"},17,{"v":18566.2,"d":"18,566.2"},29]
["화양면 서촌리",{"v":6225655.7,"d":"6,225,655.7"},{"v":3229,"d":"3,229"},{"v":950276,"d":"950,276.0"},872,{"v":714583,"d":"714,583.0"},695,{"v":10611,"d":"10,611.0"},2,{"v":16806,"d":"16,806.0"},12,{"v":4164673,"d":"4,164,673.0"},554,0,0,0,0,{"v":87824,"d":"87,824.0"},318,{"v":2921,"d":"2,921.0"},1,0,0,0,0,0,0,{"v":1029,"d":"1,029.0"},3,{"v":116568.6,"d":"116,568.6"},579,0,0,{"v":2298,"d":"2,298.0"},1,{"v":1736,"d":"1,736.0"},10,{"v":105848.1,"d":"105,848.1"},137,{"v":18192,"d":"18,192.0"},14,0,0,0,0,0,0,0,0,0,0,{"v":1718,"d":"1,718.0"},5,0,0,{"v":12032,"d":"12,032.0"},12,{"v":18540,"d":"18,540.0"},14]
["화양면 이목리",{"v":8996418,"d":"8,996,418.0"},{"v":4867,"d":"4,867"},{"v":1076318,"d":"1,076,318.0"},{"v":1015,"d":"1,015"},{"v":640809,"d":"640,809.0"},990,0,0,{"v":44312,"d":"44,312.0"},7,{"v":6728975,"d":"6,728,975.0"},{"v":1533,"d":"1,533"},0,0,0,0,{"v":151683,"d":"151,683.0"},427,0,0,{"v":5586,"d":"5,586.0"},7,0,0,0,0,{"v":958,"d":"958.0"},3,{"v":237170,"d":"237,170.0"},771,0,0,{"v":2730,"d":"2,730.0"},16,{"v":205,"d":"205.0"},2,{"v":67408,"d":"67,408.0"},35,{"v":10156,"d":"10,156.0"},8,0,0,0,0,0,0,0,0,0,0,{"v":1344,"d":"1,344.0"},3,0,0,{"v":13686,"d":"13,686.0"},20,{"v":15078,"d":"15,078.0"},30]
["화양면 장수리",{"v":5244893,"d":"5,244,893.0"},{"v":3653,"d":"3,653"},{"v":1165702,"d":"1,165,702.0"},{"v":1172,"d":"1,172"},{"v":302255,"d":"302,255.0"},513,{"v":2420,"d":"2,420.0"},1,{"v":12255,"d":"12,255.0"},10,{"v":3354857,"d":"3,354,857.0"},814,0,0,0,0,{"v":127613,"d":"127,613.0"},425,0,0,{"v":21516,"d":"21,516.0"},5,0,0,0,0,{"v":1209,"d":"1,209.0"},5,{"v":194753,"d":"194,753.0"},597,0,0,{"v":7575,"d":"7,575.0"},18,0,0,{"v":22675,"d":"22,675.0"},29,0,0,{"v":1524,"d":"1,524.0"},2,0,0,0,0,0,0,0,0,0,0,0,0,{"v":14373,"d":"14,373.0"},24,{"v":16166,"d":"16,166.0"},38]
["화양면 안포리",{"v":12416745.3,"d":"12,416,745.3"},{"v":6735,"d":"6,735"},{"v":1562306,"d":"1,562,306.0"},{"v":1734,"d":"1,734"},{"v":798864.5,"d":"798,864.5"},{"v":1100,"d":"1,100"},{"v":29555,"d":"29,555.0"},7,{"v":51637,"d":"51,637.0"},26,{"v":9135644,"d":"9,135,644.0"},{"v":1786,"d":"1,786"},0,0,0,0,{"v":201328,"d":"201,328.0"},613,{"v":7050,"d":"7,050.0"},1,{"v":6792,"d":"6,792.0"},2,0,0,{"v":1629,"d":"1,629.0"},1,{"v":8225,"d":"8,225.0"},14,{"v":358877.9,"d":"358,877.9"},{"v":1096,"d":"1,096"},0,0,{"v":7422,"d":"7,422.0"},19,{"v":393,"d":"393.0"},2,{"v":95720.9,"d":"95,720.9"},108,{"v":66302,"d":"66,302.0"},83,{"v":20344,"d":"20,344.0"},13,0,0,0,0,0,0,0,0,{"v":3533,"d":"3,533.0"},5,0,0,{"v":16871,"d":"16,871.0"},31,{"v":44251,"d":"44,251.0"},94]
["남면 우학리",{"v":4513342,"d":"4,513,342.0"},{"v":2759,"d":"2,759"},{"v":1232503,"d":"1,232,503.0"},929,{"v":236364,"d":"236,364.0"},481,0,0,0,0,{"v":2686018,"d":"2,686,018.0"},520,0,0,0,0,{"v":88407,"d":"88,407.0"},337,0,0,{"v":33393,"d":"33,393.0"},6,0,0,0,0,0,0,{"v":152025,"d":"152,025.0"},416,0,0,{"v":1925,"d":"1,925.0"},8,0,0,{"v":26106,"d":"26,106.0"},20,0,0,{"v":4524,"d":"4,524.0"},3,{"v":926,"d":"926.0"},3,0,0,0,0,0,0,{"v":1523,"d":"1,523.0"},3,0,0,{"v":27528,"d":"27,528.0"},5,{"v":22100,"d":"22,100.0"},28]
["남면 심장리",{"v":4435606,"d":"4,435,606.0"},{"v":2506,"d":"2,506"},{"v":1418176,"d":"1,418,176.0"},952,{"v":123199,"d":"123,199.0"},308,0,0,0,0,{"v":2625292,"d":"2,625,292.0"},421,0,0,0,0,{"v":94942,"d":"94,942.0"},395,0,0,{"v":4663,"d":"4,663.0"},2,0,0,0,0,{"v":243,"d":"243.0"},1,{"v":113254,"d":"113,254.0"},315,0,0,{"v":4234,"d":"4,234.0"},15,{"v":403,"d":"403.0"},1,{"v":15465,"d":"15,465.0"},15,{"v":582,"d":"582.0"},1,{"v":8684,"d":"8,684.0"},10,0,0,0,0,0,0,0,0,{"v":232,"d":"232.0"},1,0,0,{"v":16265,"d":"16,265.0"},15,{"v":9972,"d":"9,972.0"},54]
["남면 두모리",{"v":11121624,"d":"11,121,624.0"},{"v":3549,"d":"3,549"},{"v":1265170,"d":"1,265,170.0"},{"v":1068,"d":"1,068"},{"v":441976,"d":"441,976.0"},924,0,0,0,0,{"v":9093029,"d":"9,093,029.0"},693,0,0,0,0,{"v":64393,"d":"64,393.0"},242,0,0,{"v":5557,"d":"5,557.0"},5,0,0,0,0,{"v":465,"d":"465.0"},2,{"v":174590,"d":"174,590.0"},471,0,0,{"v":3155,"d":"3,155.0"},9,{"v":12780,"d":"12,780.0"},43,{"v":18015,"d":"18,015.0"},17,{"v":29746,"d":"29,746.0"},40,{"v":400,"d":"400.0"},1,{"v":1484,"d":"1,484.0"},2,0,0,0,0,0,0,{"v":694,"d":"694.0"},1,0,0,{"v":1200,"d":"1,200.0"},3,{"v":8970,"d":"8,970.0"},28]
["남면 유송리",{"v":7687592,"d":"7,687,592.0"},{"v":3228,"d":"3,228"},{"v":1658659,"d":"1,658,659.0"},{"v":1369,"d":"1,369"},{"v":166441,"d":"166,441.0"},426,0,0,0,0,{"v":5615712,"d":"5,615,712.0"},717,0,0,0,0,{"v":85048,"d":"85,048.0"},361,0,0,{"v":8244,"d":"8,244.0"},4,0,0,0,0,{"v":192,"d":"192.0"},1,{"v":94257,"d":"94,257.0"},261,0,0,{"v":7454,"d":"7,454.0"},20,{"v":1015,"d":"1,015.0"},3,{"v":23784,"d":"23,784.0"},29,{"v":531,"d":"531.0"},1,0,0,0,0,0,0,0,0,0,0,{"v":317,"d":"317.0"},2,0,0,{"v":12476,"d":"12,476.0"},3,{"v":13462,"d":"13,462.0"},31]
["남면 안도리",{"v":3744925,"d":"3,744,925.0"},{"v":2543,"d":"2,543"},{"v":1132053,"d":"1,132,053.0"},{"v":1212,"d":"1,212"},{"v":55180,"d":"55,180.0"},151,0,0,0,0,{"v":2339321,"d":"2,339,321.0"},564,0,0,0,0,{"v":89868,"d":"89,868.0"},380,0,0,{"v":5182,"d":"5,182.0"},6,0,0,0,0,0,0,{"v":43878,"d":"43,878.0"},142,0,0,{"v":4513,"d":"4,513.0"},5,{"v":390,"d":"390.0"},1,{"v":17466,"d":"17,466.0"},17,0,0,0,0,0,0,0,0,0,0,0,0,{"v":231,"d":"231.0"},1,0,0,{"v":20261,"d":"20,261.0"},40,{"v":36582,"d":"36,582.0"},24]
["남면 연도리",{"v":7048625,"d":"7,048,625.0"},{"v":3420,"d":"3,420"},{"v":1147653,"d":"1,147,653.0"},{"v":1367,"d":"1,367"},{"v":269156,"d":"269,156.0"},618,0,0,{"v":598,"d":"598.0"},1,{"v":5319650,"d":"5,319,650.0"},708,0,0,0,0,{"v":102140,"d":"102,140.0"},462,0,0,{"v":11875,"d":"11,875.0"},8,0,0,0,0,0,0,{"v":110429,"d":"110,429.0"},146,0,0,{"v":2692,"d":"2,692.0"},8,0,0,{"v":21744,"d":"21,744.0"},30,0,0,{"v":8408,"d":"8,408.0"},2,0,0,0,0,0,0,0,0,0,0,0,0,{"v":38318,"d":"38,318.0"},36,{"v":15962,"d":"15,962.0"},34]
["남면 두라리",{"v":1328286,"d":"1,328,286.0"},923,{"v":401238,"d":"401,238.0"},471,{"v":19540,"d":"19,540.0"},59,0,0,0,0,{"v":844553,"d":"844,553.0"},209,0,0,0,0,{"v":29367,"d":"29,367.0"},119,0,0,{"v":6844,"d":"6,844.0"},4,0,0,0,0,0,0,{"v":18156,"d":"18,156.0"},31,0,0,{"v":1233,"d":"1,233.0"},5,0,0,{"v":886,"d":"886.0"},2,{"v":1025,"d":"1,025.0"},3,{"v":195,"d":"195.0"},1,0,0,0,0,0,0,0,0,{"v":1037,"d":"1,037.0"},1,0,0,{"v":1164,"d":"1,164.0"},4,{"v":3048,"d":"3,048.0"},14]
["남면 화태리",{"v":2189331,"d":"2,189,331.0"},{"v":1800,"d":"1,800"},{"v":646913,"d":"646,913.0"},700,{"v":116502,"d":"116,502.0"},227,0,0,0,0,{"v":1263594,"d":"1,263,594.0"},448,0,0,0,0,{"v":59062,"d":"59,062.0"},240,0,0,{"v":12637,"d":"12,637.0"},4,0,0,0,0,0,0,{"v":52653,"d":"52,653.0"},110,0,0,{"v":6159,"d":"6,159.0"},19,0,0,{"v":4965,"d":"4,965.0"},9,{"v":6712,"d":"6,712.0"},9,{"v":2923,"d":"2,923.0"},3,0,0,0,0,0,0,0,0,{"v":544,"d":"544.0"},4,0,0,{"v":6354,"d":"6,354.0"},8,{"v":10313,"d":"10,313.0"},19]
["남면 횡간리",{"v":431660,"d":"431,660.0"},525,{"v":263932,"d":"263,932.0"},308,{"v":7482,"d":"7,482.0"},21,0,0,0,0,{"v":114747,"d":"114,747.0"},32,0,0,0,0,{"v":19294,"d":"19,294.0"},104,0,0,{"v":4408,"d":"4,408.0"},4,0,0,0,0,0,0,{"v":8244,"d":"8,244.0"},9,0,0,{"v":1599,"d":"1,599.0"},7,{"v":129,"d":"129.0"},1,{"v":254,"d":"254.0"},1,{"v":43,"d":"43.0"},1,0,0,0,0,0,0,0,0,0,0,{"v":128,"d":"128.0"},1,0,0,{"v":2942,"d":"2,942.0"},13,{"v":8458,"d":"8,458.0"},23]
["화정면 백야리",{"v":3057979,"d":"3,057,979.0"},{"v":2078,"d":"2,078"},{"v":885167,"d":"885,167.0"},850,{"v":157883,"d":"157,883.0"},210,0,0,{"v":1208,"d":"1,208.0"},1,{"v":1836412,"d":"1,836,412.0"},463,0,0,0,0,{"v":82143,"d":"82,143.0"},263,0,0,{"v":16874,"d":"16,874.0"},4,0,0,0,0,0,0,{"v":46984,"d":"46,984.0"},247,0,0,{"v":3313,"d":"3,313.0"},11,0,0,{"v":1706,"d":"1,706.0"},2,{"v":1513,"d":"1,513.0"},2,{"v":5452,"d":"5,452.0"},2,0,0,0,0,0,0,0,0,{"v":1892,"d":"1,892.0"},4,0,0,{"v":4530,"d":"4,530.0"},4,{"v":12902,"d":"12,902.0"},15]
["화정면 월호리",{"v":2023140,"d":"2,023,140.0"},{"v":1046,"d":"1,046"},{"v":639572,"d":"639,572.0"},516,{"v":41547,"d":"41,547.0"},80,0,0,0,0,{"v":1254387,"d":"1,254,387.0"},240,0,0,0,0,{"v":36971,"d":"36,971.0"},135,0,0,{"v":7999,"d":"7,999.0"},3,0,0,0,0,0,0,{"v":21946,"d":"21,946.0"},34,0,0,{"v":1909,"d":"1,909.0"},10,0,0,{"v":2956,"d":"2,956.0"},6,{"v":40,"d":"40.0"},1,{"v":1561,"d":"1,561.0"},3,0,0,0,0,0,0,0,0,0,0,0,0,{"v":1818,"d":"1,818.0"},4,{"v":12434,"d":"12,434.0"},14]
["화정면 개도리",{"v":9728737,"d":"9,728,737.0"},{"v":4560,"d":"4,560"},{"v":1575347,"d":"1,575,347.0"},{"v":1497,"d":"1,497"},{"v":463100,"d":"463,100.0"},464,0,0,0,0,{"v":7090308,"d":"7,090,308.0"},{"v":1351,"d":"1,351"},0,0,0,0,{"v":135703,"d":"135,703.0"},511,0,0,{"v":19803,"d":"19,803.0"},4,0,0,0,0,0,0,{"v":214861,"d":"214,861.0"},574,0,0,{"v":21970,"d":"21,970.0"},17,0,0,{"v":86466,"d":"86,466.0"},50,{"v":63652,"d":"63,652.0"},19,{"v":19921,"d":"19,921.0"},17,0,0,0,0,0,0,0,0,{"v":1336,"d":"1,336.0"},4,0,0,{"v":4439,"d":"4,439.0"},10,{"v":31831,"d":"31,831.0"},42]
["화정면 제도리",{"v":1098088,"d":"1,098,088.0"},807,{"v":366730,"d":"366,730.0"},307,{"v":51007,"d":"51,007.0"},80,0,0,{"v":1719,"d":"1,719.0"},2,{"v":603017,"d":"603,017.0"},162,0,0,0,0,{"v":34166,"d":"34,166.0"},104,0,0,{"v":81,"d":"81.0"},3,0,0,0,0,0,0,{"v":16816,"d":"16,816.0"},109,0,0,{"v":2932,"d":"2,932.0"},9,0,0,{"v":4572,"d":"4,572.0"},3,{"v":1842,"d":"1,842.0"},1,0,0,0,0,0,0,0,0,0,0,0,0,0,0,{"v":3114,"d":"3,114.0"},10,{"v":12092,"d":"12,092.0"},17]
["화정면 상화리",{"v":672426,"d":"672,426.0"},577,{"v":301408,"d":"301,408.0"},342,{"v":5980,"d":"5,980.0"},17,0,0,0,0,{"v":325737,"d":"325,737.0"},109,0,0,0,0,{"v":20999,"d":"20,999.0"},82,0,0,{"v":54,"d":"54.0"},1,0,0,0,0,0,0,{"v":11087,"d":"11,087.0"},10,0,0,{"v":1519,"d":"1,519.0"},4,0,0,0,0,0,0,0,0,0,0,0,0,0,0,0,0,{"v":1117,"d":"1,117.0"},1,0,0,{"v":2446,"d":"2,446.0"},8,{"v":2079,"d":"2,079.0"},3]
["화정면 하화리",{"v":673278,"d":"673,278.0"},533,{"v":257834,"d":"257,834.0"},290,{"v":2435,"d":"2,435.0"},15,0,0,0,0,{"v":369876,"d":"369,876.0"},116,0,0,0,0,{"v":15997,"d":"15,997.0"},63,0,0,{"v":1908,"d":"1,908.0"},3,0,0,0,0,0,0,{"v":4531,"d":"4,531.0"},12,0,0,{"v":606,"d":"606.0"},5,0,0,{"v":9045,"d":"9,045.0"},8,0,0,0,0,0,0,0,0,0,0,0,0,0,0,0,0,{"v":7061,"d":"7,061.0"},13,{"v":3985,"d":"3,985.0"},8]
["화정면 낭도리",{"v":5609605,"d":"5,609,605.0"},{"v":3250,"d":"3,250"},{"v":1444518,"d":"1,444,518.0"},{"v":1574,"d":"1,574"},{"v":155524,"d":"155,524.0"},209,{"v":1895,"d":"1,895.0"},2,0,0,{"v":3711525,"d":"3,711,525.0"},747,0,0,{"v":8625,"d":"8,625.0"},2,{"v":71825,"d":"71,825.0"},357,0,0,{"v":31317,"d":"31,317.0"},12,0,0,0,0,{"v":395,"d":"395.0"},1,{"v":57290,"d":"57,290.0"},212,0,0,{"v":10962,"d":"10,962.0"},17,{"v":11323,"d":"11,323.0"},5,{"v":25833,"d":"25,833.0"},27,{"v":7590,"d":"7,590.0"},3,0,0,0,0,0,0,0,0,0,0,{"v":753,"d":"753.0"},2,0,0,{"v":20087,"d":"20,087.0"},37,{"v":50143,"d":"50,143.0"},43]
["화정면 조발리",{"v":1942452,"d":"1,942,452.0"},953,{"v":344423,"d":"344,423.0"},409,{"v":17238,"d":"17,238.0"},32,0,0,0,0,{"v":1534152,"d":"1,534,152.0"},332,0,0,0,0,{"v":23495,"d":"23,495.0"},119,0,0,{"v":2465,"d":"2,465.0"},5,0,0,0,0,0,0,{"v":13072,"d":"13,072.0"},26,0,0,{"v":616,"d":"616.0"},6,0,0,{"v":1074,"d":"1,074.0"},5,0,0,0,0,0,0,0,0,0,0,0,0,0,0,0,0,{"v":3102,"d":"3,102.0"},9,{"v":2815,"d":"2,815.0"},10]
["화정면 적금리",{"v":855046,"d":"855,046.0"},{"v":1185,"d":"1,185"},{"v":556292,"d":"556,292.0"},790,{"v":17487,"d":"17,487.0"},24,0,0,0,0,{"v":157636,"d":"157,636.0"},66,0,0,0,0,{"v":48700,"d":"48,700.0"},186,0,0,{"v":4543,"d":"4,543.0"},5,0,0,0,0,0,0,{"v":18639,"d":"18,639.0"},11,0,0,{"v":1318,"d":"1,318.0"},5,{"v":4642,"d":"4,642.0"},11,{"v":790,"d":"790.0"},1,0,0,0,0,0,0,0,0,0,0,0,0,0,0,0,0,{"v":40152,"d":"40,152.0"},72,{"v":4847,"d":"4,847.0"},14]
["화정면 여자리",{"v":694640,"d":"694,640.0"},848,{"v":369615,"d":"369,615.0"},420,{"v":7848,"d":"7,848.0"},10,0,0,0,0,{"v":216788,"d":"216,788.0"},109,0,0,0,0,{"v":42977,"d":"42,977.0"},183,0,0,{"v":8451,"d":"8,451.0"},2,0,0,0,0,0,0,{"v":25108,"d":"25,108.0"},52,0,0,{"v":2998,"d":"2,998.0"},10,0,0,{"v":1656,"d":"1,656.0"},1,0,0,0,0,0,0,0,0,0,0,0,0,{"v":1273,"d":"1,273.0"},1,0,0,{"v":11587,"d":"11,587.0"},44,{"v":6339,"d":"6,339.0"},16]
["삼산면 거문리",{"v":932449,"d":"932,449.0"},678,{"v":106739,"d":"106,739.0"},158,0,0,0,0,0,0,{"v":737137,"d":"737,137.0"},123,0,0,0,0,{"v":43913,"d":"43,913.0"},346,0,0,{"v":6338,"d":"6,338.0"},2,0,0,0,0,0,0,{"v":14164,"d":"14,164.0"},29,0,0,{"v":4275,"d":"4,275.0"},5,0,0,0,0,0,0,0,0,0,0,0,0,0,0,0,0,{"v":208,"d":"208.0"},1,0,0,{"v":641,"d":"641.0"},2,{"v":19034,"d":"19,034.0"},12]
["삼산면 덕촌리",{"v":3849842,"d":"3,849,842.0"},{"v":2537,"d":"2,537"},{"v":571774,"d":"571,774.0"},803,{"v":22013,"d":"22,013.0"},89,{"v":981,"d":"981.0"},1,0,0,{"v":2795389,"d":"2,795,389.0"},{"v":1101,"d":"1,101"},0,0,0,0,{"v":89725,"d":"89,725.0"},381,0,0,{"v":17072,"d":"17,072.0"},3,0,0,0,0,{"v":612,"d":"612.0"},3,{"v":52240,"d":"52,240.0"},93,0,0,{"v":1687,"d":"1,687.0"},3,{"v":1127,"d":"1,127.0"},6,{"v":6576,"d":"6,576.0"},5,{"v":1404,"d":"1,404.0"},2,0,0,0,0,0,0,0,0,0,0,0,0,0,0,{"v":268109,"d":"268,109.0"},37,{"v":21133,"d":"21,133.0"},10]
["삼산면 서도리",{"v":3430497,"d":"3,430,497.0"},{"v":2494,"d":"2,494"},{"v":738496,"d":"738,496.0"},{"v":1075,"d":"1,075"},{"v":28626,"d":"28,626.0"},93,0,0,0,0,{"v":2426864,"d":"2,426,864.0"},691,0,0,0,0,{"v":72413,"d":"72,413.0"},374,0,0,{"v":7708,"d":"7,708.0"},6,0,0,0,0,0,0,{"v":45816,"d":"45,816.0"},84,0,0,{"v":2707,"d":"2,707.0"},6,0,0,{"v":6271,"d":"6,271.0"},5,{"v":122,"d":"122.0"},1,{"v":3702,"d":"3,702.0"},4,0,0,0,0,0,0,0,0,{"v":539,"d":"539.0"},4,0,0,{"v":56987,"d":"56,987.0"},116,{"v":40246,"d":"40,246.0"},35]
["삼산면 동도리",{"v":4567629,"d":"4,567,629.0"},{"v":2618,"d":"2,618"},{"v":874710,"d":"874,710.0"},{"v":1130,"d":"1,130"},{"v":6382,"d":"6,382.0"},27,0,0,0,0,{"v":3447411,"d":"3,447,411.0"},910,0,0,0,0,{"v":65178,"d":"65,178.0"},336,0,0,{"v":7242,"d":"7,242.0"},5,0,0,0,0,0,0,{"v":36381,"d":"36,381.0"},44,0,0,{"v":11599,"d":"11,599.0"},10,0,0,{"v":12089,"d":"12,089.0"},9,{"v":1878,"d":"1,878.0"},1,{"v":6222,"d":"6,222.0"},5,0,0,0,0,0,0,0,0,{"v":225,"d":"225.0"},1,0,0,{"v":81359,"d":"81,359.0"},105,{"v":16953,"d":"16,953.0"},35]
["삼산면 초도리",{"v":8557710,"d":"8,557,710.0"},{"v":3729,"d":"3,729"},{"v":1646213,"d":"1,646,213.0"},{"v":1571,"d":"1,571"},{"v":188330,"d":"188,330.0"},348,0,0,{"v":61489,"d":"61,489.0"},5,{"v":6281750,"d":"6,281,750.0"},982,0,0,0,0,{"v":121933,"d":"121,933.0"},414,0,0,{"v":23337,"d":"23,337.0"},5,0,0,0,0,{"v":156,"d":"156.0"},1,{"v":164616,"d":"164,616.0"},357,0,0,{"v":7593,"d":"7,593.0"},13,0,0,{"v":10019,"d":"10,019.0"},8,0,0,0,0,0,0,0,0,0,0,0,0,{"v":793,"d":"793.0"},2,0,0,{"v":12496,"d":"12,496.0"},1,{"v":38985,"d":"38,985.0"},22]
["삼산면 손죽리",{"v":6207214,"d":"6,207,214.0"},{"v":1920,"d":"1,920"},{"v":903900,"d":"903,900.0"},998,{"v":41528,"d":"41,528.0"},119,0,0,{"v":20002,"d":"20,002.0"},1,{"v":5058512,"d":"5,058,512.0"},428,0,0,0,0,{"v":85341,"d":"85,341.0"},300,0,0,{"v":10215,"d":"10,215.0"},4,0,0,0,0,0,0,{"v":60781,"d":"60,781.0"},33,0,0,{"v":1024,"d":"1,024.0"},5,{"v":297,"d":"297.0"},2,{"v":13491,"d":"13,491.0"},8,{"v":893,"d":"893.0"},1,0,0,0,0,0,0,0,0,0,0,{"v":198,"d":"198.0"},1,0,0,{"v":3968,"d":"3,968.0"},4,{"v":7064,"d":"7,064.0"},16]

{"sheet":"행정동(2012)","index":3,"n_rows":30,"n_cols":59,"rows_kept":30,"merged":[[0,0,1,0],[0,1,0,2],[0,3,0,4],[0,5,0,6],[0,7,0,8],[0,9,0,10],[0,11,0,12],[0,13,0,14],[0,15,0,16],[0,17,0,18],[0,19,0,20],[0,21,0,22],[0,23,0,24],[0,27,0,28],[0,29,0,30],[0,31,0,32],[0,33,0,34],[0,35,0,36],[0,37,0,38],[0,39,0,40],[0,41,0,42],[0,43,0,44],[0,45,0,46],[0,47,0,48],[0,49,0,50],[0,51,0,52],[0,53,0,54],[0,55,0,56],[0,57,0,58]]}
["구    분","합      계",null,"전",null,"답",null,"과수원",null,"목장용지",null,"임야",null,"광천지",null,"염전",null,"대",null,"공장용지",null,"학교용지",null,"주차장",null,"주유소용지",null,"창고용지",null,"도로",null,"철도용지",null,"제방",null,"하천",null,"구거",null,"유지",null,"양어장",null,"수도용지",null,"공원",null,"체육용지",null,"유원지",null,"종교용지",null,"사적지",null,"묘지",null,"잡종지"]
[null,"면  적","지번수","면  적","지번수","면  적","지번수","면  적","지번수","면  적","지번수","면  적","지번수","면  적","지번수","면  적","지번수","면  적","지번수","면  적","지번수","면  적","지번수","면  적","지번수","면  적","지번수","면  적","지번수","면  적","지번수","면  적","지번수","면  적","지번수","면  적","지번수","면  적","지번수","면  적","지번수","면  적","지번수","면  적","지번수","면  적","지번수","면  적","지번수","면  적","지번수","면  적","지번수","면  적","지번수","면  적","지번수","면  적","지번수"]
["합  계",{"$f":"SUM(B4:B30)","v":{"v":503831583.1999999,"d":"503,831,583.20"}},{"$f":"SUM(C4:C30)","v":{"v":310879,"d":"310,879"}},{"v":67411592.9,"d":"67,411,592.90"},{"v":75588,"d":"75,588"},{"v":42166086.5,"d":"42,166,086.50"},{"v":46957,"d":"46,957"},{"v":561624,"d":"561,624.00"},199,{"v":1855900,"d":"1,855,900.00"},512,{"v":307268635.4,"d":"307,268,635.40"},{"v":54497,"d":"54,497"},0,0,{"v":10562,"d":"10,562.00"},6,{"v":21341498.2,"d":"21,341,498.20"},{"v":66617,"d":"66,617"},{"v":15504955.6,"d":"15,504,955.60"},{"v":1146,"d":"1,146"},{"v":2013132,"d":"2,013,132.00"},388,{"v":254052.90000000002,"d":"254,052.90"},361,{"v":355598.9,"d":"355,598.90"},237,{"v":251909.9,"d":"251,909.90"},381,{"v":18133951.299999997,"d":"18,133,951.30"},{"v":47462,"d":"47,462"},{"v":1237045.2,"d":"1,237,045.20"},999,{"v":684443.2000000001,"d":"684,443.20"},795,{"v":2413103.1,"d":"2,413,103.10"},940,{"v":4627161.300000001,"d":"4,627,161.30"},{"v":4730,"d":"4,730"},{"v":2923010.9000000004,"d":"2,923,010.90"},{"v":1445,"d":"1,445"},{"v":217999.1,"d":"217,999.10"},144,{"v":489498.2,"d":"489,498.20"},410,{"v":1022615.7000000001,"d":"1,022,615.70"},248,{"v":1186214.6,"d":"1,186,214.60"},47,{"v":263794.9,"d":"263,794.90"},4,{"v":412284.8,"d":"412,284.80"},438,{"v":20795,"d":"20,795.00"},15,{"v":1815152,"d":"1,815,152.00"},{"v":1945,"d":"1,945"},{"v":9388965.600000001,"d":"9,388,965.60"},{"v":4368,"d":"4,368"}]
["돌산읍",{"$f":"SUM('법정동(2012)'!B59:B68)","v":{"v":71929697.6,"d":"71,929,697.60"}},{"$f":"SUM('법정동(2012)'!C59:C68)","v":{"v":45326,"d":"45,326"}},{"$f":"SUM('법정동(2012)'!D59:D68)","v":{"v":10524383.7,"d":"10,524,383.70"}},{"$f":"SUM('법정동(2012)'!E59:E68)","v":{"v":11490,"d":"11,490"}},{"$f":"SUM('법정동(2012)'!F59:F68)","v":{"v":5033632.2,"d":"5,033,632.20"}},{"$f":"SUM('법정동(2012)'!G59:G68)","v":{"v":6412,"d":"6,412"}},{"$f":"SUM('법정동(2012)'!H59:H68)","v":{"v":96463,"d":"96,463.00"}},{"$f":"SUM('법정동(2012)'!I59:I68)","v":25},{"$f":"SUM('법정동(2012)'!J59:J68)","v":{"v":1007208,"d":"1,007,208.00"}},{"$f":"SUM('법정동(2012)'!K59:K68)","v":63},{"$f":"SUM('법정동(2012)'!L59:L68)","v":{"v":48246231,"d":"48,246,231.00"}},{"$f":"SUM('법정동(2012)'!M59:M68)","v":{"v":8991,"d":"8,991"}},{"$f":"SUM('법정동(2012)'!N59:N68)","v":0},{"$f":"SUM('법정동(2012)'!O59:O68)","v":0},{"$f":"SUM('법정동(2012)'!P59:P68)","v":0},{"$f":"SUM('법정동(2012)'!Q59:Q68)","v":0},{"$f":"SUM('법정동(2012)'!R59:R68)","v":{"v":2170798.9,"d":"2,170,798.90"}},{"$f":"SUM('법정동(2012)'!S59:S68)","v":{"v":6962,"d":"6,962"}},{"$f":"SUM('법정동(2012)'!T59:T68)","v":{"v":49187,"d":"49,187.00"}},{"$f":"SUM('법정동(2012)'!U59:U68)","v":36},{"$f":"SUM('법정동(2012)'!V59:V68)","v":{"v":178564.5,"d":"178,564.50"}},{"$f":"SUM('법정동(2012)'!W59:W68)","v":45},{"$f":"SUM('법정동(2012)'!X59:X68)","v":{"v":7090.6,"d":"7,090.60"}},{"$f":"SUM('법정동(2012)'!Y59:Y68)","v":13},{"$f":"SUM('법정동(2012)'!Z59:Z68)","v":{"v":7460,"d":"7,460.00"}},{"$f":"SUM('법정동(2012)'!AA59:AA68)","v":16},{"$f":"SUM('법정동(2012)'!AB59:AB68)","v":{"v":44980.6,"d":"44,980.60"}},{"$f":"SUM('법정동(2012)'!AC59:AC68)","v":76},{"$f":"SUM('법정동(2012)'!AD59:AD68)","v":{"v":2179700.6999999997,"d":"2,179,700.70"}},{"$f":"SUM('법정동(2012)'!AE59:AE68)","v":{"v":8448,"d":"8,448"}},{"$f":"SUM('법정동(2012)'!AF59:AF68)","v":0},{"$f":"SUM('법정동(2012)'!AG59:AG68)","v":0},{"$f":"SUM('법정동(2012)'!AH59:AH68)","v":{"v":94823.29999999999,"d":"94,823.30"}},{"$f":"SUM('법정동(2012)'!AI59:AI68)","v":191},{"$f":"SUM('법정동(2012)'!AJ59:AJ68)","v":{"v":59511.3,"d":"59,511.30"}},{"$f":"SUM('법정동(2012)'!AK59:AK68)","v":87},{"$f":"SUM('법정동(2012)'!AL59:AL68)","v":{"v":576664,"d":"576,664.00"}},{"$f":"SUM('법정동(2012)'!AM59:AM68)","v":690},{"$f":"SUM('법정동(2012)'!AN59:AN68)","v":{"v":427268,"d":"427,268.00"}},{"$f":"SUM('법정동(2012)'!AO59:AO68)","v":353},{"$f":"SUM('법정동(2012)'!AP59:AP68)","v":{"v":118911.1,"d":"118,911.10"}},{"$f":"SUM('법정동(2012)'!AQ59:AQ68)","v":68},{"$f":"SUM('법정동(2012)'!AR59:AR68)","v":{"v":833,"d":"833.00"}},{"$f":"SUM('법정동(2012)'!AS59:AS68)","v":2},{"$f":"SUM('법정동(2012)'!AT59:AT68)","v":{"v":56646.3,"d":"56,646.30"}},{"$f":"SUM('법정동(2012)'!AU59:AU68)","v":12},{"$f":"SUM('법정동(2012)'!AV59:AV68)","v":0},{"$f":"SUM('법정동(2012)'!AW59:AW68)","v":0},{"$f":"SUM('법정동(2012)'!AX59:AX68)","v":{"v":214140.6,"d":"214,140.60"}},{"$f":"SUM('법정동(2012)'!AY59:AY68)","v":2},{"$f":"SUM('법정동(2012)'!AZ59:AZ68)","v":{"v":57570.8,"d":"57,570.80"}},{"$f":"SUM('법정동(2012)'!BA59:BA68)","v":47},{"$f":"SUM('법정동(2012)'!BB59:BB68)","v":{"v":883,"d":"883.00"}},{"$f":"SUM('법정동(2012)'!BC59:BC68)","v":4},{"$f":"SUM('법정동(2012)'!BD59:BD68)","v":{"v":220074,"d":"220,074.00"}},{"$f":"SUM('법정동(2012)'!BE59:BE68)","v":253},{"$f":"SUM('법정동(2012)'!BF59:BF68)","v":{"v":556672,"d":"556,672.00"}},{"$f":"SUM('법정동(2012)'!BG59:BG68)","v":{"v":1040,"d":"1,040"}}]
["소라면",{"$f":"SUM('법정동(2012)'!B69:B76)","v":{"v":60477559.2,"d":"60,477,559.20"}},{"$f":"SUM('법정동(2012)'!C69:C76)","v":{"v":34224,"d":"34,224"}},{"$f":"SUM('법정동(2012)'!D69:D76)","v":{"v":6872687.2,"d":"6,872,687.20"}},{"$f":"SUM('법정동(2012)'!E69:E76)","v":{"v":7861,"d":"7,861"}},{"$f":"SUM('법정동(2012)'!F69:F76)","v":{"v":9785823.399999999,"d":"9,785,823.40"}},{"$f":"SUM('법정동(2012)'!G69:G76)","v":{"v":8117,"d":"8,117"}},{"$f":"SUM('법정동(2012)'!H69:H76)","v":{"v":36007,"d":"36,007.00"}},{"$f":"SUM('법정동(2012)'!I69:I76)","v":12},{"$f":"SUM('법정동(2012)'!J69:J76)","v":{"v":159080,"d":"159,080.00"}},{"$f":"SUM('법정동(2012)'!K69:K76)","v":89},{"$f":"SUM('법정동(2012)'!L69:L76)","v":{"v":35571571,"d":"35,571,571.00"}},{"$f":"SUM('법정동(2012)'!M69:M76)","v":{"v":5840,"d":"5,840"}},{"$f":"SUM('법정동(2012)'!N69:N76)","v":0},{"$f":"SUM('법정동(2012)'!O69:O76)","v":0},{"$f":"SUM('법정동(2012)'!P69:P76)","v":0},{"$f":"SUM('법정동(2012)'!Q69:Q76)","v":0},{"$f":"SUM('법정동(2012)'!R69:R76)","v":{"v":1736626.1,"d":"1,736,626.10"}},{"$f":"SUM('법정동(2012)'!S69:S76)","v":{"v":4291,"d":"4,291"}},{"$f":"SUM('법정동(2012)'!T69:T76)","v":{"v":51171,"d":"51,171.00"}},{"$f":"SUM('법정동(2012)'!U69:U76)","v":26},{"$f":"SUM('법정동(2012)'!V69:V76)","v":{"v":102110.7,"d":"102,110.70"}},{"$f":"SUM('법정동(2012)'!W69:W76)","v":17},{"$f":"SUM('법정동(2012)'!X69:X76)","v":{"v":36535.1,"d":"36,535.10"}},{"$f":"SUM('법정동(2012)'!Y69:Y76)","v":39},{"$f":"SUM('법정동(2012)'!Z69:Z76)","v":{"v":32241.7,"d":"32,241.70"}},{"$f":"SUM('법정동(2012)'!AA69:AA76)","v":36},{"$f":"SUM('법정동(2012)'!AB69:AB76)","v":{"v":51716,"d":"51,716.00"}},{"$f":"SUM('법정동(2012)'!AC69:AC76)","v":77},{"$f":"SUM('법정동(2012)'!AD69:AD76)","v":{"v":2285997.3,"d":"2,285,997.30"}},{"$f":"SUM('법정동(2012)'!AE69:AE76)","v":{"v":5906,"d":"5,906"}},{"$f":"SUM('법정동(2012)'!AF69:AF76)","v":{"v":94960,"d":"94,960.00"}},{"$f":"SUM('법정동(2012)'!AG69:AG76)","v":57},{"$f":"SUM('법정동(2012)'!AH69:AH76)","v":{"v":63531.6,"d":"63,531.60"}},{"$f":"SUM('법정동(2012)'!AI69:AI76)","v":38},{"$f":"SUM('법정동(2012)'!AJ69:AJ76)","v":{"v":793275.5,"d":"793,275.50"}},{"$f":"SUM('법정동(2012)'!AK69:AK76)","v":120},{"$f":"SUM('법정동(2012)'!AL69:AL76)","v":{"v":949392.1000000001,"d":"949,392.10"}},{"$f":"SUM('법정동(2012)'!AM69:AM76)","v":839},{"$f":"SUM('법정동(2012)'!AN69:AN76)","v":{"v":951619.6,"d":"951,619.60"}},{"$f":"SUM('법정동(2012)'!AO69:AO76)","v":187},{"$f":"SUM('법정동(2012)'!AP69:AP76)","v":{"v":1375,"d":"1,375.00"}},{"$f":"SUM('법정동(2012)'!AQ69:AQ76)","v":1},{"$f":"SUM('법정동(2012)'!AR69:AR76)","v":{"v":24714.8,"d":"24,714.80"}},{"$f":"SUM('법정동(2012)'!AS69:AS76)","v":59},{"$f":"SUM('법정동(2012)'!AT69:AT76)","v":{"v":145680.8,"d":"145,680.80"}},{"$f":"SUM('법정동(2012)'!AU69:AU76)","v":52},{"$f":"SUM('법정동(2012)'!AV69:AV76)","v":{"v":6110,"d":"6,110.00"}},{"$f":"SUM('법정동(2012)'!AW69:AW76)","v":8},{"$f":"SUM('법정동(2012)'!AX69:AX76)","v":0},{"$f":"SUM('법정동(2012)'!AY69:AY76)","v":0},{"$f":"SUM('법정동(2012)'!AZ69:AZ76)","v":{"v":29188.3,"d":"29,188.30"}},{"$f":"SUM('법정동(2012)'!BA69:BA76)","v":37},{"$f":"SUM('법정동(2012)'!BB69:BB76)","v":0},{"$f":"SUM('법정동(2012)'!BC69:BC76)","v":0},{"$f":"SUM('법정동(2012)'!BD69:BD76)","v":{"v":348768,"d":"348,768.00"}},{"$f":"SUM('법정동(2012)'!BE69:BE76)","v":184},{"$f":"SUM('법정동(2012)'!BF69:BF76)","v":{"v":347377,"d":"347,377.00"}},{"$f":"SUM('법정동(2012)'!BG69:BG76)","v":331}]
["율촌면",{"$f":"SUM('법정동(2012)'!B77:B86)","v":{"v":47104935.800000004,"d":"47,104,935.80"}},{"$f":"SUM('법정동(2012)'!C77:C86)","v":{"v":31338,"d":"31,338"}},{"$f":"SUM('법정동(2012)'!D77:D86)","v":{"v":5186210,"d":"5,186,210.00"}},{"$f":"SUM('법정동(2012)'!E77:E86)","v":{"v":5884,"d":"5,884"}},{"$f":"SUM('법정동(2012)'!F77:F86)","v":{"v":7985654,"d":"7,985,654.00"}},{"$f":"SUM('법정동(2012)'!G77:G86)","v":{"v":8211,"d":"8,211"}},{"$f":"SUM('법정동(2012)'!H77:H86)","v":{"v":231560,"d":"231,560.00"}},{"$f":"SUM('법정동(2012)'!I77:I86)","v":78},{"$f":"SUM('법정동(2012)'!J77:J86)","v":{"v":367311,"d":"367,311.00"}},{"$f":"SUM('법정동(2012)'!K77:K86)","v":239},{"$f":"SUM('법정동(2012)'!L77:L86)","v":{"v":26851339.900000002,"d":"26,851,339.90"}},{"$f":"SUM('법정동(2012)'!M77:M86)","v":{"v":5483,"d":"5,483"}},{"$f":"SUM('법정동(2012)'!N77:N86)","v":0},{"$f":"SUM('법정동(2012)'!O77:O86)","v":0},{"$f":"SUM('법정동(2012)'!P77:P86)","v":{"v":1937,"d":"1,937.00"}},{"$f":"SUM('법정동(2012)'!Q77:Q86)","v":4},{"$f":"SUM('법정동(2012)'!R77:R86)","v":{"v":1633970.1,"d":"1,633,970.10"}},{"$f":"SUM('법정동(2012)'!S77:S86)","v":{"v":3982,"d":"3,982"}},{"$f":"SUM('법정동(2012)'!T77:T86)","v":{"v":148771.9,"d":"148,771.90"}},{"$f":"SUM('법정동(2012)'!U77:U86)","v":32},{"$f":"SUM('법정동(2012)'!V77:V86)","v":{"v":90856,"d":"90,856.00"}},{"$f":"SUM('법정동(2012)'!W77:W86)","v":22},{"$f":"SUM('법정동(2012)'!X77:X86)","v":{"v":11276.7,"d":"11,276.70"}},{"$f":"SUM('법정동(2012)'!Y77:Y86)","v":16},{"$f":"SUM('법정동(2012)'!Z77:Z86)","v":{"v":22941,"d":"22,941.00"}},{"$f":"SUM('법정동(2012)'!AA77:AA86)","v":21},{"$f":"SUM('법정동(2012)'!AB77:AB86)","v":{"v":29349,"d":"29,349.00"}},{"$f":"SUM('법정동(2012)'!AC77:AC86)","v":41},{"$f":"SUM('법정동(2012)'!AD77:AD86)","v":{"v":1600456.6,"d":"1,600,456.60"}},{"$f":"SUM('법정동(2012)'!AE77:AE86)","v":{"v":5380,"d":"5,380"}},{"$f":"SUM('법정동(2012)'!AF77:AF86)","v":{"v":165121,"d":"165,121.00"}},{"$f":"SUM('법정동(2012)'!AG77:AG86)","v":111},{"$f":"SUM('법정동(2012)'!AH77:AH86)","v":{"v":33895,"d":"33,895.00"}},{"$f":"SUM('법정동(2012)'!AI77:AI86)","v":31},{"$f":"SUM('법정동(2012)'!AJ77:AJ86)","v":{"v":183928,"d":"183,928.00"}},{"$f":"SUM('법정동(2012)'!AK77:AK86)","v":63},{"$f":"SUM('법정동(2012)'!AL77:AL86)","v":{"v":894866.3,"d":"894,866.30"}},{"$f":"SUM('법정동(2012)'!AM77:AM86)","v":820},{"$f":"SUM('법정동(2012)'!AN77:AN86)","v":{"v":341352,"d":"341,352.00"}},{"$f":"SUM('법정동(2012)'!AO77:AO86)","v":191},{"$f":"SUM('법정동(2012)'!AP77:AP86)","v":{"v":2992,"d":"2,992.00"}},{"$f":"SUM('법정동(2012)'!AQ77:AQ86)","v":2},{"$f":"SUM('법정동(2012)'!AR77:AR86)","v":{"v":90557,"d":"90,557.00"}},{"$f":"SUM('법정동(2012)'!AS77:AS86)","v":103},{"$f":"SUM('법정동(2012)'!AT77:AT86)","v":{"v":93427.7,"d":"93,427.70"}},{"$f":"SUM('법정동(2012)'!AU77:AU86)","v":11},{"$f":"SUM('법정동(2012)'!AV77:AV86)","v":0},{"$f":"SUM('법정동(2012)'!AW77:AW86)","v":0},{"$f":"SUM('법정동(2012)'!AX77:AX86)","v":0},{"$f":"SUM('법정동(2012)'!AY77:AY86)","v":0},{"$f":"SUM('법정동(2012)'!AZ77:AZ86)","v":{"v":28673,"d":"28,673.00"}},{"$f":"SUM('법정동(2012)'!BA77:BA86)","v":31},{"$f":"SUM('법정동(2012)'!BB77:BB86)","v":0},{"$f":"SUM('법정동(2012)'!BC77:BC86)","v":0},{"$f":"SUM('법정동(2012)'!BD77:BD86)","v":{"v":125151,"d":"125,151.00"}},{"$f":"SUM('법정동(2012)'!BE77:BE86)","v":166},{"$f":"SUM('법정동(2012)'!BF77:BF86)","v":{"v":983339.6,"d":"983,339.60"}},{"$f":"SUM('법정동(2012)'!BG77:BG86)","v":416}]
["화양면",{"$f":"SUM('법정동(2012)'!B87:B96)","v":{"v":70124121.10000001,"d":"70,124,121.10"}},{"$f":"SUM('법정동(2012)'!C87:C96)","v":{"v":38470,"d":"38,470"}},{"$f":"SUM('법정동(2012)'!D87:D96)","v":{"v":10689357,"d":"10,689,357.00"}},{"$f":"SUM('법정동(2012)'!E87:E96)","v":{"v":10453,"d":"10,453"}},{"$f":"SUM('법정동(2012)'!F87:F96)","v":{"v":6120877.9,"d":"6,120,877.90"}},{"$f":"SUM('법정동(2012)'!G87:G96)","v":{"v":6612,"d":"6,612"}},{"$f":"SUM('법정동(2012)'!H87:H96)","v":{"v":130154,"d":"130,154.00"}},{"$f":"SUM('법정동(2012)'!I87:I96)","v":50},{"$f":"SUM('법정동(2012)'!J87:J96)","v":{"v":216091,"d":"216,091.00"}},{"$f":"SUM('법정동(2012)'!K87:K96)","v":83},{"$f":"SUM('법정동(2012)'!L87:L96)","v":{"v":47361699.8,"d":"47,361,699.80"}},{"$f":"SUM('법정동(2012)'!M87:M96)","v":{"v":8552,"d":"8,552"}},{"$f":"SUM('법정동(2012)'!N87:N96)","v":0},{"$f":"SUM('법정동(2012)'!O87:O96)","v":0},{"$f":"SUM('법정동(2012)'!P87:P96)","v":0},{"$f":"SUM('법정동(2012)'!Q87:Q96)","v":0},{"$f":"SUM('법정동(2012)'!R87:R96)","v":{"v":1334072.5,"d":"1,334,072.50"}},{"$f":"SUM('법정동(2012)'!S87:S96)","v":{"v":4008,"d":"4,008"}},{"$f":"SUM('법정동(2012)'!T87:T96)","v":{"v":215372.2,"d":"215,372.20"}},{"$f":"SUM('법정동(2012)'!U87:U96)","v":66},{"$f":"SUM('법정동(2012)'!V87:V96)","v":{"v":117587,"d":"117,587.00"}},{"$f":"SUM('법정동(2012)'!W87:W96)","v":38},{"$f":"SUM('법정동(2012)'!X87:X96)","v":{"v":10247,"d":"10,247.00"}},{"$f":"SUM('법정동(2012)'!Y87:Y96)","v":10},{"$f":"SUM('법정동(2012)'!Z87:Z96)","v":{"v":7560,"d":"7,560.00"}},{"$f":"SUM('법정동(2012)'!AA87:AA96)","v":5},{"$f":"SUM('법정동(2012)'!AB87:AB96)","v":{"v":38488,"d":"38,488.00"}},{"$f":"SUM('법정동(2012)'!AC87:AC96)","v":70},{"$f":"SUM('법정동(2012)'!AD87:AD96)","v":{"v":1956455.6,"d":"1,956,455.60"}},{"$f":"SUM('법정동(2012)'!AE87:AE96)","v":{"v":6666,"d":"6,666"}},{"$f":"SUM('법정동(2012)'!AF87:AF96)","v":0},{"$f":"SUM('법정동(2012)'!AG87:AG96)","v":0},{"$f":"SUM('법정동(2012)'!AH87:AH96)","v":{"v":48325,"d":"48,325.00"}},{"$f":"SUM('법정동(2012)'!AI87:AI96)","v":97},{"$f":"SUM('법정동(2012)'!AJ87:AJ96)","v":{"v":102962.1,"d":"102,962.10"}},{"$f":"SUM('법정동(2012)'!AK87:AK96)","v":69},{"$f":"SUM('법정동(2012)'!AL87:AL96)","v":{"v":770183.5,"d":"770,183.50"}},{"$f":"SUM('법정동(2012)'!AM87:AM96)","v":840},{"$f":"SUM('법정동(2012)'!AN87:AN96)","v":{"v":564672.8,"d":"564,672.80"}},{"$f":"SUM('법정동(2012)'!AO87:AO96)","v":269},{"$f":"SUM('법정동(2012)'!AP87:AP96)","v":{"v":30112,"d":"30,112.00"}},{"$f":"SUM('법정동(2012)'!AQ87:AQ96)","v":20},{"$f":"SUM('법정동(2012)'!AR87:AR96)","v":0},{"$f":"SUM('법정동(2012)'!AS87:AS96)","v":0},{"$f":"SUM('법정동(2012)'!AT87:AT96)","v":0},{"$f":"SUM('법정동(2012)'!AU87:AU96)","v":0},{"$f":"SUM('법정동(2012)'!AV87:AV96)","v":0},{"$f":"SUM('법정동(2012)'!AW87:AW96)","v":0},{"$f":"SUM('법정동(2012)'!AX87:AX96)","v":0},{"$f":"SUM('법정동(2012)'!AY87:AY96)","v":0},{"$f":"SUM('법정동(2012)'!AZ87:AZ96)","v":{"v":24002,"d":"24,002.00"}},{"$f":"SUM('법정동(2012)'!BA87:BA96)","v":41},{"$f":"SUM('법정동(2012)'!BB87:BB96)","v":{"v":6161,"d":"6,161.00"}},{"$f":"SUM('법정동(2012)'!BC87:BC96)","v":3},{"$f":"SUM('법정동(2012)'!BD87:BD96)","v":{"v":136137,"d":"136,137.00"}},{"$f":"SUM('법정동(2012)'!BE87:BE96)","v":161},{"$f":"SUM('법정동(2012)'!BF87:BF96)","v":{"v":243603.7,"d":"243,603.70"}},{"$f":"SUM('법정동(2012)'!BG87:BG96)","v":357}]
["남   면",{"$f":"SUM('법정동(2012)'!B97:B105)","v":{"v":42500991,"d":"42,500,991.00"}},{"$f":"SUM('법정동(2012)'!C97:C105)","v":{"v":21253,"d":"21,253"}},{"$f":"SUM('법정동(2012)'!D97:D105)","v":{"v":9166297,"d":"9,166,297.00"}},{"$f":"SUM('법정동(2012)'!E97:E105)","v":{"v":8376,"d":"8,376"}},{"$f":"SUM('법정동(2012)'!F97:F105)","v":{"v":1435840,"d":"1,435,840.00"}},{"$f":"SUM('법정동(2012)'!G97:G105)","v":{"v":3215,"d":"3,215"}},{"$f":"SUM('법정동(2012)'!H97:H105)","v":0},{"$f":"SUM('법정동(2012)'!I97:I105)","v":0},{"$f":"SUM('법정동(2012)'!J97:J105)","v":{"v":598,"d":"598.00"}},{"$f":"SUM('법정동(2012)'!K97:K105)","v":1},{"$f":"SUM('법정동(2012)'!L97:L105)","v":{"v":29901916,"d":"29,901,916.00"}},{"$f":"SUM('법정동(2012)'!M97:M105)","v":{"v":4312,"d":"4,312"}},{"$f":"SUM('법정동(2012)'!N97:N105)","v":0},{"$f":"SUM('법정동(2012)'!O97:O105)","v":0},{"$f":"SUM('법정동(2012)'!P97:P105)","v":0},{"$f":"SUM('법정동(2012)'!Q97:Q105)","v":0},{"$f":"SUM('법정동(2012)'!R97:R105)","v":{"v":632521,"d":"632,521.00"}},{"$f":"SUM('법정동(2012)'!S97:S105)","v":{"v":2640,"d":"2,640"}},{"$f":"SUM('법정동(2012)'!T97:T105)","v":0},{"$f":"SUM('법정동(2012)'!U97:U105)","v":0},{"$f":"SUM('법정동(2012)'!V97:V105)","v":{"v":92803,"d":"92,803.00"}},{"$f":"SUM('법정동(2012)'!W97:W105)","v":43},{"$f":"SUM('법정동(2012)'!X97:X105)","v":0},{"$f":"SUM('법정동(2012)'!Y97:Y105)","v":0},{"$f":"SUM('법정동(2012)'!Z97:Z105)","v":0},{"$f":"SUM('법정동(2012)'!AA97:AA105)","v":0},{"$f":"SUM('법정동(2012)'!AB97:AB105)","v":{"v":900,"d":"900.00"}},{"$f":"SUM('법정동(2012)'!AC97:AC105)","v":4},{"$f":"SUM('법정동(2012)'!AD97:AD105)","v":{"v":767486,"d":"767,486.00"}},{"$f":"SUM('법정동(2012)'!AE97:AE105)","v":{"v":1901,"d":"1,901"}},{"$f":"SUM('법정동(2012)'!AF97:AF105)","v":0},{"$f":"SUM('법정동(2012)'!AG97:AG105)","v":0},{"$f":"SUM('법정동(2012)'!AH97:AH105)","v":{"v":32964,"d":"32,964.00"}},{"$f":"SUM('법정동(2012)'!AI97:AI105)","v":96},{"$f":"SUM('법정동(2012)'!AJ97:AJ105)","v":{"v":14717,"d":"14,717.00"}},{"$f":"SUM('법정동(2012)'!AK97:AK105)","v":49},{"$f":"SUM('법정동(2012)'!AL97:AL105)","v":{"v":128685,"d":"128,685.00"}},{"$f":"SUM('법정동(2012)'!AM97:AM105)","v":140},{"$f":"SUM('법정동(2012)'!AN97:AN105)","v":{"v":38639,"d":"38,639.00"}},{"$f":"SUM('법정동(2012)'!AO97:AO105)","v":55},{"$f":"SUM('법정동(2012)'!AP97:AP105)","v":{"v":25134,"d":"25,134.00"}},{"$f":"SUM('법정동(2012)'!AQ97:AQ105)","v":20},{"$f":"SUM('법정동(2012)'!AR97:AR105)","v":{"v":2410,"d":"2,410.00"}},{"$f":"SUM('법정동(2012)'!AS97:AS105)","v":5},{"$f":"SUM('법정동(2012)'!AT97:AT105)","v":0},{"$f":"SUM('법정동(2012)'!AU97:AU105)","v":0},{"$f":"SUM('법정동(2012)'!AV97:AV105)","v":0},{"$f":"SUM('법정동(2012)'!AW97:AW105)","v":0},{"$f":"SUM('법정동(2012)'!AX97:AX105)","v":0},{"$f":"SUM('법정동(2012)'!AY97:AY105)","v":0},{"$f":"SUM('법정동(2012)'!AZ97:AZ105)","v":{"v":4706,"d":"4,706.00"}},{"$f":"SUM('법정동(2012)'!BA97:BA105)","v":14},{"$f":"SUM('법정동(2012)'!BB97:BB105)","v":0},{"$f":"SUM('법정동(2012)'!BC97:BC105)","v":0},{"$f":"SUM('법정동(2012)'!BD97:BD105)","v":{"v":126508,"d":"126,508.00"}},{"$f":"SUM('법정동(2012)'!BE97:BE105)","v":127},{"$f":"SUM('법정동(2012)'!BF97:BF105)","v":{"v":128867,"d":"128,867.00"}},{"$f":"SUM('법정동(2012)'!BG97:BG105)","v":255}]
["화정면",{"$f":"SUM('법정동(2012)'!B106:B115)","v":{"v":26355391,"d":"26,355,391.00"}},{"$f":"SUM('법정동(2012)'!C106:C115)","v":{"v":15837,"d":"15,837"}},{"$f":"SUM('법정동(2012)'!D106:D115)","v":{"v":6740906,"d":"6,740,906.00"}},{"$f":"SUM('법정동(2012)'!E106:E115)","v":{"v":6995,"d":"6,995"}},{"$f":"SUM('법정동(2012)'!F106:F115)","v":{"v":920049,"d":"920,049.00"}},{"$f":"SUM('법정동(2012)'!G106:G115)","v":{"v":1141,"d":"1,141"}},{"$f":"SUM('법정동(2012)'!H106:H115)","v":{"v":1895,"d":"1,895.00"}},{"$f":"SUM('법정동(2012)'!I106:I115)","v":2},{"$f":"SUM('법정동(2012)'!J106:J115)","v":{"v":2927,"d":"2,927.00"}},{"$f":"SUM('법정동(2012)'!K106:K115)","v":3},{"$f":"SUM('법정동(2012)'!L106:L115)","v":{"v":17099838,"d":"17,099,838.00"}},{"$f":"SUM('법정동(2012)'!M106:M115)","v":{"v":3695,"d":"3,695"}},{"$f":"SUM('법정동(2012)'!N106:N115)","v":0},{"$f":"SUM('법정동(2012)'!O106:O115)","v":0},{"$f":"SUM('법정동(2012)'!P106:P115)","v":{"v":8625,"d":"8,625.00"}},{"$f":"SUM('법정동(2012)'!Q106:Q115)","v":2},{"$f":"SUM('법정동(2012)'!R106:R115)","v":{"v":512976,"d":"512,976.00"}},{"$f":"SUM('법정동(2012)'!S106:S115)","v":{"v":2003,"d":"2,003"}},{"$f":"SUM('법정동(2012)'!T106:T115)","v":0},{"$f":"SUM('법정동(2012)'!U106:U115)","v":0},{"$f":"SUM('법정동(2012)'!V106:V115)","v":{"v":93495,"d":"93,495.00"}},{"$f":"SUM('법정동(2012)'!W106:W115)","v":42},{"$f":"SUM('법정동(2012)'!X106:X115)","v":0},{"$f":"SUM('법정동(2012)'!Y106:Y115)","v":0},{"$f":"SUM('법정동(2012)'!Z106:Z115)","v":0},{"$f":"SUM('법정동(2012)'!AA106:AA115)","v":0},{"$f":"SUM('법정동(2012)'!AB106:AB115)","v":{"v":395,"d":"395.00"}},{"$f":"SUM('법정동(2012)'!AC106:AC115)","v":1},{"$f":"SUM('법정동(2012)'!AD106:AD115)","v":{"v":430334,"d":"430,334.00"}},{"$f":"SUM('법정동(2012)'!AE106:AE115)","v":{"v":1287,"d":"1,287"}},{"$f":"SUM('법정동(2012)'!AF106:AF115)","v":0},{"$f":"SUM('법정동(2012)'!AG106:AG115)","v":0},{"$f":"SUM('법정동(2012)'!AH106:AH115)","v":{"v":48143,"d":"48,143.00"}},{"$f":"SUM('법정동(2012)'!AI106:AI115)","v":94},{"$f":"SUM('법정동(2012)'!AJ106:AJ115)","v":{"v":15965,"d":"15,965.00"}},{"$f":"SUM('법정동(2012)'!AK106:AK115)","v":16},{"$f":"SUM('법정동(2012)'!AL106:AL115)","v":{"v":134098,"d":"134,098.00"}},{"$f":"SUM('법정동(2012)'!AM106:AM115)","v":103},{"$f":"SUM('법정동(2012)'!AN106:AN115)","v":{"v":74637,"d":"74,637.00"}},{"$f":"SUM('법정동(2012)'!AO106:AO115)","v":26},{"$f":"SUM('법정동(2012)'!AP106:AP115)","v":{"v":26934,"d":"26,934.00"}},{"$f":"SUM('법정동(2012)'!AQ106:AQ115)","v":22},{"$f":"SUM('법정동(2012)'!AR106:AR115)","v":0},{"$f":"SUM('법정동(2012)'!AS106:AS115)","v":0},{"$f":"SUM('법정동(2012)'!AT106:AT115)","v":0},{"$f":"SUM('법정동(2012)'!AU106:AU115)","v":0},{"$f":"SUM('법정동(2012)'!AV106:AV115)","v":0},{"$f":"SUM('법정동(2012)'!AW106:AW115)","v":0},{"$f":"SUM('법정동(2012)'!AX106:AX115)","v":0},{"$f":"SUM('법정동(2012)'!AY106:AY115)","v":0},{"$f":"SUM('법정동(2012)'!AZ106:AZ115)","v":{"v":6371,"d":"6,371.00"}},{"$f":"SUM('법정동(2012)'!BA106:BA115)","v":12},{"$f":"SUM('법정동(2012)'!BB106:BB115)","v":0},{"$f":"SUM('법정동(2012)'!BC106:BC115)","v":0},{"$f":"SUM('법정동(2012)'!BD106:BD115)","v":{"v":98336,"d":"98,336.00"}},{"$f":"SUM('법정동(2012)'!BE106:BE115)","v":211},{"$f":"SUM('법정동(2012)'!BF106:BF115)","v":{"v":139467,"d":"139,467.00"}},{"$f":"SUM('법정동(2012)'!BG106:BG115)","v":182}]
["삼산면",{"$f":"SUM('법정동(2012)'!B116:B121)","v":{"v":27545341,"d":"27,545,341.00"}},{"$f":"SUM('법정동(2012)'!C116:C121)","v":{"v":13976,"d":"13,976"}},{"$f":"SUM('법정동(2012)'!D116:D121)","v":{"v":4841832,"d":"4,841,832.00"}},{"$f":"SUM('법정동(2012)'!E116:E121)","v":{"v":5735,"d":"5,735"}},{"$f":"SUM('법정동(2012)'!F116:F121)","v":{"v":286879,"d":"286,879.00"}},{"$f":"SUM('법정동(2012)'!G116:G121)","v":676},{"$f":"SUM('법정동(2012)'!H116:H121)","v":{"v":981,"d":"981.00"}},{"$f":"SUM('법정동(2012)'!I116:I121)","v":1},{"$f":"SUM('법정동(2012)'!J116:J121)","v":{"v":81491,"d":"81,491.00"}},{"$f":"SUM('법정동(2012)'!K116:K121)","v":6},{"$f":"SUM('법정동(2012)'!L116:L121)","v":{"v":20747063,"d":"20,747,063.00"}},{"$f":"SUM('법정동(2012)'!M116:M121)","v":{"v":4235,"d":"4,235"}},{"$f":"SUM('법정동(2012)'!N116:N121)","v":0},{"$f":"SUM('법정동(2012)'!O116:O121)","v":0},{"$f":"SUM('법정동(2012)'!P116:P121)","v":0},{"$f":"SUM('법정동(2012)'!Q116:Q121)","v":0},{"$f":"SUM('법정동(2012)'!R116:R121)","v":{"v":478503,"d":"478,503.00"}},{"$f":"SUM('법정동(2012)'!S116:S121)","v":{"v":2151,"d":"2,151"}},{"$f":"SUM('법정동(2012)'!T116:T121)","v":0},{"$f":"SUM('법정동(2012)'!U116:U121)","v":0},{"$f":"SUM('법정동(2012)'!V116:V121)","v":{"v":71912,"d":"71,912.00"}},{"$f":"SUM('법정동(2012)'!W116:W121)","v":25},{"$f":"SUM('법정동(2012)'!X116:X121)","v":0},{"$f":"SUM('법정동(2012)'!Y116:Y121)","v":0},{"$f":"SUM('법정동(2012)'!Z116:Z121)","v":0},{"$f":"SUM('법정동(2012)'!AA116:AA121)","v":0},{"$f":"SUM('법정동(2012)'!AB116:AB121)","v":{"v":768,"d":"768.00"}},{"$f":"SUM('법정동(2012)'!AC116:AC121)","v":4},{"$f":"SUM('법정동(2012)'!AD116:AD121)","v":{"v":373998,"d":"373,998.00"}},{"$f":"SUM('법정동(2012)'!AE116:AE121)","v":640},{"$f":"SUM('법정동(2012)'!AF116:AF121)","v":0},{"$f":"SUM('법정동(2012)'!AG116:AG121)","v":0},{"$f":"SUM('법정동(2012)'!AH116:AH121)","v":{"v":28885,"d":"28,885.00"}},{"$f":"SUM('법정동(2012)'!AI116:AI121)","v":42},{"$f":"SUM('법정동(2012)'!AJ116:AJ121)","v":{"v":1424,"d":"1,424.00"}},{"$f":"SUM('법정동(2012)'!AK116:AK121)","v":8},{"$f":"SUM('법정동(2012)'!AL116:AL121)","v":{"v":48446,"d":"48,446.00"}},{"$f":"SUM('법정동(2012)'!AM116:AM121)","v":35},{"$f":"SUM('법정동(2012)'!AN116:AN121)","v":{"v":4297,"d":"4,297.00"}},{"$f":"SUM('법정동(2012)'!AO116:AO121)","v":5},{"$f":"SUM('법정동(2012)'!AP116:AP121)","v":{"v":9924,"d":"9,924.00"}},{"$f":"SUM('법정동(2012)'!AQ116:AQ121)","v":9},{"$f":"SUM('법정동(2012)'!AR116:AR121)","v":0},{"$f":"SUM('법정동(2012)'!AS116:AS121)","v":0},{"$f":"SUM('법정동(2012)'!AT116:AT121)","v":0},{"$f":"SUM('법정동(2012)'!AU116:AU121)","v":0},{"$f":"SUM('법정동(2012)'!AV116:AV121)","v":0},{"$f":"SUM('법정동(2012)'!AW116:AW121)","v":0},{"$f":"SUM('법정동(2012)'!AX116:AX121)","v":0},{"$f":"SUM('법정동(2012)'!AY116:AY121)","v":0},{"$f":"SUM('법정동(2012)'!AZ116:AZ121)","v":{"v":1963,"d":"1,963.00"}},{"$f":"SUM('법정동(2012)'!BA116:BA121)","v":9},{"$f":"SUM('법정동(2012)'!BB116:BB121)","v":0},{"$f":"SUM('법정동(2012)'!BC116:BC121)","v":0},{"$f":"SUM('법정동(2012)'!BD116:BD121)","v":{"v":423560,"d":"423,560.00"}},{"$f":"SUM('법정동(2012)'!BE116:BE121)","v":265},{"$f":"SUM('법정동(2012)'!BF116:BF121)","v":{"v":143415,"d":"143,415.00"}},{"$f":"SUM('법정동(2012)'!BG116:BG121)","v":130}]
["동문동",{"$f":"SUM('법정동(2012)'!B8,'법정동(2012)'!B11,'법정동(2012)'!B13)","v":{"v":929798,"d":"929,798.00"}},{"$f":"SUM('법정동(2012)'!C8,'법정동(2012)'!C11,'법정동(2012)'!C13)","v":{"v":4497,"d":"4,497"}},{"$f":"SUM('법정동(2012)'!D8,'법정동(2012)'!D11,'법정동(2012)'!D13)","v":{"v":110473,"d":"110,473.00"}},{"$f":"SUM('법정동(2012)'!E8,'법정동(2012)'!E11,'법정동(2012)'!E13)","v":360},{"$f":"SUM('법정동(2012)'!F8,'법정동(2012)'!F11,'법정동(2012)'!F13)","v":{"v":4253,"d":"4,253.00"}},{"$f":"SUM('법정동(2012)'!G8,'법정동(2012)'!G11,'법정동(2012)'!G13)","v":23},{"$f":"SUM('법정동(2012)'!H8,'법정동(2012)'!H11,'법정동(2012)'!H13)","v":0},{"$f":"SUM('법정동(2012)'!I8,'법정동(2012)'!I11,'법정동(2012)'!I13)","v":0},{"$f":"SUM('법정동(2012)'!J8,'법정동(2012)'!J11,'법정동(2012)'!J13)","v":0},{"$f":"SUM('법정동(2012)'!K8,'법정동(2012)'!K11,'법정동(2012)'!K13)","v":0},{"$f":"SUM('법정동(2012)'!L8,'법정동(2012)'!L11,'법정동(2012)'!L13)","v":{"v":155339,"d":"155,339.00"}},{"$f":"SUM('법정동(2012)'!M8,'법정동(2012)'!M11,'법정동(2012)'!M13)","v":106},{"$f":"SUM('법정동(2012)'!N8,'법정동(2012)'!N11,'법정동(2012)'!N13)","v":0},{"$f":"SUM('법정동(2012)'!O8,'법정동(2012)'!O11,'법정동(2012)'!O13)","v":0},{"$f":"SUM('법정동(2012)'!P8,'법정동(2012)'!P11,'법정동(2012)'!P13)","v":0},{"$f":"SUM('법정동(2012)'!Q8,'법정동(2012)'!Q11,'법정동(2012)'!Q13)","v":0},{"$f":"SUM('법정동(2012)'!R8,'법정동(2012)'!R11,'법정동(2012)'!R13)","v":{"v":343240,"d":"343,240.00"}},{"$f":"SUM('법정동(2012)'!S8,'법정동(2012)'!S11,'법정동(2012)'!S13)","v":{"v":3217,"d":"3,217"}},{"$f":"SUM('법정동(2012)'!T8,'법정동(2012)'!T11,'법정동(2012)'!T13)","v":0},{"$f":"SUM('법정동(2012)'!U8,'법정동(2012)'!U11,'법정동(2012)'!U13)","v":0},{"$f":"SUM('법정동(2012)'!V8,'법정동(2012)'!V11,'법정동(2012)'!V13)","v":{"v":76324,"d":"76,324.00"}},{"$f":"SUM('법정동(2012)'!W8,'법정동(2012)'!W11,'법정동(2012)'!W13)","v":8},{"$f":"SUM('법정동(2012)'!X8,'법정동(2012)'!X11,'법정동(2012)'!X13)","v":{"v":1247,"d":"1,247.00"}},{"$f":"SUM('법정동(2012)'!Y8,'법정동(2012)'!Y11,'법정동(2012)'!Y13)","v":8},{"$f":"SUM('법정동(2012)'!Z8,'법정동(2012)'!Z11,'법정동(2012)'!Z13)","v":0},{"$f":"SUM('법정동(2012)'!AA8,'법정동(2012)'!AA11,'법정동(2012)'!AA13)","v":0},{"$f":"SUM('법정동(2012)'!AB8,'법정동(2012)'!AB11,'법정동(2012)'!AB13)","v":{"v":177,"d":"177.00"}},{"$f":"SUM('법정동(2012)'!AC8,'법정동(2012)'!AC11,'법정동(2012)'!AC13)","v":1},{"$f":"SUM('법정동(2012)'!AD8,'법정동(2012)'!AD11,'법정동(2012)'!AD13)","v":{"v":119039,"d":"119,039.00"}},{"$f":"SUM('법정동(2012)'!AE8,'법정동(2012)'!AE11,'법정동(2012)'!AE13)","v":683},{"$f":"SUM('법정동(2012)'!AF8,'법정동(2012)'!AF11,'법정동(2012)'!AF13)","v":0},{"$f":"SUM('법정동(2012)'!AG8,'법정동(2012)'!AG11,'법정동(2012)'!AG13)","v":0},{"$f":"SUM('법정동(2012)'!AH8,'법정동(2012)'!AH11,'법정동(2012)'!AH13)","v":{"v":2678,"d":"2,678.00"}},{"$f":"SUM('법정동(2012)'!AI8,'법정동(2012)'!AI11,'법정동(2012)'!AI13)","v":8},{"$f":"SUM('법정동(2012)'!AJ8,'법정동(2012)'!AJ11,'법정동(2012)'!AJ13)","v":0},{"$f":"SUM('법정동(2012)'!AK8,'법정동(2012)'!AK11,'법정동(2012)'!AK13)","v":0},{"$f":"SUM('법정동(2012)'!AL8,'법정동(2012)'!AL11,'법정동(2012)'!AL13)","v":{"v":5295,"d":"5,295.00"}},{"$f":"SUM('법정동(2012)'!AM8,'법정동(2012)'!AM11,'법정동(2012)'!AM13)","v":18},{"$f":"SUM('법정동(2012)'!AN8,'법정동(2012)'!AN11,'법정동(2012)'!AN13)","v":0},{"$f":"SUM('법정동(2012)'!AO8,'법정동(2012)'!AO11,'법정동(2012)'!AO13)","v":0},{"$f":"SUM('법정동(2012)'!AP8,'법정동(2012)'!AP11,'법정동(2012)'!AP13)","v":0},{"$f":"SUM('법정동(2012)'!AQ8,'법정동(2012)'!AQ11,'법정동(2012)'!AQ13)","v":0},{"$f":"SUM('법정동(2012)'!AR8,'법정동(2012)'!AR11,'법정동(2012)'!AR13)","v":{"v":5945,"d":"5,945.00"}},{"$f":"SUM('법정동(2012)'!AS8,'법정동(2012)'!AS11,'법정동(2012)'!AS13)","v":6},{"$f":"SUM('법정동(2012)'!AT8,'법정동(2012)'!AT11,'법정동(2012)'!AT13)","v":{"v":84607,"d":"84,607.00"}},{"$f":"SUM('법정동(2012)'!AU8,'법정동(2012)'!AU11,'법정동(2012)'!AU13)","v":15},{"$f":"SUM('법정동(2012)'!AV8,'법정동(2012)'!AV11,'법정동(2012)'!AV13)","v":0},{"$f":"SUM('법정동(2012)'!AW8,'법정동(2012)'!AW11,'법정동(2012)'!AW13)","v":0},{"$f":"SUM('법정동(2012)'!AX8,'법정동(2012)'!AX11,'법정동(2012)'!AX13)","v":0},{"$f":"SUM('법정동(2012)'!AY8,'법정동(2012)'!AY11,'법정동(2012)'!AY13)","v":0},{"$f":"SUM('법정동(2012)'!AZ8,'법정동(2012)'!AZ11,'법정동(2012)'!AZ13)","v":{"v":3567,"d":"3,567.00"}},{"$f":"SUM('법정동(2012)'!BA8,'법정동(2012)'!BA11,'법정동(2012)'!BA13)","v":11},{"$f":"SUM('법정동(2012)'!BB8,'법정동(2012)'!BB11,'법정동(2012)'!BB13)","v":0},{"$f":"SUM('법정동(2012)'!BC8,'법정동(2012)'!BC11,'법정동(2012)'!BC13)","v":0},{"$f":"SUM('법정동(2012)'!BD8,'법정동(2012)'!BD11,'법정동(2012)'!BD13)","v":{"v":4334,"d":"4,334.00"}},{"$f":"SUM('법정동(2012)'!BE8,'법정동(2012)'!BE11,'법정동(2012)'!BE13)","v":15},{"$f":"SUM('법정동(2012)'!BF8,'법정동(2012)'!BF11,'법정동(2012)'!BF13)","v":{"v":13280,"d":"13,280.00"}},{"$f":"SUM('법정동(2012)'!BG8,'법정동(2012)'!BG11,'법정동(2012)'!BG13)","v":18}]
["한려동",{"$f":"SUM('법정동(2012)'!B9:B10)","v":{"v":951005,"d":"951,005.00"}},{"$f":"SUM('법정동(2012)'!C9:C10)","v":{"v":3472,"d":"3,472"}},{"$f":"SUM('법정동(2012)'!D9:D10)","v":{"v":47561,"d":"47,561.00"}},{"$f":"SUM('법정동(2012)'!E9:E10)","v":281},{"$f":"SUM('법정동(2012)'!F9:F10)","v":0},{"$f":"SUM('법정동(2012)'!G9:G10)","v":0},{"$f":"SUM('법정동(2012)'!H9:H10)","v":0},{"$f":"SUM('법정동(2012)'!I9:I10)","v":0},{"$f":"SUM('법정동(2012)'!J9:J10)","v":0},{"$f":"SUM('법정동(2012)'!K9:K10)","v":0},{"$f":"SUM('법정동(2012)'!L9:L10)","v":{"v":134911,"d":"134,911.00"}},{"$f":"SUM('법정동(2012)'!M9:M10)","v":59},{"$f":"SUM('법정동(2012)'!N9:N10)","v":0},{"$f":"SUM('법정동(2012)'!O9:O10)","v":0},{"$f":"SUM('법정동(2012)'!P9:P10)","v":0},{"$f":"SUM('법정동(2012)'!Q9:Q10)","v":0},{"$f":"SUM('법정동(2012)'!R9:R10)","v":{"v":386541,"d":"386,541.00"}},{"$f":"SUM('법정동(2012)'!S9:S10)","v":{"v":2453,"d":"2,453"}},{"$f":"SUM('법정동(2012)'!T9:T10)","v":{"v":3705,"d":"3,705.00"}},{"$f":"SUM('법정동(2012)'!U9:U10)","v":4},{"$f":"SUM('법정동(2012)'!V9:V10)","v":{"v":89058,"d":"89,058.00"}},{"$f":"SUM('법정동(2012)'!W9:W10)","v":8},{"$f":"SUM('법정동(2012)'!X9:X10)","v":{"v":2507,"d":"2,507.00"}},{"$f":"SUM('법정동(2012)'!Y9:Y10)","v":9},{"$f":"SUM('법정동(2012)'!Z9:Z10)","v":{"v":1141,"d":"1,141.00"}},{"$f":"SUM('법정동(2012)'!AA9:AA10)","v":4},{"$f":"SUM('법정동(2012)'!AB9:AB10)","v":0},{"$f":"SUM('법정동(2012)'!AC9:AC10)","v":0},{"$f":"SUM('법정동(2012)'!AD9:AD10)","v":{"v":138290,"d":"138,290.00"}},{"$f":"SUM('법정동(2012)'!AE9:AE10)","v":480},{"$f":"SUM('법정동(2012)'!AF9:AF10)","v":{"v":89946,"d":"89,946.00"}},{"$f":"SUM('법정동(2012)'!AG9:AG10)","v":92},{"$f":"SUM('법정동(2012)'!AH9:AH10)","v":{"v":28149,"d":"28,149.00"}},{"$f":"SUM('법정동(2012)'!AI9:AI10)","v":18},{"$f":"SUM('법정동(2012)'!AJ9:AJ10)","v":0},{"$f":"SUM('법정동(2012)'!AK9:AK10)","v":0},{"$f":"SUM('법정동(2012)'!AL9:AL10)","v":{"v":3480,"d":"3,480.00"}},{"$f":"SUM('법정동(2012)'!AM9:AM10)","v":22},{"$f":"SUM('법정동(2012)'!AN9:AN10)","v":0},{"$f":"SUM('법정동(2012)'!AO9:AO10)","v":0},{"$f":"SUM('법정동(2012)'!AP9:AP10)","v":0},{"$f":"SUM('법정동(2012)'!AQ9:AQ10)","v":0},{"$f":"SUM('법정동(2012)'!AR9:AR10)","v":0},{"$f":"SUM('법정동(2012)'!AS9:AS10)","v":0},{"$f":"SUM('법정동(2012)'!AT9:AT10)","v":{"v":4533,"d":"4,533.00"}},{"$f":"SUM('법정동(2012)'!AU9:AU10)","v":2},{"$f":"SUM('법정동(2012)'!AV9:AV10)","v":0},{"$f":"SUM('법정동(2012)'!AW9:AW10)","v":0},{"$f":"SUM('법정동(2012)'!AX9:AX10)","v":0},{"$f":"SUM('법정동(2012)'!AY9:AY10)","v":0},{"$f":"SUM('법정동(2012)'!AZ9:AZ10)","v":{"v":6337,"d":"6,337.00"}},{"$f":"SUM('법정동(2012)'!BA9:BA10)","v":9},{"$f":"SUM('법정동(2012)'!BB9:BB10)","v":0},{"$f":"SUM('법정동(2012)'!BC9:BC10)","v":0},{"$f":"SUM('법정동(2012)'!BD9:BD10)","v":{"v":1128,"d":"1,128.00"}},{"$f":"SUM('법정동(2012)'!BE9:BE10)","v":5},{"$f":"SUM('법정동(2012)'!BF9:BF10)","v":{"v":13718,"d":"13,718.00"}},{"$f":"SUM('법정동(2012)'!BG9:BG10)","v":26}]
["중앙동",{"$f":"SUM('법정동(2012)'!B12,'법정동(2012)'!B14:B15)","v":{"v":501936.2,"d":"501,936.20"}},{"$f":"SUM('법정동(2012)'!C12,'법정동(2012)'!C14:C15)","v":{"v":3287,"d":"3,287"}},{"$f":"SUM('법정동(2012)'!D12,'법정동(2012)'!D14:D15)","v":{"v":16605,"d":"16,605.00"}},{"$f":"SUM('법정동(2012)'!E12,'법정동(2012)'!E14:E15)","v":104},{"$f":"SUM('법정동(2012)'!F12,'법정동(2012)'!F14:F15)","v":0},{"$f":"SUM('법정동(2012)'!G12,'법정동(2012)'!G14:G15)","v":0},{"$f":"SUM('법정동(2012)'!H12,'법정동(2012)'!H14:H15)","v":0},{"$f":"SUM('법정동(2012)'!I12,'법정동(2012)'!I14:I15)","v":0},{"$f":"SUM('법정동(2012)'!J12,'법정동(2012)'!J14:J15)","v":0},{"$f":"SUM('법정동(2012)'!K12,'법정동(2012)'!K14:K15)","v":0},{"$f":"SUM('법정동(2012)'!L12,'법정동(2012)'!L14:L15)","v":{"v":21619,"d":"21,619.00"}},{"$f":"SUM('법정동(2012)'!M12,'법정동(2012)'!M14:M15)","v":25},{"$f":"SUM('법정동(2012)'!N12,'법정동(2012)'!N14:N15)","v":0},{"$f":"SUM('법정동(2012)'!O12,'법정동(2012)'!O14:O15)","v":0},{"$f":"SUM('법정동(2012)'!P12,'법정동(2012)'!P14:P15)","v":0},{"$f":"SUM('법정동(2012)'!Q12,'법정동(2012)'!Q14:Q15)","v":0},{"$f":"SUM('법정동(2012)'!R12,'법정동(2012)'!R14:R15)","v":{"v":279427,"d":"279,427.00"}},{"$f":"SUM('법정동(2012)'!S12,'법정동(2012)'!S14:S15)","v":{"v":2554,"d":"2,554"}},{"$f":"SUM('법정동(2012)'!T12,'법정동(2012)'!T14:T15)","v":0},{"$f":"SUM('법정동(2012)'!U12,'법정동(2012)'!U14:U15)","v":0},{"$f":"SUM('법정동(2012)'!V12,'법정동(2012)'!V14:V15)","v":0},{"$f":"SUM('법정동(2012)'!W12,'법정동(2012)'!W14:W15)","v":0},{"$f":"SUM('법정동(2012)'!X12,'법정동(2012)'!X14:X15)","v":{"v":6241.2,"d":"6,241.20"}},{"$f":"SUM('법정동(2012)'!Y12,'법정동(2012)'!Y14:Y15)","v":7},{"$f":"SUM('법정동(2012)'!Z12,'법정동(2012)'!Z14:Z15)","v":0},{"$f":"SUM('법정동(2012)'!AA12,'법정동(2012)'!AA14:AA15)","v":0},{"$f":"SUM('법정동(2012)'!AB12,'법정동(2012)'!AB14:AB15)","v":0},{"$f":"SUM('법정동(2012)'!AC12,'법정동(2012)'!AC14:AC15)","v":0},{"$f":"SUM('법정동(2012)'!AD12,'법정동(2012)'!AD14:AD15)","v":{"v":135170,"d":"135,170.00"}},{"$f":"SUM('법정동(2012)'!AE12,'법정동(2012)'!AE14:AE15)","v":561},{"$f":"SUM('법정동(2012)'!AF12,'법정동(2012)'!AF14:AF15)","v":0},{"$f":"SUM('법정동(2012)'!AG12,'법정동(2012)'!AG14:AG15)","v":0},{"$f":"SUM('법정동(2012)'!AH12,'법정동(2012)'!AH14:AH15)","v":{"v":800,"d":"800.00"}},{"$f":"SUM('법정동(2012)'!AI12,'법정동(2012)'!AI14:AI15)","v":2},{"$f":"SUM('법정동(2012)'!AJ12,'법정동(2012)'!AJ14:AJ15)","v":{"v":9005,"d":"9,005.00"}},{"$f":"SUM('법정동(2012)'!AK12,'법정동(2012)'!AK14:AK15)","v":1},{"$f":"SUM('법정동(2012)'!AL12,'법정동(2012)'!AL14:AL15)","v":{"v":445,"d":"445.00"}},{"$f":"SUM('법정동(2012)'!AM12,'법정동(2012)'!AM14:AM15)","v":5},{"$f":"SUM('법정동(2012)'!AN12,'법정동(2012)'!AN14:AN15)","v":0},{"$f":"SUM('법정동(2012)'!AO12,'법정동(2012)'!AO14:AO15)","v":0},{"$f":"SUM('법정동(2012)'!AP12,'법정동(2012)'!AP14:AP15)","v":0},{"$f":"SUM('법정동(2012)'!AQ12,'법정동(2012)'!AQ14:AQ15)","v":0},{"$f":"SUM('법정동(2012)'!AR12,'법정동(2012)'!AR14:AR15)","v":{"v":671,"d":"671.00"}},{"$f":"SUM('법정동(2012)'!AS12,'법정동(2012)'!AS14:AS15)","v":1},{"$f":"SUM('법정동(2012)'!AT12,'법정동(2012)'!AT14:AT15)","v":{"v":9732,"d":"9,732.00"}},{"$f":"SUM('법정동(2012)'!AU12,'법정동(2012)'!AU14:AU15)","v":1},{"$f":"SUM('법정동(2012)'!AV12,'법정동(2012)'!AV14:AV15)","v":0},{"$f":"SUM('법정동(2012)'!AW12,'법정동(2012)'!AW14:AW15)","v":0},{"$f":"SUM('법정동(2012)'!AX12,'법정동(2012)'!AX14:AX15)","v":0},{"$f":"SUM('법정동(2012)'!AY12,'법정동(2012)'!AY14:AY15)","v":0},{"$f":"SUM('법정동(2012)'!AZ12,'법정동(2012)'!AZ14:AZ15)","v":{"v":3526,"d":"3,526.00"}},{"$f":"SUM('법정동(2012)'!BA12,'법정동(2012)'!BA14:BA15)","v":4},{"$f":"SUM('법정동(2012)'!BB12,'법정동(2012)'!BB14:BB15)","v":{"v":1583,"d":"1,583.00"}},{"$f":"SUM('법정동(2012)'!BC12,'법정동(2012)'!BC14:BC15)","v":1},{"$f":"SUM('법정동(2012)'!BD12,'법정동(2012)'!BD14:BD15)","v":{"v":78,"d":"78.00"}},{"$f":"SUM('법정동(2012)'!BE12,'법정동(2012)'!BE14:BE15)","v":3},{"$f":"SUM('법정동(2012)'!BF12,'법정동(2012)'!BF14:BF15)","v":{"v":17034,"d":"17,034.00"}},{"$f":"SUM('법정동(2012)'!BG12,'법정동(2012)'!BG14:BG15)","v":18}]
["충무동",{"$f":"SUM('법정동(2012)'!B16:B18)","v":{"v":1349528.5,"d":"1,349,528.50"}},{"$f":"SUM('법정동(2012)'!C16:C18)","v":{"v":3787,"d":"3,787"}},{"$f":"SUM('법정동(2012)'!D16:D18)","v":{"v":231352,"d":"231,352.00"}},{"$f":"SUM('법정동(2012)'!E16:E18)","v":514},{"$f":"SUM('법정동(2012)'!F16:F18)","v":{"v":45899,"d":"45,899.00"}},{"$f":"SUM('법정동(2012)'!G16:G18)","v":82},{"$f":"SUM('법정동(2012)'!H16:H18)","v":0},{"$f":"SUM('법정동(2012)'!I16:I18)","v":0},{"$f":"SUM('법정동(2012)'!J16:J18)","v":0},{"$f":"SUM('법정동(2012)'!K16:K18)","v":0},{"$f":"SUM('법정동(2012)'!L16:L18)","v":{"v":447669.8,"d":"447,669.80"}},{"$f":"SUM('법정동(2012)'!M16:M18)","v":157},{"$f":"SUM('법정동(2012)'!N16:N18)","v":0},{"$f":"SUM('법정동(2012)'!O16:O18)","v":0},{"$f":"SUM('법정동(2012)'!P16:P18)","v":0},{"$f":"SUM('법정동(2012)'!Q16:Q18)","v":0},{"$f":"SUM('법정동(2012)'!R16:R18)","v":{"v":308605.1,"d":"308,605.10"}},{"$f":"SUM('법정동(2012)'!S16:S18)","v":{"v":2464,"d":"2,464"}},{"$f":"SUM('법정동(2012)'!T16:T18)","v":{"v":696.7,"d":"696.70"}},{"$f":"SUM('법정동(2012)'!U16:U18)","v":1},{"$f":"SUM('법정동(2012)'!V16:V18)","v":{"v":21502,"d":"21,502.00"}},{"$f":"SUM('법정동(2012)'!W16:W18)","v":3},{"$f":"SUM('법정동(2012)'!X16:X18)","v":{"v":2618,"d":"2,618.00"}},{"$f":"SUM('법정동(2012)'!Y16:Y18)","v":10},{"$f":"SUM('법정동(2012)'!Z16:Z18)","v":{"v":1946.1,"d":"1,946.10"}},{"$f":"SUM('법정동(2012)'!AA16:AA18)","v":7},{"$f":"SUM('법정동(2012)'!AB16:AB18)","v":{"v":2638.4,"d":"2,638.40"}},{"$f":"SUM('법정동(2012)'!AC16:AC18)","v":3},{"$f":"SUM('법정동(2012)'!AD16:AD18)","v":{"v":201896,"d":"201,896.00"}},{"$f":"SUM('법정동(2012)'!AE16:AE18)","v":443},{"$f":"SUM('법정동(2012)'!AF16:AF18)","v":0},{"$f":"SUM('법정동(2012)'!AG16:AG18)","v":0},{"$f":"SUM('법정동(2012)'!AH16:AH18)","v":0},{"$f":"SUM('법정동(2012)'!AI16:AI18)","v":0},{"$f":"SUM('법정동(2012)'!AJ16:AJ18)","v":{"v":20098,"d":"20,098.00"}},{"$f":"SUM('법정동(2012)'!AK16:AK18)","v":23},{"$f":"SUM('법정동(2012)'!AL16:AL18)","v":{"v":34073.4,"d":"34,073.40"}},{"$f":"SUM('법정동(2012)'!AM16:AM18)","v":26},{"$f":"SUM('법정동(2012)'!AN16:AN18)","v":0},{"$f":"SUM('법정동(2012)'!AO16:AO18)","v":0},{"$f":"SUM('법정동(2012)'!AP16:AP18)","v":0},{"$f":"SUM('법정동(2012)'!AQ16:AQ18)","v":0},{"$f":"SUM('법정동(2012)'!AR16:AR18)","v":{"v":2189.1,"d":"2,189.10"}},{"$f":"SUM('법정동(2012)'!AS16:AS18)","v":4},{"$f":"SUM('법정동(2012)'!AT16:AT18)","v":{"v":991.9,"d":"991.90"}},{"$f":"SUM('법정동(2012)'!AU16:AU18)","v":1},{"$f":"SUM('법정동(2012)'!AV16:AV18)","v":0},{"$f":"SUM('법정동(2012)'!AW16:AW18)","v":0},{"$f":"SUM('법정동(2012)'!AX16:AX18)","v":0},{"$f":"SUM('법정동(2012)'!AY16:AY18)","v":0},{"$f":"SUM('법정동(2012)'!AZ16:AZ18)","v":{"v":9435,"d":"9,435.00"}},{"$f":"SUM('법정동(2012)'!BA16:BA18)","v":17},{"$f":"SUM('법정동(2012)'!BB16:BB18)","v":{"v":5718,"d":"5,718.00"}},{"$f":"SUM('법정동(2012)'!BC16:BC18)","v":5},{"$f":"SUM('법정동(2012)'!BD16:BD18)","v":{"v":5021,"d":"5,021.00"}},{"$f":"SUM('법정동(2012)'!BE16:BE18)","v":9},{"$f":"SUM('법정동(2012)'!BF16:BF18)","v":{"v":7179,"d":"7,179.00"}},{"$f":"SUM('법정동(2012)'!BG16:BG18)","v":18}]
["광림동",{"$f":"SUM('법정동(2012)'!B19,'법정동(2012)'!B28)","v":{"v":3396211.1,"d":"3,396,211.10"}},{"$f":"SUM('법정동(2012)'!C19,'법정동(2012)'!C28)","v":{"v":4567,"d":"4,567"}},{"$f":"SUM('법정동(2012)'!D19,'법정동(2012)'!D28)","v":{"v":374965,"d":"374,965.00"}},{"$f":"SUM('법정동(2012)'!E19,'법정동(2012)'!E28)","v":702},{"$f":"SUM('법정동(2012)'!F19,'법정동(2012)'!F28)","v":{"v":65058,"d":"65,058.00"}},{"$f":"SUM('법정동(2012)'!G19,'법정동(2012)'!G28)","v":148},{"$f":"SUM('법정동(2012)'!H19,'법정동(2012)'!H28)","v":0},{"$f":"SUM('법정동(2012)'!I19,'법정동(2012)'!I28)","v":0},{"$f":"SUM('법정동(2012)'!J19,'법정동(2012)'!J28)","v":0},{"$f":"SUM('법정동(2012)'!K19,'법정동(2012)'!K28)","v":0},{"$f":"SUM('법정동(2012)'!L19,'법정동(2012)'!L28)","v":{"v":1763414,"d":"1,763,414.00"}},{"$f":"SUM('법정동(2012)'!M19,'법정동(2012)'!M28)","v":389},{"$f":"SUM('법정동(2012)'!N19,'법정동(2012)'!N28)","v":0},{"$f":"SUM('법정동(2012)'!O19,'법정동(2012)'!O28)","v":0},{"$f":"SUM('법정동(2012)'!P19,'법정동(2012)'!P28)","v":0},{"$f":"SUM('법정동(2012)'!Q19,'법정동(2012)'!Q28)","v":0},{"$f":"SUM('법정동(2012)'!R19,'법정동(2012)'!R28)","v":{"v":410291,"d":"410,291.00"}},{"$f":"SUM('법정동(2012)'!S19,'법정동(2012)'!S28)","v":{"v":2349,"d":"2,349"}},{"$f":"SUM('법정동(2012)'!T19,'법정동(2012)'!T28)","v":{"v":895,"d":"895.00"}},{"$f":"SUM('법정동(2012)'!U19,'법정동(2012)'!U28)","v":1},{"$f":"SUM('법정동(2012)'!V19,'법정동(2012)'!V28)","v":{"v":45635,"d":"45,635.00"}},{"$f":"SUM('법정동(2012)'!W19,'법정동(2012)'!W28)","v":7},{"$f":"SUM('법정동(2012)'!X19,'법정동(2012)'!X28)","v":{"v":2396.3,"d":"2,396.30"}},{"$f":"SUM('법정동(2012)'!Y19,'법정동(2012)'!Y28)","v":5},{"$f":"SUM('법정동(2012)'!Z19,'법정동(2012)'!Z28)","v":{"v":3635.6000000000004,"d":"3,635.60"}},{"$f":"SUM('법정동(2012)'!AA19,'법정동(2012)'!AA28)","v":9},{"$f":"SUM('법정동(2012)'!AB19,'법정동(2012)'!AB28)","v":{"v":894,"d":"894.00"}},{"$f":"SUM('법정동(2012)'!AC19,'법정동(2012)'!AC28)","v":2},{"$f":"SUM('법정동(2012)'!AD19,'법정동(2012)'!AD28)","v":{"v":265290.8,"d":"265,290.80"}},{"$f":"SUM('법정동(2012)'!AE19,'법정동(2012)'!AE28)","v":763},{"$f":"SUM('법정동(2012)'!AF19,'법정동(2012)'!AF28)","v":{"v":33331,"d":"33,331.00"}},{"$f":"SUM('법정동(2012)'!AG19,'법정동(2012)'!AG28)","v":33},{"$f":"SUM('법정동(2012)'!AH19,'법정동(2012)'!AH28)","v":0},{"$f":"SUM('법정동(2012)'!AI19,'법정동(2012)'!AI28)","v":0},{"$f":"SUM('법정동(2012)'!AJ19,'법정동(2012)'!AJ28)","v":{"v":25852.4,"d":"25,852.40"}},{"$f":"SUM('법정동(2012)'!AK19,'법정동(2012)'!AK28)","v":16},{"$f":"SUM('법정동(2012)'!AL19,'법정동(2012)'!AL28)","v":{"v":19177.100000000002,"d":"19,177.10"}},{"$f":"SUM('법정동(2012)'!AM19,'법정동(2012)'!AM28)","v":43},{"$f":"SUM('법정동(2012)'!AN19,'법정동(2012)'!AN28)","v":{"v":10,"d":"10.00"}},{"$f":"SUM('법정동(2012)'!AO19,'법정동(2012)'!AO28)","v":1},{"$f":"SUM('법정동(2012)'!AP19,'법정동(2012)'!AP28)","v":0},{"$f":"SUM('법정동(2012)'!AQ19,'법정동(2012)'!AQ28)","v":0},{"$f":"SUM('법정동(2012)'!AR19,'법정동(2012)'!AR28)","v":{"v":12938,"d":"12,938.00"}},{"$f":"SUM('법정동(2012)'!AS19,'법정동(2012)'!AS28)","v":16},{"$f":"SUM('법정동(2012)'!AT19,'법정동(2012)'!AT28)","v":{"v":2315.4,"d":"2,315.40"}},{"$f":"SUM('법정동(2012)'!AU19,'법정동(2012)'!AU28)","v":2},{"$f":"SUM('법정동(2012)'!AV19,'법정동(2012)'!AV28)","v":{"v":310227,"d":"310,227.00"}},{"$f":"SUM('법정동(2012)'!AW19,'법정동(2012)'!AW28)","v":14},{"$f":"SUM('법정동(2012)'!AX19,'법정동(2012)'!AX28)","v":0},{"$f":"SUM('법정동(2012)'!AY19,'법정동(2012)'!AY28)","v":0},{"$f":"SUM('법정동(2012)'!AZ19,'법정동(2012)'!AZ28)","v":{"v":8655.9,"d":"8,655.90"}},{"$f":"SUM('법정동(2012)'!BA19,'법정동(2012)'!BA28)","v":12},{"$f":"SUM('법정동(2012)'!BB19,'법정동(2012)'!BB28)","v":0},{"$f":"SUM('법정동(2012)'!BC19,'법정동(2012)'!BC28)","v":0},{"$f":"SUM('법정동(2012)'!BD19,'법정동(2012)'!BD28)","v":{"v":39638,"d":"39,638.00"}},{"$f":"SUM('법정동(2012)'!BE19,'법정동(2012)'!BE28)","v":26},{"$f":"SUM('법정동(2012)'!BF19,'법정동(2012)'!BF28)","v":{"v":11591.6,"d":"11,591.60"}},{"$f":"SUM('법정동(2012)'!BG19,'법정동(2012)'!BG28)","v":29}]
["서강동",{"$f":"SUM('법정동(2012)'!B20:B21)","v":{"v":655394.5,"d":"655,394.50"}},{"$f":"SUM('법정동(2012)'!C20:C21)","v":{"v":2770,"d":"2,770"}},{"$f":"SUM('법정동(2012)'!D20:D21)","v":{"v":79684,"d":"79,684.00"}},{"$f":"SUM('법정동(2012)'!E20:E21)","v":172},{"$f":"SUM('법정동(2012)'!F20:F21)","v":{"v":27350,"d":"27,350.00"}},{"$f":"SUM('법정동(2012)'!G20:G21)","v":58},{"$f":"SUM('법정동(2012)'!H20:H21)","v":0},{"$f":"SUM('법정동(2012)'!I20:I21)","v":0},{"$f":"SUM('법정동(2012)'!J20:J21)","v":0},{"$f":"SUM('법정동(2012)'!K20:K21)","v":0},{"$f":"SUM('법정동(2012)'!L20:L21)","v":{"v":156344,"d":"156,344.00"}},{"$f":"SUM('법정동(2012)'!M20:M21)","v":55},{"$f":"SUM('법정동(2012)'!N20:N21)","v":0},{"$f":"SUM('법정동(2012)'!O20:O21)","v":0},{"$f":"SUM('법정동(2012)'!P20:P21)","v":0},{"$f":"SUM('법정동(2012)'!Q20:Q21)","v":0},{"$f":"SUM('법정동(2012)'!R20:R21)","v":{"v":207739.2,"d":"207,739.20"}},{"$f":"SUM('법정동(2012)'!S20:S21)","v":{"v":1787,"d":"1,787"}},{"$f":"SUM('법정동(2012)'!T20:T21)","v":0},{"$f":"SUM('법정동(2012)'!U20:U21)","v":0},{"$f":"SUM('법정동(2012)'!V20:V21)","v":{"v":55144,"d":"55,144.00"}},{"$f":"SUM('법정동(2012)'!W20:W21)","v":3},{"$f":"SUM('법정동(2012)'!X20:X21)","v":{"v":7312,"d":"7,312.00"}},{"$f":"SUM('법정동(2012)'!Y20:Y21)","v":6},{"$f":"SUM('법정동(2012)'!Z20:Z21)","v":0},{"$f":"SUM('법정동(2012)'!AA20:AA21)","v":0},{"$f":"SUM('법정동(2012)'!AB20:AB21)","v":0},{"$f":"SUM('법정동(2012)'!AC20:AC21)","v":0},{"$f":"SUM('법정동(2012)'!AD20:AD21)","v":{"v":95079.7,"d":"95,079.70"}},{"$f":"SUM('법정동(2012)'!AE20:AE21)","v":626},{"$f":"SUM('법정동(2012)'!AF20:AF21)","v":0},{"$f":"SUM('법정동(2012)'!AG20:AG21)","v":0},{"$f":"SUM('법정동(2012)'!AH20:AH21)","v":0},{"$f":"SUM('법정동(2012)'!AI20:AI21)","v":0},{"$f":"SUM('법정동(2012)'!AJ20:AJ21)","v":{"v":8724,"d":"8,724.00"}},{"$f":"SUM('법정동(2012)'!AK20:AK21)","v":4},{"$f":"SUM('법정동(2012)'!AL20:AL21)","v":{"v":4157,"d":"4,157.00"}},{"$f":"SUM('법정동(2012)'!AM20:AM21)","v":26},{"$f":"SUM('법정동(2012)'!AN20:AN21)","v":0},{"$f":"SUM('법정동(2012)'!AO20:AO21)","v":0},{"$f":"SUM('법정동(2012)'!AP20:AP21)","v":0},{"$f":"SUM('법정동(2012)'!AQ20:AQ21)","v":0},{"$f":"SUM('법정동(2012)'!AR20:AR21)","v":0},{"$f":"SUM('법정동(2012)'!AS20:AS21)","v":0},{"$f":"SUM('법정동(2012)'!AT20:AT21)","v":{"v":2049.9,"d":"2,049.90"}},{"$f":"SUM('법정동(2012)'!AU20:AU21)","v":2},{"$f":"SUM('법정동(2012)'!AV20:AV21)","v":0},{"$f":"SUM('법정동(2012)'!AW20:AW21)","v":0},{"$f":"SUM('법정동(2012)'!AX20:AX21)","v":0},{"$f":"SUM('법정동(2012)'!AY20:AY21)","v":0},{"$f":"SUM('법정동(2012)'!AZ20:AZ21)","v":{"v":8250,"d":"8,250.00"}},{"$f":"SUM('법정동(2012)'!BA20:BA21)","v":7},{"$f":"SUM('법정동(2012)'!BB20:BB21)","v":0},{"$f":"SUM('법정동(2012)'!BC20:BC21)","v":0},{"$f":"SUM('법정동(2012)'!BD20:BD21)","v":0},{"$f":"SUM('법정동(2012)'!BE20:BE21)","v":0},{"$f":"SUM('법정동(2012)'!BF20:BF21)","v":{"v":3560.7,"d":"3,560.70"}},{"$f":"SUM('법정동(2012)'!BG20:BG21)","v":24}]
["대교동",{"$f":"SUM('법정동(2012)'!B22:B23)","v":{"v":1605087.7,"d":"1,605,087.70"}},{"$f":"SUM('법정동(2012)'!C22:C23)","v":{"v":4786,"d":"4,786"}},{"$f":"SUM('법정동(2012)'!D22:D23)","v":{"v":242977,"d":"242,977.00"}},{"$f":"SUM('법정동(2012)'!E22:E23)","v":515},{"$f":"SUM('법정동(2012)'!F22:F23)","v":{"v":43789,"d":"43,789.00"}},{"$f":"SUM('법정동(2012)'!G22:G23)","v":104},{"$f":"SUM('법정동(2012)'!H22:H23)","v":0},{"$f":"SUM('법정동(2012)'!I22:I23)","v":0},{"$f":"SUM('법정동(2012)'!J22:J23)","v":0},{"$f":"SUM('법정동(2012)'!K22:K23)","v":0},{"$f":"SUM('법정동(2012)'!L22:L23)","v":{"v":385533,"d":"385,533.00"}},{"$f":"SUM('법정동(2012)'!M22:M23)","v":91},{"$f":"SUM('법정동(2012)'!N22:N23)","v":0},{"$f":"SUM('법정동(2012)'!O22:O23)","v":0},{"$f":"SUM('법정동(2012)'!P22:P23)","v":0},{"$f":"SUM('법정동(2012)'!Q22:Q23)","v":0},{"$f":"SUM('법정동(2012)'!R22:R23)","v":{"v":547269.3,"d":"547,269.30"}},{"$f":"SUM('법정동(2012)'!S22:S23)","v":{"v":3193,"d":"3,193"}},{"$f":"SUM('법정동(2012)'!T22:T23)","v":{"v":353.1,"d":"353.10"}},{"$f":"SUM('법정동(2012)'!U22:U23)","v":1},{"$f":"SUM('법정동(2012)'!V22:V23)","v":{"v":33929,"d":"33,929.00"}},{"$f":"SUM('법정동(2012)'!W22:W23)","v":8},{"$f":"SUM('법정동(2012)'!X22:X23)","v":{"v":2217.1,"d":"2,217.10"}},{"$f":"SUM('법정동(2012)'!Y22:Y23)","v":6},{"$f":"SUM('법정동(2012)'!Z22:Z23)","v":{"v":1618.4,"d":"1,618.40"}},{"$f":"SUM('법정동(2012)'!AA22:AA23)","v":3},{"$f":"SUM('법정동(2012)'!AB22:AB23)","v":{"v":1297.1,"d":"1,297.10"}},{"$f":"SUM('법정동(2012)'!AC22:AC23)","v":4},{"$f":"SUM('법정동(2012)'!AD22:AD23)","v":{"v":284745.7,"d":"284,745.70"}},{"$f":"SUM('법정동(2012)'!AE22:AE23)","v":785},{"$f":"SUM('법정동(2012)'!AF22:AF23)","v":0},{"$f":"SUM('법정동(2012)'!AG22:AG23)","v":0},{"$f":"SUM('법정동(2012)'!AH22:AH23)","v":{"v":273,"d":"273.00"}},{"$f":"SUM('법정동(2012)'!AI22:AI23)","v":4},{"$f":"SUM('법정동(2012)'!AJ22:AJ23)","v":{"v":9140,"d":"9,140.00"}},{"$f":"SUM('법정동(2012)'!AK22:AK23)","v":1},{"$f":"SUM('법정동(2012)'!AL22:AL23)","v":{"v":4499,"d":"4,499.00"}},{"$f":"SUM('법정동(2012)'!AM22:AM23)","v":16},{"$f":"SUM('법정동(2012)'!AN22:AN23)","v":{"v":27,"d":"27.00"}},{"$f":"SUM('법정동(2012)'!AO22:AO23)","v":2},{"$f":"SUM('법정동(2012)'!AP22:AP23)","v":0},{"$f":"SUM('법정동(2012)'!AQ22:AQ23)","v":0},{"$f":"SUM('법정동(2012)'!AR22:AR23)","v":{"v":283,"d":"283.00"}},{"$f":"SUM('법정동(2012)'!AS22:AS23)","v":2},{"$f":"SUM('법정동(2012)'!AT22:AT23)","v":0},{"$f":"SUM('법정동(2012)'!AU22:AU23)","v":0},{"$f":"SUM('법정동(2012)'!AV22:AV23)","v":0},{"$f":"SUM('법정동(2012)'!AW22:AW23)","v":0},{"$f":"SUM('법정동(2012)'!AX22:AX23)","v":0},{"$f":"SUM('법정동(2012)'!AY22:AY23)","v":0},{"$f":"SUM('법정동(2012)'!AZ22:AZ23)","v":{"v":7586,"d":"7,586.00"}},{"$f":"SUM('법정동(2012)'!BA22:BA23)","v":6},{"$f":"SUM('법정동(2012)'!BB22:BB23)","v":0},{"$f":"SUM('법정동(2012)'!BC22:BC23)","v":0},{"$f":"SUM('법정동(2012)'!BD22:BD23)","v":{"v":2565,"d":"2,565.00"}},{"$f":"SUM('법정동(2012)'!BE22:BE23)","v":11},{"$f":"SUM('법정동(2012)'!BF22:BF23)","v":{"v":36986,"d":"36,986.00"}},{"$f":"SUM('법정동(2012)'!BG22:BG23)","v":34}]
["국   동",{"$f":"SUM('법정동(2012)'!B24)","v":{"v":1533308.3,"d":"1,533,308.30"}},{"$f":"SUM('법정동(2012)'!C24)","v":{"v":3250,"d":"3,250"}},{"$f":"SUM('법정동(2012)'!D24)","v":{"v":107621,"d":"107,621.00"}},{"$f":"SUM('법정동(2012)'!E24)","v":493},{"$f":"SUM('법정동(2012)'!F24)","v":{"v":15729,"d":"15,729.00"}},{"$f":"SUM('법정동(2012)'!G24)","v":84},{"$f":"SUM('법정동(2012)'!H24)","v":{"v":815,"d":"815.00"}},{"$f":"SUM('법정동(2012)'!I24)","v":1},{"$f":"SUM('법정동(2012)'!J24)","v":0},{"$f":"SUM('법정동(2012)'!K24)","v":0},{"$f":"SUM('법정동(2012)'!L24)","v":{"v":488434,"d":"488,434.00"}},{"$f":"SUM('법정동(2012)'!M24)","v":110},{"$f":"SUM('법정동(2012)'!N24)","v":0},{"$f":"SUM('법정동(2012)'!O24)","v":0},{"$f":"SUM('법정동(2012)'!P24)","v":0},{"$f":"SUM('법정동(2012)'!Q24)","v":0},{"$f":"SUM('법정동(2012)'!R24)","v":{"v":531604.2,"d":"531,604.20"}},{"$f":"SUM('법정동(2012)'!S24)","v":{"v":1935,"d":"1,935"}},{"$f":"SUM('법정동(2012)'!T24)","v":{"v":5044,"d":"5,044.00"}},{"$f":"SUM('법정동(2012)'!U24)","v":9},{"$f":"SUM('법정동(2012)'!V24)","v":{"v":125146.2,"d":"125,146.20"}},{"$f":"SUM('법정동(2012)'!W24)","v":32},{"$f":"SUM('법정동(2012)'!X24)","v":{"v":5979,"d":"5,979.00"}},{"$f":"SUM('법정동(2012)'!Y24)","v":4},{"$f":"SUM('법정동(2012)'!Z24)","v":{"v":420,"d":"420.00"}},{"$f":"SUM('법정동(2012)'!AA24)","v":1},{"$f":"SUM('법정동(2012)'!AB24)","v":{"v":609,"d":"609.00"}},{"$f":"SUM('법정동(2012)'!AC24)","v":4},{"$f":"SUM('법정동(2012)'!AD24)","v":{"v":160572.6,"d":"160,572.60"}},{"$f":"SUM('법정동(2012)'!AE24)","v":473},{"$f":"SUM('법정동(2012)'!AF24)","v":0},{"$f":"SUM('법정동(2012)'!AG24)","v":0},{"$f":"SUM('법정동(2012)'!AH24)","v":{"v":2006,"d":"2,006.00"}},{"$f":"SUM('법정동(2012)'!AI24)","v":1},{"$f":"SUM('법정동(2012)'!AJ24)","v":0},{"$f":"SUM('법정동(2012)'!AK24)","v":0},{"$f":"SUM('법정동(2012)'!AL24)","v":{"v":15931,"d":"15,931.00"}},{"$f":"SUM('법정동(2012)'!AM24)","v":14},{"$f":"SUM('법정동(2012)'!AN24)","v":0},{"$f":"SUM('법정동(2012)'!AO24)","v":0},{"$f":"SUM('법정동(2012)'!AP24)","v":0},{"$f":"SUM('법정동(2012)'!AQ24)","v":0},{"$f":"SUM('법정동(2012)'!AR24)","v":{"v":3092,"d":"3,092.00"}},{"$f":"SUM('법정동(2012)'!AS24)","v":6},{"$f":"SUM('법정동(2012)'!AT24)","v":0},{"$f":"SUM('법정동(2012)'!AU24)","v":0},{"$f":"SUM('법정동(2012)'!AV24)","v":0},{"$f":"SUM('법정동(2012)'!AW24)","v":0},{"$f":"SUM('법정동(2012)'!AX24)","v":0},{"$f":"SUM('법정동(2012)'!AY24)","v":0},{"$f":"SUM('법정동(2012)'!AZ24)","v":{"v":7076.5,"d":"7,076.50"}},{"$f":"SUM('법정동(2012)'!BA24)","v":14},{"$f":"SUM('법정동(2012)'!BB24)","v":0},{"$f":"SUM('법정동(2012)'!BC24)","v":0},{"$f":"SUM('법정동(2012)'!BD24)","v":{"v":1035,"d":"1,035.00"}},{"$f":"SUM('법정동(2012)'!BE24)","v":10},{"$f":"SUM('법정동(2012)'!BF24)","v":{"v":62193.8,"d":"62,193.80"}},{"$f":"SUM('법정동(2012)'!BG24)","v":59}]
["월호동",{"$f":"SUM('법정동(2012)'!B25,'법정동(2012)'!B34)","v":{"v":6790646.5,"d":"6,790,646.50"}},{"$f":"SUM('법정동(2012)'!C25,'법정동(2012)'!C34)","v":{"v":6348,"d":"6,348"}},{"$f":"SUM('법정동(2012)'!D25,'법정동(2012)'!D34)","v":{"v":1742102,"d":"1,742,102.00"}},{"$f":"SUM('법정동(2012)'!E25,'법정동(2012)'!E34)","v":{"v":2135,"d":"2,135"}},{"$f":"SUM('법정동(2012)'!F25,'법정동(2012)'!F34)","v":{"v":279817,"d":"279,817.00"}},{"$f":"SUM('법정동(2012)'!G25,'법정동(2012)'!G34)","v":465},{"$f":"SUM('법정동(2012)'!H25,'법정동(2012)'!H34)","v":0},{"$f":"SUM('법정동(2012)'!I25,'법정동(2012)'!I34)","v":0},{"$f":"SUM('법정동(2012)'!J25,'법정동(2012)'!J34)","v":0},{"$f":"SUM('법정동(2012)'!K25,'법정동(2012)'!K34)","v":0},{"$f":"SUM('법정동(2012)'!L25,'법정동(2012)'!L34)","v":{"v":2930855,"d":"2,930,855.00"}},{"$f":"SUM('법정동(2012)'!M25,'법정동(2012)'!M34)","v":{"v":1168,"d":"1,168"}},{"$f":"SUM('법정동(2012)'!N25,'법정동(2012)'!N34)","v":0},{"$f":"SUM('법정동(2012)'!O25,'법정동(2012)'!O34)","v":0},{"$f":"SUM('법정동(2012)'!P25,'법정동(2012)'!P34)","v":0},{"$f":"SUM('법정동(2012)'!Q25,'법정동(2012)'!Q34)","v":0},{"$f":"SUM('법정동(2012)'!R25,'법정동(2012)'!R34)","v":{"v":385100.2,"d":"385,100.20"}},{"$f":"SUM('법정동(2012)'!S25,'법정동(2012)'!S34)","v":{"v":1224,"d":"1,224"}},{"$f":"SUM('법정동(2012)'!T25,'법정동(2012)'!T34)","v":{"v":844847,"d":"844,847.00"}},{"$f":"SUM('법정동(2012)'!U25,'법정동(2012)'!U34)","v":121},{"$f":"SUM('법정동(2012)'!V25,'법정동(2012)'!V34)","v":{"v":19320,"d":"19,320.00"}},{"$f":"SUM('법정동(2012)'!W25,'법정동(2012)'!W34)","v":3},{"$f":"SUM('법정동(2012)'!X25,'법정동(2012)'!X34)","v":{"v":2408.6,"d":"2,408.60"}},{"$f":"SUM('법정동(2012)'!Y25,'법정동(2012)'!Y34)","v":9},{"$f":"SUM('법정동(2012)'!Z25,'법정동(2012)'!Z34)","v":{"v":2571,"d":"2,571.00"}},{"$f":"SUM('법정동(2012)'!AA25,'법정동(2012)'!AA34)","v":10},{"$f":"SUM('법정동(2012)'!AB25,'법정동(2012)'!AB34)","v":{"v":1810,"d":"1,810.00"}},{"$f":"SUM('법정동(2012)'!AC25,'법정동(2012)'!AC34)","v":2},{"$f":"SUM('법정동(2012)'!AD25,'법정동(2012)'!AD34)","v":{"v":256207.1,"d":"256,207.10"}},{"$f":"SUM('법정동(2012)'!AE25,'법정동(2012)'!AE34)","v":906},{"$f":"SUM('법정동(2012)'!AF25,'법정동(2012)'!AF34)","v":0},{"$f":"SUM('법정동(2012)'!AG25,'법정동(2012)'!AG34)","v":0},{"$f":"SUM('법정동(2012)'!AH25,'법정동(2012)'!AH34)","v":{"v":17202,"d":"17,202.00"}},{"$f":"SUM('법정동(2012)'!AI25,'법정동(2012)'!AI34)","v":43},{"$f":"SUM('법정동(2012)'!AJ25,'법정동(2012)'!AJ34)","v":{"v":1220,"d":"1,220.00"}},{"$f":"SUM('법정동(2012)'!AK25,'법정동(2012)'!AK34)","v":5},{"$f":"SUM('법정동(2012)'!AL25,'법정동(2012)'!AL34)","v":{"v":45561,"d":"45,561.00"}},{"$f":"SUM('법정동(2012)'!AM25,'법정동(2012)'!AM34)","v":21},{"$f":"SUM('법정동(2012)'!AN25,'법정동(2012)'!AN34)","v":{"v":2473,"d":"2,473.00"}},{"$f":"SUM('법정동(2012)'!AO25,'법정동(2012)'!AO34)","v":2},{"$f":"SUM('법정동(2012)'!AP25,'법정동(2012)'!AP34)","v":{"v":1601,"d":"1,601.00"}},{"$f":"SUM('법정동(2012)'!AQ25,'법정동(2012)'!AQ34)","v":1},{"$f":"SUM('법정동(2012)'!AR25,'법정동(2012)'!AR34)","v":0},{"$f":"SUM('법정동(2012)'!AS25,'법정동(2012)'!AS34)","v":0},{"$f":"SUM('법정동(2012)'!AT25,'법정동(2012)'!AT34)","v":{"v":7918.6,"d":"7,918.60"}},{"$f":"SUM('법정동(2012)'!AU25,'법정동(2012)'!AU34)","v":11},{"$f":"SUM('법정동(2012)'!AV25,'법정동(2012)'!AV34)","v":0},{"$f":"SUM('법정동(2012)'!AW25,'법정동(2012)'!AW34)","v":0},{"$f":"SUM('법정동(2012)'!AX25,'법정동(2012)'!AX34)","v":0},{"$f":"SUM('법정동(2012)'!AY25,'법정동(2012)'!AY34)","v":0},{"$f":"SUM('법정동(2012)'!AZ25,'법정동(2012)'!AZ34)","v":{"v":9967,"d":"9,967.00"}},{"$f":"SUM('법정동(2012)'!BA25,'법정동(2012)'!BA34)","v":11},{"$f":"SUM('법정동(2012)'!BB25,'법정동(2012)'!BB34)","v":0},{"$f":"SUM('법정동(2012)'!BC25,'법정동(2012)'!BC34)","v":0},{"$f":"SUM('법정동(2012)'!BD25,'법정동(2012)'!BD34)","v":{"v":18366,"d":"18,366.00"}},{"$f":"SUM('법정동(2012)'!BE25,'법정동(2012)'!BE34)","v":53},{"$f":"SUM('법정동(2012)'!BF25,'법정동(2012)'!BF34)","v":{"v":221300,"d":"221,300.00"}},{"$f":"SUM('법정동(2012)'!BG25,'법정동(2012)'!BG34)","v":158}]
["여서동",{"$f":"SUM('법정동(2012)'!B26)","v":{"v":2575399.9,"d":"2,575,399.90"}},{"$f":"SUM('법정동(2012)'!C26)","v":{"v":1908,"d":"1,908"}},{"$f":"SUM('법정동(2012)'!D26)","v":{"v":204480,"d":"204,480.00"}},{"$f":"SUM('법정동(2012)'!E26)","v":276},{"$f":"SUM('법정동(2012)'!F26)","v":{"v":116419,"d":"116,419.00"}},{"$f":"SUM('법정동(2012)'!G26)","v":188},{"$f":"SUM('법정동(2012)'!H26)","v":0},{"$f":"SUM('법정동(2012)'!I26)","v":0},{"$f":"SUM('법정동(2012)'!J26)","v":0},{"$f":"SUM('법정동(2012)'!K26)","v":0},{"$f":"SUM('법정동(2012)'!L26)","v":{"v":1223736,"d":"1,223,736.00"}},{"$f":"SUM('법정동(2012)'!M26)","v":284},{"$f":"SUM('법정동(2012)'!N26)","v":0},{"$f":"SUM('법정동(2012)'!O26)","v":0},{"$f":"SUM('법정동(2012)'!P26)","v":0},{"$f":"SUM('법정동(2012)'!Q26)","v":0},{"$f":"SUM('법정동(2012)'!R26)","v":{"v":562616.9,"d":"562,616.90"}},{"$f":"SUM('법정동(2012)'!S26)","v":751},{"$f":"SUM('법정동(2012)'!T26)","v":0},{"$f":"SUM('법정동(2012)'!U26)","v":0},{"$f":"SUM('법정동(2012)'!V26)","v":{"v":58011,"d":"58,011.00"}},{"$f":"SUM('법정동(2012)'!W26)","v":4},{"$f":"SUM('법정동(2012)'!X26)","v":{"v":15531.6,"d":"15,531.60"}},{"$f":"SUM('법정동(2012)'!Y26)","v":15},{"$f":"SUM('법정동(2012)'!Z26)","v":{"v":1488,"d":"1,488.00"}},{"$f":"SUM('법정동(2012)'!AA26)","v":1},{"$f":"SUM('법정동(2012)'!AB26)","v":{"v":884,"d":"884.00"}},{"$f":"SUM('법정동(2012)'!AC26)","v":1},{"$f":"SUM('법정동(2012)'!AD26)","v":{"v":291253.8,"d":"291,253.80"}},{"$f":"SUM('법정동(2012)'!AE26)","v":279},{"$f":"SUM('법정동(2012)'!AF26)","v":0},{"$f":"SUM('법정동(2012)'!AG26)","v":0},{"$f":"SUM('법정동(2012)'!AH26)","v":0},{"$f":"SUM('법정동(2012)'!AI26)","v":0},{"$f":"SUM('법정동(2012)'!AJ26)","v":0},{"$f":"SUM('법정동(2012)'!AK26)","v":0},{"$f":"SUM('법정동(2012)'!AL26)","v":{"v":15119.9,"d":"15,119.90"}},{"$f":"SUM('법정동(2012)'!AM26)","v":20},{"$f":"SUM('법정동(2012)'!AN26)","v":{"v":958,"d":"958.00"}},{"$f":"SUM('법정동(2012)'!AO26)","v":2},{"$f":"SUM('법정동(2012)'!AP26)","v":0},{"$f":"SUM('법정동(2012)'!AQ26)","v":0},{"$f":"SUM('법정동(2012)'!AR26)","v":{"v":11855,"d":"11,855.00"}},{"$f":"SUM('법정동(2012)'!AS26)","v":5},{"$f":"SUM('법정동(2012)'!AT26)","v":{"v":19406.8,"d":"19,406.80"}},{"$f":"SUM('법정동(2012)'!AU26)","v":7},{"$f":"SUM('법정동(2012)'!AV26)","v":{"v":9361,"d":"9,361.00"}},{"$f":"SUM('법정동(2012)'!AW26)","v":5},{"$f":"SUM('법정동(2012)'!AX26)","v":0},{"$f":"SUM('법정동(2012)'!AY26)","v":0},{"$f":"SUM('법정동(2012)'!AZ26)","v":{"v":15908.4,"d":"15,908.40"}},{"$f":"SUM('법정동(2012)'!BA26)","v":22},{"$f":"SUM('법정동(2012)'!BB26)","v":0},{"$f":"SUM('법정동(2012)'!BC26)","v":0},{"$f":"SUM('법정동(2012)'!BD26)","v":{"v":2630,"d":"2,630.00"}},{"$f":"SUM('법정동(2012)'!BE26)","v":8},{"$f":"SUM('법정동(2012)'!BF26)","v":{"v":25740.5,"d":"25,740.50"}},{"$f":"SUM('법정동(2012)'!BG26)","v":40}]
["문수동",{"$f":"SUM('법정동(2012)'!B27)","v":{"v":2244609.3,"d":"2,244,609.30"}},{"$f":"SUM('법정동(2012)'!C27)","v":{"v":3215,"d":"3,215"}},{"$f":"SUM('법정동(2012)'!D27)","v":{"v":177192,"d":"177,192.00"}},{"$f":"SUM('법정동(2012)'!E27)","v":329},{"$f":"SUM('법정동(2012)'!F27)","v":{"v":35111,"d":"35,111.00"}},{"$f":"SUM('법정동(2012)'!G27)","v":96},{"$f":"SUM('법정동(2012)'!H27)","v":0},{"$f":"SUM('법정동(2012)'!I27)","v":0},{"$f":"SUM('법정동(2012)'!J27)","v":0},{"$f":"SUM('법정동(2012)'!K27)","v":0},{"$f":"SUM('법정동(2012)'!L27)","v":{"v":836566.7,"d":"836,566.70"}},{"$f":"SUM('법정동(2012)'!M27)","v":324},{"$f":"SUM('법정동(2012)'!N27)","v":0},{"$f":"SUM('법정동(2012)'!O27)","v":0},{"$f":"SUM('법정동(2012)'!P27)","v":0},{"$f":"SUM('법정동(2012)'!Q27)","v":0},{"$f":"SUM('법정동(2012)'!R27)","v":{"v":714845.5,"d":"714,845.50"}},{"$f":"SUM('법정동(2012)'!S27)","v":{"v":1903,"d":"1,903"}},{"$f":"SUM('법정동(2012)'!T27)","v":0},{"$f":"SUM('법정동(2012)'!U27)","v":0},{"$f":"SUM('법정동(2012)'!V27)","v":{"v":122894.6,"d":"122,894.60"}},{"$f":"SUM('법정동(2012)'!W27)","v":10},{"$f":"SUM('법정동(2012)'!X27)","v":{"v":13688.4,"d":"13,688.40"}},{"$f":"SUM('법정동(2012)'!Y27)","v":55},{"$f":"SUM('법정동(2012)'!Z27)","v":{"v":1109.1,"d":"1,109.10"}},{"$f":"SUM('법정동(2012)'!AA27)","v":2},{"$f":"SUM('법정동(2012)'!AB27)","v":{"v":205,"d":"205.00"}},{"$f":"SUM('법정동(2012)'!AC27)","v":1},{"$f":"SUM('법정동(2012)'!AD27)","v":{"v":223619.9,"d":"223,619.90"}},{"$f":"SUM('법정동(2012)'!AE27)","v":364},{"$f":"SUM('법정동(2012)'!AF27)","v":0},{"$f":"SUM('법정동(2012)'!AG27)","v":0},{"$f":"SUM('법정동(2012)'!AH27)","v":0},{"$f":"SUM('법정동(2012)'!AI27)","v":0},{"$f":"SUM('법정동(2012)'!AJ27)","v":{"v":8513,"d":"8,513.00"}},{"$f":"SUM('법정동(2012)'!AK27)","v":5},{"$f":"SUM('법정동(2012)'!AL27)","v":{"v":9438.4,"d":"9,438.40"}},{"$f":"SUM('법정동(2012)'!AM27)","v":13},{"$f":"SUM('법정동(2012)'!AN27)","v":0},{"$f":"SUM('법정동(2012)'!AO27)","v":0},{"$f":"SUM('법정동(2012)'!AP27)","v":0},{"$f":"SUM('법정동(2012)'!AQ27)","v":0},{"$f":"SUM('법정동(2012)'!AR27)","v":{"v":31,"d":"31.00"}},{"$f":"SUM('법정동(2012)'!AS27)","v":1},{"$f":"SUM('법정동(2012)'!AT27)","v":{"v":54362.1,"d":"54,362.10"}},{"$f":"SUM('법정동(2012)'!AU27)","v":21},{"$f":"SUM('법정동(2012)'!AV27)","v":0},{"$f":"SUM('법정동(2012)'!AW27)","v":0},{"$f":"SUM('법정동(2012)'!AX27)","v":0},{"$f":"SUM('법정동(2012)'!AY27)","v":0},{"$f":"SUM('법정동(2012)'!AZ27)","v":{"v":25861,"d":"25,861.00"}},{"$f":"SUM('법정동(2012)'!BA27)","v":15},{"$f":"SUM('법정동(2012)'!BB27)","v":0},{"$f":"SUM('법정동(2012)'!BC27)","v":0},{"$f":"SUM('법정동(2012)'!BD27)","v":{"v":3861,"d":"3,861.00"}},{"$f":"SUM('법정동(2012)'!BE27)","v":19},{"$f":"SUM('법정동(2012)'!BF27)","v":{"v":17310.6,"d":"17,310.60"}},{"$f":"SUM('법정동(2012)'!BG27)","v":57}]
["미평동",{"$f":"SUM('법정동(2012)'!B29)","v":{"v":3089016.9,"d":"3,089,016.90"}},{"$f":"SUM('법정동(2012)'!C29)","v":{"v":2722,"d":"2,722"}},{"$f":"SUM('법정동(2012)'!D29)","v":{"v":148751,"d":"148,751.00"}},{"$f":"SUM('법정동(2012)'!E29)","v":352},{"$f":"SUM('법정동(2012)'!F29)","v":{"v":102764,"d":"102,764.00"}},{"$f":"SUM('법정동(2012)'!G29)","v":237},{"$f":"SUM('법정동(2012)'!H29)","v":0},{"$f":"SUM('법정동(2012)'!I29)","v":0},{"$f":"SUM('법정동(2012)'!J29)","v":0},{"$f":"SUM('법정동(2012)'!K29)","v":0},{"$f":"SUM('법정동(2012)'!L29)","v":{"v":1834922,"d":"1,834,922.00"}},{"$f":"SUM('법정동(2012)'!M29)","v":229},{"$f":"SUM('법정동(2012)'!N29)","v":0},{"$f":"SUM('법정동(2012)'!O29)","v":0},{"$f":"SUM('법정동(2012)'!P29)","v":0},{"$f":"SUM('법정동(2012)'!Q29)","v":0},{"$f":"SUM('법정동(2012)'!R29)","v":{"v":465875.5,"d":"465,875.50"}},{"$f":"SUM('법정동(2012)'!S29)","v":{"v":1158,"d":"1,158"}},{"$f":"SUM('법정동(2012)'!T29)","v":{"v":1501,"d":"1,501.00"}},{"$f":"SUM('법정동(2012)'!U29)","v":3},{"$f":"SUM('법정동(2012)'!V29)","v":{"v":64631.1,"d":"64,631.10"}},{"$f":"SUM('법정동(2012)'!W29)","v":10},{"$f":"SUM('법정동(2012)'!X29)","v":{"v":3550.8,"d":"3,550.80"}},{"$f":"SUM('법정동(2012)'!Y29)","v":11},{"$f":"SUM('법정동(2012)'!Z29)","v":{"v":1804.2,"d":"1,804.20"}},{"$f":"SUM('법정동(2012)'!AA29)","v":3},{"$f":"SUM('법정동(2012)'!AB29)","v":{"v":177.4,"d":"177.40"}},{"$f":"SUM('법정동(2012)'!AC29)","v":1},{"$f":"SUM('법정동(2012)'!AD29)","v":{"v":195839.4,"d":"195,839.40"}},{"$f":"SUM('법정동(2012)'!AE29)","v":523},{"$f":"SUM('법정동(2012)'!AF29)","v":{"v":53203,"d":"53,203.00"}},{"$f":"SUM('법정동(2012)'!AG29)","v":33},{"$f":"SUM('법정동(2012)'!AH29)","v":0},{"$f":"SUM('법정동(2012)'!AI29)","v":0},{"$f":"SUM('법정동(2012)'!AJ29)","v":{"v":9529.4,"d":"9,529.40"}},{"$f":"SUM('법정동(2012)'!AK29)","v":3},{"$f":"SUM('법정동(2012)'!AL29)","v":{"v":25760,"d":"25,760.00"}},{"$f":"SUM('법정동(2012)'!AM29)","v":52},{"$f":"SUM('법정동(2012)'!AN29)","v":0},{"$f":"SUM('법정동(2012)'!AO29)","v":0},{"$f":"SUM('법정동(2012)'!AP29)","v":0},{"$f":"SUM('법정동(2012)'!AQ29)","v":0},{"$f":"SUM('법정동(2012)'!AR29)","v":{"v":106673.5,"d":"106,673.50"}},{"$f":"SUM('법정동(2012)'!AS29)","v":62},{"$f":"SUM('법정동(2012)'!AT29)","v":{"v":16700.4,"d":"16,700.40"}},{"$f":"SUM('법정동(2012)'!AU29)","v":10},{"$f":"SUM('법정동(2012)'!AV29)","v":0},{"$f":"SUM('법정동(2012)'!AW29)","v":0},{"$f":"SUM('법정동(2012)'!AX29)","v":0},{"$f":"SUM('법정동(2012)'!AY29)","v":0},{"$f":"SUM('법정동(2012)'!AZ29)","v":{"v":8992.4,"d":"8,992.40"}},{"$f":"SUM('법정동(2012)'!BA29)","v":9},{"$f":"SUM('법정동(2012)'!BB29)","v":0},{"$f":"SUM('법정동(2012)'!BC29)","v":0},{"$f":"SUM('법정동(2012)'!BD29)","v":{"v":5712,"d":"5,712.00"}},{"$f":"SUM('법정동(2012)'!BE29)","v":7},{"$f":"SUM('법정동(2012)'!BF29)","v":{"v":42629.8,"d":"42,629.80"}},{"$f":"SUM('법정동(2012)'!BG29)","v":19}]
["둔덕동",{"$f":"SUM('법정동(2012)'!B30)","v":{"v":4076115.1,"d":"4,076,115.10"}},{"$f":"SUM('법정동(2012)'!C30)","v":{"v":2397,"d":"2,397"}},{"$f":"SUM('법정동(2012)'!D30)","v":{"v":183604,"d":"183,604.00"}},{"$f":"SUM('법정동(2012)'!E30)","v":305},{"$f":"SUM('법정동(2012)'!F30)","v":{"v":428387,"d":"428,387.00"}},{"$f":"SUM('법정동(2012)'!G30)","v":490},{"$f":"SUM('법정동(2012)'!H30)","v":0},{"$f":"SUM('법정동(2012)'!I30)","v":0},{"$f":"SUM('법정동(2012)'!J30)","v":0},{"$f":"SUM('법정동(2012)'!K30)","v":0},{"$f":"SUM('법정동(2012)'!L30)","v":{"v":2322711,"d":"2,322,711.00"}},{"$f":"SUM('법정동(2012)'!M30)","v":399},{"$f":"SUM('법정동(2012)'!N30)","v":0},{"$f":"SUM('법정동(2012)'!O30)","v":0},{"$f":"SUM('법정동(2012)'!P30)","v":0},{"$f":"SUM('법정동(2012)'!Q30)","v":0},{"$f":"SUM('법정동(2012)'!R30)","v":{"v":466098.7,"d":"466,098.70"}},{"$f":"SUM('법정동(2012)'!S30)","v":649},{"$f":"SUM('법정동(2012)'!T30)","v":{"v":362,"d":"362.00"}},{"$f":"SUM('법정동(2012)'!U30)","v":1},{"$f":"SUM('법정동(2012)'!V30)","v":0},{"$f":"SUM('법정동(2012)'!W30)","v":0},{"$f":"SUM('법정동(2012)'!X30)","v":{"v":1073.9,"d":"1,073.90"}},{"$f":"SUM('법정동(2012)'!Y30)","v":3},{"$f":"SUM('법정동(2012)'!Z30)","v":{"v":10143.9,"d":"10,143.90"}},{"$f":"SUM('법정동(2012)'!AA30)","v":8},{"$f":"SUM('법정동(2012)'!AB30)","v":{"v":6380.7,"d":"6,380.70"}},{"$f":"SUM('법정동(2012)'!AC30)","v":9},{"$f":"SUM('법정동(2012)'!AD30)","v":{"v":246103.6,"d":"246,103.60"}},{"$f":"SUM('법정동(2012)'!AE30)","v":400},{"$f":"SUM('법정동(2012)'!AF30)","v":{"v":22933,"d":"22,933.00"}},{"$f":"SUM('법정동(2012)'!AG30)","v":33},{"$f":"SUM('법정동(2012)'!AH30)","v":0},{"$f":"SUM('법정동(2012)'!AI30)","v":0},{"$f":"SUM('법정동(2012)'!AJ30)","v":{"v":9119.1,"d":"9,119.10"}},{"$f":"SUM('법정동(2012)'!AK30)","v":3},{"$f":"SUM('법정동(2012)'!AL30)","v":{"v":21297,"d":"21,297.00"}},{"$f":"SUM('법정동(2012)'!AM30)","v":13},{"$f":"SUM('법정동(2012)'!AN30)","v":0},{"$f":"SUM('법정동(2012)'!AO30)","v":0},{"$f":"SUM('법정동(2012)'!AP30)","v":0},{"$f":"SUM('법정동(2012)'!AQ30)","v":0},{"$f":"SUM('법정동(2012)'!AR30)","v":{"v":72838,"d":"72,838.00"}},{"$f":"SUM('법정동(2012)'!AS30)","v":4},{"$f":"SUM('법정동(2012)'!AT30)","v":{"v":18073.4,"d":"18,073.40"}},{"$f":"SUM('법정동(2012)'!AU30)","v":8},{"$f":"SUM('법정동(2012)'!AV30)","v":{"v":166279,"d":"166,279.00"}},{"$f":"SUM('법정동(2012)'!AW30)","v":6},{"$f":"SUM('법정동(2012)'!AX30)","v":0},{"$f":"SUM('법정동(2012)'!AY30)","v":0},{"$f":"SUM('법정동(2012)'!AZ30)","v":{"v":14763.3,"d":"14,763.30"}},{"$f":"SUM('법정동(2012)'!BA30)","v":10},{"$f":"SUM('법정동(2012)'!BB30)","v":0},{"$f":"SUM('법정동(2012)'!BC30)","v":0},{"$f":"SUM('법정동(2012)'!BD30)","v":{"v":2675,"d":"2,675.00"}},{"$f":"SUM('법정동(2012)'!BE30)","v":8},{"$f":"SUM('법정동(2012)'!BF30)","v":{"v":83272.5,"d":"83,272.50"}},{"$f":"SUM('법정동(2012)'!BG30)","v":48}]
["만덕동",{"$f":"SUM('법정동(2012)'!B31:B33)","v":{"v":15979956.4,"d":"15,979,956.40"}},{"$f":"SUM('법정동(2012)'!C31:C33)","v":{"v":10515,"d":"10,515"}},{"$f":"SUM('법정동(2012)'!D31:D33)","v":{"v":1870573,"d":"1,870,573.00"}},{"$f":"SUM('법정동(2012)'!E31:E33)","v":{"v":2723,"d":"2,723"}},{"$f":"SUM('법정동(2012)'!F31:F33)","v":{"v":962093,"d":"962,093.00"}},{"$f":"SUM('법정동(2012)'!G31:G33)","v":{"v":1228,"d":"1,228"}},{"$f":"SUM('법정동(2012)'!H31:H33)","v":0},{"$f":"SUM('법정동(2012)'!I31:I33)","v":0},{"$f":"SUM('법정동(2012)'!J31:J33)","v":0},{"$f":"SUM('법정동(2012)'!K31:K33)","v":0},{"$f":"SUM('법정동(2012)'!L31:L33)","v":{"v":10806818,"d":"10,806,818.00"}},{"$f":"SUM('법정동(2012)'!M31:M33)","v":{"v":1456,"d":"1,456"}},{"$f":"SUM('법정동(2012)'!N31:N33)","v":0},{"$f":"SUM('법정동(2012)'!O31:O33)","v":0},{"$f":"SUM('법정동(2012)'!P31:P33)","v":0},{"$f":"SUM('법정동(2012)'!Q31:Q33)","v":0},{"$f":"SUM('법정동(2012)'!R31:R33)","v":{"v":712034,"d":"712,034.00"}},{"$f":"SUM('법정동(2012)'!S31:S33)","v":{"v":2574,"d":"2,574"}},{"$f":"SUM('법정동(2012)'!T31:T33)","v":{"v":163907.6,"d":"163,907.60"}},{"$f":"SUM('법정동(2012)'!U31:U33)","v":89},{"$f":"SUM('법정동(2012)'!V31:V33)","v":{"v":67422,"d":"67,422.00"}},{"$f":"SUM('법정동(2012)'!W31:W33)","v":22},{"$f":"SUM('법정동(2012)'!X31:X33)","v":{"v":2818,"d":"2,818.00"}},{"$f":"SUM('법정동(2012)'!Y31:Y33)","v":4},{"$f":"SUM('법정동(2012)'!Z31:Z33)","v":{"v":1185,"d":"1,185.00"}},{"$f":"SUM('법정동(2012)'!AA31:AA33)","v":2},{"$f":"SUM('법정동(2012)'!AB31:AB33)","v":{"v":4016,"d":"4,016.00"}},{"$f":"SUM('법정동(2012)'!AC31:AC33)","v":8},{"$f":"SUM('법정동(2012)'!AD31:AD33)","v":{"v":390691.6,"d":"390,691.60"}},{"$f":"SUM('법정동(2012)'!AE31:AE33)","v":{"v":1655,"d":"1,655"}},{"$f":"SUM('법정동(2012)'!AF31:AF33)","v":{"v":292981,"d":"292,981.00"}},{"$f":"SUM('법정동(2012)'!AG31:AG33)","v":250},{"$f":"SUM('법정동(2012)'!AH31:AH33)","v":{"v":42877.4,"d":"42,877.40"}},{"$f":"SUM('법정동(2012)'!AI31:AI33)","v":35},{"$f":"SUM('법정동(2012)'!AJ31:AJ33)","v":{"v":13107.3,"d":"13,107.30"}},{"$f":"SUM('법정동(2012)'!AK31:AK33)","v":8},{"$f":"SUM('법정동(2012)'!AL31:AL33)","v":{"v":156114.8,"d":"156,114.80"}},{"$f":"SUM('법정동(2012)'!AM31:AM33)","v":137},{"$f":"SUM('법정동(2012)'!AN31:AN33)","v":{"v":104581,"d":"104,581.00"}},{"$f":"SUM('법정동(2012)'!AO31:AO33)","v":21},{"$f":"SUM('법정동(2012)'!AP31:AP33)","v":0},{"$f":"SUM('법정동(2012)'!AQ31:AQ33)","v":0},{"$f":"SUM('법정동(2012)'!AR31:AR33)","v":{"v":29431,"d":"29,431.00"}},{"$f":"SUM('법정동(2012)'!AS31:AS33)","v":70},{"$f":"SUM('법정동(2012)'!AT31:AT33)","v":0},{"$f":"SUM('법정동(2012)'!AU31:AU33)","v":0},{"$f":"SUM('법정동(2012)'!AV31:AV33)","v":{"v":9615,"d":"9,615.00"}},{"$f":"SUM('법정동(2012)'!AW31:AW33)","v":5},{"$f":"SUM('법정동(2012)'!AX31:AX33)","v":0},{"$f":"SUM('법정동(2012)'!AY31:AY33)","v":0},{"$f":"SUM('법정동(2012)'!AZ31:AZ33)","v":{"v":16979,"d":"16,979.00"}},{"$f":"SUM('법정동(2012)'!BA31:BA33)","v":21},{"$f":"SUM('법정동(2012)'!BB31:BB33)","v":0},{"$f":"SUM('법정동(2012)'!BC31:BC33)","v":0},{"$f":"SUM('법정동(2012)'!BD31:BD33)","v":{"v":48884,"d":"48,884.00"}},{"$f":"SUM('법정동(2012)'!BE31:BE33)","v":104},{"$f":"SUM('법정동(2012)'!BF31:BF33)","v":{"v":283827.7,"d":"283,827.70"}},{"$f":"SUM('법정동(2012)'!BG31:BG33)","v":103}]
["쌍봉동",{"$f":"SUM('법정동(2012)'!B35:B38)","v":{"v":7158245.9,"d":"7,158,245.90"}},{"$f":"SUM('법정동(2012)'!C35:C38)","v":{"v":6178,"d":"6,178"}},{"$f":"SUM('법정동(2012)'!D35:D38)","v":{"v":523428,"d":"523,428.00"}},{"$f":"SUM('법정동(2012)'!E35:E38)","v":823},{"$f":"SUM('법정동(2012)'!F35:F38)","v":{"v":378987,"d":"378,987.00"}},{"$f":"SUM('법정동(2012)'!G35:G38)","v":461},{"$f":"SUM('법정동(2012)'!H35:H38)","v":{"v":3486,"d":"3,486.00"}},{"$f":"SUM('법정동(2012)'!I35:I38)","v":3},{"$f":"SUM('법정동(2012)'!J35:J38)","v":0},{"$f":"SUM('법정동(2012)'!K35:K38)","v":0},{"$f":"SUM('법정동(2012)'!L35:L38)","v":{"v":2811088.1999999997,"d":"2,811,088.20"}},{"$f":"SUM('법정동(2012)'!M35:M38)","v":671},{"$f":"SUM('법정동(2012)'!N35:N38)","v":0},{"$f":"SUM('법정동(2012)'!O35:O38)","v":0},{"$f":"SUM('법정동(2012)'!P35:P38)","v":0},{"$f":"SUM('법정동(2012)'!Q35:Q38)","v":0},{"$f":"SUM('법정동(2012)'!R35:R38)","v":{"v":2075706.4,"d":"2,075,706.40"}},{"$f":"SUM('법정동(2012)'!S35:S38)","v":{"v":3236,"d":"3,236"}},{"$f":"SUM('법정동(2012)'!T35:T38)","v":{"v":12954,"d":"12,954.00"}},{"$f":"SUM('법정동(2012)'!U35:U38)","v":11},{"$f":"SUM('법정동(2012)'!V35:V38)","v":{"v":93344.5,"d":"93,344.50"}},{"$f":"SUM('법정동(2012)'!W35:W38)","v":9},{"$f":"SUM('법정동(2012)'!X35:X38)","v":{"v":26521.199999999997,"d":"26,521.20"}},{"$f":"SUM('법정동(2012)'!Y35:Y38)","v":32},{"$f":"SUM('법정동(2012)'!Z35:Z38)","v":{"v":8001.2,"d":"8,001.20"}},{"$f":"SUM('법정동(2012)'!AA35:AA38)","v":11},{"$f":"SUM('법정동(2012)'!AB35:AB38)","v":{"v":4132,"d":"4,132.00"}},{"$f":"SUM('법정동(2012)'!AC35:AC38)","v":5},{"$f":"SUM('법정동(2012)'!AD35:AD38)","v":{"v":773861.1,"d":"773,861.10"}},{"$f":"SUM('법정동(2012)'!AE35:AE38)","v":628},{"$f":"SUM('법정동(2012)'!AF35:AF38)","v":{"v":73480,"d":"73,480.00"}},{"$f":"SUM('법정동(2012)'!AG35:AG38)","v":71},{"$f":"SUM('법정동(2012)'!AH35:AH38)","v":{"v":7082.200000000001,"d":"7,082.20"}},{"$f":"SUM('법정동(2012)'!AI35:AI38)","v":7},{"$f":"SUM('법정동(2012)'!AJ35:AJ38)","v":{"v":6362,"d":"6,362.00"}},{"$f":"SUM('법정동(2012)'!AK35:AK38)","v":16},{"$f":"SUM('법정동(2012)'!AL35:AL38)","v":{"v":26441.5,"d":"26,441.50"}},{"$f":"SUM('법정동(2012)'!AM35:AM38)","v":38},{"$f":"SUM('법정동(2012)'!AN35:AN38)","v":{"v":11688.5,"d":"11,688.50"}},{"$f":"SUM('법정동(2012)'!AO35:AO38)","v":4},{"$f":"SUM('법정동(2012)'!AP35:AP38)","v":0},{"$f":"SUM('법정동(2012)'!AQ35:AQ38)","v":0},{"$f":"SUM('법정동(2012)'!AR35:AR38)","v":{"v":20058,"d":"20,058.00"}},{"$f":"SUM('법정동(2012)'!AS35:AS38)","v":3},{"$f":"SUM('법정동(2012)'!AT35:AT38)","v":{"v":147893.9,"d":"147,893.90"}},{"$f":"SUM('법정동(2012)'!AU35:AU38)","v":24},{"$f":"SUM('법정동(2012)'!AV35:AV38)","v":{"v":10945.6,"d":"10,945.60"}},{"$f":"SUM('법정동(2012)'!AW35:AW38)","v":1},{"$f":"SUM('법정동(2012)'!AX35:AX38)","v":{"v":49654.3,"d":"49,654.30"}},{"$f":"SUM('법정동(2012)'!AY35:AY38)","v":2},{"$f":"SUM('법정동(2012)'!AZ35:AZ38)","v":{"v":22115.1,"d":"22,115.10"}},{"$f":"SUM('법정동(2012)'!BA35:BA38)","v":19},{"$f":"SUM('법정동(2012)'!BB35:BB38)","v":0},{"$f":"SUM('법정동(2012)'!BC35:BC38)","v":0},{"$f":"SUM('법정동(2012)'!BD35:BD38)","v":{"v":33721,"d":"33,721.00"}},{"$f":"SUM('법정동(2012)'!BE35:BE38)","v":56},{"$f":"SUM('법정동(2012)'!BF35:BF38)","v":{"v":37294.200000000004,"d":"37,294.20"}},{"$f":"SUM('법정동(2012)'!BG35:BG38)","v":47}]
["시전동",{"$f":"SUM('법정동(2012)'!B39:B41)","v":{"v":6260294.4,"d":"6,260,294.40"}},{"$f":"SUM('법정동(2012)'!C39:C41)","v":{"v":6196,"d":"6,196"}},{"$f":"SUM('법정동(2012)'!D39:D41)","v":{"v":1073422,"d":"1,073,422.00"}},{"$f":"SUM('법정동(2012)'!E39:E41)","v":{"v":1344,"d":"1,344"}},{"$f":"SUM('법정동(2012)'!F39:F41)","v":{"v":491586,"d":"491,586.00"}},{"$f":"SUM('법정동(2012)'!G39:G41)","v":745},{"$f":"SUM('법정동(2012)'!H39:H41)","v":{"v":4119,"d":"4,119.00"}},{"$f":"SUM('법정동(2012)'!I39:I41)","v":4},{"$f":"SUM('법정동(2012)'!J39:J41)","v":0},{"$f":"SUM('법정동(2012)'!K39:K41)","v":0},{"$f":"SUM('법정동(2012)'!L39:L41)","v":{"v":2420153.6,"d":"2,420,153.60"}},{"$f":"SUM('법정동(2012)'!M39:M41)","v":919},{"$f":"SUM('법정동(2012)'!N39:N41)","v":0},{"$f":"SUM('법정동(2012)'!O39:O41)","v":0},{"$f":"SUM('법정동(2012)'!P39:P41)","v":0},{"$f":"SUM('법정동(2012)'!Q39:Q41)","v":0},{"$f":"SUM('법정동(2012)'!R39:R41)","v":{"v":1069793.1,"d":"1,069,793.10"}},{"$f":"SUM('법정동(2012)'!S39:S41)","v":{"v":2240,"d":"2,240"}},{"$f":"SUM('법정동(2012)'!T39:T41)","v":0},{"$f":"SUM('법정동(2012)'!U39:U41)","v":0},{"$f":"SUM('법정동(2012)'!V39:V41)","v":{"v":64545,"d":"64,545.00"}},{"$f":"SUM('법정동(2012)'!W39:W41)","v":4},{"$f":"SUM('법정동(2012)'!X39:X41)","v":{"v":24461.5,"d":"24,461.50"}},{"$f":"SUM('법정동(2012)'!Y39:Y41)","v":19},{"$f":"SUM('법정동(2012)'!Z39:Z41)","v":{"v":4565.2,"d":"4,565.20"}},{"$f":"SUM('법정동(2012)'!AA39:AA41)","v":5},{"$f":"SUM('법정동(2012)'!AB39:AB41)","v":{"v":350,"d":"350.00"}},{"$f":"SUM('법정동(2012)'!AC39:AC41)","v":1},{"$f":"SUM('법정동(2012)'!AD39:AD41)","v":{"v":586427.3,"d":"586,427.30"}},{"$f":"SUM('법정동(2012)'!AE39:AE41)","v":707},{"$f":"SUM('법정동(2012)'!AF39:AF41)","v":0},{"$f":"SUM('법정동(2012)'!AG39:AG41)","v":0},{"$f":"SUM('법정동(2012)'!AH39:AH41)","v":{"v":1881.6,"d":"1,881.60"}},{"$f":"SUM('법정동(2012)'!AI39:AI41)","v":6},{"$f":"SUM('법정동(2012)'!AJ39:AJ41)","v":{"v":555,"d":"555.00"}},{"$f":"SUM('법정동(2012)'!AK39:AK41)","v":4},{"$f":"SUM('법정동(2012)'!AL39:AL41)","v":{"v":50433,"d":"50,433.00"}},{"$f":"SUM('법정동(2012)'!AM39:AM41)","v":35},{"$f":"SUM('법정동(2012)'!AN39:AN41)","v":{"v":22484,"d":"22,484.00"}},{"$f":"SUM('법정동(2012)'!AO39:AO41)","v":30},{"$f":"SUM('법정동(2012)'!AP39:AP41)","v":0},{"$f":"SUM('법정동(2012)'!AQ39:AQ41)","v":0},{"$f":"SUM('법정동(2012)'!AR39:AR41)","v":{"v":3742.1,"d":"3,742.10"}},{"$f":"SUM('법정동(2012)'!AS39:AS41)","v":13},{"$f":"SUM('법정동(2012)'!AT39:AT41)","v":{"v":175196.1,"d":"175,196.10"}},{"$f":"SUM('법정동(2012)'!AU39:AU41)","v":40},{"$f":"SUM('법정동(2012)'!AV39:AV41)","v":{"v":157345,"d":"157,345.00"}},{"$f":"SUM('법정동(2012)'!AW39:AW41)","v":4},{"$f":"SUM('법정동(2012)'!AX39:AX41)","v":0},{"$f":"SUM('법정동(2012)'!AY39:AY41)","v":0},{"$f":"SUM('법정동(2012)'!AZ39:AZ41)","v":{"v":20483.7,"d":"20,483.70"}},{"$f":"SUM('법정동(2012)'!BA39:BA41)","v":10},{"$f":"SUM('법정동(2012)'!BB39:BB41)","v":0},{"$f":"SUM('법정동(2012)'!BC39:BC41)","v":0},{"$f":"SUM('법정동(2012)'!BD39:BD41)","v":{"v":24368,"d":"24,368.00"}},{"$f":"SUM('법정동(2012)'!BE39:BE41)","v":51},{"$f":"SUM('법정동(2012)'!BF39:BF41)","v":{"v":64383.2,"d":"64,383.20"}},{"$f":"SUM('법정동(2012)'!BG39:BG41)","v":15}]
["여천동",{"$f":"SUM('법정동(2012)'!B42:B44)","v":{"v":7531173.6,"d":"7,531,173.60"}},{"$f":"SUM('법정동(2012)'!C42:C44)","v":{"v":7329,"d":"7,329"}},{"$f":"SUM('법정동(2012)'!D42:D44)","v":{"v":812488,"d":"812,488.00"}},{"$f":"SUM('법정동(2012)'!E42:E44)","v":993},{"$f":"SUM('법정동(2012)'!F42:F44)","v":{"v":1260008,"d":"1,260,008.00"}},{"$f":"SUM('법정동(2012)'!G42:G44)","v":{"v":1278,"d":"1,278"}},{"$f":"SUM('법정동(2012)'!H42:H44)","v":{"v":17444,"d":"17,444.00"}},{"$f":"SUM('법정동(2012)'!I42:I44)","v":5},{"$f":"SUM('법정동(2012)'!J42:J44)","v":{"v":3663,"d":"3,663.00"}},{"$f":"SUM('법정동(2012)'!K42:K44)","v":6},{"$f":"SUM('법정동(2012)'!L42:L44)","v":{"v":2475039.5,"d":"2,475,039.50"}},{"$f":"SUM('법정동(2012)'!M42:M44)","v":603},{"$f":"SUM('법정동(2012)'!N42:N44)","v":0},{"$f":"SUM('법정동(2012)'!O42:O44)","v":0},{"$f":"SUM('법정동(2012)'!P42:P44)","v":0},{"$f":"SUM('법정동(2012)'!Q42:Q44)","v":0},{"$f":"SUM('법정동(2012)'!R42:R44)","v":{"v":1311731.2,"d":"1,311,731.20"}},{"$f":"SUM('법정동(2012)'!S42:S44)","v":{"v":3178,"d":"3,178"}},{"$f":"SUM('법정동(2012)'!T42:T44)","v":{"v":5246,"d":"5,246.00"}},{"$f":"SUM('법정동(2012)'!U42:U44)","v":3},{"$f":"SUM('법정동(2012)'!V42:V44)","v":{"v":162547.4,"d":"162,547.40"}},{"$f":"SUM('법정동(2012)'!W42:W44)","v":8},{"$f":"SUM('법정동(2012)'!X42:X44)","v":{"v":38417.2,"d":"38,417.20"}},{"$f":"SUM('법정동(2012)'!Y42:Y44)","v":44},{"$f":"SUM('법정동(2012)'!Z42:Z44)","v":{"v":14597.8,"d":"14,597.80"}},{"$f":"SUM('법정동(2012)'!AA42:AA44)","v":18},{"$f":"SUM('법정동(2012)'!AB42:AB44)","v":{"v":16086.3,"d":"16,086.30"}},{"$f":"SUM('법정동(2012)'!AC42:AC44)","v":19},{"$f":"SUM('법정동(2012)'!AD42:AD44)","v":{"v":865253.4,"d":"865,253.40"}},{"$f":"SUM('법정동(2012)'!AE42:AE44)","v":779},{"$f":"SUM('법정동(2012)'!AF42:AF44)","v":{"v":75186,"d":"75,186.00"}},{"$f":"SUM('법정동(2012)'!AG42:AG44)","v":53},{"$f":"SUM('법정동(2012)'!AH42:AH44)","v":0},{"$f":"SUM('법정동(2012)'!AI42:AI44)","v":0},{"$f":"SUM('법정동(2012)'!AJ42:AJ44)","v":{"v":87631,"d":"87,631.00"}},{"$f":"SUM('법정동(2012)'!AK42:AK44)","v":53},{"$f":"SUM('법정동(2012)'!AL42:AL44)","v":{"v":89829.90000000001,"d":"89,829.90"}},{"$f":"SUM('법정동(2012)'!AM42:AM44)","v":158},{"$f":"SUM('법정동(2012)'!AN42:AN44)","v":{"v":23888,"d":"23,888.00"}},{"$f":"SUM('법정동(2012)'!AO42:AO44)","v":17},{"$f":"SUM('법정동(2012)'!AP42:AP44)","v":{"v":1016,"d":"1,016.00"}},{"$f":"SUM('법정동(2012)'!AQ42:AQ44)","v":1},{"$f":"SUM('법정동(2012)'!AR42:AR44)","v":{"v":32581,"d":"32,581.00"}},{"$f":"SUM('법정동(2012)'!AS42:AS44)","v":13},{"$f":"SUM('법정동(2012)'!AT42:AT44)","v":{"v":176307.4,"d":"176,307.40"}},{"$f":"SUM('법정동(2012)'!AU42:AU44)","v":27},{"$f":"SUM('법정동(2012)'!AV42:AV44)","v":0},{"$f":"SUM('법정동(2012)'!AW42:AW44)","v":0},{"$f":"SUM('법정동(2012)'!AX42:AX44)","v":0},{"$f":"SUM('법정동(2012)'!AY42:AY44)","v":0},{"$f":"SUM('법정동(2012)'!AZ42:AZ44)","v":{"v":20634.4,"d":"20,634.40"}},{"$f":"SUM('법정동(2012)'!BA42:BA44)","v":14},{"$f":"SUM('법정동(2012)'!BB42:BB44)","v":{"v":6450,"d":"6,450.00"}},{"$f":"SUM('법정동(2012)'!BC42:BC44)","v":2},{"$f":"SUM('법정동(2012)'!BD42:BD44)","v":{"v":14863,"d":"14,863.00"}},{"$f":"SUM('법정동(2012)'!BE42:BE44)","v":28},{"$f":"SUM('법정동(2012)'!BF42:BF44)","v":{"v":20265.1,"d":"20,265.10"}},{"$f":"SUM('법정동(2012)'!BG42:BG44)","v":29}]
["주삼동",{"$f":"SUM('법정동(2012)'!B45:B47)","v":{"v":11527557.4,"d":"11,527,557.40"}},{"$f":"SUM('법정동(2012)'!C45:C47)","v":{"v":8520,"d":"8,520"}},{"$f":"SUM('법정동(2012)'!D45:D47)","v":{"v":1147771,"d":"1,147,771.00"}},{"$f":"SUM('법정동(2012)'!E45:E47)","v":{"v":1498,"d":"1,498"}},{"$f":"SUM('법정동(2012)'!F45:F47)","v":{"v":2085390.5,"d":"2,085,390.50"}},{"$f":"SUM('법정동(2012)'!G45:G47)","v":{"v":2153,"d":"2,153"}},{"$f":"SUM('법정동(2012)'!H45:H47)","v":{"v":3307,"d":"3,307.00"}},{"$f":"SUM('법정동(2012)'!I45:I47)","v":1},{"$f":"SUM('법정동(2012)'!J45:J47)","v":{"v":8468,"d":"8,468.00"}},{"$f":"SUM('법정동(2012)'!K45:K47)","v":13},{"$f":"SUM('법정동(2012)'!L45:L47)","v":{"v":5545480,"d":"5,545,480.00"}},{"$f":"SUM('법정동(2012)'!M45:M47)","v":{"v":1161,"d":"1,161"}},{"$f":"SUM('법정동(2012)'!N45:N47)","v":0},{"$f":"SUM('법정동(2012)'!O45:O47)","v":0},{"$f":"SUM('법정동(2012)'!P45:P47)","v":0},{"$f":"SUM('법정동(2012)'!Q45:Q47)","v":0},{"$f":"SUM('법정동(2012)'!R45:R47)","v":{"v":547316.3,"d":"547,316.30"}},{"$f":"SUM('법정동(2012)'!S45:S47)","v":995},{"$f":"SUM('법정동(2012)'!T45:T47)","v":{"v":129282.8,"d":"129,282.80"}},{"$f":"SUM('법정동(2012)'!U45:U47)","v":53},{"$f":"SUM('법정동(2012)'!V45:V47)","v":{"v":84875,"d":"84,875.00"}},{"$f":"SUM('법정동(2012)'!W45:W47)","v":2},{"$f":"SUM('법정동(2012)'!X45:X47)","v":{"v":16191,"d":"16,191.00"}},{"$f":"SUM('법정동(2012)'!Y45:Y47)","v":14},{"$f":"SUM('법정동(2012)'!Z45:Z47)","v":{"v":28636,"d":"28,636.00"}},{"$f":"SUM('법정동(2012)'!AA45:AA47)","v":32},{"$f":"SUM('법정동(2012)'!AB45:AB47)","v":{"v":18353,"d":"18,353.00"}},{"$f":"SUM('법정동(2012)'!AC45:AC47)","v":25},{"$f":"SUM('법정동(2012)'!AD45:AD47)","v":{"v":774178,"d":"774,178.00"}},{"$f":"SUM('법정동(2012)'!AE45:AE47)","v":{"v":1960,"d":"1,960"}},{"$f":"SUM('법정동(2012)'!AF45:AF47)","v":{"v":60336.2,"d":"60,336.20"}},{"$f":"SUM('법정동(2012)'!AG45:AG47)","v":75},{"$f":"SUM('법정동(2012)'!AH45:AH47)","v":{"v":9201,"d":"9,201.00"}},{"$f":"SUM('법정동(2012)'!AI45:AI47)","v":11},{"$f":"SUM('법정동(2012)'!AJ45:AJ47)","v":{"v":109024,"d":"109,024.00"}},{"$f":"SUM('법정동(2012)'!AK45:AK47)","v":57},{"$f":"SUM('법정동(2012)'!AL45:AL47)","v":{"v":201870,"d":"201,870.00"}},{"$f":"SUM('법정동(2012)'!AM45:AM47)","v":229},{"$f":"SUM('법정동(2012)'!AN45:AN47)","v":{"v":119944,"d":"119,944.00"}},{"$f":"SUM('법정동(2012)'!AO45:AO47)","v":58},{"$f":"SUM('법정동(2012)'!AP45:AP47)","v":0},{"$f":"SUM('법정동(2012)'!AQ45:AQ47)","v":0},{"$f":"SUM('법정동(2012)'!AR45:AR47)","v":{"v":3567,"d":"3,567.00"}},{"$f":"SUM('법정동(2012)'!AS45:AS47)","v":7},{"$f":"SUM('법정동(2012)'!AT45:AT47)","v":0},{"$f":"SUM('법정동(2012)'!AU45:AU47)","v":0},{"$f":"SUM('법정동(2012)'!AV45:AV47)","v":{"v":514788,"d":"514,788.00"}},{"$f":"SUM('법정동(2012)'!AW45:AW47)","v":2},{"$f":"SUM('법정동(2012)'!AX45:AX47)","v":0},{"$f":"SUM('법정동(2012)'!AY45:AY47)","v":0},{"$f":"SUM('법정동(2012)'!AZ45:AZ47)","v":{"v":9549,"d":"9,549.00"}},{"$f":"SUM('법정동(2012)'!BA45:BA47)","v":7},{"$f":"SUM('법정동(2012)'!BB45:BB47)","v":0},{"$f":"SUM('법정동(2012)'!BC45:BC47)","v":0},{"$f":"SUM('법정동(2012)'!BD45:BD47)","v":{"v":11624,"d":"11,624.00"}},{"$f":"SUM('법정동(2012)'!BE45:BE47)","v":18},{"$f":"SUM('법정동(2012)'!BF45:BF47)","v":{"v":98405.6,"d":"98,405.60"}},{"$f":"SUM('법정동(2012)'!BG45:BG47)","v":149}]
["삼일동",{"$f":"SUM('법정동(2012)'!B48:B53,'법정동(2012)'!B55:B58)","v":{"v":68122516.2,"d":"68,122,516.20"}},{"$f":"SUM('법정동(2012)'!C48:C53,'법정동(2012)'!C55:C58)","v":{"v":19137,"d":"19,137"}},{"$f":"SUM('법정동(2012)'!D48:D53,'법정동(2012)'!D55:D58)","v":{"v":2969788,"d":"2,969,788.00"}},{"$f":"SUM('법정동(2012)'!E48:E53,'법정동(2012)'!E55:E58)","v":{"v":3568,"d":"3,568"}},{"$f":"SUM('법정동(2012)'!F48:F53,'법정동(2012)'!F55:F58)","v":{"v":3318920.5,"d":"3,318,920.50"}},{"$f":"SUM('법정동(2012)'!G48:G53,'법정동(2012)'!G55:G58)","v":{"v":3686,"d":"3,686"}},{"$f":"SUM('법정동(2012)'!H48:H53,'법정동(2012)'!H55:H58)","v":{"v":28691,"d":"28,691.00"}},{"$f":"SUM('법정동(2012)'!I48:I53,'법정동(2012)'!I55:I58)","v":13},{"$f":"SUM('법정동(2012)'!J48:J53,'법정동(2012)'!J55:J58)","v":{"v":7471,"d":"7,471.00"}},{"$f":"SUM('법정동(2012)'!K48:K53,'법정동(2012)'!K55:K58)","v":5},{"$f":"SUM('법정동(2012)'!L48:L53,'법정동(2012)'!L55:L58)","v":{"v":39070409.9,"d":"39,070,409.90"}},{"$f":"SUM('법정동(2012)'!M48:M53,'법정동(2012)'!M55:M58)","v":{"v":3605,"d":"3,605"}},{"$f":"SUM('법정동(2012)'!N48:N53,'법정동(2012)'!N55:N58)","v":0},{"$f":"SUM('법정동(2012)'!O48:O53,'법정동(2012)'!O55:O58)","v":0},{"$f":"SUM('법정동(2012)'!P48:P53,'법정동(2012)'!P55:P58)","v":0},{"$f":"SUM('법정동(2012)'!Q48:Q53,'법정동(2012)'!Q55:Q58)","v":0},{"$f":"SUM('법정동(2012)'!R48:R53,'법정동(2012)'!R55:R58)","v":{"v":1338181,"d":"1,338,181.00"}},{"$f":"SUM('법정동(2012)'!S48:S53,'법정동(2012)'!S55:S58)","v":{"v":2082,"d":"2,082"}},{"$f":"SUM('법정동(2012)'!T48:T53,'법정동(2012)'!T55:T58)","v":{"v":13871659.299999999,"d":"13,871,659.30"}},{"$f":"SUM('법정동(2012)'!U48:U53,'법정동(2012)'!U55:U58)","v":689},{"$f":"SUM('법정동(2012)'!V48:V53,'법정동(2012)'!V55:V58)","v":{"v":62674,"d":"62,674.00"}},{"$f":"SUM('법정동(2012)'!W48:W53,'법정동(2012)'!W55:W58)","v":13},{"$f":"SUM('법정동(2012)'!X48:X53,'법정동(2012)'!X55:X58)","v":{"v":13695.7,"d":"13,695.70"}},{"$f":"SUM('법정동(2012)'!Y48:Y53,'법정동(2012)'!Y55:Y58)","v":21},{"$f":"SUM('법정동(2012)'!Z48:Z53,'법정동(2012)'!Z55:Z58)","v":{"v":201944.69999999998,"d":"201,944.70"}},{"$f":"SUM('법정동(2012)'!AA48:AA53,'법정동(2012)'!AA55:AA58)","v":42},{"$f":"SUM('법정동(2012)'!AB48:AB53,'법정동(2012)'!AB55:AB58)","v":{"v":25143.4,"d":"25,143.40"}},{"$f":"SUM('법정동(2012)'!AC48:AC53,'법정동(2012)'!AC55:AC58)","v":17},{"$f":"SUM('법정동(2012)'!AD48:AD53,'법정동(2012)'!AD55:AD58)","v":{"v":2404292.0999999996,"d":"2,404,292.10"}},{"$f":"SUM('법정동(2012)'!AE48:AE53,'법정동(2012)'!AE55:AE58)","v":{"v":3390,"d":"3,390"}},{"$f":"SUM('법정동(2012)'!AF48:AF53,'법정동(2012)'!AF55:AF58)","v":{"v":275568,"d":"275,568.00"}},{"$f":"SUM('법정동(2012)'!AG48:AG53,'법정동(2012)'!AG55:AG58)","v":191},{"$f":"SUM('법정동(2012)'!AH48:AH53,'법정동(2012)'!AH55:AH58)","v":{"v":108327.5,"d":"108,327.50"}},{"$f":"SUM('법정동(2012)'!AI48:AI53,'법정동(2012)'!AI55:AI58)","v":58},{"$f":"SUM('법정동(2012)'!AJ48:AJ53,'법정동(2012)'!AJ55:AJ58)","v":{"v":907986,"d":"907,986.00"}},{"$f":"SUM('법정동(2012)'!AK48:AK53,'법정동(2012)'!AK55:AK58)","v":327},{"$f":"SUM('법정동(2012)'!AL48:AL53,'법정동(2012)'!AL55:AL58)","v":{"v":331945.4,"d":"331,945.40"}},{"$f":"SUM('법정동(2012)'!AM48:AM53,'법정동(2012)'!AM55:AM58)","v":350},{"$f":"SUM('법정동(2012)'!AN48:AN53,'법정동(2012)'!AN55:AN58)","v":{"v":212436,"d":"212,436.00"}},{"$f":"SUM('법정동(2012)'!AO48:AO53,'법정동(2012)'!AO55:AO58)","v":195},{"$f":"SUM('법정동(2012)'!AP48:AP53,'법정동(2012)'!AP55:AP58)","v":0},{"$f":"SUM('법정동(2012)'!AQ48:AQ53,'법정동(2012)'!AQ55:AQ58)","v":0},{"$f":"SUM('법정동(2012)'!AR48:AR53,'법정동(2012)'!AR55:AR58)","v":{"v":65088.7,"d":"65,088.70"}},{"$f":"SUM('법정동(2012)'!AS48:AS53,'법정동(2012)'!AS55:AS58)","v":28},{"$f":"SUM('법정동(2012)'!AT48:AT53,'법정동(2012)'!AT55:AT58)","v":{"v":6773,"d":"6,773.00"}},{"$f":"SUM('법정동(2012)'!AU48:AU53,'법정동(2012)'!AU55:AU58)","v":2},{"$f":"SUM('법정동(2012)'!AV48:AV53,'법정동(2012)'!AV55:AV58)","v":{"v":1544,"d":"1,544.00"}},{"$f":"SUM('법정동(2012)'!AW48:AW53,'법정동(2012)'!AW55:AW58)","v":2},{"$f":"SUM('법정동(2012)'!AX48:AX53,'법정동(2012)'!AX55:AX58)","v":0},{"$f":"SUM('법정동(2012)'!AY48:AY53,'법정동(2012)'!AY55:AY58)","v":0},{"$f":"SUM('법정동(2012)'!AZ48:AZ53,'법정동(2012)'!AZ55:AZ58)","v":{"v":36443,"d":"36,443.00"}},{"$f":"SUM('법정동(2012)'!BA48:BA53,'법정동(2012)'!BA55:BA58)","v":27},{"$f":"SUM('법정동(2012)'!BB48:BB53,'법정동(2012)'!BB55:BB58)","v":0},{"$f":"SUM('법정동(2012)'!BC48:BC53,'법정동(2012)'!BC55:BC58)","v":0},{"$f":"SUM('법정동(2012)'!BD48:BD53,'법정동(2012)'!BD55:BD58)","v":{"v":87007,"d":"87,007.00"}},{"$f":"SUM('법정동(2012)'!BE48:BE53,'법정동(2012)'!BE55:BE58)","v":108},{"$f":"SUM('법정동(2012)'!BF48:BF53,'법정동(2012)'!BF55:BF58)","v":{"v":2776527,"d":"2,776,527.00"}},{"$f":"SUM('법정동(2012)'!BG48:BG53,'법정동(2012)'!BG55:BG58)","v":718}]
["묘도동",{"$f":"SUM('법정동(2012)'!B54)","v":{"v":11515745.6,"d":"11,515,745.60"}},{"$f":"SUM('법정동(2012)'!C54)","v":{"v":5574,"d":"5,574"}},{"$f":"SUM('법정동(2012)'!D54)","v":{"v":1325083,"d":"1,325,083.00"}},{"$f":"SUM('법정동(2012)'!E54)","v":{"v":1307,"d":"1,307"}},{"$f":"SUM('법정동(2012)'!F54)","v":{"v":935770,"d":"935,770.00"}},{"$f":"SUM('법정동(2012)'!G54)","v":{"v":1047,"d":"1,047"}},{"$f":"SUM('법정동(2012)'!H54)","v":{"v":6702,"d":"6,702.00"}},{"$f":"SUM('법정동(2012)'!I54)","v":4},{"$f":"SUM('법정동(2012)'!J54)","v":{"v":1592,"d":"1,592.00"}},{"$f":"SUM('법정동(2012)'!K54)","v":4},{"$f":"SUM('법정동(2012)'!L54)","v":{"v":5657933,"d":"5,657,933.00"}},{"$f":"SUM('법정동(2012)'!M54)","v":{"v":1578,"d":"1,578"}},{"$f":"SUM('법정동(2012)'!N54)","v":0},{"$f":"SUM('법정동(2012)'!O54)","v":0},{"$f":"SUM('법정동(2012)'!P54)","v":0},{"$f":"SUM('법정동(2012)'!Q54)","v":0},{"$f":"SUM('법정동(2012)'!R54)","v":{"v":178015,"d":"178,015.00"}},{"$f":"SUM('법정동(2012)'!S54)","v":638},{"$f":"SUM('법정동(2012)'!T54)","v":0},{"$f":"SUM('법정동(2012)'!U54)","v":0},{"$f":"SUM('법정동(2012)'!V54)","v":{"v":18801,"d":"18,801.00"}},{"$f":"SUM('법정동(2012)'!W54)","v":2},{"$f":"SUM('법정동(2012)'!X54)","v":{"v":28,"d":"28.00"}},{"$f":"SUM('법정동(2012)'!Y54)","v":1},{"$f":"SUM('법정동(2012)'!Z54)","v":{"v":589,"d":"589.00"}},{"$f":"SUM('법정동(2012)'!AA54)","v":1},{"$f":"SUM('법정동(2012)'!AB54)","v":{"v":2160,"d":"2,160.00"}},{"$f":"SUM('법정동(2012)'!AC54)","v":5},{"$f":"SUM('법정동(2012)'!AD54)","v":{"v":131712,"d":"131,712.00"}},{"$f":"SUM('법정동(2012)'!AE54)","v":829},{"$f":"SUM('법정동(2012)'!AF54)","v":0},{"$f":"SUM('법정동(2012)'!AG54)","v":0},{"$f":"SUM('법정동(2012)'!AH54)","v":{"v":113398.6,"d":"113,398.60"}},{"$f":"SUM('법정동(2012)'!AI54)","v":13},{"$f":"SUM('법정동(2012)'!AJ54)","v":{"v":15454,"d":"15,454.00"}},{"$f":"SUM('법정동(2012)'!AK54)","v":2},{"$f":"SUM('법정동(2012)'!AL54)","v":{"v":63958,"d":"63,958.00"}},{"$f":"SUM('법정동(2012)'!AM54)","v":27},{"$f":"SUM('법정동(2012)'!AN54)","v":{"v":22036,"d":"22,036.00"}},{"$f":"SUM('법정동(2012)'!AO54)","v":27},{"$f":"SUM('법정동(2012)'!AP54)","v":0},{"$f":"SUM('법정동(2012)'!AQ54)","v":0},{"$f":"SUM('법정동(2012)'!AR54)","v":0},{"$f":"SUM('법정동(2012)'!AS54)","v":0},{"$f":"SUM('법정동(2012)'!AT54)","v":0},{"$f":"SUM('법정동(2012)'!AU54)","v":0},{"$f":"SUM('법정동(2012)'!AV54)","v":0},{"$f":"SUM('법정동(2012)'!AW54)","v":0},{"$f":"SUM('법정동(2012)'!AX54)","v":0},{"$f":"SUM('법정동(2012)'!AY54)","v":0},{"$f":"SUM('법정동(2012)'!AZ54)","v":{"v":3681,"d":"3,681.00"}},{"$f":"SUM('법정동(2012)'!BA54)","v":2},{"$f":"SUM('법정동(2012)'!BB54)","v":0},{"$f":"SUM('법정동(2012)'!BC54)","v":0},{"$f":"SUM('법정동(2012)'!BD54)","v":{"v":29108,"d":"29,108.00"}},{"$f":"SUM('법정동(2012)'!BE54)","v":39},{"$f":"SUM('법정동(2012)'!BF54)","v":{"v":3009725,"d":"3,009,725.00"}},{"$f":"SUM('법정동(2012)'!BG54)","v":48}]

{"sheet":"2012 대비","index":4,"n_rows":117,"n_cols":59,"rows_kept":117,"merged":[[0,0,1,0],[0,1,0,2],[0,3,0,4],[0,5,0,6],[0,7,0,8],[0,9,0,10],[0,11,0,12],[0,13,0,14],[0,15,0,16],[0,17,0,18],[0,19,0,20],[0,21,0,22],[0,23,0,24],[0,25,0,26],[0,27,0,28],[0,29,0,30],[0,31,0,32],[0,33,0,34],[0,35,0,36],[0,37,0,38],[0,39,0,40],[0,41,0,42],[0,43,0,44],[0,45,0,46],[0,47,0,48],[0,49,0,50],[0,51,0,52],[0,53,0,54],[0,55,0,56],[0,57,0,58]]}
["구    분","계",null,"전",null,"답",null,"과수원",null,"목장용지",null,"임야",null,"광천지",null,"염전",null,"대",null,"공장용지",null,"학교용지",null,"주차장",null,"주유소용지",null,"창고용지",null,"도로",null,"철도용지",null,"제방",null,"하천",null,"구거",null,"유지",null,"양어장",null,"수도용지",null,"공원",null,"체육용지",null,"유원지",null,"종교용지",null,"사적지",null,"묘지",null,"잡종지"]
[null,"면  적","지번수","면  적","지번수","면  적","지번수","면  적","지번수","면  적","지번수","면  적","지번수","면  적","지번수","면  적","지번수","면  적","지번수","면  적","지번수","면  적","지번수","면  적","지번수","면  적","지번수","면  적","지번수","면  적","지번수","면  적","지번수","면  적","지번수","면  적","지번수","면  적","지번수","면  적","지번수","면  적","지번수","면  적","지번수","면  적","지번수","면  적","지번수","면  적","지번수","면  적","지번수","면  적","지번수","면  적","지번수","면  적","지번수"]
["합  계",{"$f":"'법정동(2013)'!B5-'법정동(2012)'!B7","v":{"v":477374.8000000119,"d":"477,374.8"}},{"$f":"'법정동(2013)'!C5-'법정동(2012)'!C7","v":{"v":-754,"d":"-754.0"}},{"$f":"'법정동(2013)'!D5-'법정동(2012)'!D7","v":{"v":-582096.3000000045,"d":"-582,096.3"}},{"$f":"'법정동(2013)'!E5-'법정동(2012)'!E7","v":{"v":-682,"d":"-682.0"}},{"$f":"'법정동(2013)'!F5-'법정동(2012)'!F7","v":{"v":-476328.80000000447,"d":"-476,328.8"}},{"$f":"'법정동(2013)'!G5-'법정동(2012)'!G7","v":{"v":-252,"d":"-252.0"}},{"$f":"'법정동(2013)'!H5-'법정동(2012)'!H7","v":{"v":3047,"d":"3,047.0"}},{"$f":"'법정동(2013)'!I5-'법정동(2012)'!I7","v":{"v":5,"d":"5.0"}},{"$f":"'법정동(2013)'!J5-'법정동(2012)'!J7","v":{"v":-341,"d":"-341.0"}},{"$f":"'법정동(2013)'!K5-'법정동(2012)'!K7","v":{"v":2,"d":"2.0"}},{"$f":"'법정동(2013)'!L5-'법정동(2012)'!L7","v":{"v":-984760.1999999285,"d":"-984,760.2"}},{"$f":"'법정동(2013)'!M5-'법정동(2012)'!M7","v":{"v":-68,"d":"-68.0"}},{"$f":"'법정동(2013)'!N5-'법정동(2012)'!N7","v":{"v":0,"d":"0.0"}},{"$f":"'법정동(2013)'!O5-'법정동(2012)'!O7","v":{"v":0,"d":"0.0"}},{"$f":"'법정동(2013)'!P5-'법정동(2012)'!P7","v":{"v":0,"d":"0.0"}},{"$f":"'법정동(2013)'!Q5-'법정동(2012)'!Q7","v":{"v":0,"d":"0.0"}},{"$f":"'법정동(2013)'!R5-'법정동(2012)'!R7","v":{"v":223261.19999999925,"d":"223,261.2"}},{"$f":"'법정동(2013)'!S5-'법정동(2012)'!S7","v":{"v":-806,"d":"-806.0"}},{"$f":"'법정동(2013)'!T5-'법정동(2012)'!T7","v":{"v":251567.30000000075,"d":"251,567.3"}},{"$f":"'법정동(2013)'!U5-'법정동(2012)'!U7","v":{"v":44,"d":"44.0"}},{"$f":"'법정동(2013)'!V5-'법정동(2012)'!V7","v":{"v":-7265,"d":"-7,265.0"}},{"$f":"'법정동(2013)'!W5-'법정동(2012)'!W7","v":{"v":-12,"d":"-12.0"}},{"$f":"'법정동(2013)'!X5-'법정동(2012)'!X7","v":{"v":92573.49999999991,"d":"92,573.5"}},{"$f":"'법정동(2013)'!Y5-'법정동(2012)'!Y7","v":{"v":33,"d":"33.0"}},{"$f":"'법정동(2013)'!Z5-'법정동(2012)'!Z7","v":{"v":145521.39999999997,"d":"145,521.4"}},{"$f":"'법정동(2013)'!AA5-'법정동(2012)'!AA7","v":{"v":7,"d":"7.0"}},{"$f":"'법정동(2013)'!AB5-'법정동(2012)'!AB7","v":{"v":10756.699999999983,"d":"10,756.7"}},{"$f":"'법정동(2013)'!AC5-'법정동(2012)'!AC7","v":{"v":17,"d":"17.0"}},{"$f":"'법정동(2013)'!AD5-'법정동(2012)'!AD7","v":{"v":1551015.6999999993,"d":"1,551,015.7"}},{"$f":"'법정동(2013)'!AE5-'법정동(2012)'!AE7","v":{"v":1006,"d":"1,006.0"}},{"$f":"'법정동(2013)'!AF5-'법정동(2012)'!AF7","v":{"v":-208478,"d":"-208,478.0"}},{"$f":"'법정동(2013)'!AG5-'법정동(2012)'!AG7","v":{"v":-124,"d":"-124.0"}},{"$f":"'법정동(2013)'!AH5-'법정동(2012)'!AH7","v":{"v":-27174,"d":"-27,174.0"}},{"$f":"'법정동(2013)'!AI5-'법정동(2012)'!AI7","v":{"v":-7,"d":"-7.0"}},{"$f":"'법정동(2013)'!AJ5-'법정동(2012)'!AJ7","v":{"v":1108.5999999996275,"d":"1,108.6"}},{"$f":"'법정동(2013)'!AK5-'법정동(2012)'!AK7","v":{"v":2,"d":"2.0"}},{"$f":"'법정동(2013)'!AL5-'법정동(2012)'!AL7","v":{"v":-14749.999999999069,"d":"-14,750.0"}},{"$f":"'법정동(2013)'!AM5-'법정동(2012)'!AM7","v":{"v":11,"d":"11.0"}},{"$f":"'법정동(2013)'!AN5-'법정동(2012)'!AN7","v":{"v":-12224,"d":"-12,224.0"}},{"$f":"'법정동(2013)'!AO5-'법정동(2012)'!AO7","v":{"v":-7,"d":"-7.0"}},{"$f":"'법정동(2013)'!AP5-'법정동(2012)'!AP7","v":{"v":9614,"d":"9,614.0"}},{"$f":"'법정동(2013)'!AQ5-'법정동(2012)'!AQ7","v":{"v":4,"d":"4.0"}},{"$f":"'법정동(2013)'!AR5-'법정동(2012)'!AR7","v":{"v":-13844.299999999988,"d":"-13,844.3"}},{"$f":"'법정동(2013)'!AS5-'법정동(2012)'!AS7","v":{"v":-5,"d":"-5.0"}},{"$f":"'법정동(2013)'!AT5-'법정동(2012)'!AT7","v":{"v":296057.5,"d":"296,057.5"}},{"$f":"'법정동(2013)'!AU5-'법정동(2012)'!AU7","v":{"v":43,"d":"43.0"}},{"$f":"'법정동(2013)'!AV5-'법정동(2012)'!AV7","v":{"v":-9215,"d":"-9,215.0"}},{"$f":"'법정동(2013)'!AW5-'법정동(2012)'!AW7","v":{"v":-2,"d":"-2.0"}},{"$f":"'법정동(2013)'!AX5-'법정동(2012)'!AX7","v":{"v":0,"d":"0.0"}},{"$f":"'법정동(2013)'!AY5-'법정동(2012)'!AY7","v":{"v":0,"d":"0.0"}},{"$f":"'법정동(2013)'!AZ5-'법정동(2012)'!AZ7","v":{"v":5072.799999999988,"d":"5,072.8"}},{"$f":"'법정동(2013)'!BA5-'법정동(2012)'!BA7","v":{"v":7,"d":"7.0"}},{"$f":"'법정동(2013)'!BB5-'법정동(2012)'!BB7","v":{"v":0,"d":"0.0"}},{"$f":"'법정동(2013)'!BC5-'법정동(2012)'!BC7","v":{"v":0,"d":"0.0"}},{"$f":"'법정동(2013)'!BD5-'법정동(2012)'!BD7","v":{"v":5319,"d":"5,319.0"}},{"$f":"'법정동(2013)'!BE5-'법정동(2012)'!BE7","v":{"v":-17,"d":"-17.0"}},{"$f":"'법정동(2013)'!BF5-'법정동(2012)'!BF7","v":{"v":218936.69999999925,"d":"218,936.7"}},{"$f":"'법정동(2013)'!BG5-'법정동(2012)'!BG7","v":{"v":47,"d":"47.0"}}]
["종화동",{"$f":"'법정동(2013)'!B6-'법정동(2012)'!B8","v":{"v":875,"d":"875.0"}},{"$f":"'법정동(2013)'!C6-'법정동(2012)'!C8","v":{"v":9,"d":"9.0"}},{"$f":"'법정동(2013)'!D6-'법정동(2012)'!D8","v":{"v":-754,"d":"-754.0"}},{"$f":"'법정동(2013)'!E6-'법정동(2012)'!E8","v":{"v":-3,"d":"-3.0"}},{"$f":"'법정동(2013)'!F6-'법정동(2012)'!F8","v":{"v":0,"d":"0.0"}},{"$f":"'법정동(2013)'!G6-'법정동(2012)'!G8","v":{"v":0,"d":"0.0"}},{"$f":"'법정동(2013)'!H6-'법정동(2012)'!H8","v":{"v":0,"d":"0.0"}},{"$f":"'법정동(2013)'!I6-'법정동(2012)'!I8","v":{"v":0,"d":"0.0"}},{"$f":"'법정동(2013)'!J6-'법정동(2012)'!J8","v":{"v":0,"d":"0.0"}},{"$f":"'법정동(2013)'!K6-'법정동(2012)'!K8","v":{"v":0,"d":"0.0"}},{"$f":"'법정동(2013)'!L6-'법정동(2012)'!L8","v":{"v":-941,"d":"-941.0"}},{"$f":"'법정동(2013)'!M6-'법정동(2012)'!M8","v":{"v":-3,"d":"-3.0"}},{"$f":"'법정동(2013)'!N6-'법정동(2012)'!N8","v":{"v":0,"d":"0.0"}},{"$f":"'법정동(2013)'!O6-'법정동(2012)'!O8","v":{"v":0,"d":"0.0"}},{"$f":"'법정동(2013)'!P6-'법정동(2012)'!P8","v":{"v":0,"d":"0.0"}},{"$f":"'법정동(2013)'!Q6-'법정동(2012)'!Q8","v":{"v":0,"d":"0.0"}},{"$f":"'법정동(2013)'!R6-'법정동(2012)'!R8","v":{"v":0,"d":"0.0"}},{"$f":"'법정동(2013)'!S6-'법정동(2012)'!S8","v":{"v":9,"d":"9.0"}},{"$f":"'법정동(2013)'!T6-'법정동(2012)'!T8","v":{"v":0,"d":"0.0"}},{"$f":"'법정동(2013)'!U6-'법정동(2012)'!U8","v":{"v":0,"d":"0.0"}},{"$f":"'법정동(2013)'!V6-'법정동(2012)'!V8","v":{"v":0,"d":"0.0"}},{"$f":"'법정동(2013)'!W6-'법정동(2012)'!W8","v":{"v":0,"d":"0.0"}},{"$f":"'법정동(2013)'!X6-'법정동(2012)'!X8","v":{"v":0,"d":"0.0"}},{"$f":"'법정동(2013)'!Y6-'법정동(2012)'!Y8","v":{"v":0,"d":"0.0"}},{"$f":"'법정동(2013)'!Z6-'법정동(2012)'!Z8","v":{"v":0,"d":"0.0"}},{"$f":"'법정동(2013)'!AA6-'법정동(2012)'!AA8","v":{"v":0,"d":"0.0"}},{"$f":"'법정동(2013)'!AB6-'법정동(2012)'!AB8","v":{"v":0,"d":"0.0"}},{"$f":"'법정동(2013)'!AC6-'법정동(2012)'!AC8","v":{"v":0,"d":"0.0"}},{"$f":"'법정동(2013)'!AD6-'법정동(2012)'!AD8","v":{"v":3109,"d":"3,109.0"}},{"$f":"'법정동(2013)'!AE6-'법정동(2012)'!AE8","v":{"v":6,"d":"6.0"}},{"$f":"'법정동(2013)'!AF6-'법정동(2012)'!AF8","v":{"v":0,"d":"0.0"}},{"$f":"'법정동(2013)'!AG6-'법정동(2012)'!AG8","v":{"v":0,"d":"0.0"}},{"$f":"'법정동(2013)'!AH6-'법정동(2012)'!AH8","v":{"v":-544,"d":"-544.0"}},{"$f":"'법정동(2013)'!AI6-'법정동(2012)'!AI8","v":{"v":-3,"d":"-3.0"}},{"$f":"'법정동(2013)'!AJ6-'법정동(2012)'!AJ8","v":{"v":0,"d":"0.0"}},{"$f":"'법정동(2013)'!AK6-'법정동(2012)'!AK8","v":{"v":0,"d":"0.0"}},{"$f":"'법정동(2013)'!AL6-'법정동(2012)'!AL8","v":{"v":0,"d":"0.0"}},{"$f":"'법정동(2013)'!AM6-'법정동(2012)'!AM8","v":{"v":1,"d":"1.0"}},{"$f":"'법정동(2013)'!AN6-'법정동(2012)'!AN8","v":{"v":0,"d":"0.0"}},{"$f":"'법정동(2013)'!AO6-'법정동(2012)'!AO8","v":{"v":0,"d":"0.0"}},{"$f":"'법정동(2013)'!AP6-'법정동(2012)'!AP8","v":{"v":0,"d":"0.0"}},{"$f":"'법정동(2013)'!AQ6-'법정동(2012)'!AQ8","v":{"v":0,"d":"0.0"}},{"$f":"'법정동(2013)'!AR6-'법정동(2012)'!AR8","v":{"v":0,"d":"0.0"}},{"$f":"'법정동(2013)'!AS6-'법정동(2012)'!AS8","v":{"v":0,"d":"0.0"}},{"$f":"'법정동(2013)'!AT6-'법정동(2012)'!AT8","v":{"v":0,"d":"0.0"}},{"$f":"'법정동(2013)'!AU6-'법정동(2012)'!AU8","v":{"v":0,"d":"0.0"}},{"$f":"'법정동(2013)'!AV6-'법정동(2012)'!AV8","v":{"v":0,"d":"0.0"}},{"$f":"'법정동(2013)'!AW6-'법정동(2012)'!AW8","v":{"v":0,"d":"0.0"}},{"$f":"'법정동(2013)'!AX6-'법정동(2012)'!AX8","v":{"v":0,"d":"0.0"}},{"$f":"'법정동(2013)'!AY6-'법정동(2012)'!AY8","v":{"v":0,"d":"0.0"}},{"$f":"'법정동(2013)'!AZ6-'법정동(2012)'!AZ8","v":{"v":0,"d":"0.0"}},{"$f":"'법정동(2013)'!BA6-'법정동(2012)'!BA8","v":{"v":0,"d":"0.0"}},{"$f":"'법정동(2013)'!BB6-'법정동(2012)'!BB8","v":{"v":0,"d":"0.0"}},{"$f":"'법정동(2013)'!BC6-'법정동(2012)'!BC8","v":{"v":0,"d":"0.0"}},{"$f":"'법정동(2013)'!BD6-'법정동(2012)'!BD8","v":{"v":0,"d":"0.0"}},{"$f":"'법정동(2013)'!BE6-'법정동(2012)'!BE8","v":{"v":0,"d":"0.0"}},{"$f":"'법정동(2013)'!BF6-'법정동(2012)'!BF8","v":{"v":5,"d":"5.0"}},{"$f":"'법정동(2013)'!BG6-'법정동(2012)'!BG8","v":{"v":2,"d":"2.0"}}]
["수정동",{"$f":"'법정동(2013)'!B7-'법정동(2012)'!B9","v":{"v":-4537.5,"d":"-4,537.5"}},{"$f":"'법정동(2013)'!C7-'법정동(2012)'!C9","v":{"v":-245,"d":"-245.0"}},{"$f":"'법정동(2013)'!D7-'법정동(2012)'!D9","v":{"v":-4968,"d":"-4,968.0"}},{"$f":"'법정동(2013)'!E7-'법정동(2012)'!E9","v":{"v":-27,"d":"-27.0"}},{"$f":"'법정동(2013)'!F7-'법정동(2012)'!F9","v":{"v":0,"d":"0.0"}},{"$f":"'법정동(2013)'!G7-'법정동(2012)'!G9","v":{"v":0,"d":"0.0"}},{"$f":"'법정동(2013)'!H7-'법정동(2012)'!H9","v":{"v":0,"d":"0.0"}},{"$f":"'법정동(2013)'!I7-'법정동(2012)'!I9","v":{"v":0,"d":"0.0"}},{"$f":"'법정동(2013)'!J7-'법정동(2012)'!J9","v":{"v":0,"d":"0.0"}},{"$f":"'법정동(2013)'!K7-'법정동(2012)'!K9","v":{"v":0,"d":"0.0"}},{"$f":"'법정동(2013)'!L7-'법정동(2012)'!L9","v":{"v":-1724,"d":"-1,724.0"}},{"$f":"'법정동(2013)'!M7-'법정동(2012)'!M9","v":{"v":-6,"d":"-6.0"}},{"$f":"'법정동(2013)'!N7-'법정동(2012)'!N9","v":{"v":0,"d":"0.0"}},{"$f":"'법정동(2013)'!O7-'법정동(2012)'!O9","v":{"v":0,"d":"0.0"}},{"$f":"'법정동(2013)'!P7-'법정동(2012)'!P9","v":{"v":0,"d":"0.0"}},{"$f":"'법정동(2013)'!Q7-'법정동(2012)'!Q9","v":{"v":0,"d":"0.0"}},{"$f":"'법정동(2013)'!R7-'법정동(2012)'!R9","v":{"v":-65307.70000000001,"d":"-65,307.7"}},{"$f":"'법정동(2013)'!S7-'법정동(2012)'!S9","v":{"v":-179,"d":"-179.0"}},{"$f":"'법정동(2013)'!T7-'법정동(2012)'!T9","v":{"v":-3705,"d":"-3,705.0"}},{"$f":"'법정동(2013)'!U7-'법정동(2012)'!U9","v":{"v":-4,"d":"-4.0"}},{"$f":"'법정동(2013)'!V7-'법정동(2012)'!V9","v":{"v":0,"d":"0.0"}},{"$f":"'법정동(2013)'!W7-'법정동(2012)'!W9","v":{"v":0,"d":"0.0"}},{"$f":"'법정동(2013)'!X7-'법정동(2012)'!X9","v":{"v":11931.8,"d":"11,931.8"}},{"$f":"'법정동(2013)'!Y7-'법정동(2012)'!Y9","v":{"v":1,"d":"1.0"}},{"$f":"'법정동(2013)'!Z7-'법정동(2012)'!Z9","v":{"v":0,"d":"0.0"}},{"$f":"'법정동(2013)'!AA7-'법정동(2012)'!AA9","v":{"v":0,"d":"0.0"}},{"$f":"'법정동(2013)'!AB7-'법정동(2012)'!AB9","v":{"v":0,"d":"0.0"}},{"$f":"'법정동(2013)'!AC7-'법정동(2012)'!AC9","v":{"v":0,"d":"0.0"}},{"$f":"'법정동(2013)'!AD7-'법정동(2012)'!AD9","v":{"v":47709.899999999994,"d":"47,709.9"}},{"$f":"'법정동(2013)'!AE7-'법정동(2012)'!AE9","v":{"v":14,"d":"14.0"}},{"$f":"'법정동(2013)'!AF7-'법정동(2012)'!AF9","v":{"v":-52725,"d":"-52,725.0"}},{"$f":"'법정동(2013)'!AG7-'법정동(2012)'!AG9","v":{"v":-30,"d":"-30.0"}},{"$f":"'법정동(2013)'!AH7-'법정동(2012)'!AH9","v":{"v":-16390,"d":"-16,390.0"}},{"$f":"'법정동(2013)'!AI7-'법정동(2012)'!AI9","v":{"v":-14,"d":"-14.0"}},{"$f":"'법정동(2013)'!AJ7-'법정동(2012)'!AJ9","v":{"v":0,"d":"0.0"}},{"$f":"'법정동(2013)'!AK7-'법정동(2012)'!AK9","v":{"v":0,"d":"0.0"}},{"$f":"'법정동(2013)'!AL7-'법정동(2012)'!AL9","v":{"v":0,"d":"0.0"}},{"$f":"'법정동(2013)'!AM7-'법정동(2012)'!AM9","v":{"v":0,"d":"0.0"}},{"$f":"'법정동(2013)'!AN7-'법정동(2012)'!AN9","v":{"v":0,"d":"0.0"}},{"$f":"'법정동(2013)'!AO7-'법정동(2012)'!AO9","v":{"v":0,"d":"0.0"}},{"$f":"'법정동(2013)'!AP7-'법정동(2012)'!AP9","v":{"v":0,"d":"0.0"}},{"$f":"'법정동(2013)'!AQ7-'법정동(2012)'!AQ9","v":{"v":0,"d":"0.0"}},{"$f":"'법정동(2013)'!AR7-'법정동(2012)'!AR9","v":{"v":0,"d":"0.0"}},{"$f":"'법정동(2013)'!AS7-'법정동(2012)'!AS9","v":{"v":0,"d":"0.0"}},{"$f":"'법정동(2013)'!AT7-'법정동(2012)'!AT9","v":{"v":65147.8,"d":"65,147.8"}},{"$f":"'법정동(2013)'!AU7-'법정동(2012)'!AU9","v":{"v":4,"d":"4.0"}},{"$f":"'법정동(2013)'!AV7-'법정동(2012)'!AV9","v":{"v":0,"d":"0.0"}},{"$f":"'법정동(2013)'!AW7-'법정동(2012)'!AW9","v":{"v":0,"d":"0.0"}},{"$f":"'법정동(2013)'!AX7-'법정동(2012)'!AX9","v":{"v":0,"d":"0.0"}},{"$f":"'법정동(2013)'!AY7-'법정동(2012)'!AY9","v":{"v":0,"d":"0.0"}},{"$f":"'법정동(2013)'!AZ7-'법정동(2012)'!AZ9","v":{"v":0,"d":"0.0"}},{"$f":"'법정동(2013)'!BA7-'법정동(2012)'!BA9","v":{"v":0,"d":"0.0"}},{"$f":"'법정동(2013)'!BB7-'법정동(2012)'!BB9","v":{"v":0,"d":"0.0"}},{"$f":"'법정동(2013)'!BC7-'법정동(2012)'!BC9","v":{"v":0,"d":"0.0"}},{"$f":"'법정동(2013)'!BD7-'법정동(2012)'!BD9","v":{"v":0,"d":"0.0"}},{"$f":"'법정동(2013)'!BE7-'법정동(2012)'!BE9","v":{"v":0,"d":"0.0"}},{"$f":"'법정동(2013)'!BF7-'법정동(2012)'!BF9","v":{"v":15492.7,"d":"15,492.7"}},{"$f":"'법정동(2013)'!BG7-'법정동(2012)'!BG9","v":{"v":-4,"d":"-4.0"}}]
["공화동",{"$f":"'법정동(2013)'!B8-'법정동(2012)'!B10","v":{"v":3381.2000000000116,"d":"3,381.2"}},{"$f":"'법정동(2013)'!C8-'법정동(2012)'!C10","v":{"v":-77,"d":"-77.0"}},{"$f":"'법정동(2013)'!D8-'법정동(2012)'!D10","v":{"v":-79,"d":"-79.0"}},{"$f":"'법정동(2013)'!E8-'법정동(2012)'!E10","v":{"v":-3,"d":"-3.0"}},{"$f":"'법정동(2013)'!F8-'법정동(2012)'!F10","v":{"v":0,"d":"0.0"}},{"$f":"'법정동(2013)'!G8-'법정동(2012)'!G10","v":{"v":0,"d":"0.0"}},{"$f":"'법정동(2013)'!H8-'법정동(2012)'!H10","v":{"v":0,"d":"0.0"}},{"$f":"'법정동(2013)'!I8-'법정동(2012)'!I10","v":{"v":0,"d":"0.0"}},{"$f":"'법정동(2013)'!J8-'법정동(2012)'!J10","v":{"v":0,"d":"0.0"}},{"$f":"'법정동(2013)'!K8-'법정동(2012)'!K10","v":{"v":0,"d":"0.0"}},{"$f":"'법정동(2013)'!L8-'법정동(2012)'!L10","v":{"v":-1308,"d":"-1,308.0"}},{"$f":"'법정동(2013)'!M8-'법정동(2012)'!M10","v":{"v":-2,"d":"-2.0"}},{"$f":"'법정동(2013)'!N8-'법정동(2012)'!N10","v":{"v":0,"d":"0.0"}},{"$f":"'법정동(2013)'!O8-'법정동(2012)'!O10","v":{"v":0,"d":"0.0"}},{"$f":"'법정동(2013)'!P8-'법정동(2012)'!P10","v":{"v":0,"d":"0.0"}},{"$f":"'법정동(2013)'!Q8-'법정동(2012)'!Q10","v":{"v":0,"d":"0.0"}},{"$f":"'법정동(2013)'!R8-'법정동(2012)'!R10","v":{"v":2601.5,"d":"2,601.5"}},{"$f":"'법정동(2013)'!S8-'법정동(2012)'!S10","v":{"v":-53,"d":"-53.0"}},{"$f":"'법정동(2013)'!T8-'법정동(2012)'!T10","v":{"v":0,"d":"0.0"}},{"$f":"'법정동(2013)'!U8-'법정동(2012)'!U10","v":{"v":0,"d":"0.0"}},{"$f":"'법정동(2013)'!V8-'법정동(2012)'!V10","v":{"v":0,"d":"0.0"}},{"$f":"'법정동(2013)'!W8-'법정동(2012)'!W10","v":{"v":0,"d":"0.0"}},{"$f":"'법정동(2013)'!X8-'법정동(2012)'!X10","v":{"v":67,"d":"67.0"}},{"$f":"'법정동(2013)'!Y8-'법정동(2012)'!Y10","v":{"v":1,"d":"1.0"}},{"$f":"'법정동(2013)'!Z8-'법정동(2012)'!Z10","v":{"v":0,"d":"0.0"}},{"$f":"'법정동(2013)'!AA8-'법정동(2012)'!AA10","v":{"v":0,"d":"0.0"}},{"$f":"'법정동(2013)'!AB8-'법정동(2012)'!AB10","v":{"v":0,"d":"0.0"}},{"$f":"'법정동(2013)'!AC8-'법정동(2012)'!AC10","v":{"v":0,"d":"0.0"}},{"$f":"'법정동(2013)'!AD8-'법정동(2012)'!AD10","v":{"v":26354.399999999994,"d":"26,354.4"}},{"$f":"'법정동(2013)'!AE8-'법정동(2012)'!AE10","v":{"v":10,"d":"10.0"}},{"$f":"'법정동(2013)'!AF8-'법정동(2012)'!AF10","v":{"v":-33363,"d":"-33,363.0"}},{"$f":"'법정동(2013)'!AG8-'법정동(2012)'!AG10","v":{"v":-34,"d":"-34.0"}},{"$f":"'법정동(2013)'!AH8-'법정동(2012)'!AH10","v":{"v":0,"d":"0.0"}},{"$f":"'법정동(2013)'!AI8-'법정동(2012)'!AI10","v":{"v":0,"d":"0.0"}},{"$f":"'법정동(2013)'!AJ8-'법정동(2012)'!AJ10","v":{"v":0,"d":"0.0"}},{"$f":"'법정동(2013)'!AK8-'법정동(2012)'!AK10","v":{"v":0,"d":"0.0"}},{"$f":"'법정동(2013)'!AL8-'법정동(2012)'!AL10","v":{"v":0,"d":"0.0"}},{"$f":"'법정동(2013)'!AM8-'법정동(2012)'!AM10","v":{"v":0,"d":"0.0"}},{"$f":"'법정동(2013)'!AN8-'법정동(2012)'!AN10","v":{"v":0,"d":"0.0"}},{"$f":"'법정동(2013)'!AO8-'법정동(2012)'!AO10","v":{"v":0,"d":"0.0"}},{"$f":"'법정동(2013)'!AP8-'법정동(2012)'!AP10","v":{"v":0,"d":"0.0"}},{"$f":"'법정동(2013)'!AQ8-'법정동(2012)'!AQ10","v":{"v":0,"d":"0.0"}},{"$f":"'법정동(2013)'!AR8-'법정동(2012)'!AR10","v":{"v":0,"d":"0.0"}},{"$f":"'법정동(2013)'!AS8-'법정동(2012)'!AS10","v":{"v":0,"d":"0.0"}},{"$f":"'법정동(2013)'!AT8-'법정동(2012)'!AT10","v":{"v":4034.8,"d":"4,034.8"}},{"$f":"'법정동(2013)'!AU8-'법정동(2012)'!AU10","v":{"v":2,"d":"2.0"}},{"$f":"'법정동(2013)'!AV8-'법정동(2012)'!AV10","v":{"v":0,"d":"0.0"}},{"$f":"'법정동(2013)'!AW8-'법정동(2012)'!AW10","v":{"v":0,"d":"0.0"}},{"$f":"'법정동(2013)'!AX8-'법정동(2012)'!AX10","v":{"v":0,"d":"0.0"}},{"$f":"'법정동(2013)'!AY8-'법정동(2012)'!AY10","v":{"v":0,"d":"0.0"}},{"$f":"'법정동(2013)'!AZ8-'법정동(2012)'!AZ10","v":{"v":0,"d":"0.0"}},{"$f":"'법정동(2013)'!BA8-'법정동(2012)'!BA10","v":{"v":0,"d":"0.0"}},{"$f":"'법정동(2013)'!BB8-'법정동(2012)'!BB10","v":{"v":0,"d":"0.0"}},{"$f":"'법정동(2013)'!BC8-'법정동(2012)'!BC10","v":{"v":0,"d":"0.0"}},{"$f":"'법정동(2013)'!BD8-'법정동(2012)'!BD10","v":{"v":0,"d":"0.0"}},{"$f":"'법정동(2013)'!BE8-'법정동(2012)'!BE10","v":{"v":0,"d":"0.0"}},{"$f":"'법정동(2013)'!BF8-'법정동(2012)'!BF10","v":{"v":5073.5,"d":"5,073.5"}},{"$f":"'법정동(2013)'!BG8-'법정동(2012)'!BG10","v":{"v":2,"d":"2.0"}}]
["관문동",{"$f":"'법정동(2013)'!B9-'법정동(2012)'!B11","v":{"v":0,"d":"0.0"}},{"$f":"'법정동(2013)'!C9-'법정동(2012)'!C11","v":{"v":16,"d":"16.0"}},{"$f":"'법정동(2013)'!D9-'법정동(2012)'!D11","v":{"v":0,"d":"0.0"}},{"$f":"'법정동(2013)'!E9-'법정동(2012)'!E11","v":{"v":1,"d":"1.0"}},{"$f":"'법정동(2013)'!F9-'법정동(2012)'!F11","v":{"v":0,"d":"0.0"}},{"$f":"'법정동(2013)'!G9-'법정동(2012)'!G11","v":{"v":0,"d":"0.0"}},{"$f":"'법정동(2013)'!H9-'법정동(2012)'!H11","v":{"v":0,"d":"0.0"}},{"$f":"'법정동(2013)'!I9-'법정동(2012)'!I11","v":{"v":0,"d":"0.0"}},{"$f":"'법정동(2013)'!J9-'법정동(2012)'!J11","v":{"v":0,"d":"0.0"}},{"$f":"'법정동(2013)'!K9-'법정동(2012)'!K11","v":{"v":0,"d":"0.0"}},{"$f":"'법정동(2013)'!L9-'법정동(2012)'!L11","v":{"v":0,"d":"0.0"}},{"$f":"'법정동(2013)'!M9-'법정동(2012)'!M11","v":{"v":2,"d":"2.0"}},{"$f":"'법정동(2013)'!N9-'법정동(2012)'!N11","v":{"v":0,"d":"0.0"}},{"$f":"'법정동(2013)'!O9-'법정동(2012)'!O11","v":{"v":0,"d":"0.0"}},{"$f":"'법정동(2013)'!P9-'법정동(2012)'!P11","v":{"v":0,"d":"0.0"}},{"$f":"'법정동(2013)'!Q9-'법정동(2012)'!Q11","v":{"v":0,"d":"0.0"}},{"$f":"'법정동(2013)'!R9-'법정동(2012)'!R11","v":{"v":11,"d":"11.0"}},{"$f":"'법정동(2013)'!S9-'법정동(2012)'!S11","v":{"v":11,"d":"11.0"}},{"$f":"'법정동(2013)'!T9-'법정동(2012)'!T11","v":{"v":0,"d":"0.0"}},{"$f":"'법정동(2013)'!U9-'법정동(2012)'!U11","v":{"v":0,"d":"0.0"}},{"$f":"'법정동(2013)'!V9-'법정동(2012)'!V11","v":{"v":0,"d":"0.0"}},{"$f":"'법정동(2013)'!W9-'법정동(2012)'!W11","v":{"v":0,"d":"0.0"}},{"$f":"'법정동(2013)'!X9-'법정동(2012)'!X11","v":{"v":0,"d":"0.0"}},{"$f":"'법정동(2013)'!Y9-'법정동(2012)'!Y11","v":{"v":1,"d":"1.0"}},{"$f":"'법정동(2013)'!Z9-'법정동(2012)'!Z11","v":{"v":0,"d":"0.0"}},{"$f":"'법정동(2013)'!AA9-'법정동(2012)'!AA11","v":{"v":0,"d":"0.0"}},{"$f":"'법정동(2013)'!AB9-'법정동(2012)'!AB11","v":{"v":0,"d":"0.0"}},{"$f":"'법정동(2013)'!AC9-'법정동(2012)'!AC11","v":{"v":0,"d":"0.0"}},{"$f":"'법정동(2013)'!AD9-'법정동(2012)'!AD11","v":{"v":-11,"d":"-11.0"}},{"$f":"'법정동(2013)'!AE9-'법정동(2012)'!AE11","v":{"v":0,"d":"0.0"}},{"$f":"'법정동(2013)'!AF9-'법정동(2012)'!AF11","v":{"v":0,"d":"0.0"}},{"$f":"'법정동(2013)'!AG9-'법정동(2012)'!AG11","v":{"v":0,"d":"0.0"}},{"$f":"'법정동(2013)'!AH9-'법정동(2012)'!AH11","v":{"v":0,"d":"0.0"}},{"$f":"'법정동(2013)'!AI9-'법정동(2012)'!AI11","v":{"v":0,"d":"0.0"}},{"$f":"'법정동(2013)'!AJ9-'법정동(2012)'!AJ11","v":{"v":0,"d":"0.0"}},{"$f":"'법정동(2013)'!AK9-'법정동(2012)'!AK11","v":{"v":0,"d":"0.0"}},{"$f":"'법정동(2013)'!AL9-'법정동(2012)'!AL11","v":{"v":0,"d":"0.0"}},{"$f":"'법정동(2013)'!AM9-'법정동(2012)'!AM11","v":{"v":1,"d":"1.0"}},{"$f":"'법정동(2013)'!AN9-'법정동(2012)'!AN11","v":{"v":0,"d":"0.0"}},{"$f":"'법정동(2013)'!AO9-'법정동(2012)'!AO11","v":{"v":0,"d":"0.0"}},{"$f":"'법정동(2013)'!AP9-'법정동(2012)'!AP11","v":{"v":0,"d":"0.0"}},{"$f":"'법정동(2013)'!AQ9-'법정동(2012)'!AQ11","v":{"v":0,"d":"0.0"}},{"$f":"'법정동(2013)'!AR9-'법정동(2012)'!AR11","v":{"v":0,"d":"0.0"}},{"$f":"'법정동(2013)'!AS9-'법정동(2012)'!AS11","v":{"v":0,"d":"0.0"}},{"$f":"'법정동(2013)'!AT9-'법정동(2012)'!AT11","v":{"v":0,"d":"0.0"}},{"$f":"'법정동(2013)'!AU9-'법정동(2012)'!AU11","v":{"v":0,"d":"0.0"}},{"$f":"'법정동(2013)'!AV9-'법정동(2012)'!AV11","v":{"v":0,"d":"0.0"}},{"$f":"'법정동(2013)'!AW9-'법정동(2012)'!AW11","v":{"v":0,"d":"0.0"}},{"$f":"'법정동(2013)'!AX9-'법정동(2012)'!AX11","v":{"v":0,"d":"0.0"}},{"$f":"'법정동(2013)'!AY9-'법정동(2012)'!AY11","v":{"v":0,"d":"0.0"}},{"$f":"'법정동(2013)'!AZ9-'법정동(2012)'!AZ11","v":{"v":0,"d":"0.0"}},{"$f":"'법정동(2013)'!BA9-'법정동(2012)'!BA11","v":{"v":0,"d":"0.0"}},{"$f":"'법정동(2013)'!BB9-'법정동(2012)'!BB11","v":{"v":0,"d":"0.0"}},{"$f":"'법정동(2013)'!BC9-'법정동(2012)'!BC11","v":{"v":0,"d":"0.0"}},{"$f":"'법정동(2013)'!BD9-'법정동(2012)'!BD11","v":{"v":0,"d":"0.0"}},{"$f":"'법정동(2013)'!BE9-'법정동(2012)'!BE11","v":{"v":0,"d":"0.0"}},{"$f":"'법정동(2013)'!BF9-'법정동(2012)'!BF11","v":{"v":0,"d":"0.0"}},{"$f":"'법정동(2013)'!BG9-'법정동(2012)'!BG11","v":{"v":0,"d":"0.0"}}]
["고소동",{"$f":"'법정동(2013)'!B10-'법정동(2012)'!B12","v":{"v":0,"d":"0.0"}},{"$f":"'법정동(2013)'!C10-'법정동(2012)'!C12","v":{"v":3,"d":"3.0"}},{"$f":"'법정동(2013)'!D10-'법정동(2012)'!D12","v":{"v":0,"d":"0.0"}},{"$f":"'법정동(2013)'!E10-'법정동(2012)'!E12","v":{"v":0,"d":"0.0"}},{"$f":"'법정동(2013)'!F10-'법정동(2012)'!F12","v":{"v":0,"d":"0.0"}},{"$f":"'법정동(2013)'!G10-'법정동(2012)'!G12","v":{"v":0,"d":"0.0"}},{"$f":"'법정동(2013)'!H10-'법정동(2012)'!H12","v":{"v":0,"d":"0.0"}},{"$f":"'법정동(2013)'!I10-'법정동(2012)'!I12","v":{"v":0,"d":"0.0"}},{"$f":"'법정동(2013)'!J10-'법정동(2012)'!J12","v":{"v":0,"d":"0.0"}},{"$f":"'법정동(2013)'!K10-'법정동(2012)'!K12","v":{"v":0,"d":"0.0"}},{"$f":"'법정동(2013)'!L10-'법정동(2012)'!L12","v":{"v":-417,"d":"-417.0"}},{"$f":"'법정동(2013)'!M10-'법정동(2012)'!M12","v":{"v":-1,"d":"-1.0"}},{"$f":"'법정동(2013)'!N10-'법정동(2012)'!N12","v":{"v":0,"d":"0.0"}},{"$f":"'법정동(2013)'!O10-'법정동(2012)'!O12","v":{"v":0,"d":"0.0"}},{"$f":"'법정동(2013)'!P10-'법정동(2012)'!P12","v":{"v":0,"d":"0.0"}},{"$f":"'법정동(2013)'!Q10-'법정동(2012)'!Q12","v":{"v":0,"d":"0.0"}},{"$f":"'법정동(2013)'!R10-'법정동(2012)'!R12","v":{"v":321,"d":"321.0"}},{"$f":"'법정동(2013)'!S10-'법정동(2012)'!S12","v":{"v":3,"d":"3.0"}},{"$f":"'법정동(2013)'!T10-'법정동(2012)'!T12","v":{"v":0,"d":"0.0"}},{"$f":"'법정동(2013)'!U10-'법정동(2012)'!U12","v":{"v":0,"d":"0.0"}},{"$f":"'법정동(2013)'!V10-'법정동(2012)'!V12","v":{"v":0,"d":"0.0"}},{"$f":"'법정동(2013)'!W10-'법정동(2012)'!W12","v":{"v":0,"d":"0.0"}},{"$f":"'법정동(2013)'!X10-'법정동(2012)'!X12","v":{"v":0,"d":"0.0"}},{"$f":"'법정동(2013)'!Y10-'법정동(2012)'!Y12","v":{"v":0,"d":"0.0"}},{"$f":"'법정동(2013)'!Z10-'법정동(2012)'!Z12","v":{"v":0,"d":"0.0"}},{"$f":"'법정동(2013)'!AA10-'법정동(2012)'!AA12","v":{"v":0,"d":"0.0"}},{"$f":"'법정동(2013)'!AB10-'법정동(2012)'!AB12","v":{"v":0,"d":"0.0"}},{"$f":"'법정동(2013)'!AC10-'법정동(2012)'!AC12","v":{"v":0,"d":"0.0"}},{"$f":"'법정동(2013)'!AD10-'법정동(2012)'!AD12","v":{"v":96,"d":"96.0"}},{"$f":"'법정동(2013)'!AE10-'법정동(2012)'!AE12","v":{"v":1,"d":"1.0"}},{"$f":"'법정동(2013)'!AF10-'법정동(2012)'!AF12","v":{"v":0,"d":"0.0"}},{"$f":"'법정동(2013)'!AG10-'법정동(2012)'!AG12","v":{"v":0,"d":"0.0"}},{"$f":"'법정동(2013)'!AH10-'법정동(2012)'!AH12","v":{"v":0,"d":"0.0"}},{"$f":"'법정동(2013)'!AI10-'법정동(2012)'!AI12","v":{"v":0,"d":"0.0"}},{"$f":"'법정동(2013)'!AJ10-'법정동(2012)'!AJ12","v":{"v":0,"d":"0.0"}},{"$f":"'법정동(2013)'!AK10-'법정동(2012)'!AK12","v":{"v":0,"d":"0.0"}},{"$f":"'법정동(2013)'!AL10-'법정동(2012)'!AL12","v":{"v":0,"d":"0.0"}},{"$f":"'법정동(2013)'!AM10-'법정동(2012)'!AM12","v":{"v":0,"d":"0.0"}},{"$f":"'법정동(2013)'!AN10-'법정동(2012)'!AN12","v":{"v":0,"d":"0.0"}},{"$f":"'법정동(2013)'!AO10-'법정동(2012)'!AO12","v":{"v":0,"d":"0.0"}},{"$f":"'법정동(2013)'!AP10-'법정동(2012)'!AP12","v":{"v":0,"d":"0.0"}},{"$f":"'법정동(2013)'!AQ10-'법정동(2012)'!AQ12","v":{"v":0,"d":"0.0"}},{"$f":"'법정동(2013)'!AR10-'법정동(2012)'!AR12","v":{"v":0,"d":"0.0"}},{"$f":"'법정동(2013)'!AS10-'법정동(2012)'!AS12","v":{"v":0,"d":"0.0"}},{"$f":"'법정동(2013)'!AT10-'법정동(2012)'!AT12","v":{"v":0,"d":"0.0"}},{"$f":"'법정동(2013)'!AU10-'법정동(2012)'!AU12","v":{"v":0,"d":"0.0"}},{"$f":"'법정동(2013)'!AV10-'법정동(2012)'!AV12","v":{"v":0,"d":"0.0"}},{"$f":"'법정동(2013)'!AW10-'법정동(2012)'!AW12","v":{"v":0,"d":"0.0"}},{"$f":"'법정동(2013)'!AX10-'법정동(2012)'!AX12","v":{"v":0,"d":"0.0"}},{"$f":"'법정동(2013)'!AY10-'법정동(2012)'!AY12","v":{"v":0,"d":"0.0"}},{"$f":"'법정동(2013)'!AZ10-'법정동(2012)'!AZ12","v":{"v":0,"d":"0.0"}},{"$f":"'법정동(2013)'!BA10-'법정동(2012)'!BA12","v":{"v":0,"d":"0.0"}},{"$f":"'법정동(2013)'!BB10-'법정동(2012)'!BB12","v":{"v":0,"d":"0.0"}},{"$f":"'법정동(2013)'!BC10-'법정동(2012)'!BC12","v":{"v":0,"d":"0.0"}},{"$f":"'법정동(2013)'!BD10-'법정동(2012)'!BD12","v":{"v":0,"d":"0.0"}},{"$f":"'법정동(2013)'!BE10-'법정동(2012)'!BE12","v":{"v":0,"d":"0.0"}},{"$f":"'법정동(2013)'!BF10-'법정동(2012)'!BF12","v":{"v":0,"d":"0.0"}},{"$f":"'법정동(2013)'!BG10-'법정동(2012)'!BG12","v":{"v":0,"d":"0.0"}}]
["동산동",{"$f":"'법정동(2013)'!B11-'법정동(2012)'!B13","v":{"v":0,"d":"0.0"}},{"$f":"'법정동(2013)'!C11-'법정동(2012)'!C13","v":{"v":11,"d":"11.0"}},{"$f":"'법정동(2013)'!D11-'법정동(2012)'!D13","v":{"v":0,"d":"0.0"}},{"$f":"'법정동(2013)'!E11-'법정동(2012)'!E13","v":{"v":0,"d":"0.0"}},{"$f":"'법정동(2013)'!F11-'법정동(2012)'!F13","v":{"v":0,"d":"0.0"}},{"$f":"'법정동(2013)'!G11-'법정동(2012)'!G13","v":{"v":0,"d":"0.0"}},{"$f":"'법정동(2013)'!H11-'법정동(2012)'!H13","v":{"v":0,"d":"0.0"}},{"$f":"'법정동(2013)'!I11-'법정동(2012)'!I13","v":{"v":0,"d":"0.0"}},{"$f":"'법정동(2013)'!J11-'법정동(2012)'!J13","v":{"v":0,"d":"0.0"}},{"$f":"'법정동(2013)'!K11-'법정동(2012)'!K13","v":{"v":0,"d":"0.0"}},{"$f":"'법정동(2013)'!L11-'법정동(2012)'!L13","v":{"v":-376,"d":"-376.0"}},{"$f":"'법정동(2013)'!M11-'법정동(2012)'!M13","v":{"v":2,"d":"2.0"}},{"$f":"'법정동(2013)'!N11-'법정동(2012)'!N13","v":{"v":0,"d":"0.0"}},{"$f":"'법정동(2013)'!O11-'법정동(2012)'!O13","v":{"v":0,"d":"0.0"}},{"$f":"'법정동(2013)'!P11-'법정동(2012)'!P13","v":{"v":0,"d":"0.0"}},{"$f":"'법정동(2013)'!Q11-'법정동(2012)'!Q13","v":{"v":0,"d":"0.0"}},{"$f":"'법정동(2013)'!R11-'법정동(2012)'!R13","v":{"v":192,"d":"192.0"}},{"$f":"'법정동(2013)'!S11-'법정동(2012)'!S13","v":{"v":4,"d":"4.0"}},{"$f":"'법정동(2013)'!T11-'법정동(2012)'!T13","v":{"v":0,"d":"0.0"}},{"$f":"'법정동(2013)'!U11-'법정동(2012)'!U13","v":{"v":0,"d":"0.0"}},{"$f":"'법정동(2013)'!V11-'법정동(2012)'!V13","v":{"v":0,"d":"0.0"}},{"$f":"'법정동(2013)'!W11-'법정동(2012)'!W13","v":{"v":0,"d":"0.0"}},{"$f":"'법정동(2013)'!X11-'법정동(2012)'!X13","v":{"v":0,"d":"0.0"}},{"$f":"'법정동(2013)'!Y11-'법정동(2012)'!Y13","v":{"v":0,"d":"0.0"}},{"$f":"'법정동(2013)'!Z11-'법정동(2012)'!Z13","v":{"v":0,"d":"0.0"}},{"$f":"'법정동(2013)'!AA11-'법정동(2012)'!AA13","v":{"v":0,"d":"0.0"}},{"$f":"'법정동(2013)'!AB11-'법정동(2012)'!AB13","v":{"v":0,"d":"0.0"}},{"$f":"'법정동(2013)'!AC11-'법정동(2012)'!AC13","v":{"v":0,"d":"0.0"}},{"$f":"'법정동(2013)'!AD11-'법정동(2012)'!AD13","v":{"v":151,"d":"151.0"}},{"$f":"'법정동(2013)'!AE11-'법정동(2012)'!AE13","v":{"v":4,"d":"4.0"}},{"$f":"'법정동(2013)'!AF11-'법정동(2012)'!AF13","v":{"v":0,"d":"0.0"}},{"$f":"'법정동(2013)'!AG11-'법정동(2012)'!AG13","v":{"v":0,"d":"0.0"}},{"$f":"'법정동(2013)'!AH11-'법정동(2012)'!AH13","v":{"v":0,"d":"0.0"}},{"$f":"'법정동(2013)'!AI11-'법정동(2012)'!AI13","v":{"v":0,"d":"0.0"}},{"$f":"'법정동(2013)'!AJ11-'법정동(2012)'!AJ13","v":{"v":0,"d":"0.0"}},{"$f":"'법정동(2013)'!AK11-'법정동(2012)'!AK13","v":{"v":0,"d":"0.0"}},{"$f":"'법정동(2013)'!AL11-'법정동(2012)'!AL13","v":{"v":33,"d":"33.0"}},{"$f":"'법정동(2013)'!AM11-'법정동(2012)'!AM13","v":{"v":1,"d":"1.0"}},{"$f":"'법정동(2013)'!AN11-'법정동(2012)'!AN13","v":{"v":0,"d":"0.0"}},{"$f":"'법정동(2013)'!AO11-'법정동(2012)'!AO13","v":{"v":0,"d":"0.0"}},{"$f":"'법정동(2013)'!AP11-'법정동(2012)'!AP13","v":{"v":0,"d":"0.0"}},{"$f":"'법정동(2013)'!AQ11-'법정동(2012)'!AQ13","v":{"v":0,"d":"0.0"}},{"$f":"'법정동(2013)'!AR11-'법정동(2012)'!AR13","v":{"v":0,"d":"0.0"}},{"$f":"'법정동(2013)'!AS11-'법정동(2012)'!AS13","v":{"v":0,"d":"0.0"}},{"$f":"'법정동(2013)'!AT11-'법정동(2012)'!AT13","v":{"v":0,"d":"0.0"}},{"$f":"'법정동(2013)'!AU11-'법정동(2012)'!AU13","v":{"v":0,"d":"0.0"}},{"$f":"'법정동(2013)'!AV11-'법정동(2012)'!AV13","v":{"v":0,"d":"0.0"}},{"$f":"'법정동(2013)'!AW11-'법정동(2012)'!AW13","v":{"v":0,"d":"0.0"}},{"$f":"'법정동(2013)'!AX11-'법정동(2012)'!AX13","v":{"v":0,"d":"0.0"}},{"$f":"'법정동(2013)'!AY11-'법정동(2012)'!AY13","v":{"v":0,"d":"0.0"}},{"$f":"'법정동(2013)'!AZ11-'법정동(2012)'!AZ13","v":{"v":0,"d":"0.0"}},{"$f":"'법정동(2013)'!BA11-'법정동(2012)'!BA13","v":{"v":0,"d":"0.0"}},{"$f":"'법정동(2013)'!BB11-'법정동(2012)'!BB13","v":{"v":0,"d":"0.0"}},{"$f":"'법정동(2013)'!BC11-'법정동(2012)'!BC13","v":{"v":0,"d":"0.0"}},{"$f":"'법정동(2013)'!BD11-'법정동(2012)'!BD13","v":{"v":0,"d":"0.0"}},{"$f":"'법정동(2013)'!BE11-'법정동(2012)'!BE13","v":{"v":0,"d":"0.0"}},{"$f":"'법정동(2013)'!BF11-'법정동(2012)'!BF13","v":{"v":0,"d":"0.0"}},{"$f":"'법정동(2013)'!BG11-'법정동(2012)'!BG13","v":{"v":0,"d":"0.0"}}]
["중앙동",{"$f":"'법정동(2013)'!B12-'법정동(2012)'!B14","v":{"v":0,"d":"0.0"}},{"$f":"'법정동(2013)'!C12-'법정동(2012)'!C14","v":{"v":-1,"d":"-1.0"}},{"$f":"'법정동(2013)'!D12-'법정동(2012)'!D14","v":{"v":0,"d":"0.0"}},{"$f":"'법정동(2013)'!E12-'법정동(2012)'!E14","v":{"v":0,"d":"0.0"}},{"$f":"'법정동(2013)'!F12-'법정동(2012)'!F14","v":{"v":0,"d":"0.0"}},{"$f":"'법정동(2013)'!G12-'법정동(2012)'!G14","v":{"v":0,"d":"0.0"}},{"$f":"'법정동(2013)'!H12-'법정동(2012)'!H14","v":{"v":0,"d":"0.0"}},{"$f":"'법정동(2013)'!I12-'법정동(2012)'!I14","v":{"v":0,"d":"0.0"}},{"$f":"'법정동(2013)'!J12-'법정동(2012)'!J14","v":{"v":0,"d":"0.0"}},{"$f":"'법정동(2013)'!K12-'법정동(2012)'!K14","v":{"v":0,"d":"0.0"}},{"$f":"'법정동(2013)'!L12-'법정동(2012)'!L14","v":{"v":0,"d":"0.0"}},{"$f":"'법정동(2013)'!M12-'법정동(2012)'!M14","v":{"v":0,"d":"0.0"}},{"$f":"'법정동(2013)'!N12-'법정동(2012)'!N14","v":{"v":0,"d":"0.0"}},{"$f":"'법정동(2013)'!O12-'법정동(2012)'!O14","v":{"v":0,"d":"0.0"}},{"$f":"'법정동(2013)'!P12-'법정동(2012)'!P14","v":{"v":0,"d":"0.0"}},{"$f":"'법정동(2013)'!Q12-'법정동(2012)'!Q14","v":{"v":0,"d":"0.0"}},{"$f":"'법정동(2013)'!R12-'법정동(2012)'!R14","v":{"v":0,"d":"0.0"}},{"$f":"'법정동(2013)'!S12-'법정동(2012)'!S14","v":{"v":-1,"d":"-1.0"}},{"$f":"'법정동(2013)'!T12-'법정동(2012)'!T14","v":{"v":0,"d":"0.0"}},{"$f":"'법정동(2013)'!U12-'법정동(2012)'!U14","v":{"v":0,"d":"0.0"}},{"$f":"'법정동(2013)'!V12-'법정동(2012)'!V14","v":{"v":0,"d":"0.0"}},{"$f":"'법정동(2013)'!W12-'법정동(2012)'!W14","v":{"v":0,"d":"0.0"}},{"$f":"'법정동(2013)'!X12-'법정동(2012)'!X14","v":{"v":0,"d":"0.0"}},{"$f":"'법정동(2013)'!Y12-'법정동(2012)'!Y14","v":{"v":0,"d":"0.0"}},{"$f":"'법정동(2013)'!Z12-'법정동(2012)'!Z14","v":{"v":0,"d":"0.0"}},{"$f":"'법정동(2013)'!AA12-'법정동(2012)'!AA14","v":{"v":0,"d":"0.0"}},{"$f":"'법정동(2013)'!AB12-'법정동(2012)'!AB14","v":{"v":0,"d":"0.0"}},{"$f":"'법정동(2013)'!AC12-'법정동(2012)'!AC14","v":{"v":0,"d":"0.0"}},{"$f":"'법정동(2013)'!AD12-'법정동(2012)'!AD14","v":{"v":0,"d":"0.0"}},{"$f":"'법정동(2013)'!AE12-'법정동(2012)'!AE14","v":{"v":0,"d":"0.0"}},{"$f":"'법정동(2013)'!AF12-'법정동(2012)'!AF14","v":{"v":0,"d":"0.0"}},{"$f":"'법정동(2013)'!AG12-'법정동(2012)'!AG14","v":{"v":0,"d":"0.0"}},{"$f":"'법정동(2013)'!AH12-'법정동(2012)'!AH14","v":{"v":0,"d":"0.0"}},{"$f":"'법정동(2013)'!AI12-'법정동(2012)'!AI14","v":{"v":0,"d":"0.0"}},{"$f":"'법정동(2013)'!AJ12-'법정동(2012)'!AJ14","v":{"v":0,"d":"0.0"}},{"$f":"'법정동(2013)'!AK12-'법정동(2012)'!AK14","v":{"v":0,"d":"0.0"}},{"$f":"'법정동(2013)'!AL12-'법정동(2012)'!AL14","v":{"v":0,"d":"0.0"}},{"$f":"'법정동(2013)'!AM12-'법정동(2012)'!AM14","v":{"v":0,"d":"0.0"}},{"$f":"'법정동(2013)'!AN12-'법정동(2012)'!AN14","v":{"v":0,"d":"0.0"}},{"$f":"'법정동(2013)'!AO12-'법정동(2012)'!AO14","v":{"v":0,"d":"0.0"}},{"$f":"'법정동(2013)'!AP12-'법정동(2012)'!AP14","v":{"v":0,"d":"0.0"}},{"$f":"'법정동(2013)'!AQ12-'법정동(2012)'!AQ14","v":{"v":0,"d":"0.0"}},{"$f":"'법정동(2013)'!AR12-'법정동(2012)'!AR14","v":{"v":0,"d":"0.0"}},{"$f":"'법정동(2013)'!AS12-'법정동(2012)'!AS14","v":{"v":0,"d":"0.0"}},{"$f":"'법정동(2013)'!AT12-'법정동(2012)'!AT14","v":{"v":0,"d":"0.0"}},{"$f":"'법정동(2013)'!AU12-'법정동(2012)'!AU14","v":{"v":0,"d":"0.0"}},{"$f":"'법정동(2013)'!AV12-'법정동(2012)'!AV14","v":{"v":0,"d":"0.0"}},{"$f":"'법정동(2013)'!AW12-'법정동(2012)'!AW14","v":{"v":0,"d":"0.0"}},{"$f":"'법정동(2013)'!AX12-'법정동(2012)'!AX14","v":{"v":0,"d":"0.0"}},{"$f":"'법정동(2013)'!AY12-'법정동(2012)'!AY14","v":{"v":0,"d":"0.0"}},{"$f":"'법정동(2013)'!AZ12-'법정동(2012)'!AZ14","v":{"v":0,"d":"0.0"}},{"$f":"'법정동(2013)'!BA12-'법정동(2012)'!BA14","v":{"v":0,"d":"0.0"}},{"$f":"'법정동(2013)'!BB12-'법정동(2012)'!BB14","v":{"v":0,"d":"0.0"}},{"$f":"'법정동(2013)'!BC12-'법정동(2012)'!BC14","v":{"v":0,"d":"0.0"}},{"$f":"'법정동(2013)'!BD12-'법정동(2012)'!BD14","v":{"v":0,"d":"0.0"}},{"$f":"'법정동(2013)'!BE12-'법정동(2012)'!BE14","v":{"v":0,"d":"0.0"}},{"$f":"'법정동(2013)'!BF12-'법정동(2012)'!BF14","v":{"v":0,"d":"0.0"}},{"$f":"'법정동(2013)'!BG12-'법정동(2012)'!BG14","v":{"v":0,"d":"0.0"}}]
["교동",{"$f":"'법정동(2013)'!B13-'법정동(2012)'!B15","v":{"v":0,"d":"0.0"}},{"$f":"'법정동(2013)'!C13-'법정동(2012)'!C15","v":{"v":-1,"d":"-1.0"}},{"$f":"'법정동(2013)'!D13-'법정동(2012)'!D15","v":{"v":0,"d":"0.0"}},{"$f":"'법정동(2013)'!E13-'법정동(2012)'!E15","v":{"v":0,"d":"0.0"}},{"$f":"'법정동(2013)'!F13-'법정동(2012)'!F15","v":{"v":0,"d":"0.0"}},{"$f":"'법정동(2013)'!G13-'법정동(2012)'!G15","v":{"v":0,"d":"0.0"}},{"$f":"'법정동(2013)'!H13-'법정동(2012)'!H15","v":{"v":0,"d":"0.0"}},{"$f":"'법정동(2013)'!I13-'법정동(2012)'!I15","v":{"v":0,"d":"0.0"}},{"$f":"'법정동(2013)'!J13-'법정동(2012)'!J15","v":{"v":0,"d":"0.0"}},{"$f":"'법정동(2013)'!K13-'법정동(2012)'!K15","v":{"v":0,"d":"0.0"}},{"$f":"'법정동(2013)'!L13-'법정동(2012)'!L15","v":{"v":0,"d":"0.0"}},{"$f":"'법정동(2013)'!M13-'법정동(2012)'!M15","v":{"v":0,"d":"0.0"}},{"$f":"'법정동(2013)'!N13-'법정동(2012)'!N15","v":{"v":0,"d":"0.0"}},{"$f":"'법정동(2013)'!O13-'법정동(2012)'!O15","v":{"v":0,"d":"0.0"}},{"$f":"'법정동(2013)'!P13-'법정동(2012)'!P15","v":{"v":0,"d":"0.0"}},{"$f":"'법정동(2013)'!Q13-'법정동(2012)'!Q15","v":{"v":0,"d":"0.0"}},{"$f":"'법정동(2013)'!R13-'법정동(2012)'!R15","v":{"v":0,"d":"0.0"}},{"$f":"'법정동(2013)'!S13-'법정동(2012)'!S15","v":{"v":-1,"d":"-1.0"}},{"$f":"'법정동(2013)'!T13-'법정동(2012)'!T15","v":{"v":0,"d":"0.0"}},{"$f":"'법정동(2013)'!U13-'법정동(2012)'!U15","v":{"v":0,"d":"0.0"}},{"$f":"'법정동(2013)'!V13-'법정동(2012)'!V15","v":{"v":0,"d":"0.0"}},{"$f":"'법정동(2013)'!W13-'법정동(2012)'!W15","v":{"v":0,"d":"0.0"}},{"$f":"'법정동(2013)'!X13-'법정동(2012)'!X15","v":{"v":0,"d":"0.0"}},{"$f":"'법정동(2013)'!Y13-'법정동(2012)'!Y15","v":{"v":0,"d":"0.0"}},{"$f":"'법정동(2013)'!Z13-'법정동(2012)'!Z15","v":{"v":0,"d":"0.0"}},{"$f":"'법정동(2013)'!AA13-'법정동(2012)'!AA15","v":{"v":0,"d":"0.0"}},{"$f":"'법정동(2013)'!AB13-'법정동(2012)'!AB15","v":{"v":0,"d":"0.0"}},{"$f":"'법정동(2013)'!AC13-'법정동(2012)'!AC15","v":{"v":0,"d":"0.0"}},{"$f":"'법정동(2013)'!AD13-'법정동(2012)'!AD15","v":{"v":0,"d":"0.0"}},{"$f":"'법정동(2013)'!AE13-'법정동(2012)'!AE15","v":{"v":0,"d":"0.0"}},{"$f":"'법정동(2013)'!AF13-'법정동(2012)'!AF15","v":{"v":0,"d":"0.0"}},{"$f":"'법정동(2013)'!AG13-'법정동(2012)'!AG15","v":{"v":0,"d":"0.0"}},{"$f":"'법정동(2013)'!AH13-'법정동(2012)'!AH15","v":{"v":0,"d":"0.0"}},{"$f":"'법정동(2013)'!AI13-'법정동(2012)'!AI15","v":{"v":0,"d":"0.0"}},{"$f":"'법정동(2013)'!AJ13-'법정동(2012)'!AJ15","v":{"v":0,"d":"0.0"}},{"$f":"'법정동(2013)'!AK13-'법정동(2012)'!AK15","v":{"v":0,"d":"0.0"}},{"$f":"'법정동(2013)'!AL13-'법정동(2012)'!AL15","v":{"v":0,"d":"0.0"}},{"$f":"'법정동(2013)'!AM13-'법정동(2012)'!AM15","v":{"v":0,"d":"0.0"}},{"$f":"'법정동(2013)'!AN13-'법정동(2012)'!AN15","v":{"v":0,"d":"0.0"}},{"$f":"'법정동(2013)'!AO13-'법정동(2012)'!AO15","v":{"v":0,"d":"0.0"}},{"$f":"'법정동(2013)'!AP13-'법정동(2012)'!AP15","v":{"v":0,"d":"0.0"}},{"$f":"'법정동(2013)'!AQ13-'법정동(2012)'!AQ15","v":{"v":0,"d":"0.0"}},{"$f":"'법정동(2013)'!AR13-'법정동(2012)'!AR15","v":{"v":0,"d":"0.0"}},{"$f":"'법정동(2013)'!AS13-'법정동(2012)'!AS15","v":{"v":0,"d":"0.0"}},{"$f":"'법정동(2013)'!AT13-'법정동(2012)'!AT15","v":{"v":0,"d":"0.0"}},{"$f":"'법정동(2013)'!AU13-'법정동(2012)'!AU15","v":{"v":0,"d":"0.0"}},{"$f":"'법정동(2013)'!AV13-'법정동(2012)'!AV15","v":{"v":0,"d":"0.0"}},{"$f":"'법정동(2013)'!AW13-'법정동(2012)'!AW15","v":{"v":0,"d":"0.0"}},{"$f":"'법정동(2013)'!AX13-'법정동(2012)'!AX15","v":{"v":0,"d":"0.0"}},{"$f":"'법정동(2013)'!AY13-'법정동(2012)'!AY15","v":{"v":0,"d":"0.0"}},{"$f":"'법정동(2013)'!AZ13-'법정동(2012)'!AZ15","v":{"v":0,"d":"0.0"}},{"$f":"'법정동(2013)'!BA13-'법정동(2012)'!BA15","v":{"v":0,"d":"0.0"}},{"$f":"'법정동(2013)'!BB13-'법정동(2012)'!BB15","v":{"v":0,"d":"0.0"}},{"$f":"'법정동(2013)'!BC13-'법정동(2012)'!BC15","v":{"v":0,"d":"0.0"}},{"$f":"'법정동(2013)'!BD13-'법정동(2012)'!BD15","v":{"v":0,"d":"0.0"}},{"$f":"'법정동(2013)'!BE13-'법정동(2012)'!BE15","v":{"v":0,"d":"0.0"}},{"$f":"'법정동(2013)'!BF13-'법정동(2012)'!BF15","v":{"v":0,"d":"0.0"}},{"$f":"'법정동(2013)'!BG13-'법정동(2012)'!BG15","v":{"v":0,"d":"0.0"}}]
["군자동",{"$f":"'법정동(2013)'!B14-'법정동(2012)'!B16","v":{"v":0,"d":"0.0"}},{"$f":"'법정동(2013)'!C14-'법정동(2012)'!C16","v":{"v":3,"d":"3.0"}},{"$f":"'법정동(2013)'!D14-'법정동(2012)'!D16","v":{"v":0,"d":"0.0"}},{"$f":"'법정동(2013)'!E14-'법정동(2012)'!E16","v":{"v":3,"d":"3.0"}},{"$f":"'법정동(2013)'!F14-'법정동(2012)'!F16","v":{"v":0,"d":"0.0"}},{"$f":"'법정동(2013)'!G14-'법정동(2012)'!G16","v":{"v":0,"d":"0.0"}},{"$f":"'법정동(2013)'!H14-'법정동(2012)'!H16","v":{"v":0,"d":"0.0"}},{"$f":"'법정동(2013)'!I14-'법정동(2012)'!I16","v":{"v":0,"d":"0.0"}},{"$f":"'법정동(2013)'!J14-'법정동(2012)'!J16","v":{"v":0,"d":"0.0"}},{"$f":"'법정동(2013)'!K14-'법정동(2012)'!K16","v":{"v":0,"d":"0.0"}},{"$f":"'법정동(2013)'!L14-'법정동(2012)'!L16","v":{"v":0,"d":"0.0"}},{"$f":"'법정동(2013)'!M14-'법정동(2012)'!M16","v":{"v":0,"d":"0.0"}},{"$f":"'법정동(2013)'!N14-'법정동(2012)'!N16","v":{"v":0,"d":"0.0"}},{"$f":"'법정동(2013)'!O14-'법정동(2012)'!O16","v":{"v":0,"d":"0.0"}},{"$f":"'법정동(2013)'!P14-'법정동(2012)'!P16","v":{"v":0,"d":"0.0"}},{"$f":"'법정동(2013)'!Q14-'법정동(2012)'!Q16","v":{"v":0,"d":"0.0"}},{"$f":"'법정동(2013)'!R14-'법정동(2012)'!R16","v":{"v":0,"d":"0.0"}},{"$f":"'법정동(2013)'!S14-'법정동(2012)'!S16","v":{"v":0,"d":"0.0"}},{"$f":"'법정동(2013)'!T14-'법정동(2012)'!T16","v":{"v":0,"d":"0.0"}},{"$f":"'법정동(2013)'!U14-'법정동(2012)'!U16","v":{"v":0,"d":"0.0"}},{"$f":"'법정동(2013)'!V14-'법정동(2012)'!V16","v":{"v":0,"d":"0.0"}},{"$f":"'법정동(2013)'!W14-'법정동(2012)'!W16","v":{"v":0,"d":"0.0"}},{"$f":"'법정동(2013)'!X14-'법정동(2012)'!X16","v":{"v":0,"d":"0.0"}},{"$f":"'법정동(2013)'!Y14-'법정동(2012)'!Y16","v":{"v":0,"d":"0.0"}},{"$f":"'법정동(2013)'!Z14-'법정동(2012)'!Z16","v":{"v":0,"d":"0.0"}},{"$f":"'법정동(2013)'!AA14-'법정동(2012)'!AA16","v":{"v":0,"d":"0.0"}},{"$f":"'법정동(2013)'!AB14-'법정동(2012)'!AB16","v":{"v":0,"d":"0.0"}},{"$f":"'법정동(2013)'!AC14-'법정동(2012)'!AC16","v":{"v":0,"d":"0.0"}},{"$f":"'법정동(2013)'!AD14-'법정동(2012)'!AD16","v":{"v":0,"d":"0.0"}},{"$f":"'법정동(2013)'!AE14-'법정동(2012)'!AE16","v":{"v":0,"d":"0.0"}},{"$f":"'법정동(2013)'!AF14-'법정동(2012)'!AF16","v":{"v":0,"d":"0.0"}},{"$f":"'법정동(2013)'!AG14-'법정동(2012)'!AG16","v":{"v":0,"d":"0.0"}},{"$f":"'법정동(2013)'!AH14-'법정동(2012)'!AH16","v":{"v":0,"d":"0.0"}},{"$f":"'법정동(2013)'!AI14-'법정동(2012)'!AI16","v":{"v":0,"d":"0.0"}},{"$f":"'법정동(2013)'!AJ14-'법정동(2012)'!AJ16","v":{"v":0,"d":"0.0"}},{"$f":"'법정동(2013)'!AK14-'법정동(2012)'!AK16","v":{"v":0,"d":"0.0"}},{"$f":"'법정동(2013)'!AL14-'법정동(2012)'!AL16","v":{"v":0,"d":"0.0"}},{"$f":"'법정동(2013)'!AM14-'법정동(2012)'!AM16","v":{"v":0,"d":"0.0"}},{"$f":"'법정동(2013)'!AN14-'법정동(2012)'!AN16","v":{"v":0,"d":"0.0"}},{"$f":"'법정동(2013)'!AO14-'법정동(2012)'!AO16","v":{"v":0,"d":"0.0"}},{"$f":"'법정동(2013)'!AP14-'법정동(2012)'!AP16","v":{"v":0,"d":"0.0"}},{"$f":"'법정동(2013)'!AQ14-'법정동(2012)'!AQ16","v":{"v":0,"d":"0.0"}},{"$f":"'법정동(2013)'!AR14-'법정동(2012)'!AR16","v":{"v":0,"d":"0.0"}},{"$f":"'법정동(2013)'!AS14-'법정동(2012)'!AS16","v":{"v":0,"d":"0.0"}},{"$f":"'법정동(2013)'!AT14-'법정동(2012)'!AT16","v":{"v":0,"d":"0.0"}},{"$f":"'법정동(2013)'!AU14-'법정동(2012)'!AU16","v":{"v":0,"d":"0.0"}},{"$f":"'법정동(2013)'!AV14-'법정동(2012)'!AV16","v":{"v":0,"d":"0.0"}},{"$f":"'법정동(2013)'!AW14-'법정동(2012)'!AW16","v":{"v":0,"d":"0.0"}},{"$f":"'법정동(2013)'!AX14-'법정동(2012)'!AX16","v":{"v":0,"d":"0.0"}},{"$f":"'법정동(2013)'!AY14-'법정동(2012)'!AY16","v":{"v":0,"d":"0.0"}},{"$f":"'법정동(2013)'!AZ14-'법정동(2012)'!AZ16","v":{"v":0,"d":"0.0"}},{"$f":"'법정동(2013)'!BA14-'법정동(2012)'!BA16","v":{"v":0,"d":"0.0"}},{"$f":"'법정동(2013)'!BB14-'법정동(2012)'!BB16","v":{"v":0,"d":"0.0"}},{"$f":"'법정동(2013)'!BC14-'법정동(2012)'!BC16","v":{"v":0,"d":"0.0"}},{"$f":"'법정동(2013)'!BD14-'법정동(2012)'!BD16","v":{"v":0,"d":"0.0"}},{"$f":"'법정동(2013)'!BE14-'법정동(2012)'!BE16","v":{"v":0,"d":"0.0"}},{"$f":"'법정동(2013)'!BF14-'법정동(2012)'!BF16","v":{"v":0,"d":"0.0"}},{"$f":"'법정동(2013)'!BG14-'법정동(2012)'!BG16","v":{"v":0,"d":"0.0"}}]
["충무동",{"$f":"'법정동(2013)'!B15-'법정동(2012)'!B17","v":{"v":0,"d":"0.0"}},{"$f":"'법정동(2013)'!C15-'법정동(2012)'!C17","v":{"v":0,"d":"0.0"}},{"$f":"'법정동(2013)'!D15-'법정동(2012)'!D17","v":{"v":0,"d":"0.0"}},{"$f":"'법정동(2013)'!E15-'법정동(2012)'!E17","v":{"v":0,"d":"0.0"}},{"$f":"'법정동(2013)'!F15-'법정동(2012)'!F17","v":{"v":0,"d":"0.0"}},{"$f":"'법정동(2013)'!G15-'법정동(2012)'!G17","v":{"v":0,"d":"0.0"}},{"$f":"'법정동(2013)'!H15-'법정동(2012)'!H17","v":{"v":0,"d":"0.0"}},{"$f":"'법정동(2013)'!I15-'법정동(2012)'!I17","v":{"v":0,"d":"0.0"}},{"$f":"'법정동(2013)'!J15-'법정동(2012)'!J17","v":{"v":0,"d":"0.0"}},{"$f":"'법정동(2013)'!K15-'법정동(2012)'!K17","v":{"v":0,"d":"0.0"}},{"$f":"'법정동(2013)'!L15-'법정동(2012)'!L17","v":{"v":0,"d":"0.0"}},{"$f":"'법정동(2013)'!M15-'법정동(2012)'!M17","v":{"v":0,"d":"0.0"}},{"$f":"'법정동(2013)'!N15-'법정동(2012)'!N17","v":{"v":0,"d":"0.0"}},{"$f":"'법정동(2013)'!O15-'법정동(2012)'!O17","v":{"v":0,"d":"0.0"}},{"$f":"'법정동(2013)'!P15-'법정동(2012)'!P17","v":{"v":0,"d":"0.0"}},{"$f":"'법정동(2013)'!Q15-'법정동(2012)'!Q17","v":{"v":0,"d":"0.0"}},{"$f":"'법정동(2013)'!R15-'법정동(2012)'!R17","v":{"v":-220,"d":"-220.0"}},{"$f":"'법정동(2013)'!S15-'법정동(2012)'!S17","v":{"v":-2,"d":"-2.0"}},{"$f":"'법정동(2013)'!T15-'법정동(2012)'!T17","v":{"v":0,"d":"0.0"}},{"$f":"'법정동(2013)'!U15-'법정동(2012)'!U17","v":{"v":0,"d":"0.0"}},{"$f":"'법정동(2013)'!V15-'법정동(2012)'!V17","v":{"v":0,"d":"0.0"}},{"$f":"'법정동(2013)'!W15-'법정동(2012)'!W17","v":{"v":0,"d":"0.0"}},{"$f":"'법정동(2013)'!X15-'법정동(2012)'!X17","v":{"v":220,"d":"220.0"}},{"$f":"'법정동(2013)'!Y15-'법정동(2012)'!Y17","v":{"v":2,"d":"2.0"}},{"$f":"'법정동(2013)'!Z15-'법정동(2012)'!Z17","v":{"v":0,"d":"0.0"}},{"$f":"'법정동(2013)'!AA15-'법정동(2012)'!AA17","v":{"v":0,"d":"0.0"}},{"$f":"'법정동(2013)'!AB15-'법정동(2012)'!AB17","v":{"v":0,"d":"0.0"}},{"$f":"'법정동(2013)'!AC15-'법정동(2012)'!AC17","v":{"v":0,"d":"0.0"}},{"$f":"'법정동(2013)'!AD15-'법정동(2012)'!AD17","v":{"v":0,"d":"0.0"}},{"$f":"'법정동(2013)'!AE15-'법정동(2012)'!AE17","v":{"v":0,"d":"0.0"}},{"$f":"'법정동(2013)'!AF15-'법정동(2012)'!AF17","v":{"v":0,"d":"0.0"}},{"$f":"'법정동(2013)'!AG15-'법정동(2012)'!AG17","v":{"v":0,"d":"0.0"}},{"$f":"'법정동(2013)'!AH15-'법정동(2012)'!AH17","v":{"v":0,"d":"0.0"}},{"$f":"'법정동(2013)'!AI15-'법정동(2012)'!AI17","v":{"v":0,"d":"0.0"}},{"$f":"'법정동(2013)'!AJ15-'법정동(2012)'!AJ17","v":{"v":0,"d":"0.0"}},{"$f":"'법정동(2013)'!AK15-'법정동(2012)'!AK17","v":{"v":0,"d":"0.0"}},{"$f":"'법정동(2013)'!AL15-'법정동(2012)'!AL17","v":{"v":0,"d":"0.0"}},{"$f":"'법정동(2013)'!AM15-'법정동(2012)'!AM17","v":{"v":0,"d":"0.0"}},{"$f":"'법정동(2013)'!AN15-'법정동(2012)'!AN17","v":{"v":0,"d":"0.0"}},{"$f":"'법정동(2013)'!AO15-'법정동(2012)'!AO17","v":{"v":0,"d":"0.0"}},{"$f":"'법정동(2013)'!AP15-'법정동(2012)'!AP17","v":{"v":0,"d":"0.0"}},{"$f":"'법정동(2013)'!AQ15-'법정동(2012)'!AQ17","v":{"v":0,"d":"0.0"}},{"$f":"'법정동(2013)'!AR15-'법정동(2012)'!AR17","v":{"v":0,"d":"0.0"}},{"$f":"'법정동(2013)'!AS15-'법정동(2012)'!AS17","v":{"v":0,"d":"0.0"}},{"$f":"'법정동(2013)'!AT15-'법정동(2012)'!AT17","v":{"v":0,"d":"0.0"}},{"$f":"'법정동(2013)'!AU15-'법정동(2012)'!AU17","v":{"v":0,"d":"0.0"}},{"$f":"'법정동(2013)'!AV15-'법정동(2012)'!AV17","v":{"v":0,"d":"0.0"}},{"$f":"'법정동(2013)'!AW15-'법정동(2012)'!AW17","v":{"v":0,"d":"0.0"}},{"$f":"'법정동(2013)'!AX15-'법정동(2012)'!AX17","v":{"v":0,"d":"0.0"}},{"$f":"'법정동(2013)'!AY15-'법정동(2012)'!AY17","v":{"v":0,"d":"0.0"}},{"$f":"'법정동(2013)'!AZ15-'법정동(2012)'!AZ17","v":{"v":0,"d":"0.0"}},{"$f":"'법정동(2013)'!BA15-'법정동(2012)'!BA17","v":{"v":0,"d":"0.0"}},{"$f":"'법정동(2013)'!BB15-'법정동(2012)'!BB17","v":{"v":0,"d":"0.0"}},{"$f":"'법정동(2013)'!BC15-'법정동(2012)'!BC17","v":{"v":0,"d":"0.0"}},{"$f":"'법정동(2013)'!BD15-'법정동(2012)'!BD17","v":{"v":0,"d":"0.0"}},{"$f":"'법정동(2013)'!BE15-'법정동(2012)'!BE17","v":{"v":0,"d":"0.0"}},{"$f":"'법정동(2013)'!BF15-'법정동(2012)'!BF17","v":{"v":0,"d":"0.0"}},{"$f":"'법정동(2013)'!BG15-'법정동(2012)'!BG17","v":{"v":0,"d":"0.0"}}]
["연등동",{"$f":"'법정동(2013)'!B16-'법정동(2012)'!B18","v":{"v":0,"d":"0.0"}},{"$f":"'법정동(2013)'!C16-'법정동(2012)'!C18","v":{"v":-1,"d":"-1.0"}},{"$f":"'법정동(2013)'!D16-'법정동(2012)'!D18","v":{"v":-82,"d":"-82.0"}},{"$f":"'법정동(2013)'!E16-'법정동(2012)'!E18","v":{"v":-3,"d":"-3.0"}},{"$f":"'법정동(2013)'!F16-'법정동(2012)'!F18","v":{"v":0,"d":"0.0"}},{"$f":"'법정동(2013)'!G16-'법정동(2012)'!G18","v":{"v":0,"d":"0.0"}},{"$f":"'법정동(2013)'!H16-'법정동(2012)'!H18","v":{"v":0,"d":"0.0"}},{"$f":"'법정동(2013)'!I16-'법정동(2012)'!I18","v":{"v":0,"d":"0.0"}},{"$f":"'법정동(2013)'!J16-'법정동(2012)'!J18","v":{"v":0,"d":"0.0"}},{"$f":"'법정동(2013)'!K16-'법정동(2012)'!K18","v":{"v":0,"d":"0.0"}},{"$f":"'법정동(2013)'!L16-'법정동(2012)'!L18","v":{"v":0,"d":"0.0"}},{"$f":"'법정동(2013)'!M16-'법정동(2012)'!M18","v":{"v":0,"d":"0.0"}},{"$f":"'법정동(2013)'!N16-'법정동(2012)'!N18","v":{"v":0,"d":"0.0"}},{"$f":"'법정동(2013)'!O16-'법정동(2012)'!O18","v":{"v":0,"d":"0.0"}},{"$f":"'법정동(2013)'!P16-'법정동(2012)'!P18","v":{"v":0,"d":"0.0"}},{"$f":"'법정동(2013)'!Q16-'법정동(2012)'!Q18","v":{"v":0,"d":"0.0"}},{"$f":"'법정동(2013)'!R16-'법정동(2012)'!R18","v":{"v":58,"d":"58.0"}},{"$f":"'법정동(2013)'!S16-'법정동(2012)'!S18","v":{"v":0,"d":"0.0"}},{"$f":"'법정동(2013)'!T16-'법정동(2012)'!T18","v":{"v":0,"d":"0.0"}},{"$f":"'법정동(2013)'!U16-'법정동(2012)'!U18","v":{"v":0,"d":"0.0"}},{"$f":"'법정동(2013)'!V16-'법정동(2012)'!V18","v":{"v":0,"d":"0.0"}},{"$f":"'법정동(2013)'!W16-'법정동(2012)'!W18","v":{"v":0,"d":"0.0"}},{"$f":"'법정동(2013)'!X16-'법정동(2012)'!X18","v":{"v":0,"d":"0.0"}},{"$f":"'법정동(2013)'!Y16-'법정동(2012)'!Y18","v":{"v":0,"d":"0.0"}},{"$f":"'법정동(2013)'!Z16-'법정동(2012)'!Z18","v":{"v":0,"d":"0.0"}},{"$f":"'법정동(2013)'!AA16-'법정동(2012)'!AA18","v":{"v":0,"d":"0.0"}},{"$f":"'법정동(2013)'!AB16-'법정동(2012)'!AB18","v":{"v":0,"d":"0.0"}},{"$f":"'법정동(2013)'!AC16-'법정동(2012)'!AC18","v":{"v":0,"d":"0.0"}},{"$f":"'법정동(2013)'!AD16-'법정동(2012)'!AD18","v":{"v":24,"d":"24.0"}},{"$f":"'법정동(2013)'!AE16-'법정동(2012)'!AE18","v":{"v":2,"d":"2.0"}},{"$f":"'법정동(2013)'!AF16-'법정동(2012)'!AF18","v":{"v":0,"d":"0.0"}},{"$f":"'법정동(2013)'!AG16-'법정동(2012)'!AG18","v":{"v":0,"d":"0.0"}},{"$f":"'법정동(2013)'!AH16-'법정동(2012)'!AH18","v":{"v":0,"d":"0.0"}},{"$f":"'법정동(2013)'!AI16-'법정동(2012)'!AI18","v":{"v":0,"d":"0.0"}},{"$f":"'법정동(2013)'!AJ16-'법정동(2012)'!AJ18","v":{"v":0,"d":"0.0"}},{"$f":"'법정동(2013)'!AK16-'법정동(2012)'!AK18","v":{"v":0,"d":"0.0"}},{"$f":"'법정동(2013)'!AL16-'법정동(2012)'!AL18","v":{"v":0,"d":"0.0"}},{"$f":"'법정동(2013)'!AM16-'법정동(2012)'!AM18","v":{"v":0,"d":"0.0"}},{"$f":"'법정동(2013)'!AN16-'법정동(2012)'!AN18","v":{"v":0,"d":"0.0"}},{"$f":"'법정동(2013)'!AO16-'법정동(2012)'!AO18","v":{"v":0,"d":"0.0"}},{"$f":"'법정동(2013)'!AP16-'법정동(2012)'!AP18","v":{"v":0,"d":"0.0"}},{"$f":"'법정동(2013)'!AQ16-'법정동(2012)'!AQ18","v":{"v":0,"d":"0.0"}},{"$f":"'법정동(2013)'!AR16-'법정동(2012)'!AR18","v":{"v":0,"d":"0.0"}},{"$f":"'법정동(2013)'!AS16-'법정동(2012)'!AS18","v":{"v":0,"d":"0.0"}},{"$f":"'법정동(2013)'!AT16-'법정동(2012)'!AT18","v":{"v":0,"d":"0.0"}},{"$f":"'법정동(2013)'!AU16-'법정동(2012)'!AU18","v":{"v":0,"d":"0.0"}},{"$f":"'법정동(2013)'!AV16-'법정동(2012)'!AV18","v":{"v":0,"d":"0.0"}},{"$f":"'법정동(2013)'!AW16-'법정동(2012)'!AW18","v":{"v":0,"d":"0.0"}},{"$f":"'법정동(2013)'!AX16-'법정동(2012)'!AX18","v":{"v":0,"d":"0.0"}},{"$f":"'법정동(2013)'!AY16-'법정동(2012)'!AY18","v":{"v":0,"d":"0.0"}},{"$f":"'법정동(2013)'!AZ16-'법정동(2012)'!AZ18","v":{"v":0,"d":"0.0"}},{"$f":"'법정동(2013)'!BA16-'법정동(2012)'!BA18","v":{"v":0,"d":"0.0"}},{"$f":"'법정동(2013)'!BB16-'법정동(2012)'!BB18","v":{"v":0,"d":"0.0"}},{"$f":"'법정동(2013)'!BC16-'법정동(2012)'!BC18","v":{"v":0,"d":"0.0"}},{"$f":"'법정동(2013)'!BD16-'법정동(2012)'!BD18","v":{"v":0,"d":"0.0"}},{"$f":"'법정동(2013)'!BE16-'법정동(2012)'!BE18","v":{"v":0,"d":"0.0"}},{"$f":"'법정동(2013)'!BF16-'법정동(2012)'!BF18","v":{"v":0,"d":"0.0"}},{"$f":"'법정동(2013)'!BG16-'법정동(2012)'!BG18","v":{"v":0,"d":"0.0"}}]
["광무동",{"$f":"'법정동(2013)'!B17-'법정동(2012)'!B19","v":{"v":-80,"d":"-80.0"}},{"$f":"'법정동(2013)'!C17-'법정동(2012)'!C19","v":{"v":-3,"d":"-3.0"}},{"$f":"'법정동(2013)'!D17-'법정동(2012)'!D19","v":{"v":-178,"d":"-178.0"}},{"$f":"'법정동(2013)'!E17-'법정동(2012)'!E19","v":{"v":-5,"d":"-5.0"}},{"$f":"'법정동(2013)'!F17-'법정동(2012)'!F19","v":{"v":0,"d":"0.0"}},{"$f":"'법정동(2013)'!G17-'법정동(2012)'!G19","v":{"v":0,"d":"0.0"}},{"$f":"'법정동(2013)'!H17-'법정동(2012)'!H19","v":{"v":0,"d":"0.0"}},{"$f":"'법정동(2013)'!I17-'법정동(2012)'!I19","v":{"v":0,"d":"0.0"}},{"$f":"'법정동(2013)'!J17-'법정동(2012)'!J19","v":{"v":0,"d":"0.0"}},{"$f":"'법정동(2013)'!K17-'법정동(2012)'!K19","v":{"v":0,"d":"0.0"}},{"$f":"'법정동(2013)'!L17-'법정동(2012)'!L19","v":{"v":-18,"d":"-18.0"}},{"$f":"'법정동(2013)'!M17-'법정동(2012)'!M19","v":{"v":0,"d":"0.0"}},{"$f":"'법정동(2013)'!N17-'법정동(2012)'!N19","v":{"v":0,"d":"0.0"}},{"$f":"'법정동(2013)'!O17-'법정동(2012)'!O19","v":{"v":0,"d":"0.0"}},{"$f":"'법정동(2013)'!P17-'법정동(2012)'!P19","v":{"v":0,"d":"0.0"}},{"$f":"'법정동(2013)'!Q17-'법정동(2012)'!Q19","v":{"v":0,"d":"0.0"}},{"$f":"'법정동(2013)'!R17-'법정동(2012)'!R19","v":{"v":269,"d":"269.0"}},{"$f":"'법정동(2013)'!S17-'법정동(2012)'!S19","v":{"v":1,"d":"1.0"}},{"$f":"'법정동(2013)'!T17-'법정동(2012)'!T19","v":{"v":0,"d":"0.0"}},{"$f":"'법정동(2013)'!U17-'법정동(2012)'!U19","v":{"v":0,"d":"0.0"}},{"$f":"'법정동(2013)'!V17-'법정동(2012)'!V19","v":{"v":0,"d":"0.0"}},{"$f":"'법정동(2013)'!W17-'법정동(2012)'!W19","v":{"v":0,"d":"0.0"}},{"$f":"'법정동(2013)'!X17-'법정동(2012)'!X19","v":{"v":0,"d":"0.0"}},{"$f":"'법정동(2013)'!Y17-'법정동(2012)'!Y19","v":{"v":0,"d":"0.0"}},{"$f":"'법정동(2013)'!Z17-'법정동(2012)'!Z19","v":{"v":0,"d":"0.0"}},{"$f":"'법정동(2013)'!AA17-'법정동(2012)'!AA19","v":{"v":0,"d":"0.0"}},{"$f":"'법정동(2013)'!AB17-'법정동(2012)'!AB19","v":{"v":0,"d":"0.0"}},{"$f":"'법정동(2013)'!AC17-'법정동(2012)'!AC19","v":{"v":0,"d":"0.0"}},{"$f":"'법정동(2013)'!AD17-'법정동(2012)'!AD19","v":{"v":-153,"d":"-153.0"}},{"$f":"'법정동(2013)'!AE17-'법정동(2012)'!AE19","v":{"v":1,"d":"1.0"}},{"$f":"'법정동(2013)'!AF17-'법정동(2012)'!AF19","v":{"v":0,"d":"0.0"}},{"$f":"'법정동(2013)'!AG17-'법정동(2012)'!AG19","v":{"v":0,"d":"0.0"}},{"$f":"'법정동(2013)'!AH17-'법정동(2012)'!AH19","v":{"v":0,"d":"0.0"}},{"$f":"'법정동(2013)'!AI17-'법정동(2012)'!AI19","v":{"v":0,"d":"0.0"}},{"$f":"'법정동(2013)'!AJ17-'법정동(2012)'!AJ19","v":{"v":0,"d":"0.0"}},{"$f":"'법정동(2013)'!AK17-'법정동(2012)'!AK19","v":{"v":0,"d":"0.0"}},{"$f":"'법정동(2013)'!AL17-'법정동(2012)'!AL19","v":{"v":0,"d":"0.0"}},{"$f":"'법정동(2013)'!AM17-'법정동(2012)'!AM19","v":{"v":0,"d":"0.0"}},{"$f":"'법정동(2013)'!AN17-'법정동(2012)'!AN19","v":{"v":0,"d":"0.0"}},{"$f":"'법정동(2013)'!AO17-'법정동(2012)'!AO19","v":{"v":0,"d":"0.0"}},{"$f":"'법정동(2013)'!AP17-'법정동(2012)'!AP19","v":{"v":0,"d":"0.0"}},{"$f":"'법정동(2013)'!AQ17-'법정동(2012)'!AQ19","v":{"v":0,"d":"0.0"}},{"$f":"'법정동(2013)'!AR17-'법정동(2012)'!AR19","v":{"v":0,"d":"0.0"}},{"$f":"'법정동(2013)'!AS17-'법정동(2012)'!AS19","v":{"v":0,"d":"0.0"}},{"$f":"'법정동(2013)'!AT17-'법정동(2012)'!AT19","v":{"v":0,"d":"0.0"}},{"$f":"'법정동(2013)'!AU17-'법정동(2012)'!AU19","v":{"v":0,"d":"0.0"}},{"$f":"'법정동(2013)'!AV17-'법정동(2012)'!AV19","v":{"v":0,"d":"0.0"}},{"$f":"'법정동(2013)'!AW17-'법정동(2012)'!AW19","v":{"v":0,"d":"0.0"}},{"$f":"'법정동(2013)'!AX17-'법정동(2012)'!AX19","v":{"v":0,"d":"0.0"}},{"$f":"'법정동(2013)'!AY17-'법정동(2012)'!AY19","v":{"v":0,"d":"0.0"}},{"$f":"'법정동(2013)'!AZ17-'법정동(2012)'!AZ19","v":{"v":0,"d":"0.0"}},{"$f":"'법정동(2013)'!BA17-'법정동(2012)'!BA19","v":{"v":0,"d":"0.0"}},{"$f":"'법정동(2013)'!BB17-'법정동(2012)'!BB19","v":{"v":0,"d":"0.0"}},{"$f":"'법정동(2013)'!BC17-'법정동(2012)'!BC19","v":{"v":0,"d":"0.0"}},{"$f":"'법정동(2013)'!BD17-'법정동(2012)'!BD19","v":{"v":0,"d":"0.0"}},{"$f":"'법정동(2013)'!BE17-'법정동(2012)'!BE19","v":{"v":0,"d":"0.0"}},{"$f":"'법정동(2013)'!BF17-'법정동(2012)'!BF19","v":{"v":0,"d":"0.0"}},{"$f":"'법정동(2013)'!BG17-'법정동(2012)'!BG19","v":{"v":0,"d":"0.0"}}]
["서교동",{"$f":"'법정동(2013)'!B18-'법정동(2012)'!B20","v":{"v":0,"d":"0.0"}},{"$f":"'법정동(2013)'!C18-'법정동(2012)'!C20","v":{"v":-1,"d":"-1.0"}},{"$f":"'법정동(2013)'!D18-'법정동(2012)'!D20","v":{"v":0,"d":"0.0"}},{"$f":"'법정동(2013)'!E18-'법정동(2012)'!E20","v":{"v":0,"d":"0.0"}},{"$f":"'법정동(2013)'!F18-'법정동(2012)'!F20","v":{"v":0,"d":"0.0"}},{"$f":"'법정동(2013)'!G18-'법정동(2012)'!G20","v":{"v":0,"d":"0.0"}},{"$f":"'법정동(2013)'!H18-'법정동(2012)'!H20","v":{"v":0,"d":"0.0"}},{"$f":"'법정동(2013)'!I18-'법정동(2012)'!I20","v":{"v":0,"d":"0.0"}},{"$f":"'법정동(2013)'!J18-'법정동(2012)'!J20","v":{"v":0,"d":"0.0"}},{"$f":"'법정동(2013)'!K18-'법정동(2012)'!K20","v":{"v":0,"d":"0.0"}},{"$f":"'법정동(2013)'!L18-'법정동(2012)'!L20","v":{"v":0,"d":"0.0"}},{"$f":"'법정동(2013)'!M18-'법정동(2012)'!M20","v":{"v":0,"d":"0.0"}},{"$f":"'법정동(2013)'!N18-'법정동(2012)'!N20","v":{"v":0,"d":"0.0"}},{"$f":"'법정동(2013)'!O18-'법정동(2012)'!O20","v":{"v":0,"d":"0.0"}},{"$f":"'법정동(2013)'!P18-'법정동(2012)'!P20","v":{"v":0,"d":"0.0"}},{"$f":"'법정동(2013)'!Q18-'법정동(2012)'!Q20","v":{"v":0,"d":"0.0"}},{"$f":"'법정동(2013)'!R18-'법정동(2012)'!R20","v":{"v":-101,"d":"-101.0"}},{"$f":"'법정동(2013)'!S18-'법정동(2012)'!S20","v":{"v":-2,"d":"-2.0"}},{"$f":"'법정동(2013)'!T18-'법정동(2012)'!T20","v":{"v":0,"d":"0.0"}},{"$f":"'법정동(2013)'!U18-'법정동(2012)'!U20","v":{"v":0,"d":"0.0"}},{"$f":"'법정동(2013)'!V18-'법정동(2012)'!V20","v":{"v":0,"d":"0.0"}},{"$f":"'법정동(2013)'!W18-'법정동(2012)'!W20","v":{"v":0,"d":"0.0"}},{"$f":"'법정동(2013)'!X18-'법정동(2012)'!X20","v":{"v":0,"d":"0.0"}},{"$f":"'법정동(2013)'!Y18-'법정동(2012)'!Y20","v":{"v":0,"d":"0.0"}},{"$f":"'법정동(2013)'!Z18-'법정동(2012)'!Z20","v":{"v":0,"d":"0.0"}},{"$f":"'법정동(2013)'!AA18-'법정동(2012)'!AA20","v":{"v":0,"d":"0.0"}},{"$f":"'법정동(2013)'!AB18-'법정동(2012)'!AB20","v":{"v":0,"d":"0.0"}},{"$f":"'법정동(2013)'!AC18-'법정동(2012)'!AC20","v":{"v":0,"d":"0.0"}},{"$f":"'법정동(2013)'!AD18-'법정동(2012)'!AD20","v":{"v":101,"d":"101.0"}},{"$f":"'법정동(2013)'!AE18-'법정동(2012)'!AE20","v":{"v":1,"d":"1.0"}},{"$f":"'법정동(2013)'!AF18-'법정동(2012)'!AF20","v":{"v":0,"d":"0.0"}},{"$f":"'법정동(2013)'!AG18-'법정동(2012)'!AG20","v":{"v":0,"d":"0.0"}},{"$f":"'법정동(2013)'!AH18-'법정동(2012)'!AH20","v":{"v":0,"d":"0.0"}},{"$f":"'법정동(2013)'!AI18-'법정동(2012)'!AI20","v":{"v":0,"d":"0.0"}},{"$f":"'법정동(2013)'!AJ18-'법정동(2012)'!AJ20","v":{"v":0,"d":"0.0"}},{"$f":"'법정동(2013)'!AK18-'법정동(2012)'!AK20","v":{"v":0,"d":"0.0"}},{"$f":"'법정동(2013)'!AL18-'법정동(2012)'!AL20","v":{"v":0,"d":"0.0"}},{"$f":"'법정동(2013)'!AM18-'법정동(2012)'!AM20","v":{"v":0,"d":"0.0"}},{"$f":"'법정동(2013)'!AN18-'법정동(2012)'!AN20","v":{"v":0,"d":"0.0"}},{"$f":"'법정동(2013)'!AO18-'법정동(2012)'!AO20","v":{"v":0,"d":"0.0"}},{"$f":"'법정동(2013)'!AP18-'법정동(2012)'!AP20","v":{"v":0,"d":"0.0"}},{"$f":"'법정동(2013)'!AQ18-'법정동(2012)'!AQ20","v":{"v":0,"d":"0.0"}},{"$f":"'법정동(2013)'!AR18-'법정동(2012)'!AR20","v":{"v":0,"d":"0.0"}},{"$f":"'법정동(2013)'!AS18-'법정동(2012)'!AS20","v":{"v":0,"d":"0.0"}},{"$f":"'법정동(2013)'!AT18-'법정동(2012)'!AT20","v":{"v":0,"d":"0.0"}},{"$f":"'법정동(2013)'!AU18-'법정동(2012)'!AU20","v":{"v":0,"d":"0.0"}},{"$f":"'법정동(2013)'!AV18-'법정동(2012)'!AV20","v":{"v":0,"d":"0.0"}},{"$f":"'법정동(2013)'!AW18-'법정동(2012)'!AW20","v":{"v":0,"d":"0.0"}},{"$f":"'법정동(2013)'!AX18-'법정동(2012)'!AX20","v":{"v":0,"d":"0.0"}},{"$f":"'법정동(2013)'!AY18-'법정동(2012)'!AY20","v":{"v":0,"d":"0.0"}},{"$f":"'법정동(2013)'!AZ18-'법정동(2012)'!AZ20","v":{"v":0,"d":"0.0"}},{"$f":"'법정동(2013)'!BA18-'법정동(2012)'!BA20","v":{"v":0,"d":"0.0"}},{"$f":"'법정동(2013)'!BB18-'법정동(2012)'!BB20","v":{"v":0,"d":"0.0"}},{"$f":"'법정동(2013)'!BC18-'법정동(2012)'!BC20","v":{"v":0,"d":"0.0"}},{"$f":"'법정동(2013)'!BD18-'법정동(2012)'!BD20","v":{"v":0,"d":"0.0"}},{"$f":"'법정동(2013)'!BE18-'법정동(2012)'!BE20","v":{"v":0,"d":"0.0"}},{"$f":"'법정동(2013)'!BF18-'법정동(2012)'!BF20","v":{"v":0,"d":"0.0"}},{"$f":"'법정동(2013)'!BG18-'법정동(2012)'!BG20","v":{"v":0,"d":"0.0"}}]
["봉강동",{"$f":"'법정동(2013)'!B19-'법정동(2012)'!B21","v":{"v":0,"d":"0.0"}},{"$f":"'법정동(2013)'!C19-'법정동(2012)'!C21","v":{"v":-2,"d":"-2.0"}},{"$f":"'법정동(2013)'!D19-'법정동(2012)'!D21","v":{"v":-89,"d":"-89.0"}},{"$f":"'법정동(2013)'!E19-'법정동(2012)'!E21","v":{"v":0,"d":"0.0"}},{"$f":"'법정동(2013)'!F19-'법정동(2012)'!F21","v":{"v":0,"d":"0.0"}},{"$f":"'법정동(2013)'!G19-'법정동(2012)'!G21","v":{"v":0,"d":"0.0"}},{"$f":"'법정동(2013)'!H19-'법정동(2012)'!H21","v":{"v":0,"d":"0.0"}},{"$f":"'법정동(2013)'!I19-'법정동(2012)'!I21","v":{"v":0,"d":"0.0"}},{"$f":"'법정동(2013)'!J19-'법정동(2012)'!J21","v":{"v":0,"d":"0.0"}},{"$f":"'법정동(2013)'!K19-'법정동(2012)'!K21","v":{"v":0,"d":"0.0"}},{"$f":"'법정동(2013)'!L19-'법정동(2012)'!L21","v":{"v":0,"d":"0.0"}},{"$f":"'법정동(2013)'!M19-'법정동(2012)'!M21","v":{"v":0,"d":"0.0"}},{"$f":"'법정동(2013)'!N19-'법정동(2012)'!N21","v":{"v":0,"d":"0.0"}},{"$f":"'법정동(2013)'!O19-'법정동(2012)'!O21","v":{"v":0,"d":"0.0"}},{"$f":"'법정동(2013)'!P19-'법정동(2012)'!P21","v":{"v":0,"d":"0.0"}},{"$f":"'법정동(2013)'!Q19-'법정동(2012)'!Q21","v":{"v":0,"d":"0.0"}},{"$f":"'법정동(2013)'!R19-'법정동(2012)'!R21","v":{"v":89,"d":"89.0"}},{"$f":"'법정동(2013)'!S19-'법정동(2012)'!S21","v":{"v":-2,"d":"-2.0"}},{"$f":"'법정동(2013)'!T19-'법정동(2012)'!T21","v":{"v":0,"d":"0.0"}},{"$f":"'법정동(2013)'!U19-'법정동(2012)'!U21","v":{"v":0,"d":"0.0"}},{"$f":"'법정동(2013)'!V19-'법정동(2012)'!V21","v":{"v":0,"d":"0.0"}},{"$f":"'법정동(2013)'!W19-'법정동(2012)'!W21","v":{"v":0,"d":"0.0"}},{"$f":"'법정동(2013)'!X19-'법정동(2012)'!X21","v":{"v":0,"d":"0.0"}},{"$f":"'법정동(2013)'!Y19-'법정동(2012)'!Y21","v":{"v":0,"d":"0.0"}},{"$f":"'법정동(2013)'!Z19-'법정동(2012)'!Z21","v":{"v":0,"d":"0.0"}},{"$f":"'법정동(2013)'!AA19-'법정동(2012)'!AA21","v":{"v":0,"d":"0.0"}},{"$f":"'법정동(2013)'!AB19-'법정동(2012)'!AB21","v":{"v":0,"d":"0.0"}},{"$f":"'법정동(2013)'!AC19-'법정동(2012)'!AC21","v":{"v":0,"d":"0.0"}},{"$f":"'법정동(2013)'!AD19-'법정동(2012)'!AD21","v":{"v":0,"d":"0.0"}},{"$f":"'법정동(2013)'!AE19-'법정동(2012)'!AE21","v":{"v":0,"d":"0.0"}},{"$f":"'법정동(2013)'!AF19-'법정동(2012)'!AF21","v":{"v":0,"d":"0.0"}},{"$f":"'법정동(2013)'!AG19-'법정동(2012)'!AG21","v":{"v":0,"d":"0.0"}},{"$f":"'법정동(2013)'!AH19-'법정동(2012)'!AH21","v":{"v":0,"d":"0.0"}},{"$f":"'법정동(2013)'!AI19-'법정동(2012)'!AI21","v":{"v":0,"d":"0.0"}},{"$f":"'법정동(2013)'!AJ19-'법정동(2012)'!AJ21","v":{"v":0,"d":"0.0"}},{"$f":"'법정동(2013)'!AK19-'법정동(2012)'!AK21","v":{"v":0,"d":"0.0"}},{"$f":"'법정동(2013)'!AL19-'법정동(2012)'!AL21","v":{"v":0,"d":"0.0"}},{"$f":"'법정동(2013)'!AM19-'법정동(2012)'!AM21","v":{"v":0,"d":"0.0"}},{"$f":"'법정동(2013)'!AN19-'법정동(2012)'!AN21","v":{"v":0,"d":"0.0"}},{"$f":"'법정동(2013)'!AO19-'법정동(2012)'!AO21","v":{"v":0,"d":"0.0"}},{"$f":"'법정동(2013)'!AP19-'법정동(2012)'!AP21","v":{"v":0,"d":"0.0"}},{"$f":"'법정동(2013)'!AQ19-'법정동(2012)'!AQ21","v":{"v":0,"d":"0.0"}},{"$f":"'법정동(2013)'!AR19-'법정동(2012)'!AR21","v":{"v":0,"d":"0.0"}},{"$f":"'법정동(2013)'!AS19-'법정동(2012)'!AS21","v":{"v":0,"d":"0.0"}},{"$f":"'법정동(2013)'!AT19-'법정동(2012)'!AT21","v":{"v":0,"d":"0.0"}},{"$f":"'법정동(2013)'!AU19-'법정동(2012)'!AU21","v":{"v":0,"d":"0.0"}},{"$f":"'법정동(2013)'!AV19-'법정동(2012)'!AV21","v":{"v":0,"d":"0.0"}},{"$f":"'법정동(2013)'!AW19-'법정동(2012)'!AW21","v":{"v":0,"d":"0.0"}},{"$f":"'법정동(2013)'!AX19-'법정동(2012)'!AX21","v":{"v":0,"d":"0.0"}},{"$f":"'법정동(2013)'!AY19-'법정동(2012)'!AY21","v":{"v":0,"d":"0.0"}},{"$f":"'법정동(2013)'!AZ19-'법정동(2012)'!AZ21","v":{"v":0,"d":"0.0"}},{"$f":"'법정동(2013)'!BA19-'법정동(2012)'!BA21","v":{"v":0,"d":"0.0"}},{"$f":"'법정동(2013)'!BB19-'법정동(2012)'!BB21","v":{"v":0,"d":"0.0"}},{"$f":"'법정동(2013)'!BC19-'법정동(2012)'!BC21","v":{"v":0,"d":"0.0"}},{"$f":"'법정동(2013)'!BD19-'법정동(2012)'!BD21","v":{"v":0,"d":"0.0"}},{"$f":"'법정동(2013)'!BE19-'법정동(2012)'!BE21","v":{"v":0,"d":"0.0"}},{"$f":"'법정동(2013)'!BF19-'법정동(2012)'!BF21","v":{"v":0,"d":"0.0"}},{"$f":"'법정동(2013)'!BG19-'법정동(2012)'!BG21","v":{"v":0,"d":"0.0"}}]
["봉산동",{"$f":"'법정동(2013)'!B20-'법정동(2012)'!B22","v":{"v":8958,"d":"8,958.0"}},{"$f":"'법정동(2013)'!C20-'법정동(2012)'!C22","v":{"v":26,"d":"26.0"}},{"$f":"'법정동(2013)'!D20-'법정동(2012)'!D22","v":{"v":-174,"d":"-174.0"}},{"$f":"'법정동(2013)'!E20-'법정동(2012)'!E22","v":{"v":4,"d":"4.0"}},{"$f":"'법정동(2013)'!F20-'법정동(2012)'!F22","v":{"v":-706,"d":"-706.0"}},{"$f":"'법정동(2013)'!G20-'법정동(2012)'!G22","v":{"v":-1,"d":"-1.0"}},{"$f":"'법정동(2013)'!H20-'법정동(2012)'!H22","v":{"v":0,"d":"0.0"}},{"$f":"'법정동(2013)'!I20-'법정동(2012)'!I22","v":{"v":0,"d":"0.0"}},{"$f":"'법정동(2013)'!J20-'법정동(2012)'!J22","v":{"v":0,"d":"0.0"}},{"$f":"'법정동(2013)'!K20-'법정동(2012)'!K22","v":{"v":0,"d":"0.0"}},{"$f":"'법정동(2013)'!L20-'법정동(2012)'!L22","v":{"v":0,"d":"0.0"}},{"$f":"'법정동(2013)'!M20-'법정동(2012)'!M22","v":{"v":2,"d":"2.0"}},{"$f":"'법정동(2013)'!N20-'법정동(2012)'!N22","v":{"v":0,"d":"0.0"}},{"$f":"'법정동(2013)'!O20-'법정동(2012)'!O22","v":{"v":0,"d":"0.0"}},{"$f":"'법정동(2013)'!P20-'법정동(2012)'!P22","v":{"v":0,"d":"0.0"}},{"$f":"'법정동(2013)'!Q20-'법정동(2012)'!Q22","v":{"v":0,"d":"0.0"}},{"$f":"'법정동(2013)'!R20-'법정동(2012)'!R22","v":{"v":116.79999999998836,"d":"116.8"}},{"$f":"'법정동(2013)'!S20-'법정동(2012)'!S22","v":{"v":12,"d":"12.0"}},{"$f":"'법정동(2013)'!T20-'법정동(2012)'!T22","v":{"v":0,"d":"0.0"}},{"$f":"'법정동(2013)'!U20-'법정동(2012)'!U22","v":{"v":0,"d":"0.0"}},{"$f":"'법정동(2013)'!V20-'법정동(2012)'!V22","v":{"v":0,"d":"0.0"}},{"$f":"'법정동(2013)'!W20-'법정동(2012)'!W22","v":{"v":0,"d":"0.0"}},{"$f":"'법정동(2013)'!X20-'법정동(2012)'!X22","v":{"v":109,"d":"109.0"}},{"$f":"'법정동(2013)'!Y20-'법정동(2012)'!Y22","v":{"v":1,"d":"1.0"}},{"$f":"'법정동(2013)'!Z20-'법정동(2012)'!Z22","v":{"v":616.1999999999998,"d":"616.2"}},{"$f":"'법정동(2013)'!AA20-'법정동(2012)'!AA22","v":{"v":1,"d":"1.0"}},{"$f":"'법정동(2013)'!AB20-'법정동(2012)'!AB22","v":{"v":0,"d":"0.0"}},{"$f":"'법정동(2013)'!AC20-'법정동(2012)'!AC22","v":{"v":0,"d":"0.0"}},{"$f":"'법정동(2013)'!AD20-'법정동(2012)'!AD22","v":{"v":38,"d":"38.0"}},{"$f":"'법정동(2013)'!AE20-'법정동(2012)'!AE22","v":{"v":5,"d":"5.0"}},{"$f":"'법정동(2013)'!AF20-'법정동(2012)'!AF22","v":{"v":0,"d":"0.0"}},{"$f":"'법정동(2013)'!AG20-'법정동(2012)'!AG22","v":{"v":0,"d":"0.0"}},{"$f":"'법정동(2013)'!AH20-'법정동(2012)'!AH22","v":{"v":0,"d":"0.0"}},{"$f":"'법정동(2013)'!AI20-'법정동(2012)'!AI22","v":{"v":0,"d":"0.0"}},{"$f":"'법정동(2013)'!AJ20-'법정동(2012)'!AJ22","v":{"v":0,"d":"0.0"}},{"$f":"'법정동(2013)'!AK20-'법정동(2012)'!AK22","v":{"v":0,"d":"0.0"}},{"$f":"'법정동(2013)'!AL20-'법정동(2012)'!AL22","v":{"v":0,"d":"0.0"}},{"$f":"'법정동(2013)'!AM20-'법정동(2012)'!AM22","v":{"v":0,"d":"0.0"}},{"$f":"'법정동(2013)'!AN20-'법정동(2012)'!AN22","v":{"v":0,"d":"0.0"}},{"$f":"'법정동(2013)'!AO20-'법정동(2012)'!AO22","v":{"v":0,"d":"0.0"}},{"$f":"'법정동(2013)'!AP20-'법정동(2012)'!AP22","v":{"v":0,"d":"0.0"}},{"$f":"'법정동(2013)'!AQ20-'법정동(2012)'!AQ22","v":{"v":0,"d":"0.0"}},{"$f":"'법정동(2013)'!AR20-'법정동(2012)'!AR22","v":{"v":0,"d":"0.0"}},{"$f":"'법정동(2013)'!AS20-'법정동(2012)'!AS22","v":{"v":0,"d":"0.0"}},{"$f":"'법정동(2013)'!AT20-'법정동(2012)'!AT22","v":{"v":0,"d":"0.0"}},{"$f":"'법정동(2013)'!AU20-'법정동(2012)'!AU22","v":{"v":0,"d":"0.0"}},{"$f":"'법정동(2013)'!AV20-'법정동(2012)'!AV22","v":{"v":0,"d":"0.0"}},{"$f":"'법정동(2013)'!AW20-'법정동(2012)'!AW22","v":{"v":0,"d":"0.0"}},{"$f":"'법정동(2013)'!AX20-'법정동(2012)'!AX22","v":{"v":0,"d":"0.0"}},{"$f":"'법정동(2013)'!AY20-'법정동(2012)'!AY22","v":{"v":0,"d":"0.0"}},{"$f":"'법정동(2013)'!AZ20-'법정동(2012)'!AZ22","v":{"v":0,"d":"0.0"}},{"$f":"'법정동(2013)'!BA20-'법정동(2012)'!BA22","v":{"v":0,"d":"0.0"}},{"$f":"'법정동(2013)'!BB20-'법정동(2012)'!BB22","v":{"v":0,"d":"0.0"}},{"$f":"'법정동(2013)'!BC20-'법정동(2012)'!BC22","v":{"v":0,"d":"0.0"}},{"$f":"'법정동(2013)'!BD20-'법정동(2012)'!BD22","v":{"v":0,"d":"0.0"}},{"$f":"'법정동(2013)'!BE20-'법정동(2012)'!BE22","v":{"v":0,"d":"0.0"}},{"$f":"'법정동(2013)'!BF20-'법정동(2012)'!BF22","v":{"v":8958,"d":"8,958.0"}},{"$f":"'법정동(2013)'!BG20-'법정동(2012)'!BG22","v":{"v":2,"d":"2.0"}}]
["남산동",{"$f":"'법정동(2013)'!B21-'법정동(2012)'!B23","v":{"v":124,"d":"124.0"}},{"$f":"'법정동(2013)'!C21-'법정동(2012)'!C23","v":{"v":-5,"d":"-5.0"}},{"$f":"'법정동(2013)'!D21-'법정동(2012)'!D23","v":{"v":124,"d":"124.0"}},{"$f":"'법정동(2013)'!E21-'법정동(2012)'!E23","v":{"v":8,"d":"8.0"}},{"$f":"'법정동(2013)'!F21-'법정동(2012)'!F23","v":{"v":-43,"d":"-43.0"}},{"$f":"'법정동(2013)'!G21-'법정동(2012)'!G23","v":{"v":-1,"d":"-1.0"}},{"$f":"'법정동(2013)'!H21-'법정동(2012)'!H23","v":{"v":0,"d":"0.0"}},{"$f":"'법정동(2013)'!I21-'법정동(2012)'!I23","v":{"v":0,"d":"0.0"}},{"$f":"'법정동(2013)'!J21-'법정동(2012)'!J23","v":{"v":0,"d":"0.0"}},{"$f":"'법정동(2013)'!K21-'법정동(2012)'!K23","v":{"v":0,"d":"0.0"}},{"$f":"'법정동(2013)'!L21-'법정동(2012)'!L23","v":{"v":0,"d":"0.0"}},{"$f":"'법정동(2013)'!M21-'법정동(2012)'!M23","v":{"v":2,"d":"2.0"}},{"$f":"'법정동(2013)'!N21-'법정동(2012)'!N23","v":{"v":0,"d":"0.0"}},{"$f":"'법정동(2013)'!O21-'법정동(2012)'!O23","v":{"v":0,"d":"0.0"}},{"$f":"'법정동(2013)'!P21-'법정동(2012)'!P23","v":{"v":0,"d":"0.0"}},{"$f":"'법정동(2013)'!Q21-'법정동(2012)'!Q23","v":{"v":0,"d":"0.0"}},{"$f":"'법정동(2013)'!R21-'법정동(2012)'!R23","v":{"v":-1211,"d":"-1,211.0"}},{"$f":"'법정동(2013)'!S21-'법정동(2012)'!S23","v":{"v":-18,"d":"-18.0"}},{"$f":"'법정동(2013)'!T21-'법정동(2012)'!T23","v":{"v":0,"d":"0.0"}},{"$f":"'법정동(2013)'!U21-'법정동(2012)'!U23","v":{"v":0,"d":"0.0"}},{"$f":"'법정동(2013)'!V21-'법정동(2012)'!V23","v":{"v":0,"d":"0.0"}},{"$f":"'법정동(2013)'!W21-'법정동(2012)'!W23","v":{"v":0,"d":"0.0"}},{"$f":"'법정동(2013)'!X21-'법정동(2012)'!X23","v":{"v":1367,"d":"1,367.0"}},{"$f":"'법정동(2013)'!Y21-'법정동(2012)'!Y23","v":{"v":0,"d":"0.0"}},{"$f":"'법정동(2013)'!Z21-'법정동(2012)'!Z23","v":{"v":0,"d":"0.0"}},{"$f":"'법정동(2013)'!AA21-'법정동(2012)'!AA23","v":{"v":0,"d":"0.0"}},{"$f":"'법정동(2013)'!AB21-'법정동(2012)'!AB23","v":{"v":0,"d":"0.0"}},{"$f":"'법정동(2013)'!AC21-'법정동(2012)'!AC23","v":{"v":0,"d":"0.0"}},{"$f":"'법정동(2013)'!AD21-'법정동(2012)'!AD23","v":{"v":-113,"d":"-113.0"}},{"$f":"'법정동(2013)'!AE21-'법정동(2012)'!AE23","v":{"v":3,"d":"3.0"}},{"$f":"'법정동(2013)'!AF21-'법정동(2012)'!AF23","v":{"v":0,"d":"0.0"}},{"$f":"'법정동(2013)'!AG21-'법정동(2012)'!AG23","v":{"v":0,"d":"0.0"}},{"$f":"'법정동(2013)'!AH21-'법정동(2012)'!AH23","v":{"v":0,"d":"0.0"}},{"$f":"'법정동(2013)'!AI21-'법정동(2012)'!AI23","v":{"v":0,"d":"0.0"}},{"$f":"'법정동(2013)'!AJ21-'법정동(2012)'!AJ23","v":{"v":0,"d":"0.0"}},{"$f":"'법정동(2013)'!AK21-'법정동(2012)'!AK23","v":{"v":0,"d":"0.0"}},{"$f":"'법정동(2013)'!AL21-'법정동(2012)'!AL23","v":{"v":0,"d":"0.0"}},{"$f":"'법정동(2013)'!AM21-'법정동(2012)'!AM23","v":{"v":0,"d":"0.0"}},{"$f":"'법정동(2013)'!AN21-'법정동(2012)'!AN23","v":{"v":0,"d":"0.0"}},{"$f":"'법정동(2013)'!AO21-'법정동(2012)'!AO23","v":{"v":0,"d":"0.0"}},{"$f":"'법정동(2013)'!AP21-'법정동(2012)'!AP23","v":{"v":0,"d":"0.0"}},{"$f":"'법정동(2013)'!AQ21-'법정동(2012)'!AQ23","v":{"v":0,"d":"0.0"}},{"$f":"'법정동(2013)'!AR21-'법정동(2012)'!AR23","v":{"v":0,"d":"0.0"}},{"$f":"'법정동(2013)'!AS21-'법정동(2012)'!AS23","v":{"v":0,"d":"0.0"}},{"$f":"'법정동(2013)'!AT21-'법정동(2012)'!AT23","v":{"v":0,"d":"0.0"}},{"$f":"'법정동(2013)'!AU21-'법정동(2012)'!AU23","v":{"v":0,"d":"0.0"}},{"$f":"'법정동(2013)'!AV21-'법정동(2012)'!AV23","v":{"v":0,"d":"0.0"}},{"$f":"'법정동(2013)'!AW21-'법정동(2012)'!AW23","v":{"v":0,"d":"0.0"}},{"$f":"'법정동(2013)'!AX21-'법정동(2012)'!AX23","v":{"v":0,"d":"0.0"}},{"$f":"'법정동(2013)'!AY21-'법정동(2012)'!AY23","v":{"v":0,"d":"0.0"}},{"$f":"'법정동(2013)'!AZ21-'법정동(2012)'!AZ23","v":{"v":0,"d":"0.0"}},{"$f":"'법정동(2013)'!BA21-'법정동(2012)'!BA23","v":{"v":0,"d":"0.0"}},{"$f":"'법정동(2013)'!BB21-'법정동(2012)'!BB23","v":{"v":0,"d":"0.0"}},{"$f":"'법정동(2013)'!BC21-'법정동(2012)'!BC23","v":{"v":0,"d":"0.0"}},{"$f":"'법정동(2013)'!BD21-'법정동(2012)'!BD23","v":{"v":0,"d":"0.0"}},{"$f":"'법정동(2013)'!BE21-'법정동(2012)'!BE23","v":{"v":0,"d":"0.0"}},{"$f":"'법정동(2013)'!BF21-'법정동(2012)'!BF23","v":{"v":0,"d":"0.0"}},{"$f":"'법정동(2013)'!BG21-'법정동(2012)'!BG23","v":{"v":1,"d":"1.0"}}]
["국동",{"$f":"'법정동(2013)'!B22-'법정동(2012)'!B24","v":{"v":34,"d":"34.0"}},{"$f":"'법정동(2013)'!C22-'법정동(2012)'!C24","v":{"v":3,"d":"3.0"}},{"$f":"'법정동(2013)'!D22-'법정동(2012)'!D24","v":{"v":-8949,"d":"-8,949.0"}},{"$f":"'법정동(2013)'!E22-'법정동(2012)'!E24","v":{"v":-41,"d":"-41.0"}},{"$f":"'법정동(2013)'!F22-'법정동(2012)'!F24","v":{"v":-137,"d":"-137.0"}},{"$f":"'법정동(2013)'!G22-'법정동(2012)'!G24","v":{"v":-1,"d":"-1.0"}},{"$f":"'법정동(2013)'!H22-'법정동(2012)'!H24","v":{"v":0,"d":"0.0"}},{"$f":"'법정동(2013)'!I22-'법정동(2012)'!I24","v":{"v":0,"d":"0.0"}},{"$f":"'법정동(2013)'!J22-'법정동(2012)'!J24","v":{"v":0,"d":"0.0"}},{"$f":"'법정동(2013)'!K22-'법정동(2012)'!K24","v":{"v":0,"d":"0.0"}},{"$f":"'법정동(2013)'!L22-'법정동(2012)'!L24","v":{"v":-2195,"d":"-2,195.0"}},{"$f":"'법정동(2013)'!M22-'법정동(2012)'!M24","v":{"v":-19,"d":"-19.0"}},{"$f":"'법정동(2013)'!N22-'법정동(2012)'!N24","v":{"v":0,"d":"0.0"}},{"$f":"'법정동(2013)'!O22-'법정동(2012)'!O24","v":{"v":0,"d":"0.0"}},{"$f":"'법정동(2013)'!P22-'법정동(2012)'!P24","v":{"v":0,"d":"0.0"}},{"$f":"'법정동(2013)'!Q22-'법정동(2012)'!Q24","v":{"v":0,"d":"0.0"}},{"$f":"'법정동(2013)'!R22-'법정동(2012)'!R24","v":{"v":-3859,"d":"-3,859.0"}},{"$f":"'법정동(2013)'!S22-'법정동(2012)'!S24","v":{"v":-48,"d":"-48.0"}},{"$f":"'법정동(2013)'!T22-'법정동(2012)'!T24","v":{"v":0,"d":"0.0"}},{"$f":"'법정동(2013)'!U22-'법정동(2012)'!U24","v":{"v":0,"d":"0.0"}},{"$f":"'법정동(2013)'!V22-'법정동(2012)'!V24","v":{"v":908,"d":"908.0"}},{"$f":"'법정동(2013)'!W22-'법정동(2012)'!W24","v":{"v":0,"d":"0.0"}},{"$f":"'법정동(2013)'!X22-'법정동(2012)'!X24","v":{"v":-402,"d":"-402.0"}},{"$f":"'법정동(2013)'!Y22-'법정동(2012)'!Y24","v":{"v":1,"d":"1.0"}},{"$f":"'법정동(2013)'!Z22-'법정동(2012)'!Z24","v":{"v":871,"d":"871.0"}},{"$f":"'법정동(2013)'!AA22-'법정동(2012)'!AA24","v":{"v":1,"d":"1.0"}},{"$f":"'법정동(2013)'!AB22-'법정동(2012)'!AB24","v":{"v":0,"d":"0.0"}},{"$f":"'법정동(2013)'!AC22-'법정동(2012)'!AC24","v":{"v":0,"d":"0.0"}},{"$f":"'법정동(2013)'!AD22-'법정동(2012)'!AD24","v":{"v":13517,"d":"13,517.0"}},{"$f":"'법정동(2013)'!AE22-'법정동(2012)'!AE24","v":{"v":110,"d":"110.0"}},{"$f":"'법정동(2013)'!AF22-'법정동(2012)'!AF24","v":{"v":0,"d":"0.0"}},{"$f":"'법정동(2013)'!AG22-'법정동(2012)'!AG24","v":{"v":0,"d":"0.0"}},{"$f":"'법정동(2013)'!AH22-'법정동(2012)'!AH24","v":{"v":0,"d":"0.0"}},{"$f":"'법정동(2013)'!AI22-'법정동(2012)'!AI24","v":{"v":0,"d":"0.0"}},{"$f":"'법정동(2013)'!AJ22-'법정동(2012)'!AJ24","v":{"v":0,"d":"0.0"}},{"$f":"'법정동(2013)'!AK22-'법정동(2012)'!AK24","v":{"v":0,"d":"0.0"}},{"$f":"'법정동(2013)'!AL22-'법정동(2012)'!AL24","v":{"v":0,"d":"0.0"}},{"$f":"'법정동(2013)'!AM22-'법정동(2012)'!AM24","v":{"v":0,"d":"0.0"}},{"$f":"'법정동(2013)'!AN22-'법정동(2012)'!AN24","v":{"v":0,"d":"0.0"}},{"$f":"'법정동(2013)'!AO22-'법정동(2012)'!AO24","v":{"v":0,"d":"0.0"}},{"$f":"'법정동(2013)'!AP22-'법정동(2012)'!AP24","v":{"v":0,"d":"0.0"}},{"$f":"'법정동(2013)'!AQ22-'법정동(2012)'!AQ24","v":{"v":0,"d":"0.0"}},{"$f":"'법정동(2013)'!AR22-'법정동(2012)'!AR24","v":{"v":0,"d":"0.0"}},{"$f":"'법정동(2013)'!AS22-'법정동(2012)'!AS24","v":{"v":0,"d":"0.0"}},{"$f":"'법정동(2013)'!AT22-'법정동(2012)'!AT24","v":{"v":0,"d":"0.0"}},{"$f":"'법정동(2013)'!AU22-'법정동(2012)'!AU24","v":{"v":0,"d":"0.0"}},{"$f":"'법정동(2013)'!AV22-'법정동(2012)'!AV24","v":{"v":0,"d":"0.0"}},{"$f":"'법정동(2013)'!AW22-'법정동(2012)'!AW24","v":{"v":0,"d":"0.0"}},{"$f":"'법정동(2013)'!AX22-'법정동(2012)'!AX24","v":{"v":0,"d":"0.0"}},{"$f":"'법정동(2013)'!AY22-'법정동(2012)'!AY24","v":{"v":0,"d":"0.0"}},{"$f":"'법정동(2013)'!AZ22-'법정동(2012)'!AZ24","v":{"v":462,"d":"462.0"}},{"$f":"'법정동(2013)'!BA22-'법정동(2012)'!BA24","v":{"v":3,"d":"3.0"}},{"$f":"'법정동(2013)'!BB22-'법정동(2012)'!BB24","v":{"v":0,"d":"0.0"}},{"$f":"'법정동(2013)'!BC22-'법정동(2012)'!BC24","v":{"v":0,"d":"0.0"}},{"$f":"'법정동(2013)'!BD22-'법정동(2012)'!BD24","v":{"v":0,"d":"0.0"}},{"$f":"'법정동(2013)'!BE22-'법정동(2012)'!BE24","v":{"v":0,"d":"0.0"}},{"$f":"'법정동(2013)'!BF22-'법정동(2012)'!BF24","v":{"v":-182,"d":"-182.0"}},{"$f":"'법정동(2013)'!BG22-'법정동(2012)'!BG24","v":{"v":-3,"d":"-3.0"}}]
["신월동",{"$f":"'법정동(2013)'!B23-'법정동(2012)'!B25","v":{"v":3257,"d":"3,257.0"}},{"$f":"'법정동(2013)'!C23-'법정동(2012)'!C25","v":{"v":-93,"d":"-93.0"}},{"$f":"'법정동(2013)'!D23-'법정동(2012)'!D25","v":{"v":-3385,"d":"-3,385.0"}},{"$f":"'법정동(2013)'!E23-'법정동(2012)'!E25","v":{"v":-19,"d":"-19.0"}},{"$f":"'법정동(2013)'!F23-'법정동(2012)'!F25","v":{"v":-1701,"d":"-1,701.0"}},{"$f":"'법정동(2013)'!G23-'법정동(2012)'!G25","v":{"v":-9,"d":"-9.0"}},{"$f":"'법정동(2013)'!H23-'법정동(2012)'!H25","v":{"v":0,"d":"0.0"}},{"$f":"'법정동(2013)'!I23-'법정동(2012)'!I25","v":{"v":0,"d":"0.0"}},{"$f":"'법정동(2013)'!J23-'법정동(2012)'!J25","v":{"v":0,"d":"0.0"}},{"$f":"'법정동(2013)'!K23-'법정동(2012)'!K25","v":{"v":0,"d":"0.0"}},{"$f":"'법정동(2013)'!L23-'법정동(2012)'!L25","v":{"v":-4016,"d":"-4,016.0"}},{"$f":"'법정동(2013)'!M23-'법정동(2012)'!M25","v":{"v":0,"d":"0.0"}},{"$f":"'법정동(2013)'!N23-'법정동(2012)'!N25","v":{"v":0,"d":"0.0"}},{"$f":"'법정동(2013)'!O23-'법정동(2012)'!O25","v":{"v":0,"d":"0.0"}},{"$f":"'법정동(2013)'!P23-'법정동(2012)'!P25","v":{"v":0,"d":"0.0"}},{"$f":"'법정동(2013)'!Q23-'법정동(2012)'!Q25","v":{"v":0,"d":"0.0"}},{"$f":"'법정동(2013)'!R23-'법정동(2012)'!R25","v":{"v":1405,"d":"1,405.0"}},{"$f":"'법정동(2013)'!S23-'법정동(2012)'!S25","v":{"v":1,"d":"1.0"}},{"$f":"'법정동(2013)'!T23-'법정동(2012)'!T25","v":{"v":4467,"d":"4,467.0"}},{"$f":"'법정동(2013)'!U23-'법정동(2012)'!U25","v":{"v":3,"d":"3.0"}},{"$f":"'법정동(2013)'!V23-'법정동(2012)'!V25","v":{"v":0,"d":"0.0"}},{"$f":"'법정동(2013)'!W23-'법정동(2012)'!W25","v":{"v":0,"d":"0.0"}},{"$f":"'법정동(2013)'!X23-'법정동(2012)'!X25","v":{"v":0,"d":"0.0"}},{"$f":"'법정동(2013)'!Y23-'법정동(2012)'!Y25","v":{"v":0,"d":"0.0"}},{"$f":"'법정동(2013)'!Z23-'법정동(2012)'!Z25","v":{"v":0,"d":"0.0"}},{"$f":"'법정동(2013)'!AA23-'법정동(2012)'!AA25","v":{"v":0,"d":"0.0"}},{"$f":"'법정동(2013)'!AB23-'법정동(2012)'!AB25","v":{"v":0,"d":"0.0"}},{"$f":"'법정동(2013)'!AC23-'법정동(2012)'!AC25","v":{"v":0,"d":"0.0"}},{"$f":"'법정동(2013)'!AD23-'법정동(2012)'!AD25","v":{"v":3069,"d":"3,069.0"}},{"$f":"'법정동(2013)'!AE23-'법정동(2012)'!AE25","v":{"v":-76,"d":"-76.0"}},{"$f":"'법정동(2013)'!AF23-'법정동(2012)'!AF25","v":{"v":0,"d":"0.0"}},{"$f":"'법정동(2013)'!AG23-'법정동(2012)'!AG25","v":{"v":0,"d":"0.0"}},{"$f":"'법정동(2013)'!AH23-'법정동(2012)'!AH25","v":{"v":70,"d":"70.0"}},{"$f":"'법정동(2013)'!AI23-'법정동(2012)'!AI25","v":{"v":3,"d":"3.0"}},{"$f":"'법정동(2013)'!AJ23-'법정동(2012)'!AJ25","v":{"v":0,"d":"0.0"}},{"$f":"'법정동(2013)'!AK23-'법정동(2012)'!AK25","v":{"v":0,"d":"0.0"}},{"$f":"'법정동(2013)'!AL23-'법정동(2012)'!AL25","v":{"v":0,"d":"0.0"}},{"$f":"'법정동(2013)'!AM23-'법정동(2012)'!AM25","v":{"v":0,"d":"0.0"}},{"$f":"'법정동(2013)'!AN23-'법정동(2012)'!AN25","v":{"v":0,"d":"0.0"}},{"$f":"'법정동(2013)'!AO23-'법정동(2012)'!AO25","v":{"v":0,"d":"0.0"}},{"$f":"'법정동(2013)'!AP23-'법정동(2012)'!AP25","v":{"v":0,"d":"0.0"}},{"$f":"'법정동(2013)'!AQ23-'법정동(2012)'!AQ25","v":{"v":0,"d":"0.0"}},{"$f":"'법정동(2013)'!AR23-'법정동(2012)'!AR25","v":{"v":0,"d":"0.0"}},{"$f":"'법정동(2013)'!AS23-'법정동(2012)'!AS25","v":{"v":0,"d":"0.0"}},{"$f":"'법정동(2013)'!AT23-'법정동(2012)'!AT25","v":{"v":0,"d":"0.0"}},{"$f":"'법정동(2013)'!AU23-'법정동(2012)'!AU25","v":{"v":0,"d":"0.0"}},{"$f":"'법정동(2013)'!AV23-'법정동(2012)'!AV25","v":{"v":0,"d":"0.0"}},{"$f":"'법정동(2013)'!AW23-'법정동(2012)'!AW25","v":{"v":0,"d":"0.0"}},{"$f":"'법정동(2013)'!AX23-'법정동(2012)'!AX25","v":{"v":0,"d":"0.0"}},{"$f":"'법정동(2013)'!AY23-'법정동(2012)'!AY25","v":{"v":0,"d":"0.0"}},{"$f":"'법정동(2013)'!AZ23-'법정동(2012)'!AZ25","v":{"v":419,"d":"419.0"}},{"$f":"'법정동(2013)'!BA23-'법정동(2012)'!BA25","v":{"v":0,"d":"0.0"}},{"$f":"'법정동(2013)'!BB23-'법정동(2012)'!BB25","v":{"v":0,"d":"0.0"}},{"$f":"'법정동(2013)'!BC23-'법정동(2012)'!BC25","v":{"v":0,"d":"0.0"}},{"$f":"'법정동(2013)'!BD23-'법정동(2012)'!BD25","v":{"v":0,"d":"0.0"}},{"$f":"'법정동(2013)'!BE23-'법정동(2012)'!BE25","v":{"v":0,"d":"0.0"}},{"$f":"'법정동(2013)'!BF23-'법정동(2012)'!BF25","v":{"v":2929,"d":"2,929.0"}},{"$f":"'법정동(2013)'!BG23-'법정동(2012)'!BG25","v":{"v":4,"d":"4.0"}}]
["여서동",{"$f":"'법정동(2013)'!B24-'법정동(2012)'!B26","v":{"v":0,"d":"0.0"}},{"$f":"'법정동(2013)'!C24-'법정동(2012)'!C26","v":{"v":12,"d":"12.0"}},{"$f":"'법정동(2013)'!D24-'법정동(2012)'!D26","v":{"v":0,"d":"0.0"}},{"$f":"'법정동(2013)'!E24-'법정동(2012)'!E26","v":{"v":2,"d":"2.0"}},{"$f":"'법정동(2013)'!F24-'법정동(2012)'!F26","v":{"v":0,"d":"0.0"}},{"$f":"'법정동(2013)'!G24-'법정동(2012)'!G26","v":{"v":1,"d":"1.0"}},{"$f":"'법정동(2013)'!H24-'법정동(2012)'!H26","v":{"v":0,"d":"0.0"}},{"$f":"'법정동(2013)'!I24-'법정동(2012)'!I26","v":{"v":0,"d":"0.0"}},{"$f":"'법정동(2013)'!J24-'법정동(2012)'!J26","v":{"v":0,"d":"0.0"}},{"$f":"'법정동(2013)'!K24-'법정동(2012)'!K26","v":{"v":0,"d":"0.0"}},{"$f":"'법정동(2013)'!L24-'법정동(2012)'!L26","v":{"v":0,"d":"0.0"}},{"$f":"'법정동(2013)'!M24-'법정동(2012)'!M26","v":{"v":7,"d":"7.0"}},{"$f":"'법정동(2013)'!N24-'법정동(2012)'!N26","v":{"v":0,"d":"0.0"}},{"$f":"'법정동(2013)'!O24-'법정동(2012)'!O26","v":{"v":0,"d":"0.0"}},{"$f":"'법정동(2013)'!P24-'법정동(2012)'!P26","v":{"v":0,"d":"0.0"}},{"$f":"'법정동(2013)'!Q24-'법정동(2012)'!Q26","v":{"v":0,"d":"0.0"}},{"$f":"'법정동(2013)'!R24-'법정동(2012)'!R26","v":{"v":5.299999999930151,"d":"5.3"}},{"$f":"'법정동(2013)'!S24-'법정동(2012)'!S26","v":{"v":0,"d":"0.0"}},{"$f":"'법정동(2013)'!T24-'법정동(2012)'!T26","v":{"v":0,"d":"0.0"}},{"$f":"'법정동(2013)'!U24-'법정동(2012)'!U26","v":{"v":0,"d":"0.0"}},{"$f":"'법정동(2013)'!V24-'법정동(2012)'!V26","v":{"v":0,"d":"0.0"}},{"$f":"'법정동(2013)'!W24-'법정동(2012)'!W26","v":{"v":0,"d":"0.0"}},{"$f":"'법정동(2013)'!X24-'법정동(2012)'!X26","v":{"v":0,"d":"0.0"}},{"$f":"'법정동(2013)'!Y24-'법정동(2012)'!Y26","v":{"v":0,"d":"0.0"}},{"$f":"'법정동(2013)'!Z24-'법정동(2012)'!Z26","v":{"v":0,"d":"0.0"}},{"$f":"'법정동(2013)'!AA24-'법정동(2012)'!AA26","v":{"v":0,"d":"0.0"}},{"$f":"'법정동(2013)'!AB24-'법정동(2012)'!AB26","v":{"v":0,"d":"0.0"}},{"$f":"'법정동(2013)'!AC24-'법정동(2012)'!AC26","v":{"v":0,"d":"0.0"}},{"$f":"'법정동(2013)'!AD24-'법정동(2012)'!AD26","v":{"v":-5.2999999999883585,"d":"-5.3"}},{"$f":"'법정동(2013)'!AE24-'법정동(2012)'!AE26","v":{"v":2,"d":"2.0"}},{"$f":"'법정동(2013)'!AF24-'법정동(2012)'!AF26","v":{"v":0,"d":"0.0"}},{"$f":"'법정동(2013)'!AG24-'법정동(2012)'!AG26","v":{"v":0,"d":"0.0"}},{"$f":"'법정동(2013)'!AH24-'법정동(2012)'!AH26","v":{"v":0,"d":"0.0"}},{"$f":"'법정동(2013)'!AI24-'법정동(2012)'!AI26","v":{"v":0,"d":"0.0"}},{"$f":"'법정동(2013)'!AJ24-'법정동(2012)'!AJ26","v":{"v":0,"d":"0.0"}},{"$f":"'법정동(2013)'!AK24-'법정동(2012)'!AK26","v":{"v":0,"d":"0.0"}},{"$f":"'법정동(2013)'!AL24-'법정동(2012)'!AL26","v":{"v":0,"d":"0.0"}},{"$f":"'법정동(2013)'!AM24-'법정동(2012)'!AM26","v":{"v":0,"d":"0.0"}},{"$f":"'법정동(2013)'!AN24-'법정동(2012)'!AN26","v":{"v":0,"d":"0.0"}},{"$f":"'법정동(2013)'!AO24-'법정동(2012)'!AO26","v":{"v":0,"d":"0.0"}},{"$f":"'법정동(2013)'!AP24-'법정동(2012)'!AP26","v":{"v":0,"d":"0.0"}},{"$f":"'법정동(2013)'!AQ24-'법정동(2012)'!AQ26","v":{"v":0,"d":"0.0"}},{"$f":"'법정동(2013)'!AR24-'법정동(2012)'!AR26","v":{"v":0,"d":"0.0"}},{"$f":"'법정동(2013)'!AS24-'법정동(2012)'!AS26","v":{"v":0,"d":"0.0"}},{"$f":"'법정동(2013)'!AT24-'법정동(2012)'!AT26","v":{"v":0,"d":"0.0"}},{"$f":"'법정동(2013)'!AU24-'법정동(2012)'!AU26","v":{"v":0,"d":"0.0"}},{"$f":"'법정동(2013)'!AV24-'법정동(2012)'!AV26","v":{"v":0,"d":"0.0"}},{"$f":"'법정동(2013)'!AW24-'법정동(2012)'!AW26","v":{"v":0,"d":"0.0"}},{"$f":"'법정동(2013)'!AX24-'법정동(2012)'!AX26","v":{"v":0,"d":"0.0"}},{"$f":"'법정동(2013)'!AY24-'법정동(2012)'!AY26","v":{"v":0,"d":"0.0"}},{"$f":"'법정동(2013)'!AZ24-'법정동(2012)'!AZ26","v":{"v":0,"d":"0.0"}},{"$f":"'법정동(2013)'!BA24-'법정동(2012)'!BA26","v":{"v":0,"d":"0.0"}},{"$f":"'법정동(2013)'!BB24-'법정동(2012)'!BB26","v":{"v":0,"d":"0.0"}},{"$f":"'법정동(2013)'!BC24-'법정동(2012)'!BC26","v":{"v":0,"d":"0.0"}},{"$f":"'법정동(2013)'!BD24-'법정동(2012)'!BD26","v":{"v":0,"d":"0.0"}},{"$f":"'법정동(2013)'!BE24-'법정동(2012)'!BE26","v":{"v":0,"d":"0.0"}},{"$f":"'법정동(2013)'!BF24-'법정동(2012)'!BF26","v":{"v":0,"d":"0.0"}},{"$f":"'법정동(2013)'!BG24-'법정동(2012)'!BG26","v":{"v":0,"d":"0.0"}}]
["문수동",{"$f":"'법정동(2013)'!B25-'법정동(2012)'!B27","v":{"v":-490.99999999953434,"d":"-491.0"}},{"$f":"'법정동(2013)'!C25-'법정동(2012)'!C27","v":{"v":-28,"d":"-28.0"}},{"$f":"'법정동(2013)'!D25-'법정동(2012)'!D27","v":{"v":-1273,"d":"-1,273.0"}},{"$f":"'법정동(2013)'!E25-'법정동(2012)'!E27","v":{"v":-8,"d":"-8.0"}},{"$f":"'법정동(2013)'!F25-'법정동(2012)'!F27","v":{"v":-929,"d":"-929.0"}},{"$f":"'법정동(2013)'!G25-'법정동(2012)'!G27","v":{"v":-1,"d":"-1.0"}},{"$f":"'법정동(2013)'!H25-'법정동(2012)'!H27","v":{"v":0,"d":"0.0"}},{"$f":"'법정동(2013)'!I25-'법정동(2012)'!I27","v":{"v":0,"d":"0.0"}},{"$f":"'법정동(2013)'!J25-'법정동(2012)'!J27","v":{"v":0,"d":"0.0"}},{"$f":"'법정동(2013)'!K25-'법정동(2012)'!K27","v":{"v":0,"d":"0.0"}},{"$f":"'법정동(2013)'!L25-'법정동(2012)'!L27","v":{"v":-491,"d":"-491.0"}},{"$f":"'법정동(2013)'!M25-'법정동(2012)'!M27","v":{"v":1,"d":"1.0"}},{"$f":"'법정동(2013)'!N25-'법정동(2012)'!N27","v":{"v":0,"d":"0.0"}},{"$f":"'법정동(2013)'!O25-'법정동(2012)'!O27","v":{"v":0,"d":"0.0"}},{"$f":"'법정동(2013)'!P25-'법정동(2012)'!P27","v":{"v":0,"d":"0.0"}},{"$f":"'법정동(2013)'!Q25-'법정동(2012)'!Q27","v":{"v":0,"d":"0.0"}},{"$f":"'법정동(2013)'!R25-'법정동(2012)'!R27","v":{"v":485,"d":"485.0"}},{"$f":"'법정동(2013)'!S25-'법정동(2012)'!S27","v":{"v":-12,"d":"-12.0"}},{"$f":"'법정동(2013)'!T25-'법정동(2012)'!T27","v":{"v":0,"d":"0.0"}},{"$f":"'법정동(2013)'!U25-'법정동(2012)'!U27","v":{"v":0,"d":"0.0"}},{"$f":"'법정동(2013)'!V25-'법정동(2012)'!V27","v":{"v":0,"d":"0.0"}},{"$f":"'법정동(2013)'!W25-'법정동(2012)'!W27","v":{"v":0,"d":"0.0"}},{"$f":"'법정동(2013)'!X25-'법정동(2012)'!X27","v":{"v":-173,"d":"-173.0"}},{"$f":"'법정동(2013)'!Y25-'법정동(2012)'!Y27","v":{"v":-11,"d":"-11.0"}},{"$f":"'법정동(2013)'!Z25-'법정동(2012)'!Z27","v":{"v":0,"d":"0.0"}},{"$f":"'법정동(2013)'!AA25-'법정동(2012)'!AA27","v":{"v":0,"d":"0.0"}},{"$f":"'법정동(2013)'!AB25-'법정동(2012)'!AB27","v":{"v":0,"d":"0.0"}},{"$f":"'법정동(2013)'!AC25-'법정동(2012)'!AC27","v":{"v":0,"d":"0.0"}},{"$f":"'법정동(2013)'!AD25-'법정동(2012)'!AD27","v":{"v":1890,"d":"1,890.0"}},{"$f":"'법정동(2013)'!AE25-'법정동(2012)'!AE27","v":{"v":3,"d":"3.0"}},{"$f":"'법정동(2013)'!AF25-'법정동(2012)'!AF27","v":{"v":0,"d":"0.0"}},{"$f":"'법정동(2013)'!AG25-'법정동(2012)'!AG27","v":{"v":0,"d":"0.0"}},{"$f":"'법정동(2013)'!AH25-'법정동(2012)'!AH27","v":{"v":0,"d":"0.0"}},{"$f":"'법정동(2013)'!AI25-'법정동(2012)'!AI27","v":{"v":0,"d":"0.0"}},{"$f":"'법정동(2013)'!AJ25-'법정동(2012)'!AJ27","v":{"v":0,"d":"0.0"}},{"$f":"'법정동(2013)'!AK25-'법정동(2012)'!AK27","v":{"v":0,"d":"0.0"}},{"$f":"'법정동(2013)'!AL25-'법정동(2012)'!AL27","v":{"v":0,"d":"0.0"}},{"$f":"'법정동(2013)'!AM25-'법정동(2012)'!AM27","v":{"v":0,"d":"0.0"}},{"$f":"'법정동(2013)'!AN25-'법정동(2012)'!AN27","v":{"v":0,"d":"0.0"}},{"$f":"'법정동(2013)'!AO25-'법정동(2012)'!AO27","v":{"v":0,"d":"0.0"}},{"$f":"'법정동(2013)'!AP25-'법정동(2012)'!AP27","v":{"v":0,"d":"0.0"}},{"$f":"'법정동(2013)'!AQ25-'법정동(2012)'!AQ27","v":{"v":0,"d":"0.0"}},{"$f":"'법정동(2013)'!AR25-'법정동(2012)'!AR27","v":{"v":0,"d":"0.0"}},{"$f":"'법정동(2013)'!AS25-'법정동(2012)'!AS27","v":{"v":0,"d":"0.0"}},{"$f":"'법정동(2013)'!AT25-'법정동(2012)'!AT27","v":{"v":0,"d":"0.0"}},{"$f":"'법정동(2013)'!AU25-'법정동(2012)'!AU27","v":{"v":0,"d":"0.0"}},{"$f":"'법정동(2013)'!AV25-'법정동(2012)'!AV27","v":{"v":0,"d":"0.0"}},{"$f":"'법정동(2013)'!AW25-'법정동(2012)'!AW27","v":{"v":0,"d":"0.0"}},{"$f":"'법정동(2013)'!AX25-'법정동(2012)'!AX27","v":{"v":0,"d":"0.0"}},{"$f":"'법정동(2013)'!AY25-'법정동(2012)'!AY27","v":{"v":0,"d":"0.0"}},{"$f":"'법정동(2013)'!AZ25-'법정동(2012)'!AZ27","v":{"v":0,"d":"0.0"}},{"$f":"'법정동(2013)'!BA25-'법정동(2012)'!BA27","v":{"v":0,"d":"0.0"}},{"$f":"'법정동(2013)'!BB25-'법정동(2012)'!BB27","v":{"v":0,"d":"0.0"}},{"$f":"'법정동(2013)'!BC25-'법정동(2012)'!BC27","v":{"v":0,"d":"0.0"}},{"$f":"'법정동(2013)'!BD25-'법정동(2012)'!BD27","v":{"v":0,"d":"0.0"}},{"$f":"'법정동(2013)'!BE25-'법정동(2012)'!BE27","v":{"v":0,"d":"0.0"}},{"$f":"'법정동(2013)'!BF25-'법정동(2012)'!BF27","v":{"v":0,"d":"0.0"}},{"$f":"'법정동(2013)'!BG25-'법정동(2012)'!BG27","v":{"v":0,"d":"0.0"}}]
["오림동",{"$f":"'법정동(2013)'!B26-'법정동(2012)'!B28","v":{"v":-174,"d":"-174.0"}},{"$f":"'법정동(2013)'!C26-'법정동(2012)'!C28","v":{"v":6,"d":"6.0"}},{"$f":"'법정동(2013)'!D26-'법정동(2012)'!D28","v":{"v":-49,"d":"-49.0"}},{"$f":"'법정동(2013)'!E26-'법정동(2012)'!E28","v":{"v":1,"d":"1.0"}},{"$f":"'법정동(2013)'!F26-'법정동(2012)'!F28","v":{"v":0,"d":"0.0"}},{"$f":"'법정동(2013)'!G26-'법정동(2012)'!G28","v":{"v":1,"d":"1.0"}},{"$f":"'법정동(2013)'!H26-'법정동(2012)'!H28","v":{"v":0,"d":"0.0"}},{"$f":"'법정동(2013)'!I26-'법정동(2012)'!I28","v":{"v":0,"d":"0.0"}},{"$f":"'법정동(2013)'!J26-'법정동(2012)'!J28","v":{"v":0,"d":"0.0"}},{"$f":"'법정동(2013)'!K26-'법정동(2012)'!K28","v":{"v":0,"d":"0.0"}},{"$f":"'법정동(2013)'!L26-'법정동(2012)'!L28","v":{"v":0,"d":"0.0"}},{"$f":"'법정동(2013)'!M26-'법정동(2012)'!M28","v":{"v":0,"d":"0.0"}},{"$f":"'법정동(2013)'!N26-'법정동(2012)'!N28","v":{"v":0,"d":"0.0"}},{"$f":"'법정동(2013)'!O26-'법정동(2012)'!O28","v":{"v":0,"d":"0.0"}},{"$f":"'법정동(2013)'!P26-'법정동(2012)'!P28","v":{"v":0,"d":"0.0"}},{"$f":"'법정동(2013)'!Q26-'법정동(2012)'!Q28","v":{"v":0,"d":"0.0"}},{"$f":"'법정동(2013)'!R26-'법정동(2012)'!R28","v":{"v":0,"d":"0.0"}},{"$f":"'법정동(2013)'!S26-'법정동(2012)'!S28","v":{"v":4,"d":"4.0"}},{"$f":"'법정동(2013)'!T26-'법정동(2012)'!T28","v":{"v":0,"d":"0.0"}},{"$f":"'법정동(2013)'!U26-'법정동(2012)'!U28","v":{"v":0,"d":"0.0"}},{"$f":"'법정동(2013)'!V26-'법정동(2012)'!V28","v":{"v":0,"d":"0.0"}},{"$f":"'법정동(2013)'!W26-'법정동(2012)'!W28","v":{"v":0,"d":"0.0"}},{"$f":"'법정동(2013)'!X26-'법정동(2012)'!X28","v":{"v":0,"d":"0.0"}},{"$f":"'법정동(2013)'!Y26-'법정동(2012)'!Y28","v":{"v":0,"d":"0.0"}},{"$f":"'법정동(2013)'!Z26-'법정동(2012)'!Z28","v":{"v":0,"d":"0.0"}},{"$f":"'법정동(2013)'!AA26-'법정동(2012)'!AA28","v":{"v":0,"d":"0.0"}},{"$f":"'법정동(2013)'!AB26-'법정동(2012)'!AB28","v":{"v":0,"d":"0.0"}},{"$f":"'법정동(2013)'!AC26-'법정동(2012)'!AC28","v":{"v":0,"d":"0.0"}},{"$f":"'법정동(2013)'!AD26-'법정동(2012)'!AD28","v":{"v":0,"d":"0.0"}},{"$f":"'법정동(2013)'!AE26-'법정동(2012)'!AE28","v":{"v":0,"d":"0.0"}},{"$f":"'법정동(2013)'!AF26-'법정동(2012)'!AF28","v":{"v":0,"d":"0.0"}},{"$f":"'법정동(2013)'!AG26-'법정동(2012)'!AG28","v":{"v":0,"d":"0.0"}},{"$f":"'법정동(2013)'!AH26-'법정동(2012)'!AH28","v":{"v":0,"d":"0.0"}},{"$f":"'법정동(2013)'!AI26-'법정동(2012)'!AI28","v":{"v":0,"d":"0.0"}},{"$f":"'법정동(2013)'!AJ26-'법정동(2012)'!AJ28","v":{"v":0,"d":"0.0"}},{"$f":"'법정동(2013)'!AK26-'법정동(2012)'!AK28","v":{"v":0,"d":"0.0"}},{"$f":"'법정동(2013)'!AL26-'법정동(2012)'!AL28","v":{"v":-125,"d":"-125.0"}},{"$f":"'법정동(2013)'!AM26-'법정동(2012)'!AM28","v":{"v":0,"d":"0.0"}},{"$f":"'법정동(2013)'!AN26-'법정동(2012)'!AN28","v":{"v":0,"d":"0.0"}},{"$f":"'법정동(2013)'!AO26-'법정동(2012)'!AO28","v":{"v":0,"d":"0.0"}},{"$f":"'법정동(2013)'!AP26-'법정동(2012)'!AP28","v":{"v":0,"d":"0.0"}},{"$f":"'법정동(2013)'!AQ26-'법정동(2012)'!AQ28","v":{"v":0,"d":"0.0"}},{"$f":"'법정동(2013)'!AR26-'법정동(2012)'!AR28","v":{"v":0,"d":"0.0"}},{"$f":"'법정동(2013)'!AS26-'법정동(2012)'!AS28","v":{"v":0,"d":"0.0"}},{"$f":"'법정동(2013)'!AT26-'법정동(2012)'!AT28","v":{"v":0,"d":"0.0"}},{"$f":"'법정동(2013)'!AU26-'법정동(2012)'!AU28","v":{"v":0,"d":"0.0"}},{"$f":"'법정동(2013)'!AV26-'법정동(2012)'!AV28","v":{"v":0,"d":"0.0"}},{"$f":"'법정동(2013)'!AW26-'법정동(2012)'!AW28","v":{"v":0,"d":"0.0"}},{"$f":"'법정동(2013)'!AX26-'법정동(2012)'!AX28","v":{"v":0,"d":"0.0"}},{"$f":"'법정동(2013)'!AY26-'법정동(2012)'!AY28","v":{"v":0,"d":"0.0"}},{"$f":"'법정동(2013)'!AZ26-'법정동(2012)'!AZ28","v":{"v":0,"d":"0.0"}},{"$f":"'법정동(2013)'!BA26-'법정동(2012)'!BA28","v":{"v":0,"d":"0.0"}},{"$f":"'법정동(2013)'!BB26-'법정동(2012)'!BB28","v":{"v":0,"d":"0.0"}},{"$f":"'법정동(2013)'!BC26-'법정동(2012)'!BC28","v":{"v":0,"d":"0.0"}},{"$f":"'법정동(2013)'!BD26-'법정동(2012)'!BD28","v":{"v":0,"d":"0.0"}},{"$f":"'법정동(2013)'!BE26-'법정동(2012)'!BE28","v":{"v":0,"d":"0.0"}},{"$f":"'법정동(2013)'!BF26-'법정동(2012)'!BF28","v":{"v":0,"d":"0.0"}},{"$f":"'법정동(2013)'!BG26-'법정동(2012)'!BG28","v":{"v":0,"d":"0.0"}}]
["미평동",{"$f":"'법정동(2013)'!B27-'법정동(2012)'!B29","v":{"v":0,"d":"0.0"}},{"$f":"'법정동(2013)'!C27-'법정동(2012)'!C29","v":{"v":-34,"d":"-34.0"}},{"$f":"'법정동(2013)'!D27-'법정동(2012)'!D29","v":{"v":-6092,"d":"-6,092.0"}},{"$f":"'법정동(2013)'!E27-'법정동(2012)'!E29","v":{"v":-23,"d":"-23.0"}},{"$f":"'법정동(2013)'!F27-'법정동(2012)'!F29","v":{"v":-5689,"d":"-5,689.0"}},{"$f":"'법정동(2013)'!G27-'법정동(2012)'!G29","v":{"v":-2,"d":"-2.0"}},{"$f":"'법정동(2013)'!H27-'법정동(2012)'!H29","v":{"v":0,"d":"0.0"}},{"$f":"'법정동(2013)'!I27-'법정동(2012)'!I29","v":{"v":0,"d":"0.0"}},{"$f":"'법정동(2013)'!J27-'법정동(2012)'!J29","v":{"v":0,"d":"0.0"}},{"$f":"'법정동(2013)'!K27-'법정동(2012)'!K29","v":{"v":0,"d":"0.0"}},{"$f":"'법정동(2013)'!L27-'법정동(2012)'!L29","v":{"v":-67597,"d":"-67,597.0"}},{"$f":"'법정동(2013)'!M27-'법정동(2012)'!M29","v":{"v":-20,"d":"-20.0"}},{"$f":"'법정동(2013)'!N27-'법정동(2012)'!N29","v":{"v":0,"d":"0.0"}},{"$f":"'법정동(2013)'!O27-'법정동(2012)'!O29","v":{"v":0,"d":"0.0"}},{"$f":"'법정동(2013)'!P27-'법정동(2012)'!P29","v":{"v":0,"d":"0.0"}},{"$f":"'법정동(2013)'!Q27-'법정동(2012)'!Q29","v":{"v":0,"d":"0.0"}},{"$f":"'법정동(2013)'!R27-'법정동(2012)'!R29","v":{"v":4850.599999999977,"d":"4,850.6"}},{"$f":"'법정동(2013)'!S27-'법정동(2012)'!S29","v":{"v":11,"d":"11.0"}},{"$f":"'법정동(2013)'!T27-'법정동(2012)'!T29","v":{"v":0,"d":"0.0"}},{"$f":"'법정동(2013)'!U27-'법정동(2012)'!U29","v":{"v":0,"d":"0.0"}},{"$f":"'법정동(2013)'!V27-'법정동(2012)'!V29","v":{"v":0,"d":"0.0"}},{"$f":"'법정동(2013)'!W27-'법정동(2012)'!W29","v":{"v":0,"d":"0.0"}},{"$f":"'법정동(2013)'!X27-'법정동(2012)'!X29","v":{"v":1460,"d":"1,460.0"}},{"$f":"'법정동(2013)'!Y27-'법정동(2012)'!Y29","v":{"v":3,"d":"3.0"}},{"$f":"'법정동(2013)'!Z27-'법정동(2012)'!Z29","v":{"v":0,"d":"0.0"}},{"$f":"'법정동(2013)'!AA27-'법정동(2012)'!AA29","v":{"v":0,"d":"0.0"}},{"$f":"'법정동(2013)'!AB27-'법정동(2012)'!AB29","v":{"v":0,"d":"0.0"}},{"$f":"'법정동(2013)'!AC27-'법정동(2012)'!AC29","v":{"v":0,"d":"0.0"}},{"$f":"'법정동(2013)'!AD27-'법정동(2012)'!AD29","v":{"v":89050.00000000003,"d":"89,050.0"}},{"$f":"'법정동(2013)'!AE27-'법정동(2012)'!AE29","v":{"v":5,"d":"5.0"}},{"$f":"'법정동(2013)'!AF27-'법정동(2012)'!AF29","v":{"v":0,"d":"0.0"}},{"$f":"'법정동(2013)'!AG27-'법정동(2012)'!AG29","v":{"v":0,"d":"0.0"}},{"$f":"'법정동(2013)'!AH27-'법정동(2012)'!AH29","v":{"v":0,"d":"0.0"}},{"$f":"'법정동(2013)'!AI27-'법정동(2012)'!AI29","v":{"v":0,"d":"0.0"}},{"$f":"'법정동(2013)'!AJ27-'법정동(2012)'!AJ29","v":{"v":0,"d":"0.0"}},{"$f":"'법정동(2013)'!AK27-'법정동(2012)'!AK29","v":{"v":0,"d":"0.0"}},{"$f":"'법정동(2013)'!AL27-'법정동(2012)'!AL29","v":{"v":-109,"d":"-109.0"}},{"$f":"'법정동(2013)'!AM27-'법정동(2012)'!AM29","v":{"v":-2,"d":"-2.0"}},{"$f":"'법정동(2013)'!AN27-'법정동(2012)'!AN29","v":{"v":0,"d":"0.0"}},{"$f":"'법정동(2013)'!AO27-'법정동(2012)'!AO29","v":{"v":0,"d":"0.0"}},{"$f":"'법정동(2013)'!AP27-'법정동(2012)'!AP29","v":{"v":0,"d":"0.0"}},{"$f":"'법정동(2013)'!AQ27-'법정동(2012)'!AQ29","v":{"v":0,"d":"0.0"}},{"$f":"'법정동(2013)'!AR27-'법정동(2012)'!AR29","v":{"v":-15443,"d":"-15,443.0"}},{"$f":"'법정동(2013)'!AS27-'법정동(2012)'!AS29","v":{"v":-5,"d":"-5.0"}},{"$f":"'법정동(2013)'!AT27-'법정동(2012)'!AT29","v":{"v":0,"d":"0.0"}},{"$f":"'법정동(2013)'!AU27-'법정동(2012)'!AU29","v":{"v":0,"d":"0.0"}},{"$f":"'법정동(2013)'!AV27-'법정동(2012)'!AV29","v":{"v":0,"d":"0.0"}},{"$f":"'법정동(2013)'!AW27-'법정동(2012)'!AW29","v":{"v":0,"d":"0.0"}},{"$f":"'법정동(2013)'!AX27-'법정동(2012)'!AX29","v":{"v":0,"d":"0.0"}},{"$f":"'법정동(2013)'!AY27-'법정동(2012)'!AY29","v":{"v":0,"d":"0.0"}},{"$f":"'법정동(2013)'!AZ27-'법정동(2012)'!AZ29","v":{"v":0,"d":"0.0"}},{"$f":"'법정동(2013)'!BA27-'법정동(2012)'!BA29","v":{"v":0,"d":"0.0"}},{"$f":"'법정동(2013)'!BB27-'법정동(2012)'!BB29","v":{"v":0,"d":"0.0"}},{"$f":"'법정동(2013)'!BC27-'법정동(2012)'!BC29","v":{"v":0,"d":"0.0"}},{"$f":"'법정동(2013)'!BD27-'법정동(2012)'!BD29","v":{"v":0,"d":"0.0"}},{"$f":"'법정동(2013)'!BE27-'법정동(2012)'!BE29","v":{"v":0,"d":"0.0"}},{"$f":"'법정동(2013)'!BF27-'법정동(2012)'!BF29","v":{"v":-430.6000000000058,"d":"-430.6"}},{"$f":"'법정동(2013)'!BG27-'법정동(2012)'!BG29","v":{"v":-1,"d":"-1.0"}}]
["둔덕동",{"$f":"'법정동(2013)'!B28-'법정동(2012)'!B30","v":{"v":0,"d":"0.0"}},{"$f":"'법정동(2013)'!C28-'법정동(2012)'!C30","v":{"v":-74,"d":"-74.0"}},{"$f":"'법정동(2013)'!D28-'법정동(2012)'!D30","v":{"v":-5289,"d":"-5,289.0"}},{"$f":"'법정동(2013)'!E28-'법정동(2012)'!E30","v":{"v":-17,"d":"-17.0"}},{"$f":"'법정동(2013)'!F28-'법정동(2012)'!F30","v":{"v":-2840,"d":"-2,840.0"}},{"$f":"'법정동(2013)'!G28-'법정동(2012)'!G30","v":{"v":-9,"d":"-9.0"}},{"$f":"'법정동(2013)'!H28-'법정동(2012)'!H30","v":{"v":0,"d":"0.0"}},{"$f":"'법정동(2013)'!I28-'법정동(2012)'!I30","v":{"v":0,"d":"0.0"}},{"$f":"'법정동(2013)'!J28-'법정동(2012)'!J30","v":{"v":0,"d":"0.0"}},{"$f":"'법정동(2013)'!K28-'법정동(2012)'!K30","v":{"v":0,"d":"0.0"}},{"$f":"'법정동(2013)'!L28-'법정동(2012)'!L30","v":{"v":-141448,"d":"-141,448.0"}},{"$f":"'법정동(2013)'!M28-'법정동(2012)'!M30","v":{"v":-67,"d":"-67.0"}},{"$f":"'법정동(2013)'!N28-'법정동(2012)'!N30","v":{"v":0,"d":"0.0"}},{"$f":"'법정동(2013)'!O28-'법정동(2012)'!O30","v":{"v":0,"d":"0.0"}},{"$f":"'법정동(2013)'!P28-'법정동(2012)'!P30","v":{"v":0,"d":"0.0"}},{"$f":"'법정동(2013)'!Q28-'법정동(2012)'!Q30","v":{"v":0,"d":"0.0"}},{"$f":"'법정동(2013)'!R28-'법정동(2012)'!R30","v":{"v":9336.200000000012,"d":"9,336.2"}},{"$f":"'법정동(2013)'!S28-'법정동(2012)'!S30","v":{"v":-1,"d":"-1.0"}},{"$f":"'법정동(2013)'!T28-'법정동(2012)'!T30","v":{"v":0,"d":"0.0"}},{"$f":"'법정동(2013)'!U28-'법정동(2012)'!U30","v":{"v":0,"d":"0.0"}},{"$f":"'법정동(2013)'!V28-'법정동(2012)'!V30","v":{"v":722,"d":"722.0"}},{"$f":"'법정동(2013)'!W28-'법정동(2012)'!W30","v":{"v":1,"d":"1.0"}},{"$f":"'법정동(2013)'!X28-'법정동(2012)'!X30","v":{"v":1525.7999999999997,"d":"1,525.8"}},{"$f":"'법정동(2013)'!Y28-'법정동(2012)'!Y30","v":{"v":8,"d":"8.0"}},{"$f":"'법정동(2013)'!Z28-'법정동(2012)'!Z30","v":{"v":0,"d":"0.0"}},{"$f":"'법정동(2013)'!AA28-'법정동(2012)'!AA30","v":{"v":0,"d":"0.0"}},{"$f":"'법정동(2013)'!AB28-'법정동(2012)'!AB30","v":{"v":0,"d":"0.0"}},{"$f":"'법정동(2013)'!AC28-'법정동(2012)'!AC30","v":{"v":0,"d":"0.0"}},{"$f":"'법정동(2013)'!AD28-'법정동(2012)'!AD30","v":{"v":137739.99999999997,"d":"137,740.0"}},{"$f":"'법정동(2013)'!AE28-'법정동(2012)'!AE30","v":{"v":14,"d":"14.0"}},{"$f":"'법정동(2013)'!AF28-'법정동(2012)'!AF30","v":{"v":0,"d":"0.0"}},{"$f":"'법정동(2013)'!AG28-'법정동(2012)'!AG30","v":{"v":0,"d":"0.0"}},{"$f":"'법정동(2013)'!AH28-'법정동(2012)'!AH30","v":{"v":0,"d":"0.0"}},{"$f":"'법정동(2013)'!AI28-'법정동(2012)'!AI30","v":{"v":0,"d":"0.0"}},{"$f":"'법정동(2013)'!AJ28-'법정동(2012)'!AJ30","v":{"v":0,"d":"0.0"}},{"$f":"'법정동(2013)'!AK28-'법정동(2012)'!AK30","v":{"v":0,"d":"0.0"}},{"$f":"'법정동(2013)'!AL28-'법정동(2012)'!AL30","v":{"v":-43,"d":"-43.0"}},{"$f":"'법정동(2013)'!AM28-'법정동(2012)'!AM30","v":{"v":-2,"d":"-2.0"}},{"$f":"'법정동(2013)'!AN28-'법정동(2012)'!AN30","v":{"v":0,"d":"0.0"}},{"$f":"'법정동(2013)'!AO28-'법정동(2012)'!AO30","v":{"v":0,"d":"0.0"}},{"$f":"'법정동(2013)'!AP28-'법정동(2012)'!AP30","v":{"v":0,"d":"0.0"}},{"$f":"'법정동(2013)'!AQ28-'법정동(2012)'!AQ30","v":{"v":0,"d":"0.0"}},{"$f":"'법정동(2013)'!AR28-'법정동(2012)'!AR30","v":{"v":0,"d":"0.0"}},{"$f":"'법정동(2013)'!AS28-'법정동(2012)'!AS30","v":{"v":0,"d":"0.0"}},{"$f":"'법정동(2013)'!AT28-'법정동(2012)'!AT30","v":{"v":0,"d":"0.0"}},{"$f":"'법정동(2013)'!AU28-'법정동(2012)'!AU30","v":{"v":0,"d":"0.0"}},{"$f":"'법정동(2013)'!AV28-'법정동(2012)'!AV30","v":{"v":0,"d":"0.0"}},{"$f":"'법정동(2013)'!AW28-'법정동(2012)'!AW30","v":{"v":0,"d":"0.0"}},{"$f":"'법정동(2013)'!AX28-'법정동(2012)'!AX30","v":{"v":0,"d":"0.0"}},{"$f":"'법정동(2013)'!AY28-'법정동(2012)'!AY30","v":{"v":0,"d":"0.0"}},{"$f":"'법정동(2013)'!AZ28-'법정동(2012)'!AZ30","v":{"v":0,"d":"0.0"}},{"$f":"'법정동(2013)'!BA28-'법정동(2012)'!BA30","v":{"v":0,"d":"0.0"}},{"$f":"'법정동(2013)'!BB28-'법정동(2012)'!BB30","v":{"v":0,"d":"0.0"}},{"$f":"'법정동(2013)'!BC28-'법정동(2012)'!BC30","v":{"v":0,"d":"0.0"}},{"$f":"'법정동(2013)'!BD28-'법정동(2012)'!BD30","v":{"v":0,"d":"0.0"}},{"$f":"'법정동(2013)'!BE28-'법정동(2012)'!BE30","v":{"v":0,"d":"0.0"}},{"$f":"'법정동(2013)'!BF28-'법정동(2012)'!BF30","v":{"v":296,"d":"296.0"}},{"$f":"'법정동(2013)'!BG28-'법정동(2012)'!BG30","v":{"v":-1,"d":"-1.0"}}]
["오천동",{"$f":"'법정동(2013)'!B29-'법정동(2012)'!B31","v":{"v":0,"d":"0.0"}},{"$f":"'법정동(2013)'!C29-'법정동(2012)'!C31","v":{"v":7,"d":"7.0"}},{"$f":"'법정동(2013)'!D29-'법정동(2012)'!D31","v":{"v":0,"d":"0.0"}},{"$f":"'법정동(2013)'!E29-'법정동(2012)'!E31","v":{"v":1,"d":"1.0"}},{"$f":"'법정동(2013)'!F29-'법정동(2012)'!F31","v":{"v":-60,"d":"-60.0"}},{"$f":"'법정동(2013)'!G29-'법정동(2012)'!G31","v":{"v":1,"d":"1.0"}},{"$f":"'법정동(2013)'!H29-'법정동(2012)'!H31","v":{"v":0,"d":"0.0"}},{"$f":"'법정동(2013)'!I29-'법정동(2012)'!I31","v":{"v":0,"d":"0.0"}},{"$f":"'법정동(2013)'!J29-'법정동(2012)'!J31","v":{"v":0,"d":"0.0"}},{"$f":"'법정동(2013)'!K29-'법정동(2012)'!K31","v":{"v":0,"d":"0.0"}},{"$f":"'법정동(2013)'!L29-'법정동(2012)'!L31","v":{"v":-730,"d":"-730.0"}},{"$f":"'법정동(2013)'!M29-'법정동(2012)'!M31","v":{"v":-1,"d":"-1.0"}},{"$f":"'법정동(2013)'!N29-'법정동(2012)'!N31","v":{"v":0,"d":"0.0"}},{"$f":"'법정동(2013)'!O29-'법정동(2012)'!O31","v":{"v":0,"d":"0.0"}},{"$f":"'법정동(2013)'!P29-'법정동(2012)'!P31","v":{"v":0,"d":"0.0"}},{"$f":"'법정동(2013)'!Q29-'법정동(2012)'!Q31","v":{"v":0,"d":"0.0"}},{"$f":"'법정동(2013)'!R29-'법정동(2012)'!R31","v":{"v":672,"d":"672.0"}},{"$f":"'법정동(2013)'!S29-'법정동(2012)'!S31","v":{"v":4,"d":"4.0"}},{"$f":"'법정동(2013)'!T29-'법정동(2012)'!T31","v":{"v":0,"d":"0.0"}},{"$f":"'법정동(2013)'!U29-'법정동(2012)'!U31","v":{"v":1,"d":"1.0"}},{"$f":"'법정동(2013)'!V29-'법정동(2012)'!V31","v":{"v":0,"d":"0.0"}},{"$f":"'법정동(2013)'!W29-'법정동(2012)'!W31","v":{"v":0,"d":"0.0"}},{"$f":"'법정동(2013)'!X29-'법정동(2012)'!X31","v":{"v":0,"d":"0.0"}},{"$f":"'법정동(2013)'!Y29-'법정동(2012)'!Y31","v":{"v":0,"d":"0.0"}},{"$f":"'법정동(2013)'!Z29-'법정동(2012)'!Z31","v":{"v":0,"d":"0.0"}},{"$f":"'법정동(2013)'!AA29-'법정동(2012)'!AA31","v":{"v":0,"d":"0.0"}},{"$f":"'법정동(2013)'!AB29-'법정동(2012)'!AB31","v":{"v":0,"d":"0.0"}},{"$f":"'법정동(2013)'!AC29-'법정동(2012)'!AC31","v":{"v":0,"d":"0.0"}},{"$f":"'법정동(2013)'!AD29-'법정동(2012)'!AD31","v":{"v":118,"d":"118.0"}},{"$f":"'법정동(2013)'!AE29-'법정동(2012)'!AE31","v":{"v":1,"d":"1.0"}},{"$f":"'법정동(2013)'!AF29-'법정동(2012)'!AF31","v":{"v":0,"d":"0.0"}},{"$f":"'법정동(2013)'!AG29-'법정동(2012)'!AG31","v":{"v":0,"d":"0.0"}},{"$f":"'법정동(2013)'!AH29-'법정동(2012)'!AH31","v":{"v":0,"d":"0.0"}},{"$f":"'법정동(2013)'!AI29-'법정동(2012)'!AI31","v":{"v":0,"d":"0.0"}},{"$f":"'법정동(2013)'!AJ29-'법정동(2012)'!AJ31","v":{"v":0,"d":"0.0"}},{"$f":"'법정동(2013)'!AK29-'법정동(2012)'!AK31","v":{"v":0,"d":"0.0"}},{"$f":"'법정동(2013)'!AL29-'법정동(2012)'!AL31","v":{"v":0,"d":"0.0"}},{"$f":"'법정동(2013)'!AM29-'법정동(2012)'!AM31","v":{"v":0,"d":"0.0"}},{"$f":"'법정동(2013)'!AN29-'법정동(2012)'!AN31","v":{"v":0,"d":"0.0"}},{"$f":"'법정동(2013)'!AO29-'법정동(2012)'!AO31","v":{"v":0,"d":"0.0"}},{"$f":"'법정동(2013)'!AP29-'법정동(2012)'!AP31","v":{"v":0,"d":"0.0"}},{"$f":"'법정동(2013)'!AQ29-'법정동(2012)'!AQ31","v":{"v":0,"d":"0.0"}},{"$f":"'법정동(2013)'!AR29-'법정동(2012)'!AR31","v":{"v":0,"d":"0.0"}},{"$f":"'법정동(2013)'!AS29-'법정동(2012)'!AS31","v":{"v":0,"d":"0.0"}},{"$f":"'법정동(2013)'!AT29-'법정동(2012)'!AT31","v":{"v":0,"d":"0.0"}},{"$f":"'법정동(2013)'!AU29-'법정동(2012)'!AU31","v":{"v":0,"d":"0.0"}},{"$f":"'법정동(2013)'!AV29-'법정동(2012)'!AV31","v":{"v":0,"d":"0.0"}},{"$f":"'법정동(2013)'!AW29-'법정동(2012)'!AW31","v":{"v":0,"d":"0.0"}},{"$f":"'법정동(2013)'!AX29-'법정동(2012)'!AX31","v":{"v":0,"d":"0.0"}},{"$f":"'법정동(2013)'!AY29-'법정동(2012)'!AY31","v":{"v":0,"d":"0.0"}},{"$f":"'법정동(2013)'!AZ29-'법정동(2012)'!AZ31","v":{"v":0,"d":"0.0"}},{"$f":"'법정동(2013)'!BA29-'법정동(2012)'!BA31","v":{"v":0,"d":"0.0"}},{"$f":"'법정동(2013)'!BB29-'법정동(2012)'!BB31","v":{"v":0,"d":"0.0"}},{"$f":"'법정동(2013)'!BC29-'법정동(2012)'!BC31","v":{"v":0,"d":"0.0"}},{"$f":"'법정동(2013)'!BD29-'법정동(2012)'!BD31","v":{"v":0,"d":"0.0"}},{"$f":"'법정동(2013)'!BE29-'법정동(2012)'!BE31","v":{"v":0,"d":"0.0"}},{"$f":"'법정동(2013)'!BF29-'법정동(2012)'!BF31","v":{"v":0,"d":"0.0"}},{"$f":"'법정동(2013)'!BG29-'법정동(2012)'!BG31","v":{"v":0,"d":"0.0"}}]
["만흥동",{"$f":"'법정동(2013)'!B30-'법정동(2012)'!B32","v":{"v":166,"d":"166.0"}},{"$f":"'법정동(2013)'!C30-'법정동(2012)'!C32","v":{"v":-10,"d":"-10.0"}},{"$f":"'법정동(2013)'!D30-'법정동(2012)'!D32","v":{"v":-50174,"d":"-50,174.0"}},{"$f":"'법정동(2013)'!E30-'법정동(2012)'!E32","v":{"v":-7,"d":"-7.0"}},{"$f":"'법정동(2013)'!F30-'법정동(2012)'!F32","v":{"v":-8011,"d":"-8,011.0"}},{"$f":"'법정동(2013)'!G30-'법정동(2012)'!G32","v":{"v":-4,"d":"-4.0"}},{"$f":"'법정동(2013)'!H30-'법정동(2012)'!H32","v":{"v":0,"d":"0.0"}},{"$f":"'법정동(2013)'!I30-'법정동(2012)'!I32","v":{"v":0,"d":"0.0"}},{"$f":"'법정동(2013)'!J30-'법정동(2012)'!J32","v":{"v":0,"d":"0.0"}},{"$f":"'법정동(2013)'!K30-'법정동(2012)'!K32","v":{"v":0,"d":"0.0"}},{"$f":"'법정동(2013)'!L30-'법정동(2012)'!L32","v":{"v":-170834,"d":"-170,834.0"}},{"$f":"'법정동(2013)'!M30-'법정동(2012)'!M32","v":{"v":-57,"d":"-57.0"}},{"$f":"'법정동(2013)'!N30-'법정동(2012)'!N32","v":{"v":0,"d":"0.0"}},{"$f":"'법정동(2013)'!O30-'법정동(2012)'!O32","v":{"v":0,"d":"0.0"}},{"$f":"'법정동(2013)'!P30-'법정동(2012)'!P32","v":{"v":0,"d":"0.0"}},{"$f":"'법정동(2013)'!Q30-'법정동(2012)'!Q32","v":{"v":0,"d":"0.0"}},{"$f":"'법정동(2013)'!R30-'법정동(2012)'!R32","v":{"v":2274,"d":"2,274.0"}},{"$f":"'법정동(2013)'!S30-'법정동(2012)'!S32","v":{"v":18,"d":"18.0"}},{"$f":"'법정동(2013)'!T30-'법정동(2012)'!T32","v":{"v":0,"d":"0.0"}},{"$f":"'법정동(2013)'!U30-'법정동(2012)'!U32","v":{"v":0,"d":"0.0"}},{"$f":"'법정동(2013)'!V30-'법정동(2012)'!V32","v":{"v":0,"d":"0.0"}},{"$f":"'법정동(2013)'!W30-'법정동(2012)'!W32","v":{"v":0,"d":"0.0"}},{"$f":"'법정동(2013)'!X30-'법정동(2012)'!X32","v":{"v":0,"d":"0.0"}},{"$f":"'법정동(2013)'!Y30-'법정동(2012)'!Y32","v":{"v":0,"d":"0.0"}},{"$f":"'법정동(2013)'!Z30-'법정동(2012)'!Z32","v":{"v":0,"d":"0.0"}},{"$f":"'법정동(2013)'!AA30-'법정동(2012)'!AA32","v":{"v":1,"d":"1.0"}},{"$f":"'법정동(2013)'!AB30-'법정동(2012)'!AB32","v":{"v":237,"d":"237.0"}},{"$f":"'법정동(2013)'!AC30-'법정동(2012)'!AC32","v":{"v":2,"d":"2.0"}},{"$f":"'법정동(2013)'!AD30-'법정동(2012)'!AD32","v":{"v":217440.99999999997,"d":"217,441.0"}},{"$f":"'법정동(2013)'!AE30-'법정동(2012)'!AE32","v":{"v":28,"d":"28.0"}},{"$f":"'법정동(2013)'!AF30-'법정동(2012)'!AF32","v":{"v":-1248,"d":"-1,248.0"}},{"$f":"'법정동(2013)'!AG30-'법정동(2012)'!AG32","v":{"v":-2,"d":"-2.0"}},{"$f":"'법정동(2013)'!AH30-'법정동(2012)'!AH32","v":{"v":0,"d":"0.0"}},{"$f":"'법정동(2013)'!AI30-'법정동(2012)'!AI32","v":{"v":0,"d":"0.0"}},{"$f":"'법정동(2013)'!AJ30-'법정동(2012)'!AJ32","v":{"v":0,"d":"0.0"}},{"$f":"'법정동(2013)'!AK30-'법정동(2012)'!AK32","v":{"v":0,"d":"0.0"}},{"$f":"'법정동(2013)'!AL30-'법정동(2012)'!AL32","v":{"v":-747,"d":"-747.0"}},{"$f":"'법정동(2013)'!AM30-'법정동(2012)'!AM32","v":{"v":-3,"d":"-3.0"}},{"$f":"'법정동(2013)'!AN30-'법정동(2012)'!AN32","v":{"v":0,"d":"0.0"}},{"$f":"'법정동(2013)'!AO30-'법정동(2012)'!AO32","v":{"v":0,"d":"0.0"}},{"$f":"'법정동(2013)'!AP30-'법정동(2012)'!AP32","v":{"v":0,"d":"0.0"}},{"$f":"'법정동(2013)'!AQ30-'법정동(2012)'!AQ32","v":{"v":0,"d":"0.0"}},{"$f":"'법정동(2013)'!AR30-'법정동(2012)'!AR32","v":{"v":-265,"d":"-265.0"}},{"$f":"'법정동(2013)'!AS30-'법정동(2012)'!AS32","v":{"v":-2,"d":"-2.0"}},{"$f":"'법정동(2013)'!AT30-'법정동(2012)'!AT32","v":{"v":0,"d":"0.0"}},{"$f":"'법정동(2013)'!AU30-'법정동(2012)'!AU32","v":{"v":0,"d":"0.0"}},{"$f":"'법정동(2013)'!AV30-'법정동(2012)'!AV32","v":{"v":0,"d":"0.0"}},{"$f":"'법정동(2013)'!AW30-'법정동(2012)'!AW32","v":{"v":0,"d":"0.0"}},{"$f":"'법정동(2013)'!AX30-'법정동(2012)'!AX32","v":{"v":0,"d":"0.0"}},{"$f":"'법정동(2013)'!AY30-'법정동(2012)'!AY32","v":{"v":0,"d":"0.0"}},{"$f":"'법정동(2013)'!AZ30-'법정동(2012)'!AZ32","v":{"v":0,"d":"0.0"}},{"$f":"'법정동(2013)'!BA30-'법정동(2012)'!BA32","v":{"v":0,"d":"0.0"}},{"$f":"'법정동(2013)'!BB30-'법정동(2012)'!BB32","v":{"v":0,"d":"0.0"}},{"$f":"'법정동(2013)'!BC30-'법정동(2012)'!BC32","v":{"v":0,"d":"0.0"}},{"$f":"'법정동(2013)'!BD30-'법정동(2012)'!BD32","v":{"v":-264,"d":"-264.0"}},{"$f":"'법정동(2013)'!BE30-'법정동(2012)'!BE32","v":{"v":1,"d":"1.0"}},{"$f":"'법정동(2013)'!BF30-'법정동(2012)'!BF32","v":{"v":11757,"d":"11,757.0"}},{"$f":"'법정동(2013)'!BG30-'법정동(2012)'!BG32","v":{"v":15,"d":"15.0"}}]
["덕충동",{"$f":"'법정동(2013)'!B31-'법정동(2012)'!B33","v":{"v":954.2000000001863,"d":"954.2"}},{"$f":"'법정동(2013)'!C31-'법정동(2012)'!C33","v":{"v":-1739,"d":"-1,739.0"}},{"$f":"'법정동(2013)'!D31-'법정동(2012)'!D33","v":{"v":-177021,"d":"-177,021.0"}},{"$f":"'법정동(2013)'!E31-'법정동(2012)'!E33","v":{"v":-420,"d":"-420.0"}},{"$f":"'법정동(2013)'!F31-'법정동(2012)'!F33","v":{"v":-22877,"d":"-22,877.0"}},{"$f":"'법정동(2013)'!G31-'법정동(2012)'!G33","v":{"v":-63,"d":"-63.0"}},{"$f":"'법정동(2013)'!H31-'법정동(2012)'!H33","v":{"v":0,"d":"0.0"}},{"$f":"'법정동(2013)'!I31-'법정동(2012)'!I33","v":{"v":0,"d":"0.0"}},{"$f":"'법정동(2013)'!J31-'법정동(2012)'!J33","v":{"v":0,"d":"0.0"}},{"$f":"'법정동(2013)'!K31-'법정동(2012)'!K33","v":{"v":0,"d":"0.0"}},{"$f":"'법정동(2013)'!L31-'법정동(2012)'!L33","v":{"v":-16116,"d":"-16,116.0"}},{"$f":"'법정동(2013)'!M31-'법정동(2012)'!M33","v":{"v":-36,"d":"-36.0"}},{"$f":"'법정동(2013)'!N31-'법정동(2012)'!N33","v":{"v":0,"d":"0.0"}},{"$f":"'법정동(2013)'!O31-'법정동(2012)'!O33","v":{"v":0,"d":"0.0"}},{"$f":"'법정동(2013)'!P31-'법정동(2012)'!P33","v":{"v":0,"d":"0.0"}},{"$f":"'법정동(2013)'!Q31-'법정동(2012)'!Q33","v":{"v":0,"d":"0.0"}},{"$f":"'법정동(2013)'!R31-'법정동(2012)'!R33","v":{"v":72458.19999999995,"d":"72,458.2"}},{"$f":"'법정동(2013)'!S31-'법정동(2012)'!S33","v":{"v":-869,"d":"-869.0"}},{"$f":"'법정동(2013)'!T31-'법정동(2012)'!T33","v":{"v":-9460,"d":"-9,460.0"}},{"$f":"'법정동(2013)'!U31-'법정동(2012)'!U33","v":{"v":-4,"d":"-4.0"}},{"$f":"'법정동(2013)'!V31-'법정동(2012)'!V33","v":{"v":-577,"d":"-577.0"}},{"$f":"'법정동(2013)'!W31-'법정동(2012)'!W33","v":{"v":-14,"d":"-14.0"}},{"$f":"'법정동(2013)'!X31-'법정동(2012)'!X33","v":{"v":32177.8,"d":"32,177.8"}},{"$f":"'법정동(2013)'!Y31-'법정동(2012)'!Y33","v":{"v":5,"d":"5.0"}},{"$f":"'법정동(2013)'!Z31-'법정동(2012)'!Z33","v":{"v":0,"d":"0.0"}},{"$f":"'법정동(2013)'!AA31-'법정동(2012)'!AA33","v":{"v":0,"d":"0.0"}},{"$f":"'법정동(2013)'!AB31-'법정동(2012)'!AB33","v":{"v":0,"d":"0.0"}},{"$f":"'법정동(2013)'!AC31-'법정동(2012)'!AC33","v":{"v":0,"d":"0.0"}},{"$f":"'법정동(2013)'!AD31-'법정동(2012)'!AD33","v":{"v":126941.70000000001,"d":"126,941.7"}},{"$f":"'법정동(2013)'!AE31-'법정동(2012)'!AE33","v":{"v":-238,"d":"-238.0"}},{"$f":"'법정동(2013)'!AF31-'법정동(2012)'!AF33","v":{"v":-120861,"d":"-120,861.0"}},{"$f":"'법정동(2013)'!AG31-'법정동(2012)'!AG33","v":{"v":-69,"d":"-69.0"}},{"$f":"'법정동(2013)'!AH31-'법정동(2012)'!AH33","v":{"v":-11167.000000000002,"d":"-11,167.0"}},{"$f":"'법정동(2013)'!AI31-'법정동(2012)'!AI33","v":{"v":-13,"d":"-13.0"}},{"$f":"'법정동(2013)'!AJ31-'법정동(2012)'!AJ33","v":{"v":6663.6,"d":"6,663.6"}},{"$f":"'법정동(2013)'!AK31-'법정동(2012)'!AK33","v":{"v":1,"d":"1.0"}},{"$f":"'법정동(2013)'!AL31-'법정동(2012)'!AL33","v":{"v":-9658,"d":"-9,658.0"}},{"$f":"'법정동(2013)'!AM31-'법정동(2012)'!AM33","v":{"v":-20,"d":"-20.0"}},{"$f":"'법정동(2013)'!AN31-'법정동(2012)'!AN33","v":{"v":0,"d":"0.0"}},{"$f":"'법정동(2013)'!AO31-'법정동(2012)'!AO33","v":{"v":0,"d":"0.0"}},{"$f":"'법정동(2013)'!AP31-'법정동(2012)'!AP33","v":{"v":0,"d":"0.0"}},{"$f":"'법정동(2013)'!AQ31-'법정동(2012)'!AQ33","v":{"v":0,"d":"0.0"}},{"$f":"'법정동(2013)'!AR31-'법정동(2012)'!AR33","v":{"v":1573.7000000000007,"d":"1,573.7"}},{"$f":"'법정동(2013)'!AS31-'법정동(2012)'!AS33","v":{"v":1,"d":"1.0"}},{"$f":"'법정동(2013)'!AT31-'법정동(2012)'!AT33","v":{"v":128954.6,"d":"128,954.6"}},{"$f":"'법정동(2013)'!AU31-'법정동(2012)'!AU33","v":{"v":26,"d":"26.0"}},{"$f":"'법정동(2013)'!AV31-'법정동(2012)'!AV33","v":{"v":-9215,"d":"-9,215.0"}},{"$f":"'법정동(2013)'!AW31-'법정동(2012)'!AW33","v":{"v":-2,"d":"-2.0"}},{"$f":"'법정동(2013)'!AX31-'법정동(2012)'!AX33","v":{"v":0,"d":"0.0"}},{"$f":"'법정동(2013)'!AY31-'법정동(2012)'!AY33","v":{"v":0,"d":"0.0"}},{"$f":"'법정동(2013)'!AZ31-'법정동(2012)'!AZ33","v":{"v":2905.7999999999993,"d":"2,905.8"}},{"$f":"'법정동(2013)'!BA31-'법정동(2012)'!BA33","v":{"v":-1,"d":"-1.0"}},{"$f":"'법정동(2013)'!BB31-'법정동(2012)'!BB33","v":{"v":0,"d":"0.0"}},{"$f":"'법정동(2013)'!BC31-'법정동(2012)'!BC33","v":{"v":0,"d":"0.0"}},{"$f":"'법정동(2013)'!BD31-'법정동(2012)'!BD33","v":{"v":-2561,"d":"-2,561.0"}},{"$f":"'법정동(2013)'!BE31-'법정동(2012)'!BE33","v":{"v":-13,"d":"-13.0"}},{"$f":"'법정동(2013)'!BF31-'법정동(2012)'!BF33","v":{"v":8791.799999999988,"d":"8,791.8"}},{"$f":"'법정동(2013)'!BG31-'법정동(2012)'!BG33","v":{"v":-10,"d":"-10.0"}}]
["경호동",{"$f":"'법정동(2013)'!B32-'법정동(2012)'!B34","v":{"v":3660.0000000004657,"d":"3,660.0"}},{"$f":"'법정동(2013)'!C32-'법정동(2012)'!C34","v":{"v":175,"d":"175.0"}},{"$f":"'법정동(2013)'!D32-'법정동(2012)'!D34","v":{"v":-795,"d":"-795.0"}},{"$f":"'법정동(2013)'!E32-'법정동(2012)'!E34","v":{"v":102,"d":"102.0"}},{"$f":"'법정동(2013)'!F32-'법정동(2012)'!F34","v":{"v":0,"d":"0.0"}},{"$f":"'법정동(2013)'!G32-'법정동(2012)'!G34","v":{"v":2,"d":"2.0"}},{"$f":"'법정동(2013)'!H32-'법정동(2012)'!H34","v":{"v":0,"d":"0.0"}},{"$f":"'법정동(2013)'!I32-'법정동(2012)'!I34","v":{"v":0,"d":"0.0"}},{"$f":"'법정동(2013)'!J32-'법정동(2012)'!J34","v":{"v":0,"d":"0.0"}},{"$f":"'법정동(2013)'!K32-'법정동(2012)'!K34","v":{"v":0,"d":"0.0"}},{"$f":"'법정동(2013)'!L32-'법정동(2012)'!L34","v":{"v":3660,"d":"3,660.0"}},{"$f":"'법정동(2013)'!M32-'법정동(2012)'!M34","v":{"v":54,"d":"54.0"}},{"$f":"'법정동(2013)'!N32-'법정동(2012)'!N34","v":{"v":0,"d":"0.0"}},{"$f":"'법정동(2013)'!O32-'법정동(2012)'!O34","v":{"v":0,"d":"0.0"}},{"$f":"'법정동(2013)'!P32-'법정동(2012)'!P34","v":{"v":0,"d":"0.0"}},{"$f":"'법정동(2013)'!Q32-'법정동(2012)'!Q34","v":{"v":0,"d":"0.0"}},{"$f":"'법정동(2013)'!R32-'법정동(2012)'!R34","v":{"v":767,"d":"767.0"}},{"$f":"'법정동(2013)'!S32-'법정동(2012)'!S34","v":{"v":6,"d":"6.0"}},{"$f":"'법정동(2013)'!T32-'법정동(2012)'!T34","v":{"v":0,"d":"0.0"}},{"$f":"'법정동(2013)'!U32-'법정동(2012)'!U34","v":{"v":0,"d":"0.0"}},{"$f":"'법정동(2013)'!V32-'법정동(2012)'!V34","v":{"v":0,"d":"0.0"}},{"$f":"'법정동(2013)'!W32-'법정동(2012)'!W34","v":{"v":0,"d":"0.0"}},{"$f":"'법정동(2013)'!X32-'법정동(2012)'!X34","v":{"v":0,"d":"0.0"}},{"$f":"'법정동(2013)'!Y32-'법정동(2012)'!Y34","v":{"v":0,"d":"0.0"}},{"$f":"'법정동(2013)'!Z32-'법정동(2012)'!Z34","v":{"v":0,"d":"0.0"}},{"$f":"'법정동(2013)'!AA32-'법정동(2012)'!AA34","v":{"v":0,"d":"0.0"}},{"$f":"'법정동(2013)'!AB32-'법정동(2012)'!AB34","v":{"v":0,"d":"0.0"}},{"$f":"'법정동(2013)'!AC32-'법정동(2012)'!AC34","v":{"v":0,"d":"0.0"}},{"$f":"'법정동(2013)'!AD32-'법정동(2012)'!AD34","v":{"v":28,"d":"28.0"}},{"$f":"'법정동(2013)'!AE32-'법정동(2012)'!AE34","v":{"v":11,"d":"11.0"}},{"$f":"'법정동(2013)'!AF32-'법정동(2012)'!AF34","v":{"v":0,"d":"0.0"}},{"$f":"'법정동(2013)'!AG32-'법정동(2012)'!AG34","v":{"v":0,"d":"0.0"}},{"$f":"'법정동(2013)'!AH32-'법정동(2012)'!AH34","v":{"v":0,"d":"0.0"}},{"$f":"'법정동(2013)'!AI32-'법정동(2012)'!AI34","v":{"v":0,"d":"0.0"}},{"$f":"'법정동(2013)'!AJ32-'법정동(2012)'!AJ34","v":{"v":0,"d":"0.0"}},{"$f":"'법정동(2013)'!AK32-'법정동(2012)'!AK34","v":{"v":0,"d":"0.0"}},{"$f":"'법정동(2013)'!AL32-'법정동(2012)'!AL34","v":{"v":0,"d":"0.0"}},{"$f":"'법정동(2013)'!AM32-'법정동(2012)'!AM34","v":{"v":0,"d":"0.0"}},{"$f":"'법정동(2013)'!AN32-'법정동(2012)'!AN34","v":{"v":0,"d":"0.0"}},{"$f":"'법정동(2013)'!AO32-'법정동(2012)'!AO34","v":{"v":0,"d":"0.0"}},{"$f":"'법정동(2013)'!AP32-'법정동(2012)'!AP34","v":{"v":0,"d":"0.0"}},{"$f":"'법정동(2013)'!AQ32-'법정동(2012)'!AQ34","v":{"v":0,"d":"0.0"}},{"$f":"'법정동(2013)'!AR32-'법정동(2012)'!AR34","v":{"v":0,"d":"0.0"}},{"$f":"'법정동(2013)'!AS32-'법정동(2012)'!AS34","v":{"v":0,"d":"0.0"}},{"$f":"'법정동(2013)'!AT32-'법정동(2012)'!AT34","v":{"v":0,"d":"0.0"}},{"$f":"'법정동(2013)'!AU32-'법정동(2012)'!AU34","v":{"v":0,"d":"0.0"}},{"$f":"'법정동(2013)'!AV32-'법정동(2012)'!AV34","v":{"v":0,"d":"0.0"}},{"$f":"'법정동(2013)'!AW32-'법정동(2012)'!AW34","v":{"v":0,"d":"0.0"}},{"$f":"'법정동(2013)'!AX32-'법정동(2012)'!AX34","v":{"v":0,"d":"0.0"}},{"$f":"'법정동(2013)'!AY32-'법정동(2012)'!AY34","v":{"v":0,"d":"0.0"}},{"$f":"'법정동(2013)'!AZ32-'법정동(2012)'!AZ34","v":{"v":0,"d":"0.0"}},{"$f":"'법정동(2013)'!BA32-'법정동(2012)'!BA34","v":{"v":0,"d":"0.0"}},{"$f":"'법정동(2013)'!BB32-'법정동(2012)'!BB34","v":{"v":0,"d":"0.0"}},{"$f":"'법정동(2013)'!BC32-'법정동(2012)'!BC34","v":{"v":0,"d":"0.0"}},{"$f":"'법정동(2013)'!BD32-'법정동(2012)'!BD34","v":{"v":0,"d":"0.0"}},{"$f":"'법정동(2013)'!BE32-'법정동(2012)'!BE34","v":{"v":0,"d":"0.0"}},{"$f":"'법정동(2013)'!BF32-'법정동(2012)'!BF34","v":{"v":0,"d":"0.0"}},{"$f":"'법정동(2013)'!BG32-'법정동(2012)'!BG34","v":{"v":0,"d":"0.0"}}]
["학동",{"$f":"'법정동(2013)'!B33-'법정동(2012)'!B35","v":{"v":0,"d":"0.0"}},{"$f":"'법정동(2013)'!C33-'법정동(2012)'!C35","v":{"v":-4,"d":"-4.0"}},{"$f":"'법정동(2013)'!D33-'법정동(2012)'!D35","v":{"v":0,"d":"0.0"}},{"$f":"'법정동(2013)'!E33-'법정동(2012)'!E35","v":{"v":0,"d":"0.0"}},{"$f":"'법정동(2013)'!F33-'법정동(2012)'!F35","v":{"v":0,"d":"0.0"}},{"$f":"'법정동(2013)'!G33-'법정동(2012)'!G35","v":{"v":0,"d":"0.0"}},{"$f":"'법정동(2013)'!H33-'법정동(2012)'!H35","v":{"v":0,"d":"0.0"}},{"$f":"'법정동(2013)'!I33-'법정동(2012)'!I35","v":{"v":0,"d":"0.0"}},{"$f":"'법정동(2013)'!J33-'법정동(2012)'!J35","v":{"v":0,"d":"0.0"}},{"$f":"'법정동(2013)'!K33-'법정동(2012)'!K35","v":{"v":0,"d":"0.0"}},{"$f":"'법정동(2013)'!L33-'법정동(2012)'!L35","v":{"v":0,"d":"0.0"}},{"$f":"'법정동(2013)'!M33-'법정동(2012)'!M35","v":{"v":0,"d":"0.0"}},{"$f":"'법정동(2013)'!N33-'법정동(2012)'!N35","v":{"v":0,"d":"0.0"}},{"$f":"'법정동(2013)'!O33-'법정동(2012)'!O35","v":{"v":0,"d":"0.0"}},{"$f":"'법정동(2013)'!P33-'법정동(2012)'!P35","v":{"v":0,"d":"0.0"}},{"$f":"'법정동(2013)'!Q33-'법정동(2012)'!Q35","v":{"v":0,"d":"0.0"}},{"$f":"'법정동(2013)'!R33-'법정동(2012)'!R35","v":{"v":397,"d":"397.0"}},{"$f":"'법정동(2013)'!S33-'법정동(2012)'!S35","v":{"v":-3,"d":"-3.0"}},{"$f":"'법정동(2013)'!T33-'법정동(2012)'!T35","v":{"v":0,"d":"0.0"}},{"$f":"'법정동(2013)'!U33-'법정동(2012)'!U35","v":{"v":0,"d":"0.0"}},{"$f":"'법정동(2013)'!V33-'법정동(2012)'!V35","v":{"v":0,"d":"0.0"}},{"$f":"'법정동(2013)'!W33-'법정동(2012)'!W35","v":{"v":0,"d":"0.0"}},{"$f":"'법정동(2013)'!X33-'법정동(2012)'!X35","v":{"v":0,"d":"0.0"}},{"$f":"'법정동(2013)'!Y33-'법정동(2012)'!Y35","v":{"v":0,"d":"0.0"}},{"$f":"'법정동(2013)'!Z33-'법정동(2012)'!Z35","v":{"v":-397,"d":"-397.0"}},{"$f":"'법정동(2013)'!AA33-'법정동(2012)'!AA35","v":{"v":-1,"d":"-1.0"}},{"$f":"'법정동(2013)'!AB33-'법정동(2012)'!AB35","v":{"v":0,"d":"0.0"}},{"$f":"'법정동(2013)'!AC33-'법정동(2012)'!AC35","v":{"v":0,"d":"0.0"}},{"$f":"'법정동(2013)'!AD33-'법정동(2012)'!AD35","v":{"v":0,"d":"0.0"}},{"$f":"'법정동(2013)'!AE33-'법정동(2012)'!AE35","v":{"v":0,"d":"0.0"}},{"$f":"'법정동(2013)'!AF33-'법정동(2012)'!AF35","v":{"v":0,"d":"0.0"}},{"$f":"'법정동(2013)'!AG33-'법정동(2012)'!AG35","v":{"v":0,"d":"0.0"}},{"$f":"'법정동(2013)'!AH33-'법정동(2012)'!AH35","v":{"v":0,"d":"0.0"}},{"$f":"'법정동(2013)'!AI33-'법정동(2012)'!AI35","v":{"v":0,"d":"0.0"}},{"$f":"'법정동(2013)'!AJ33-'법정동(2012)'!AJ35","v":{"v":0,"d":"0.0"}},{"$f":"'법정동(2013)'!AK33-'법정동(2012)'!AK35","v":{"v":0,"d":"0.0"}},{"$f":"'법정동(2013)'!AL33-'법정동(2012)'!AL35","v":{"v":0,"d":"0.0"}},{"$f":"'법정동(2013)'!AM33-'법정동(2012)'!AM35","v":{"v":0,"d":"0.0"}},{"$f":"'법정동(2013)'!AN33-'법정동(2012)'!AN35","v":{"v":0,"d":"0.0"}},{"$f":"'법정동(2013)'!AO33-'법정동(2012)'!AO35","v":{"v":0,"d":"0.0"}},{"$f":"'법정동(2013)'!AP33-'법정동(2012)'!AP35","v":{"v":0,"d":"0.0"}},{"$f":"'법정동(2013)'!AQ33-'법정동(2012)'!AQ35","v":{"v":0,"d":"0.0"}},{"$f":"'법정동(2013)'!AR33-'법정동(2012)'!AR35","v":{"v":0,"d":"0.0"}},{"$f":"'법정동(2013)'!AS33-'법정동(2012)'!AS35","v":{"v":0,"d":"0.0"}},{"$f":"'법정동(2013)'!AT33-'법정동(2012)'!AT35","v":{"v":0,"d":"0.0"}},{"$f":"'법정동(2013)'!AU33-'법정동(2012)'!AU35","v":{"v":0,"d":"0.0"}},{"$f":"'법정동(2013)'!AV33-'법정동(2012)'!AV35","v":{"v":0,"d":"0.0"}},{"$f":"'법정동(2013)'!AW33-'법정동(2012)'!AW35","v":{"v":0,"d":"0.0"}},{"$f":"'법정동(2013)'!AX33-'법정동(2012)'!AX35","v":{"v":0,"d":"0.0"}},{"$f":"'법정동(2013)'!AY33-'법정동(2012)'!AY35","v":{"v":0,"d":"0.0"}},{"$f":"'법정동(2013)'!AZ33-'법정동(2012)'!AZ35","v":{"v":0,"d":"0.0"}},{"$f":"'법정동(2013)'!BA33-'법정동(2012)'!BA35","v":{"v":0,"d":"0.0"}},{"$f":"'법정동(2013)'!BB33-'법정동(2012)'!BB35","v":{"v":0,"d":"0.0"}},{"$f":"'법정동(2013)'!BC33-'법정동(2012)'!BC35","v":{"v":0,"d":"0.0"}},{"$f":"'법정동(2013)'!BD33-'법정동(2012)'!BD35","v":{"v":0,"d":"0.0"}},{"$f":"'법정동(2013)'!BE33-'법정동(2012)'!BE35","v":{"v":0,"d":"0.0"}},{"$f":"'법정동(2013)'!BF33-'법정동(2012)'!BF35","v":{"v":0,"d":"0.0"}},{"$f":"'법정동(2013)'!BG33-'법정동(2012)'!BG35","v":{"v":0,"d":"0.0"}}]
["학용동",{"$f":"'법정동(2013)'!B34-'법정동(2012)'!B36","v":{"v":0,"d":"0.0"}},{"$f":"'법정동(2013)'!C34-'법정동(2012)'!C36","v":{"v":0,"d":"0.0"}},{"$f":"'법정동(2013)'!D34-'법정동(2012)'!D36","v":{"v":0,"d":"0.0"}},{"$f":"'법정동(2013)'!E34-'법정동(2012)'!E36","v":{"v":0,"d":"0.0"}},{"$f":"'법정동(2013)'!F34-'법정동(2012)'!F36","v":{"v":0,"d":"0.0"}},{"$f":"'법정동(2013)'!G34-'법정동(2012)'!G36","v":{"v":0,"d":"0.0"}},{"$f":"'법정동(2013)'!H34-'법정동(2012)'!H36","v":{"v":0,"d":"0.0"}},{"$f":"'법정동(2013)'!I34-'법정동(2012)'!I36","v":{"v":0,"d":"0.0"}},{"$f":"'법정동(2013)'!J34-'법정동(2012)'!J36","v":{"v":0,"d":"0.0"}},{"$f":"'법정동(2013)'!K34-'법정동(2012)'!K36","v":{"v":0,"d":"0.0"}},{"$f":"'법정동(2013)'!L34-'법정동(2012)'!L36","v":{"v":0,"d":"0.0"}},{"$f":"'법정동(2013)'!M34-'법정동(2012)'!M36","v":{"v":0,"d":"0.0"}},{"$f":"'법정동(2013)'!N34-'법정동(2012)'!N36","v":{"v":0,"d":"0.0"}},{"$f":"'법정동(2013)'!O34-'법정동(2012)'!O36","v":{"v":0,"d":"0.0"}},{"$f":"'법정동(2013)'!P34-'법정동(2012)'!P36","v":{"v":0,"d":"0.0"}},{"$f":"'법정동(2013)'!Q34-'법정동(2012)'!Q36","v":{"v":0,"d":"0.0"}},{"$f":"'법정동(2013)'!R34-'법정동(2012)'!R36","v":{"v":0,"d":"0.0"}},{"$f":"'법정동(2013)'!S34-'법정동(2012)'!S36","v":{"v":0,"d":"0.0"}},{"$f":"'법정동(2013)'!T34-'법정동(2012)'!T36","v":{"v":0,"d":"0.0"}},{"$f":"'법정동(2013)'!U34-'법정동(2012)'!U36","v":{"v":0,"d":"0.0"}},{"$f":"'법정동(2013)'!V34-'법정동(2012)'!V36","v":{"v":0,"d":"0.0"}},{"$f":"'법정동(2013)'!W34-'법정동(2012)'!W36","v":{"v":0,"d":"0.0"}},{"$f":"'법정동(2013)'!X34-'법정동(2012)'!X36","v":{"v":0,"d":"0.0"}},{"$f":"'법정동(2013)'!Y34-'법정동(2012)'!Y36","v":{"v":0,"d":"0.0"}},{"$f":"'법정동(2013)'!Z34-'법정동(2012)'!Z36","v":{"v":0,"d":"0.0"}},{"$f":"'법정동(2013)'!AA34-'법정동(2012)'!AA36","v":{"v":0,"d":"0.0"}},{"$f":"'법정동(2013)'!AB34-'법정동(2012)'!AB36","v":{"v":0,"d":"0.0"}},{"$f":"'법정동(2013)'!AC34-'법정동(2012)'!AC36","v":{"v":0,"d":"0.0"}},{"$f":"'법정동(2013)'!AD34-'법정동(2012)'!AD36","v":{"v":0,"d":"0.0"}},{"$f":"'법정동(2013)'!AE34-'법정동(2012)'!AE36","v":{"v":0,"d":"0.0"}},{"$f":"'법정동(2013)'!AF34-'법정동(2012)'!AF36","v":{"v":0,"d":"0.0"}},{"$f":"'법정동(2013)'!AG34-'법정동(2012)'!AG36","v":{"v":0,"d":"0.0"}},{"$f":"'법정동(2013)'!AH34-'법정동(2012)'!AH36","v":{"v":0,"d":"0.0"}},{"$f":"'법정동(2013)'!AI34-'법정동(2012)'!AI36","v":{"v":0,"d":"0.0"}},{"$f":"'법정동(2013)'!AJ34-'법정동(2012)'!AJ36","v":{"v":0,"d":"0.0"}},{"$f":"'법정동(2013)'!AK34-'법정동(2012)'!AK36","v":{"v":0,"d":"0.0"}},{"$f":"'법정동(2013)'!AL34-'법정동(2012)'!AL36","v":{"v":0,"d":"0.0"}},{"$f":"'법정동(2013)'!AM34-'법정동(2012)'!AM36","v":{"v":0,"d":"0.0"}},{"$f":"'법정동(2013)'!AN34-'법정동(2012)'!AN36","v":{"v":0,"d":"0.0"}},{"$f":"'법정동(2013)'!AO34-'법정동(2012)'!AO36","v":{"v":0,"d":"0.0"}},{"$f":"'법정동(2013)'!AP34-'법정동(2012)'!AP36","v":{"v":0,"d":"0.0"}},{"$f":"'법정동(2013)'!AQ34-'법정동(2012)'!AQ36","v":{"v":0,"d":"0.0"}},{"$f":"'법정동(2013)'!AR34-'법정동(2012)'!AR36","v":{"v":0,"d":"0.0"}},{"$f":"'법정동(2013)'!AS34-'법정동(2012)'!AS36","v":{"v":0,"d":"0.0"}},{"$f":"'법정동(2013)'!AT34-'법정동(2012)'!AT36","v":{"v":0,"d":"0.0"}},{"$f":"'법정동(2013)'!AU34-'법정동(2012)'!AU36","v":{"v":0,"d":"0.0"}},{"$f":"'법정동(2013)'!AV34-'법정동(2012)'!AV36","v":{"v":0,"d":"0.0"}},{"$f":"'법정동(2013)'!AW34-'법정동(2012)'!AW36","v":{"v":0,"d":"0.0"}},{"$f":"'법정동(2013)'!AX34-'법정동(2012)'!AX36","v":{"v":0,"d":"0.0"}},{"$f":"'법정동(2013)'!AY34-'법정동(2012)'!AY36","v":{"v":0,"d":"0.0"}},{"$f":"'법정동(2013)'!AZ34-'법정동(2012)'!AZ36","v":{"v":0,"d":"0.0"}},{"$f":"'법정동(2013)'!BA34-'법정동(2012)'!BA36","v":{"v":0,"d":"0.0"}},{"$f":"'법정동(2013)'!BB34-'법정동(2012)'!BB36","v":{"v":0,"d":"0.0"}},{"$f":"'법정동(2013)'!BC34-'법정동(2012)'!BC36","v":{"v":0,"d":"0.0"}},{"$f":"'법정동(2013)'!BD34-'법정동(2012)'!BD36","v":{"v":0,"d":"0.0"}},{"$f":"'법정동(2013)'!BE34-'법정동(2012)'!BE36","v":{"v":0,"d":"0.0"}},{"$f":"'법정동(2013)'!BF34-'법정동(2012)'!BF36","v":{"v":0,"d":"0.0"}},{"$f":"'법정동(2013)'!BG34-'법정동(2012)'!BG36","v":{"v":0,"d":"0.0"}}]
["안산동",{"$f":"'법정동(2013)'!B35-'법정동(2012)'!B37","v":{"v":0,"d":"0.0"}},{"$f":"'법정동(2013)'!C35-'법정동(2012)'!C37","v":{"v":3,"d":"3.0"}},{"$f":"'법정동(2013)'!D35-'법정동(2012)'!D37","v":{"v":0,"d":"0.0"}},{"$f":"'법정동(2013)'!E35-'법정동(2012)'!E37","v":{"v":0,"d":"0.0"}},{"$f":"'법정동(2013)'!F35-'법정동(2012)'!F37","v":{"v":0,"d":"0.0"}},{"$f":"'법정동(2013)'!G35-'법정동(2012)'!G37","v":{"v":0,"d":"0.0"}},{"$f":"'법정동(2013)'!H35-'법정동(2012)'!H37","v":{"v":0,"d":"0.0"}},{"$f":"'법정동(2013)'!I35-'법정동(2012)'!I37","v":{"v":0,"d":"0.0"}},{"$f":"'법정동(2013)'!J35-'법정동(2012)'!J37","v":{"v":0,"d":"0.0"}},{"$f":"'법정동(2013)'!K35-'법정동(2012)'!K37","v":{"v":0,"d":"0.0"}},{"$f":"'법정동(2013)'!L35-'법정동(2012)'!L37","v":{"v":0,"d":"0.0"}},{"$f":"'법정동(2013)'!M35-'법정동(2012)'!M37","v":{"v":1,"d":"1.0"}},{"$f":"'법정동(2013)'!N35-'법정동(2012)'!N37","v":{"v":0,"d":"0.0"}},{"$f":"'법정동(2013)'!O35-'법정동(2012)'!O37","v":{"v":0,"d":"0.0"}},{"$f":"'법정동(2013)'!P35-'법정동(2012)'!P37","v":{"v":0,"d":"0.0"}},{"$f":"'법정동(2013)'!Q35-'법정동(2012)'!Q37","v":{"v":0,"d":"0.0"}},{"$f":"'법정동(2013)'!R35-'법정동(2012)'!R37","v":{"v":-33.800000000046566,"d":"-33.8"}},{"$f":"'법정동(2013)'!S35-'법정동(2012)'!S37","v":{"v":-2,"d":"-2.0"}},{"$f":"'법정동(2013)'!T35-'법정동(2012)'!T37","v":{"v":0,"d":"0.0"}},{"$f":"'법정동(2013)'!U35-'법정동(2012)'!U37","v":{"v":0,"d":"0.0"}},{"$f":"'법정동(2013)'!V35-'법정동(2012)'!V37","v":{"v":0,"d":"0.0"}},{"$f":"'법정동(2013)'!W35-'법정동(2012)'!W37","v":{"v":0,"d":"0.0"}},{"$f":"'법정동(2013)'!X35-'법정동(2012)'!X37","v":{"v":76.80000000000018,"d":"76.8"}},{"$f":"'법정동(2013)'!Y35-'법정동(2012)'!Y37","v":{"v":1,"d":"1.0"}},{"$f":"'법정동(2013)'!Z35-'법정동(2012)'!Z37","v":{"v":0,"d":"0.0"}},{"$f":"'법정동(2013)'!AA35-'법정동(2012)'!AA37","v":{"v":0,"d":"0.0"}},{"$f":"'법정동(2013)'!AB35-'법정동(2012)'!AB37","v":{"v":0,"d":"0.0"}},{"$f":"'법정동(2013)'!AC35-'법정동(2012)'!AC37","v":{"v":0,"d":"0.0"}},{"$f":"'법정동(2013)'!AD35-'법정동(2012)'!AD37","v":{"v":-43,"d":"-43.0"}},{"$f":"'법정동(2013)'!AE35-'법정동(2012)'!AE37","v":{"v":2,"d":"2.0"}},{"$f":"'법정동(2013)'!AF35-'법정동(2012)'!AF37","v":{"v":0,"d":"0.0"}},{"$f":"'법정동(2013)'!AG35-'법정동(2012)'!AG37","v":{"v":0,"d":"0.0"}},{"$f":"'법정동(2013)'!AH35-'법정동(2012)'!AH37","v":{"v":0,"d":"0.0"}},{"$f":"'법정동(2013)'!AI35-'법정동(2012)'!AI37","v":{"v":0,"d":"0.0"}},{"$f":"'법정동(2013)'!AJ35-'법정동(2012)'!AJ37","v":{"v":0,"d":"0.0"}},{"$f":"'법정동(2013)'!AK35-'법정동(2012)'!AK37","v":{"v":0,"d":"0.0"}},{"$f":"'법정동(2013)'!AL35-'법정동(2012)'!AL37","v":{"v":0,"d":"0.0"}},{"$f":"'법정동(2013)'!AM35-'법정동(2012)'!AM37","v":{"v":0,"d":"0.0"}},{"$f":"'법정동(2013)'!AN35-'법정동(2012)'!AN37","v":{"v":0,"d":"0.0"}},{"$f":"'법정동(2013)'!AO35-'법정동(2012)'!AO37","v":{"v":0,"d":"0.0"}},{"$f":"'법정동(2013)'!AP35-'법정동(2012)'!AP37","v":{"v":0,"d":"0.0"}},{"$f":"'법정동(2013)'!AQ35-'법정동(2012)'!AQ37","v":{"v":0,"d":"0.0"}},{"$f":"'법정동(2013)'!AR35-'법정동(2012)'!AR37","v":{"v":0,"d":"0.0"}},{"$f":"'법정동(2013)'!AS35-'법정동(2012)'!AS37","v":{"v":0,"d":"0.0"}},{"$f":"'법정동(2013)'!AT35-'법정동(2012)'!AT37","v":{"v":0,"d":"0.0"}},{"$f":"'법정동(2013)'!AU35-'법정동(2012)'!AU37","v":{"v":0,"d":"0.0"}},{"$f":"'법정동(2013)'!AV35-'법정동(2012)'!AV37","v":{"v":0,"d":"0.0"}},{"$f":"'법정동(2013)'!AW35-'법정동(2012)'!AW37","v":{"v":0,"d":"0.0"}},{"$f":"'법정동(2013)'!AX35-'법정동(2012)'!AX37","v":{"v":0,"d":"0.0"}},{"$f":"'법정동(2013)'!AY35-'법정동(2012)'!AY37","v":{"v":0,"d":"0.0"}},{"$f":"'법정동(2013)'!AZ35-'법정동(2012)'!AZ37","v":{"v":0,"d":"0.0"}},{"$f":"'법정동(2013)'!BA35-'법정동(2012)'!BA37","v":{"v":0,"d":"0.0"}},{"$f":"'법정동(2013)'!BB35-'법정동(2012)'!BB37","v":{"v":0,"d":"0.0"}},{"$f":"'법정동(2013)'!BC35-'법정동(2012)'!BC37","v":{"v":0,"d":"0.0"}},{"$f":"'법정동(2013)'!BD35-'법정동(2012)'!BD37","v":{"v":0,"d":"0.0"}},{"$f":"'법정동(2013)'!BE35-'법정동(2012)'!BE37","v":{"v":1,"d":"1.0"}},{"$f":"'법정동(2013)'!BF35-'법정동(2012)'!BF37","v":{"v":0,"d":"0.0"}},{"$f":"'법정동(2013)'!BG35-'법정동(2012)'!BG37","v":{"v":0,"d":"0.0"}}]
["소호동",{"$f":"'법정동(2013)'!B36-'법정동(2012)'!B38","v":{"v":7714.999999999069,"d":"7,715.0"}},{"$f":"'법정동(2013)'!C36-'법정동(2012)'!C38","v":{"v":4,"d":"4.0"}},{"$f":"'법정동(2013)'!D36-'법정동(2012)'!D38","v":{"v":-6338,"d":"-6,338.0"}},{"$f":"'법정동(2013)'!E36-'법정동(2012)'!E38","v":{"v":-14,"d":"-14.0"}},{"$f":"'법정동(2013)'!F36-'법정동(2012)'!F38","v":{"v":-3002,"d":"-3,002.0"}},{"$f":"'법정동(2013)'!G36-'법정동(2012)'!G38","v":{"v":-7,"d":"-7.0"}},{"$f":"'법정동(2013)'!H36-'법정동(2012)'!H38","v":{"v":340,"d":"340.0"}},{"$f":"'법정동(2013)'!I36-'법정동(2012)'!I38","v":{"v":1,"d":"1.0"}},{"$f":"'법정동(2013)'!J36-'법정동(2012)'!J38","v":{"v":0,"d":"0.0"}},{"$f":"'법정동(2013)'!K36-'법정동(2012)'!K38","v":{"v":0,"d":"0.0"}},{"$f":"'법정동(2013)'!L36-'법정동(2012)'!L38","v":{"v":-9891,"d":"-9,891.0"}},{"$f":"'법정동(2013)'!M36-'법정동(2012)'!M38","v":{"v":-6,"d":"-6.0"}},{"$f":"'법정동(2013)'!N36-'법정동(2012)'!N38","v":{"v":0,"d":"0.0"}},{"$f":"'법정동(2013)'!O36-'법정동(2012)'!O38","v":{"v":0,"d":"0.0"}},{"$f":"'법정동(2013)'!P36-'법정동(2012)'!P38","v":{"v":0,"d":"0.0"}},{"$f":"'법정동(2013)'!Q36-'법정동(2012)'!Q38","v":{"v":0,"d":"0.0"}},{"$f":"'법정동(2013)'!R36-'법정동(2012)'!R38","v":{"v":-1340,"d":"-1,340.0"}},{"$f":"'법정동(2013)'!S36-'법정동(2012)'!S38","v":{"v":-6,"d":"-6.0"}},{"$f":"'법정동(2013)'!T36-'법정동(2012)'!T38","v":{"v":0,"d":"0.0"}},{"$f":"'법정동(2013)'!U36-'법정동(2012)'!U38","v":{"v":0,"d":"0.0"}},{"$f":"'법정동(2013)'!V36-'법정동(2012)'!V38","v":{"v":0,"d":"0.0"}},{"$f":"'법정동(2013)'!W36-'법정동(2012)'!W38","v":{"v":0,"d":"0.0"}},{"$f":"'법정동(2013)'!X36-'법정동(2012)'!X38","v":{"v":0,"d":"0.0"}},{"$f":"'법정동(2013)'!Y36-'법정동(2012)'!Y38","v":{"v":0,"d":"0.0"}},{"$f":"'법정동(2013)'!Z36-'법정동(2012)'!Z38","v":{"v":0,"d":"0.0"}},{"$f":"'법정동(2013)'!AA36-'법정동(2012)'!AA38","v":{"v":0,"d":"0.0"}},{"$f":"'법정동(2013)'!AB36-'법정동(2012)'!AB38","v":{"v":-990,"d":"-990.0"}},{"$f":"'법정동(2013)'!AC36-'법정동(2012)'!AC38","v":{"v":-1,"d":"-1.0"}},{"$f":"'법정동(2013)'!AD36-'법정동(2012)'!AD38","v":{"v":29276,"d":"29,276.0"}},{"$f":"'법정동(2013)'!AE36-'법정동(2012)'!AE38","v":{"v":38,"d":"38.0"}},{"$f":"'법정동(2013)'!AF36-'법정동(2012)'!AF38","v":{"v":0,"d":"0.0"}},{"$f":"'법정동(2013)'!AG36-'법정동(2012)'!AG38","v":{"v":0,"d":"0.0"}},{"$f":"'법정동(2013)'!AH36-'법정동(2012)'!AH38","v":{"v":0,"d":"0.0"}},{"$f":"'법정동(2013)'!AI36-'법정동(2012)'!AI38","v":{"v":0,"d":"0.0"}},{"$f":"'법정동(2013)'!AJ36-'법정동(2012)'!AJ38","v":{"v":0,"d":"0.0"}},{"$f":"'법정동(2013)'!AK36-'법정동(2012)'!AK38","v":{"v":0,"d":"0.0"}},{"$f":"'법정동(2013)'!AL36-'법정동(2012)'!AL38","v":{"v":0,"d":"0.0"}},{"$f":"'법정동(2013)'!AM36-'법정동(2012)'!AM38","v":{"v":0,"d":"0.0"}},{"$f":"'법정동(2013)'!AN36-'법정동(2012)'!AN38","v":{"v":0,"d":"0.0"}},{"$f":"'법정동(2013)'!AO36-'법정동(2012)'!AO38","v":{"v":0,"d":"0.0"}},{"$f":"'법정동(2013)'!AP36-'법정동(2012)'!AP38","v":{"v":0,"d":"0.0"}},{"$f":"'법정동(2013)'!AQ36-'법정동(2012)'!AQ38","v":{"v":0,"d":"0.0"}},{"$f":"'법정동(2013)'!AR36-'법정동(2012)'!AR38","v":{"v":0,"d":"0.0"}},{"$f":"'법정동(2013)'!AS36-'법정동(2012)'!AS38","v":{"v":0,"d":"0.0"}},{"$f":"'법정동(2013)'!AT36-'법정동(2012)'!AT38","v":{"v":0,"d":"0.0"}},{"$f":"'법정동(2013)'!AU36-'법정동(2012)'!AU38","v":{"v":0,"d":"0.0"}},{"$f":"'법정동(2013)'!AV36-'법정동(2012)'!AV38","v":{"v":0,"d":"0.0"}},{"$f":"'법정동(2013)'!AW36-'법정동(2012)'!AW38","v":{"v":0,"d":"0.0"}},{"$f":"'법정동(2013)'!AX36-'법정동(2012)'!AX38","v":{"v":0,"d":"0.0"}},{"$f":"'법정동(2013)'!AY36-'법정동(2012)'!AY38","v":{"v":0,"d":"0.0"}},{"$f":"'법정동(2013)'!AZ36-'법정동(2012)'!AZ38","v":{"v":0,"d":"0.0"}},{"$f":"'법정동(2013)'!BA36-'법정동(2012)'!BA38","v":{"v":0,"d":"0.0"}},{"$f":"'법정동(2013)'!BB36-'법정동(2012)'!BB38","v":{"v":0,"d":"0.0"}},{"$f":"'법정동(2013)'!BC36-'법정동(2012)'!BC38","v":{"v":0,"d":"0.0"}},{"$f":"'법정동(2013)'!BD36-'법정동(2012)'!BD38","v":{"v":-340,"d":"-340.0"}},{"$f":"'법정동(2013)'!BE36-'법정동(2012)'!BE38","v":{"v":-1,"d":"-1.0"}},{"$f":"'법정동(2013)'!BF36-'법정동(2012)'!BF38","v":{"v":0,"d":"0.0"}},{"$f":"'법정동(2013)'!BG36-'법정동(2012)'!BG38","v":{"v":0,"d":"0.0"}}]
["시전동",{"$f":"'법정동(2013)'!B37-'법정동(2012)'!B39","v":{"v":-710,"d":"-710.0"}},{"$f":"'법정동(2013)'!C37-'법정동(2012)'!C39","v":{"v":15,"d":"15.0"}},{"$f":"'법정동(2013)'!D37-'법정동(2012)'!D39","v":{"v":440,"d":"440.0"}},{"$f":"'법정동(2013)'!E37-'법정동(2012)'!E39","v":{"v":1,"d":"1.0"}},{"$f":"'법정동(2013)'!F37-'법정동(2012)'!F39","v":{"v":0,"d":"0.0"}},{"$f":"'법정동(2013)'!G37-'법정동(2012)'!G39","v":{"v":0,"d":"0.0"}},{"$f":"'법정동(2013)'!H37-'법정동(2012)'!H39","v":{"v":0,"d":"0.0"}},{"$f":"'법정동(2013)'!I37-'법정동(2012)'!I39","v":{"v":0,"d":"0.0"}},{"$f":"'법정동(2013)'!J37-'법정동(2012)'!J39","v":{"v":0,"d":"0.0"}},{"$f":"'법정동(2013)'!K37-'법정동(2012)'!K39","v":{"v":0,"d":"0.0"}},{"$f":"'법정동(2013)'!L37-'법정동(2012)'!L39","v":{"v":-132,"d":"-132.0"}},{"$f":"'법정동(2013)'!M37-'법정동(2012)'!M39","v":{"v":6,"d":"6.0"}},{"$f":"'법정동(2013)'!N37-'법정동(2012)'!N39","v":{"v":0,"d":"0.0"}},{"$f":"'법정동(2013)'!O37-'법정동(2012)'!O39","v":{"v":0,"d":"0.0"}},{"$f":"'법정동(2013)'!P37-'법정동(2012)'!P39","v":{"v":0,"d":"0.0"}},{"$f":"'법정동(2013)'!Q37-'법정동(2012)'!Q39","v":{"v":0,"d":"0.0"}},{"$f":"'법정동(2013)'!R37-'법정동(2012)'!R39","v":{"v":0,"d":"0.0"}},{"$f":"'법정동(2013)'!S37-'법정동(2012)'!S39","v":{"v":0,"d":"0.0"}},{"$f":"'법정동(2013)'!T37-'법정동(2012)'!T39","v":{"v":0,"d":"0.0"}},{"$f":"'법정동(2013)'!U37-'법정동(2012)'!U39","v":{"v":0,"d":"0.0"}},{"$f":"'법정동(2013)'!V37-'법정동(2012)'!V39","v":{"v":0,"d":"0.0"}},{"$f":"'법정동(2013)'!W37-'법정동(2012)'!W39","v":{"v":0,"d":"0.0"}},{"$f":"'법정동(2013)'!X37-'법정동(2012)'!X39","v":{"v":0,"d":"0.0"}},{"$f":"'법정동(2013)'!Y37-'법정동(2012)'!Y39","v":{"v":0,"d":"0.0"}},{"$f":"'법정동(2013)'!Z37-'법정동(2012)'!Z39","v":{"v":0,"d":"0.0"}},{"$f":"'법정동(2013)'!AA37-'법정동(2012)'!AA39","v":{"v":0,"d":"0.0"}},{"$f":"'법정동(2013)'!AB37-'법정동(2012)'!AB39","v":{"v":0,"d":"0.0"}},{"$f":"'법정동(2013)'!AC37-'법정동(2012)'!AC39","v":{"v":0,"d":"0.0"}},{"$f":"'법정동(2013)'!AD37-'법정동(2012)'!AD39","v":{"v":-924,"d":"-924.0"}},{"$f":"'법정동(2013)'!AE37-'법정동(2012)'!AE39","v":{"v":2,"d":"2.0"}},{"$f":"'법정동(2013)'!AF37-'법정동(2012)'!AF39","v":{"v":0,"d":"0.0"}},{"$f":"'법정동(2013)'!AG37-'법정동(2012)'!AG39","v":{"v":0,"d":"0.0"}},{"$f":"'법정동(2013)'!AH37-'법정동(2012)'!AH39","v":{"v":0,"d":"0.0"}},{"$f":"'법정동(2013)'!AI37-'법정동(2012)'!AI39","v":{"v":0,"d":"0.0"}},{"$f":"'법정동(2013)'!AJ37-'법정동(2012)'!AJ39","v":{"v":0,"d":"0.0"}},{"$f":"'법정동(2013)'!AK37-'법정동(2012)'!AK39","v":{"v":0,"d":"0.0"}},{"$f":"'법정동(2013)'!AL37-'법정동(2012)'!AL39","v":{"v":-899,"d":"-899.0"}},{"$f":"'법정동(2013)'!AM37-'법정동(2012)'!AM39","v":{"v":5,"d":"5.0"}},{"$f":"'법정동(2013)'!AN37-'법정동(2012)'!AN39","v":{"v":0,"d":"0.0"}},{"$f":"'법정동(2013)'!AO37-'법정동(2012)'!AO39","v":{"v":0,"d":"0.0"}},{"$f":"'법정동(2013)'!AP37-'법정동(2012)'!AP39","v":{"v":0,"d":"0.0"}},{"$f":"'법정동(2013)'!AQ37-'법정동(2012)'!AQ39","v":{"v":0,"d":"0.0"}},{"$f":"'법정동(2013)'!AR37-'법정동(2012)'!AR39","v":{"v":0,"d":"0.0"}},{"$f":"'법정동(2013)'!AS37-'법정동(2012)'!AS39","v":{"v":0,"d":"0.0"}},{"$f":"'법정동(2013)'!AT37-'법정동(2012)'!AT39","v":{"v":0,"d":"0.0"}},{"$f":"'법정동(2013)'!AU37-'법정동(2012)'!AU39","v":{"v":0,"d":"0.0"}},{"$f":"'법정동(2013)'!AV37-'법정동(2012)'!AV39","v":{"v":0,"d":"0.0"}},{"$f":"'법정동(2013)'!AW37-'법정동(2012)'!AW39","v":{"v":0,"d":"0.0"}},{"$f":"'법정동(2013)'!AX37-'법정동(2012)'!AX39","v":{"v":0,"d":"0.0"}},{"$f":"'법정동(2013)'!AY37-'법정동(2012)'!AY39","v":{"v":0,"d":"0.0"}},{"$f":"'법정동(2013)'!AZ37-'법정동(2012)'!AZ39","v":{"v":0,"d":"0.0"}},{"$f":"'법정동(2013)'!BA37-'법정동(2012)'!BA39","v":{"v":0,"d":"0.0"}},{"$f":"'법정동(2013)'!BB37-'법정동(2012)'!BB39","v":{"v":0,"d":"0.0"}},{"$f":"'법정동(2013)'!BC37-'법정동(2012)'!BC39","v":{"v":0,"d":"0.0"}},{"$f":"'법정동(2013)'!BD37-'법정동(2012)'!BD39","v":{"v":0,"d":"0.0"}},{"$f":"'법정동(2013)'!BE37-'법정동(2012)'!BE39","v":{"v":0,"d":"0.0"}},{"$f":"'법정동(2013)'!BF37-'법정동(2012)'!BF39","v":{"v":805,"d":"805.0"}},{"$f":"'법정동(2013)'!BG37-'법정동(2012)'!BG39","v":{"v":1,"d":"1.0"}}]
["신기동",{"$f":"'법정동(2013)'!B38-'법정동(2012)'!B40","v":{"v":0,"d":"0.0"}},{"$f":"'법정동(2013)'!C38-'법정동(2012)'!C40","v":{"v":0,"d":"0.0"}},{"$f":"'법정동(2013)'!D38-'법정동(2012)'!D40","v":{"v":0,"d":"0.0"}},{"$f":"'법정동(2013)'!E38-'법정동(2012)'!E40","v":{"v":0,"d":"0.0"}},{"$f":"'법정동(2013)'!F38-'법정동(2012)'!F40","v":{"v":0,"d":"0.0"}},{"$f":"'법정동(2013)'!G38-'법정동(2012)'!G40","v":{"v":0,"d":"0.0"}},{"$f":"'법정동(2013)'!H38-'법정동(2012)'!H40","v":{"v":0,"d":"0.0"}},{"$f":"'법정동(2013)'!I38-'법정동(2012)'!I40","v":{"v":0,"d":"0.0"}},{"$f":"'법정동(2013)'!J38-'법정동(2012)'!J40","v":{"v":0,"d":"0.0"}},{"$f":"'법정동(2013)'!K38-'법정동(2012)'!K40","v":{"v":0,"d":"0.0"}},{"$f":"'법정동(2013)'!L38-'법정동(2012)'!L40","v":{"v":0,"d":"0.0"}},{"$f":"'법정동(2013)'!M38-'법정동(2012)'!M40","v":{"v":0,"d":"0.0"}},{"$f":"'법정동(2013)'!N38-'법정동(2012)'!N40","v":{"v":0,"d":"0.0"}},{"$f":"'법정동(2013)'!O38-'법정동(2012)'!O40","v":{"v":0,"d":"0.0"}},{"$f":"'법정동(2013)'!P38-'법정동(2012)'!P40","v":{"v":0,"d":"0.0"}},{"$f":"'법정동(2013)'!Q38-'법정동(2012)'!Q40","v":{"v":0,"d":"0.0"}},{"$f":"'법정동(2013)'!R38-'법정동(2012)'!R40","v":{"v":0,"d":"0.0"}},{"$f":"'법정동(2013)'!S38-'법정동(2012)'!S40","v":{"v":0,"d":"0.0"}},{"$f":"'법정동(2013)'!T38-'법정동(2012)'!T40","v":{"v":0,"d":"0.0"}},{"$f":"'법정동(2013)'!U38-'법정동(2012)'!U40","v":{"v":0,"d":"0.0"}},{"$f":"'법정동(2013)'!V38-'법정동(2012)'!V40","v":{"v":0,"d":"0.0"}},{"$f":"'법정동(2013)'!W38-'법정동(2012)'!W40","v":{"v":0,"d":"0.0"}},{"$f":"'법정동(2013)'!X38-'법정동(2012)'!X40","v":{"v":0,"d":"0.0"}},{"$f":"'법정동(2013)'!Y38-'법정동(2012)'!Y40","v":{"v":0,"d":"0.0"}},{"$f":"'법정동(2013)'!Z38-'법정동(2012)'!Z40","v":{"v":0,"d":"0.0"}},{"$f":"'법정동(2013)'!AA38-'법정동(2012)'!AA40","v":{"v":0,"d":"0.0"}},{"$f":"'법정동(2013)'!AB38-'법정동(2012)'!AB40","v":{"v":0,"d":"0.0"}},{"$f":"'법정동(2013)'!AC38-'법정동(2012)'!AC40","v":{"v":0,"d":"0.0"}},{"$f":"'법정동(2013)'!AD38-'법정동(2012)'!AD40","v":{"v":0,"d":"0.0"}},{"$f":"'법정동(2013)'!AE38-'법정동(2012)'!AE40","v":{"v":0,"d":"0.0"}},{"$f":"'법정동(2013)'!AF38-'법정동(2012)'!AF40","v":{"v":0,"d":"0.0"}},{"$f":"'법정동(2013)'!AG38-'법정동(2012)'!AG40","v":{"v":0,"d":"0.0"}},{"$f":"'법정동(2013)'!AH38-'법정동(2012)'!AH40","v":{"v":0,"d":"0.0"}},{"$f":"'법정동(2013)'!AI38-'법정동(2012)'!AI40","v":{"v":0,"d":"0.0"}},{"$f":"'법정동(2013)'!AJ38-'법정동(2012)'!AJ40","v":{"v":0,"d":"0.0"}},{"$f":"'법정동(2013)'!AK38-'법정동(2012)'!AK40","v":{"v":0,"d":"0.0"}},{"$f":"'법정동(2013)'!AL38-'법정동(2012)'!AL40","v":{"v":0,"d":"0.0"}},{"$f":"'법정동(2013)'!AM38-'법정동(2012)'!AM40","v":{"v":0,"d":"0.0"}},{"$f":"'법정동(2013)'!AN38-'법정동(2012)'!AN40","v":{"v":0,"d":"0.0"}},{"$f":"'법정동(2013)'!AO38-'법정동(2012)'!AO40","v":{"v":0,"d":"0.0"}},{"$f":"'법정동(2013)'!AP38-'법정동(2012)'!AP40","v":{"v":0,"d":"0.0"}},{"$f":"'법정동(2013)'!AQ38-'법정동(2012)'!AQ40","v":{"v":0,"d":"0.0"}},{"$f":"'법정동(2013)'!AR38-'법정동(2012)'!AR40","v":{"v":0,"d":"0.0"}},{"$f":"'법정동(2013)'!AS38-'법정동(2012)'!AS40","v":{"v":0,"d":"0.0"}},{"$f":"'법정동(2013)'!AT38-'법정동(2012)'!AT40","v":{"v":0,"d":"0.0"}},{"$f":"'법정동(2013)'!AU38-'법정동(2012)'!AU40","v":{"v":0,"d":"0.0"}},{"$f":"'법정동(2013)'!AV38-'법정동(2012)'!AV40","v":{"v":0,"d":"0.0"}},{"$f":"'법정동(2013)'!AW38-'법정동(2012)'!AW40","v":{"v":0,"d":"0.0"}},{"$f":"'법정동(2013)'!AX38-'법정동(2012)'!AX40","v":{"v":0,"d":"0.0"}},{"$f":"'법정동(2013)'!AY38-'법정동(2012)'!AY40","v":{"v":0,"d":"0.0"}},{"$f":"'법정동(2013)'!AZ38-'법정동(2012)'!AZ40","v":{"v":0,"d":"0.0"}},{"$f":"'법정동(2013)'!BA38-'법정동(2012)'!BA40","v":{"v":0,"d":"0.0"}},{"$f":"'법정동(2013)'!BB38-'법정동(2012)'!BB40","v":{"v":0,"d":"0.0"}},{"$f":"'법정동(2013)'!BC38-'법정동(2012)'!BC40","v":{"v":0,"d":"0.0"}},{"$f":"'법정동(2013)'!BD38-'법정동(2012)'!BD40","v":{"v":0,"d":"0.0"}},{"$f":"'법정동(2013)'!BE38-'법정동(2012)'!BE40","v":{"v":0,"d":"0.0"}},{"$f":"'법정동(2013)'!BF38-'법정동(2012)'!BF40","v":{"v":0,"d":"0.0"}},{"$f":"'법정동(2013)'!BG38-'법정동(2012)'!BG40","v":{"v":0,"d":"0.0"}}]
["웅천동",{"$f":"'법정동(2013)'!B39-'법정동(2012)'!B41","v":{"v":-1268.5999999996275,"d":"-1,268.6"}},{"$f":"'법정동(2013)'!C39-'법정동(2012)'!C41","v":{"v":82,"d":"82.0"}},{"$f":"'법정동(2013)'!D39-'법정동(2012)'!D41","v":{"v":-1277,"d":"-1,277.0"}},{"$f":"'법정동(2013)'!E39-'법정동(2012)'!E41","v":{"v":2,"d":"2.0"}},{"$f":"'법정동(2013)'!F39-'법정동(2012)'!F41","v":{"v":-14914,"d":"-14,914.0"}},{"$f":"'법정동(2013)'!G39-'법정동(2012)'!G41","v":{"v":1,"d":"1.0"}},{"$f":"'법정동(2013)'!H39-'법정동(2012)'!H41","v":{"v":0,"d":"0.0"}},{"$f":"'법정동(2013)'!I39-'법정동(2012)'!I41","v":{"v":0,"d":"0.0"}},{"$f":"'법정동(2013)'!J39-'법정동(2012)'!J41","v":{"v":0,"d":"0.0"}},{"$f":"'법정동(2013)'!K39-'법정동(2012)'!K41","v":{"v":0,"d":"0.0"}},{"$f":"'법정동(2013)'!L39-'법정동(2012)'!L41","v":{"v":-150,"d":"-150.0"}},{"$f":"'법정동(2013)'!M39-'법정동(2012)'!M41","v":{"v":29,"d":"29.0"}},{"$f":"'법정동(2013)'!N39-'법정동(2012)'!N41","v":{"v":0,"d":"0.0"}},{"$f":"'법정동(2013)'!O39-'법정동(2012)'!O41","v":{"v":0,"d":"0.0"}},{"$f":"'법정동(2013)'!P39-'법정동(2012)'!P41","v":{"v":0,"d":"0.0"}},{"$f":"'법정동(2013)'!Q39-'법정동(2012)'!Q41","v":{"v":0,"d":"0.0"}},{"$f":"'법정동(2013)'!R39-'법정동(2012)'!R41","v":{"v":15003.599999999977,"d":"15,003.6"}},{"$f":"'법정동(2013)'!S39-'법정동(2012)'!S41","v":{"v":64,"d":"64.0"}},{"$f":"'법정동(2013)'!T39-'법정동(2012)'!T41","v":{"v":0,"d":"0.0"}},{"$f":"'법정동(2013)'!U39-'법정동(2012)'!U41","v":{"v":0,"d":"0.0"}},{"$f":"'법정동(2013)'!V39-'법정동(2012)'!V41","v":{"v":0,"d":"0.0"}},{"$f":"'법정동(2013)'!W39-'법정동(2012)'!W41","v":{"v":0,"d":"0.0"}},{"$f":"'법정동(2013)'!X39-'법정동(2012)'!X41","v":{"v":387.7999999999993,"d":"387.8"}},{"$f":"'법정동(2013)'!Y39-'법정동(2012)'!Y41","v":{"v":1,"d":"1.0"}},{"$f":"'법정동(2013)'!Z39-'법정동(2012)'!Z41","v":{"v":0,"d":"0.0"}},{"$f":"'법정동(2013)'!AA39-'법정동(2012)'!AA41","v":{"v":0,"d":"0.0"}},{"$f":"'법정동(2013)'!AB39-'법정동(2012)'!AB41","v":{"v":0,"d":"0.0"}},{"$f":"'법정동(2013)'!AC39-'법정동(2012)'!AC41","v":{"v":0,"d":"0.0"}},{"$f":"'법정동(2013)'!AD39-'법정동(2012)'!AD41","v":{"v":-318,"d":"-318.0"}},{"$f":"'법정동(2013)'!AE39-'법정동(2012)'!AE41","v":{"v":-15,"d":"-15.0"}},{"$f":"'법정동(2013)'!AF39-'법정동(2012)'!AF41","v":{"v":0,"d":"0.0"}},{"$f":"'법정동(2013)'!AG39-'법정동(2012)'!AG41","v":{"v":0,"d":"0.0"}},{"$f":"'법정동(2013)'!AH39-'법정동(2012)'!AH41","v":{"v":0,"d":"0.0"}},{"$f":"'법정동(2013)'!AI39-'법정동(2012)'!AI41","v":{"v":0,"d":"0.0"}},{"$f":"'법정동(2013)'!AJ39-'법정동(2012)'!AJ41","v":{"v":0,"d":"0.0"}},{"$f":"'법정동(2013)'!AK39-'법정동(2012)'!AK41","v":{"v":0,"d":"0.0"}},{"$f":"'법정동(2013)'!AL39-'법정동(2012)'!AL41","v":{"v":-625,"d":"-625.0"}},{"$f":"'법정동(2013)'!AM39-'법정동(2012)'!AM41","v":{"v":-1,"d":"-1.0"}},{"$f":"'법정동(2013)'!AN39-'법정동(2012)'!AN41","v":{"v":0,"d":"0.0"}},{"$f":"'법정동(2013)'!AO39-'법정동(2012)'!AO41","v":{"v":0,"d":"0.0"}},{"$f":"'법정동(2013)'!AP39-'법정동(2012)'!AP41","v":{"v":0,"d":"0.0"}},{"$f":"'법정동(2013)'!AQ39-'법정동(2012)'!AQ41","v":{"v":0,"d":"0.0"}},{"$f":"'법정동(2013)'!AR39-'법정동(2012)'!AR41","v":{"v":0,"d":"0.0"}},{"$f":"'법정동(2013)'!AS39-'법정동(2012)'!AS41","v":{"v":0,"d":"0.0"}},{"$f":"'법정동(2013)'!AT39-'법정동(2012)'!AT41","v":{"v":0,"d":"0.0"}},{"$f":"'법정동(2013)'!AU39-'법정동(2012)'!AU41","v":{"v":0,"d":"0.0"}},{"$f":"'법정동(2013)'!AV39-'법정동(2012)'!AV41","v":{"v":0,"d":"0.0"}},{"$f":"'법정동(2013)'!AW39-'법정동(2012)'!AW41","v":{"v":0,"d":"0.0"}},{"$f":"'법정동(2013)'!AX39-'법정동(2012)'!AX41","v":{"v":0,"d":"0.0"}},{"$f":"'법정동(2013)'!AY39-'법정동(2012)'!AY41","v":{"v":0,"d":"0.0"}},{"$f":"'법정동(2013)'!AZ39-'법정동(2012)'!AZ41","v":{"v":0,"d":"0.0"}},{"$f":"'법정동(2013)'!BA39-'법정동(2012)'!BA41","v":{"v":0,"d":"0.0"}},{"$f":"'법정동(2013)'!BB39-'법정동(2012)'!BB41","v":{"v":0,"d":"0.0"}},{"$f":"'법정동(2013)'!BC39-'법정동(2012)'!BC41","v":{"v":0,"d":"0.0"}},{"$f":"'법정동(2013)'!BD39-'법정동(2012)'!BD41","v":{"v":0,"d":"0.0"}},{"$f":"'법정동(2013)'!BE39-'법정동(2012)'!BE41","v":{"v":0,"d":"0.0"}},{"$f":"'법정동(2013)'!BF39-'법정동(2012)'!BF41","v":{"v":624,"d":"624.0"}},{"$f":"'법정동(2013)'!BG39-'법정동(2012)'!BG41","v":{"v":1,"d":"1.0"}}]
["선원동",{"$f":"'법정동(2013)'!B40-'법정동(2012)'!B42","v":{"v":20,"d":"20.0"}},{"$f":"'법정동(2013)'!C40-'법정동(2012)'!C42","v":{"v":58,"d":"58.0"}},{"$f":"'법정동(2013)'!D40-'법정동(2012)'!D42","v":{"v":1146,"d":"1,146.0"}},{"$f":"'법정동(2013)'!E40-'법정동(2012)'!E42","v":{"v":2,"d":"2.0"}},{"$f":"'법정동(2013)'!F40-'법정동(2012)'!F42","v":{"v":-3120,"d":"-3,120.0"}},{"$f":"'법정동(2013)'!G40-'법정동(2012)'!G42","v":{"v":43,"d":"43.0"}},{"$f":"'법정동(2013)'!H40-'법정동(2012)'!H42","v":{"v":0,"d":"0.0"}},{"$f":"'법정동(2013)'!I40-'법정동(2012)'!I42","v":{"v":0,"d":"0.0"}},{"$f":"'법정동(2013)'!J40-'법정동(2012)'!J42","v":{"v":0,"d":"0.0"}},{"$f":"'법정동(2013)'!K40-'법정동(2012)'!K42","v":{"v":0,"d":"0.0"}},{"$f":"'법정동(2013)'!L40-'법정동(2012)'!L42","v":{"v":0,"d":"0.0"}},{"$f":"'법정동(2013)'!M40-'법정동(2012)'!M42","v":{"v":0,"d":"0.0"}},{"$f":"'법정동(2013)'!N40-'법정동(2012)'!N42","v":{"v":0,"d":"0.0"}},{"$f":"'법정동(2013)'!O40-'법정동(2012)'!O42","v":{"v":0,"d":"0.0"}},{"$f":"'법정동(2013)'!P40-'법정동(2012)'!P42","v":{"v":0,"d":"0.0"}},{"$f":"'법정동(2013)'!Q40-'법정동(2012)'!Q42","v":{"v":0,"d":"0.0"}},{"$f":"'법정동(2013)'!R40-'법정동(2012)'!R42","v":{"v":0,"d":"0.0"}},{"$f":"'법정동(2013)'!S40-'법정동(2012)'!S42","v":{"v":1,"d":"1.0"}},{"$f":"'법정동(2013)'!T40-'법정동(2012)'!T42","v":{"v":0,"d":"0.0"}},{"$f":"'법정동(2013)'!U40-'법정동(2012)'!U42","v":{"v":0,"d":"0.0"}},{"$f":"'법정동(2013)'!V40-'법정동(2012)'!V42","v":{"v":0,"d":"0.0"}},{"$f":"'법정동(2013)'!W40-'법정동(2012)'!W42","v":{"v":0,"d":"0.0"}},{"$f":"'법정동(2013)'!X40-'법정동(2012)'!X42","v":{"v":1296,"d":"1,296.0"}},{"$f":"'법정동(2013)'!Y40-'법정동(2012)'!Y42","v":{"v":1,"d":"1.0"}},{"$f":"'법정동(2013)'!Z40-'법정동(2012)'!Z42","v":{"v":0,"d":"0.0"}},{"$f":"'법정동(2013)'!AA40-'법정동(2012)'!AA42","v":{"v":0,"d":"0.0"}},{"$f":"'법정동(2013)'!AB40-'법정동(2012)'!AB42","v":{"v":0,"d":"0.0"}},{"$f":"'법정동(2013)'!AC40-'법정동(2012)'!AC42","v":{"v":0,"d":"0.0"}},{"$f":"'법정동(2013)'!AD40-'법정동(2012)'!AD42","v":{"v":53,"d":"53.0"}},{"$f":"'법정동(2013)'!AE40-'법정동(2012)'!AE42","v":{"v":5,"d":"5.0"}},{"$f":"'법정동(2013)'!AF40-'법정동(2012)'!AF42","v":{"v":0,"d":"0.0"}},{"$f":"'법정동(2013)'!AG40-'법정동(2012)'!AG42","v":{"v":1,"d":"1.0"}},{"$f":"'법정동(2013)'!AH40-'법정동(2012)'!AH42","v":{"v":0,"d":"0.0"}},{"$f":"'법정동(2013)'!AI40-'법정동(2012)'!AI42","v":{"v":0,"d":"0.0"}},{"$f":"'법정동(2013)'!AJ40-'법정동(2012)'!AJ42","v":{"v":0,"d":"0.0"}},{"$f":"'법정동(2013)'!AK40-'법정동(2012)'!AK42","v":{"v":0,"d":"0.0"}},{"$f":"'법정동(2013)'!AL40-'법정동(2012)'!AL42","v":{"v":0,"d":"0.0"}},{"$f":"'법정동(2013)'!AM40-'법정동(2012)'!AM42","v":{"v":4,"d":"4.0"}},{"$f":"'법정동(2013)'!AN40-'법정동(2012)'!AN42","v":{"v":0,"d":"0.0"}},{"$f":"'법정동(2013)'!AO40-'법정동(2012)'!AO42","v":{"v":0,"d":"0.0"}},{"$f":"'법정동(2013)'!AP40-'법정동(2012)'!AP42","v":{"v":0,"d":"0.0"}},{"$f":"'법정동(2013)'!AQ40-'법정동(2012)'!AQ42","v":{"v":0,"d":"0.0"}},{"$f":"'법정동(2013)'!AR40-'법정동(2012)'!AR42","v":{"v":0,"d":"0.0"}},{"$f":"'법정동(2013)'!AS40-'법정동(2012)'!AS42","v":{"v":0,"d":"0.0"}},{"$f":"'법정동(2013)'!AT40-'법정동(2012)'!AT42","v":{"v":0,"d":"0.0"}},{"$f":"'법정동(2013)'!AU40-'법정동(2012)'!AU42","v":{"v":0,"d":"0.0"}},{"$f":"'법정동(2013)'!AV40-'법정동(2012)'!AV42","v":{"v":0,"d":"0.0"}},{"$f":"'법정동(2013)'!AW40-'법정동(2012)'!AW42","v":{"v":0,"d":"0.0"}},{"$f":"'법정동(2013)'!AX40-'법정동(2012)'!AX42","v":{"v":0,"d":"0.0"}},{"$f":"'법정동(2013)'!AY40-'법정동(2012)'!AY42","v":{"v":0,"d":"0.0"}},{"$f":"'법정동(2013)'!AZ40-'법정동(2012)'!AZ42","v":{"v":0,"d":"0.0"}},{"$f":"'법정동(2013)'!BA40-'법정동(2012)'!BA42","v":{"v":0,"d":"0.0"}},{"$f":"'법정동(2013)'!BB40-'법정동(2012)'!BB42","v":{"v":0,"d":"0.0"}},{"$f":"'법정동(2013)'!BC40-'법정동(2012)'!BC42","v":{"v":0,"d":"0.0"}},{"$f":"'법정동(2013)'!BD40-'법정동(2012)'!BD42","v":{"v":0,"d":"0.0"}},{"$f":"'법정동(2013)'!BE40-'법정동(2012)'!BE42","v":{"v":0,"d":"0.0"}},{"$f":"'법정동(2013)'!BF40-'법정동(2012)'!BF42","v":{"v":645,"d":"645.0"}},{"$f":"'법정동(2013)'!BG40-'법정동(2012)'!BG42","v":{"v":1,"d":"1.0"}}]
["여천동",{"$f":"'법정동(2013)'!B41-'법정동(2012)'!B43","v":{"v":123,"d":"123.0"}},{"$f":"'법정동(2013)'!C41-'법정동(2012)'!C43","v":{"v":26,"d":"26.0"}},{"$f":"'법정동(2013)'!D41-'법정동(2012)'!D43","v":{"v":-4909,"d":"-4,909.0"}},{"$f":"'법정동(2013)'!E41-'법정동(2012)'!E43","v":{"v":-3,"d":"-3.0"}},{"$f":"'법정동(2013)'!F41-'법정동(2012)'!F43","v":{"v":-2202,"d":"-2,202.0"}},{"$f":"'법정동(2013)'!G41-'법정동(2012)'!G43","v":{"v":18,"d":"18.0"}},{"$f":"'법정동(2013)'!H41-'법정동(2012)'!H43","v":{"v":0,"d":"0.0"}},{"$f":"'법정동(2013)'!I41-'법정동(2012)'!I43","v":{"v":0,"d":"0.0"}},{"$f":"'법정동(2013)'!J41-'법정동(2012)'!J43","v":{"v":0,"d":"0.0"}},{"$f":"'법정동(2013)'!K41-'법정동(2012)'!K43","v":{"v":0,"d":"0.0"}},{"$f":"'법정동(2013)'!L41-'법정동(2012)'!L43","v":{"v":635,"d":"635.0"}},{"$f":"'법정동(2013)'!M41-'법정동(2012)'!M43","v":{"v":2,"d":"2.0"}},{"$f":"'법정동(2013)'!N41-'법정동(2012)'!N43","v":{"v":0,"d":"0.0"}},{"$f":"'법정동(2013)'!O41-'법정동(2012)'!O43","v":{"v":0,"d":"0.0"}},{"$f":"'법정동(2013)'!P41-'법정동(2012)'!P43","v":{"v":0,"d":"0.0"}},{"$f":"'법정동(2013)'!Q41-'법정동(2012)'!Q43","v":{"v":0,"d":"0.0"}},{"$f":"'법정동(2013)'!R41-'법정동(2012)'!R43","v":{"v":6144,"d":"6,144.0"}},{"$f":"'법정동(2013)'!S41-'법정동(2012)'!S43","v":{"v":3,"d":"3.0"}},{"$f":"'법정동(2013)'!T41-'법정동(2012)'!T43","v":{"v":0,"d":"0.0"}},{"$f":"'법정동(2013)'!U41-'법정동(2012)'!U43","v":{"v":0,"d":"0.0"}},{"$f":"'법정동(2013)'!V41-'법정동(2012)'!V43","v":{"v":0,"d":"0.0"}},{"$f":"'법정동(2013)'!W41-'법정동(2012)'!W43","v":{"v":0,"d":"0.0"}},{"$f":"'법정동(2013)'!X41-'법정동(2012)'!X43","v":{"v":989,"d":"989.0"}},{"$f":"'법정동(2013)'!Y41-'법정동(2012)'!Y43","v":{"v":1,"d":"1.0"}},{"$f":"'법정동(2013)'!Z41-'법정동(2012)'!Z43","v":{"v":0,"d":"0.0"}},{"$f":"'법정동(2013)'!AA41-'법정동(2012)'!AA43","v":{"v":1,"d":"1.0"}},{"$f":"'법정동(2013)'!AB41-'법정동(2012)'!AB43","v":{"v":-748,"d":"-748.0"}},{"$f":"'법정동(2013)'!AC41-'법정동(2012)'!AC43","v":{"v":-1,"d":"-1.0"}},{"$f":"'법정동(2013)'!AD41-'법정동(2012)'!AD43","v":{"v":214,"d":"214.0"}},{"$f":"'법정동(2013)'!AE41-'법정동(2012)'!AE43","v":{"v":4,"d":"4.0"}},{"$f":"'법정동(2013)'!AF41-'법정동(2012)'!AF43","v":{"v":0,"d":"0.0"}},{"$f":"'법정동(2013)'!AG41-'법정동(2012)'!AG43","v":{"v":0,"d":"0.0"}},{"$f":"'법정동(2013)'!AH41-'법정동(2012)'!AH43","v":{"v":0,"d":"0.0"}},{"$f":"'법정동(2013)'!AI41-'법정동(2012)'!AI43","v":{"v":0,"d":"0.0"}},{"$f":"'법정동(2013)'!AJ41-'법정동(2012)'!AJ43","v":{"v":0,"d":"0.0"}},{"$f":"'법정동(2013)'!AK41-'법정동(2012)'!AK43","v":{"v":0,"d":"0.0"}},{"$f":"'법정동(2013)'!AL41-'법정동(2012)'!AL43","v":{"v":0,"d":"0.0"}},{"$f":"'법정동(2013)'!AM41-'법정동(2012)'!AM43","v":{"v":1,"d":"1.0"}},{"$f":"'법정동(2013)'!AN41-'법정동(2012)'!AN43","v":{"v":0,"d":"0.0"}},{"$f":"'법정동(2013)'!AO41-'법정동(2012)'!AO43","v":{"v":0,"d":"0.0"}},{"$f":"'법정동(2013)'!AP41-'법정동(2012)'!AP43","v":{"v":0,"d":"0.0"}},{"$f":"'법정동(2013)'!AQ41-'법정동(2012)'!AQ43","v":{"v":0,"d":"0.0"}},{"$f":"'법정동(2013)'!AR41-'법정동(2012)'!AR43","v":{"v":0,"d":"0.0"}},{"$f":"'법정동(2013)'!AS41-'법정동(2012)'!AS43","v":{"v":0,"d":"0.0"}},{"$f":"'법정동(2013)'!AT41-'법정동(2012)'!AT43","v":{"v":0,"d":"0.0"}},{"$f":"'법정동(2013)'!AU41-'법정동(2012)'!AU43","v":{"v":0,"d":"0.0"}},{"$f":"'법정동(2013)'!AV41-'법정동(2012)'!AV43","v":{"v":0,"d":"0.0"}},{"$f":"'법정동(2013)'!AW41-'법정동(2012)'!AW43","v":{"v":0,"d":"0.0"}},{"$f":"'법정동(2013)'!AX41-'법정동(2012)'!AX43","v":{"v":0,"d":"0.0"}},{"$f":"'법정동(2013)'!AY41-'법정동(2012)'!AY43","v":{"v":0,"d":"0.0"}},{"$f":"'법정동(2013)'!AZ41-'법정동(2012)'!AZ43","v":{"v":0,"d":"0.0"}},{"$f":"'법정동(2013)'!BA41-'법정동(2012)'!BA43","v":{"v":0,"d":"0.0"}},{"$f":"'법정동(2013)'!BB41-'법정동(2012)'!BB43","v":{"v":0,"d":"0.0"}},{"$f":"'법정동(2013)'!BC41-'법정동(2012)'!BC43","v":{"v":0,"d":"0.0"}},{"$f":"'법정동(2013)'!BD41-'법정동(2012)'!BD43","v":{"v":0,"d":"0.0"}},{"$f":"'법정동(2013)'!BE41-'법정동(2012)'!BE43","v":{"v":0,"d":"0.0"}},{"$f":"'법정동(2013)'!BF41-'법정동(2012)'!BF43","v":{"v":0,"d":"0.0"}},{"$f":"'법정동(2013)'!BG41-'법정동(2012)'!BG43","v":{"v":0,"d":"0.0"}}]
["화장동",{"$f":"'법정동(2013)'!B42-'법정동(2012)'!B44","v":{"v":-226.99999999953434,"d":"-227.0"}},{"$f":"'법정동(2013)'!C42-'법정동(2012)'!C44","v":{"v":14,"d":"14.0"}},{"$f":"'법정동(2013)'!D42-'법정동(2012)'!D44","v":{"v":4899,"d":"4,899.0"}},{"$f":"'법정동(2013)'!E42-'법정동(2012)'!E44","v":{"v":3,"d":"3.0"}},{"$f":"'법정동(2013)'!F42-'법정동(2012)'!F44","v":{"v":-5950,"d":"-5,950.0"}},{"$f":"'법정동(2013)'!G42-'법정동(2012)'!G44","v":{"v":2,"d":"2.0"}},{"$f":"'법정동(2013)'!H42-'법정동(2012)'!H44","v":{"v":0,"d":"0.0"}},{"$f":"'법정동(2013)'!I42-'법정동(2012)'!I44","v":{"v":0,"d":"0.0"}},{"$f":"'법정동(2013)'!J42-'법정동(2012)'!J44","v":{"v":0,"d":"0.0"}},{"$f":"'법정동(2013)'!K42-'법정동(2012)'!K44","v":{"v":0,"d":"0.0"}},{"$f":"'법정동(2013)'!L42-'법정동(2012)'!L44","v":{"v":-3697,"d":"-3,697.0"}},{"$f":"'법정동(2013)'!M42-'법정동(2012)'!M44","v":{"v":0,"d":"0.0"}},{"$f":"'법정동(2013)'!N42-'법정동(2012)'!N44","v":{"v":0,"d":"0.0"}},{"$f":"'법정동(2013)'!O42-'법정동(2012)'!O44","v":{"v":0,"d":"0.0"}},{"$f":"'법정동(2013)'!P42-'법정동(2012)'!P44","v":{"v":0,"d":"0.0"}},{"$f":"'법정동(2013)'!Q42-'법정동(2012)'!Q44","v":{"v":0,"d":"0.0"}},{"$f":"'법정동(2013)'!R42-'법정동(2012)'!R44","v":{"v":774.5999999999767,"d":"774.6"}},{"$f":"'법정동(2013)'!S42-'법정동(2012)'!S44","v":{"v":2,"d":"2.0"}},{"$f":"'법정동(2013)'!T42-'법정동(2012)'!T44","v":{"v":0,"d":"0.0"}},{"$f":"'법정동(2013)'!U42-'법정동(2012)'!U44","v":{"v":0,"d":"0.0"}},{"$f":"'법정동(2013)'!V42-'법정동(2012)'!V44","v":{"v":0,"d":"0.0"}},{"$f":"'법정동(2013)'!W42-'법정동(2012)'!W44","v":{"v":0,"d":"0.0"}},{"$f":"'법정동(2013)'!X42-'법정동(2012)'!X44","v":{"v":487.6999999999971,"d":"487.7"}},{"$f":"'법정동(2013)'!Y42-'법정동(2012)'!Y44","v":{"v":2,"d":"2.0"}},{"$f":"'법정동(2013)'!Z42-'법정동(2012)'!Z44","v":{"v":0,"d":"0.0"}},{"$f":"'법정동(2013)'!AA42-'법정동(2012)'!AA44","v":{"v":0,"d":"0.0"}},{"$f":"'법정동(2013)'!AB42-'법정동(2012)'!AB44","v":{"v":55.69999999999982,"d":"55.7"}},{"$f":"'법정동(2013)'!AC42-'법정동(2012)'!AC44","v":{"v":0,"d":"0.0"}},{"$f":"'법정동(2013)'!AD42-'법정동(2012)'!AD44","v":{"v":-246,"d":"-246.0"}},{"$f":"'법정동(2013)'!AE42-'법정동(2012)'!AE44","v":{"v":2,"d":"2.0"}},{"$f":"'법정동(2013)'!AF42-'법정동(2012)'!AF44","v":{"v":-248,"d":"-248.0"}},{"$f":"'법정동(2013)'!AG42-'법정동(2012)'!AG44","v":{"v":1,"d":"1.0"}},{"$f":"'법정동(2013)'!AH42-'법정동(2012)'!AH44","v":{"v":0,"d":"0.0"}},{"$f":"'법정동(2013)'!AI42-'법정동(2012)'!AI44","v":{"v":0,"d":"0.0"}},{"$f":"'법정동(2013)'!AJ42-'법정동(2012)'!AJ44","v":{"v":0,"d":"0.0"}},{"$f":"'법정동(2013)'!AK42-'법정동(2012)'!AK44","v":{"v":0,"d":"0.0"}},{"$f":"'법정동(2013)'!AL42-'법정동(2012)'!AL44","v":{"v":0,"d":"0.0"}},{"$f":"'법정동(2013)'!AM42-'법정동(2012)'!AM44","v":{"v":1,"d":"1.0"}},{"$f":"'법정동(2013)'!AN42-'법정동(2012)'!AN44","v":{"v":0,"d":"0.0"}},{"$f":"'법정동(2013)'!AO42-'법정동(2012)'!AO44","v":{"v":0,"d":"0.0"}},{"$f":"'법정동(2013)'!AP42-'법정동(2012)'!AP44","v":{"v":0,"d":"0.0"}},{"$f":"'법정동(2013)'!AQ42-'법정동(2012)'!AQ44","v":{"v":0,"d":"0.0"}},{"$f":"'법정동(2013)'!AR42-'법정동(2012)'!AR44","v":{"v":0,"d":"0.0"}},{"$f":"'법정동(2013)'!AS42-'법정동(2012)'!AS44","v":{"v":0,"d":"0.0"}},{"$f":"'법정동(2013)'!AT42-'법정동(2012)'!AT44","v":{"v":0,"d":"0.0"}},{"$f":"'법정동(2013)'!AU42-'법정동(2012)'!AU44","v":{"v":0,"d":"0.0"}},{"$f":"'법정동(2013)'!AV42-'법정동(2012)'!AV44","v":{"v":0,"d":"0.0"}},{"$f":"'법정동(2013)'!AW42-'법정동(2012)'!AW44","v":{"v":0,"d":"0.0"}},{"$f":"'법정동(2013)'!AX42-'법정동(2012)'!AX44","v":{"v":0,"d":"0.0"}},{"$f":"'법정동(2013)'!AY42-'법정동(2012)'!AY44","v":{"v":0,"d":"0.0"}},{"$f":"'법정동(2013)'!AZ42-'법정동(2012)'!AZ44","v":{"v":0,"d":"0.0"}},{"$f":"'법정동(2013)'!BA42-'법정동(2012)'!BA44","v":{"v":0,"d":"0.0"}},{"$f":"'법정동(2013)'!BB42-'법정동(2012)'!BB44","v":{"v":0,"d":"0.0"}},{"$f":"'법정동(2013)'!BC42-'법정동(2012)'!BC44","v":{"v":0,"d":"0.0"}},{"$f":"'법정동(2013)'!BD42-'법정동(2012)'!BD44","v":{"v":0,"d":"0.0"}},{"$f":"'법정동(2013)'!BE42-'법정동(2012)'!BE44","v":{"v":0,"d":"0.0"}},{"$f":"'법정동(2013)'!BF42-'법정동(2012)'!BF44","v":{"v":3697,"d":"3,697.0"}},{"$f":"'법정동(2013)'!BG42-'법정동(2012)'!BG44","v":{"v":1,"d":"1.0"}}]
["주삼동",{"$f":"'법정동(2013)'!B43-'법정동(2012)'!B45","v":{"v":-151,"d":"-151.0"}},{"$f":"'법정동(2013)'!C43-'법정동(2012)'!C45","v":{"v":-50,"d":"-50.0"}},{"$f":"'법정동(2013)'!D43-'법정동(2012)'!D45","v":{"v":-16110,"d":"-16,110.0"}},{"$f":"'법정동(2013)'!E43-'법정동(2012)'!E45","v":{"v":-38,"d":"-38.0"}},{"$f":"'법정동(2013)'!F43-'법정동(2012)'!F45","v":{"v":-16948,"d":"-16,948.0"}},{"$f":"'법정동(2013)'!G43-'법정동(2012)'!G45","v":{"v":-29,"d":"-29.0"}},{"$f":"'법정동(2013)'!H43-'법정동(2012)'!H45","v":{"v":0,"d":"0.0"}},{"$f":"'법정동(2013)'!I43-'법정동(2012)'!I45","v":{"v":0,"d":"0.0"}},{"$f":"'법정동(2013)'!J43-'법정동(2012)'!J45","v":{"v":0,"d":"0.0"}},{"$f":"'법정동(2013)'!K43-'법정동(2012)'!K45","v":{"v":0,"d":"0.0"}},{"$f":"'법정동(2013)'!L43-'법정동(2012)'!L45","v":{"v":-26674,"d":"-26,674.0"}},{"$f":"'법정동(2013)'!M43-'법정동(2012)'!M45","v":{"v":-30,"d":"-30.0"}},{"$f":"'법정동(2013)'!N43-'법정동(2012)'!N45","v":{"v":0,"d":"0.0"}},{"$f":"'법정동(2013)'!O43-'법정동(2012)'!O45","v":{"v":0,"d":"0.0"}},{"$f":"'법정동(2013)'!P43-'법정동(2012)'!P45","v":{"v":0,"d":"0.0"}},{"$f":"'법정동(2013)'!Q43-'법정동(2012)'!Q45","v":{"v":0,"d":"0.0"}},{"$f":"'법정동(2013)'!R43-'법정동(2012)'!R45","v":{"v":16662,"d":"16,662.0"}},{"$f":"'법정동(2013)'!S43-'법정동(2012)'!S45","v":{"v":7,"d":"7.0"}},{"$f":"'법정동(2013)'!T43-'법정동(2012)'!T45","v":{"v":-185.8000000000029,"d":"-185.8"}},{"$f":"'법정동(2013)'!U43-'법정동(2012)'!U45","v":{"v":-5,"d":"-5.0"}},{"$f":"'법정동(2013)'!V43-'법정동(2012)'!V45","v":{"v":0,"d":"0.0"}},{"$f":"'법정동(2013)'!W43-'법정동(2012)'!W45","v":{"v":1,"d":"1.0"}},{"$f":"'법정동(2013)'!X43-'법정동(2012)'!X45","v":{"v":10145,"d":"10,145.0"}},{"$f":"'법정동(2013)'!Y43-'법정동(2012)'!Y45","v":{"v":3,"d":"3.0"}},{"$f":"'법정동(2013)'!Z43-'법정동(2012)'!Z45","v":{"v":0,"d":"0.0"}},{"$f":"'법정동(2013)'!AA43-'법정동(2012)'!AA45","v":{"v":-2,"d":"-2.0"}},{"$f":"'법정동(2013)'!AB43-'법정동(2012)'!AB45","v":{"v":-2550,"d":"-2,550.0"}},{"$f":"'법정동(2013)'!AC43-'법정동(2012)'!AC45","v":{"v":1,"d":"1.0"}},{"$f":"'법정동(2013)'!AD43-'법정동(2012)'!AD45","v":{"v":31058.79999999999,"d":"31,058.8"}},{"$f":"'법정동(2013)'!AE43-'법정동(2012)'!AE45","v":{"v":47,"d":"47.0"}},{"$f":"'법정동(2013)'!AF43-'법정동(2012)'!AF45","v":{"v":0,"d":"0.0"}},{"$f":"'법정동(2013)'!AG43-'법정동(2012)'!AG45","v":{"v":0,"d":"0.0"}},{"$f":"'법정동(2013)'!AH43-'법정동(2012)'!AH45","v":{"v":0,"d":"0.0"}},{"$f":"'법정동(2013)'!AI43-'법정동(2012)'!AI45","v":{"v":0,"d":"0.0"}},{"$f":"'법정동(2013)'!AJ43-'법정동(2012)'!AJ45","v":{"v":0,"d":"0.0"}},{"$f":"'법정동(2013)'!AK43-'법정동(2012)'!AK45","v":{"v":0,"d":"0.0"}},{"$f":"'법정동(2013)'!AL43-'법정동(2012)'!AL45","v":{"v":0,"d":"0.0"}},{"$f":"'법정동(2013)'!AM43-'법정동(2012)'!AM45","v":{"v":0,"d":"0.0"}},{"$f":"'법정동(2013)'!AN43-'법정동(2012)'!AN45","v":{"v":0,"d":"0.0"}},{"$f":"'법정동(2013)'!AO43-'법정동(2012)'!AO45","v":{"v":0,"d":"0.0"}},{"$f":"'법정동(2013)'!AP43-'법정동(2012)'!AP45","v":{"v":0,"d":"0.0"}},{"$f":"'법정동(2013)'!AQ43-'법정동(2012)'!AQ45","v":{"v":0,"d":"0.0"}},{"$f":"'법정동(2013)'!AR43-'법정동(2012)'!AR45","v":{"v":0,"d":"0.0"}},{"$f":"'법정동(2013)'!AS43-'법정동(2012)'!AS45","v":{"v":0,"d":"0.0"}},{"$f":"'법정동(2013)'!AT43-'법정동(2012)'!AT45","v":{"v":0,"d":"0.0"}},{"$f":"'법정동(2013)'!AU43-'법정동(2012)'!AU45","v":{"v":0,"d":"0.0"}},{"$f":"'법정동(2013)'!AV43-'법정동(2012)'!AV45","v":{"v":0,"d":"0.0"}},{"$f":"'법정동(2013)'!AW43-'법정동(2012)'!AW45","v":{"v":0,"d":"0.0"}},{"$f":"'법정동(2013)'!AX43-'법정동(2012)'!AX45","v":{"v":0,"d":"0.0"}},{"$f":"'법정동(2013)'!AY43-'법정동(2012)'!AY45","v":{"v":0,"d":"0.0"}},{"$f":"'법정동(2013)'!AZ43-'법정동(2012)'!AZ45","v":{"v":0,"d":"0.0"}},{"$f":"'법정동(2013)'!BA43-'법정동(2012)'!BA45","v":{"v":0,"d":"0.0"}},{"$f":"'법정동(2013)'!BB43-'법정동(2012)'!BB45","v":{"v":0,"d":"0.0"}},{"$f":"'법정동(2013)'!BC43-'법정동(2012)'!BC45","v":{"v":0,"d":"0.0"}},{"$f":"'법정동(2013)'!BD43-'법정동(2012)'!BD45","v":{"v":0,"d":"0.0"}},{"$f":"'법정동(2013)'!BE43-'법정동(2012)'!BE45","v":{"v":0,"d":"0.0"}},{"$f":"'법정동(2013)'!BF43-'법정동(2012)'!BF45","v":{"v":4451,"d":"4,451.0"}},{"$f":"'법정동(2013)'!BG43-'법정동(2012)'!BG45","v":{"v":-5,"d":"-5.0"}}]
["봉계동",{"$f":"'법정동(2013)'!B44-'법정동(2012)'!B46","v":{"v":-30,"d":"-30.0"}},{"$f":"'법정동(2013)'!C44-'법정동(2012)'!C46","v":{"v":23,"d":"23.0"}},{"$f":"'법정동(2013)'!D44-'법정동(2012)'!D46","v":{"v":-30,"d":"-30.0"}},{"$f":"'법정동(2013)'!E44-'법정동(2012)'!E46","v":{"v":15,"d":"15.0"}},{"$f":"'법정동(2013)'!F44-'법정동(2012)'!F46","v":{"v":0,"d":"0.0"}},{"$f":"'법정동(2013)'!G44-'법정동(2012)'!G46","v":{"v":3,"d":"3.0"}},{"$f":"'법정동(2013)'!H44-'법정동(2012)'!H46","v":{"v":0,"d":"0.0"}},{"$f":"'법정동(2013)'!I44-'법정동(2012)'!I46","v":{"v":0,"d":"0.0"}},{"$f":"'법정동(2013)'!J44-'법정동(2012)'!J46","v":{"v":0,"d":"0.0"}},{"$f":"'법정동(2013)'!K44-'법정동(2012)'!K46","v":{"v":0,"d":"0.0"}},{"$f":"'법정동(2013)'!L44-'법정동(2012)'!L46","v":{"v":0,"d":"0.0"}},{"$f":"'법정동(2013)'!M44-'법정동(2012)'!M46","v":{"v":2,"d":"2.0"}},{"$f":"'법정동(2013)'!N44-'법정동(2012)'!N46","v":{"v":0,"d":"0.0"}},{"$f":"'법정동(2013)'!O44-'법정동(2012)'!O46","v":{"v":0,"d":"0.0"}},{"$f":"'법정동(2013)'!P44-'법정동(2012)'!P46","v":{"v":0,"d":"0.0"}},{"$f":"'법정동(2013)'!Q44-'법정동(2012)'!Q46","v":{"v":0,"d":"0.0"}},{"$f":"'법정동(2013)'!R44-'법정동(2012)'!R46","v":{"v":-138,"d":"-138.0"}},{"$f":"'법정동(2013)'!S44-'법정동(2012)'!S46","v":{"v":1,"d":"1.0"}},{"$f":"'법정동(2013)'!T44-'법정동(2012)'!T46","v":{"v":0,"d":"0.0"}},{"$f":"'법정동(2013)'!U44-'법정동(2012)'!U46","v":{"v":0,"d":"0.0"}},{"$f":"'법정동(2013)'!V44-'법정동(2012)'!V46","v":{"v":0,"d":"0.0"}},{"$f":"'법정동(2013)'!W44-'법정동(2012)'!W46","v":{"v":0,"d":"0.0"}},{"$f":"'법정동(2013)'!X44-'법정동(2012)'!X46","v":{"v":0,"d":"0.0"}},{"$f":"'법정동(2013)'!Y44-'법정동(2012)'!Y46","v":{"v":0,"d":"0.0"}},{"$f":"'법정동(2013)'!Z44-'법정동(2012)'!Z46","v":{"v":0,"d":"0.0"}},{"$f":"'법정동(2013)'!AA44-'법정동(2012)'!AA46","v":{"v":0,"d":"0.0"}},{"$f":"'법정동(2013)'!AB44-'법정동(2012)'!AB46","v":{"v":0,"d":"0.0"}},{"$f":"'법정동(2013)'!AC44-'법정동(2012)'!AC46","v":{"v":0,"d":"0.0"}},{"$f":"'법정동(2013)'!AD44-'법정동(2012)'!AD46","v":{"v":138,"d":"138.0"}},{"$f":"'법정동(2013)'!AE44-'법정동(2012)'!AE46","v":{"v":2,"d":"2.0"}},{"$f":"'법정동(2013)'!AF44-'법정동(2012)'!AF46","v":{"v":0,"d":"0.0"}},{"$f":"'법정동(2013)'!AG44-'법정동(2012)'!AG46","v":{"v":0,"d":"0.0"}},{"$f":"'법정동(2013)'!AH44-'법정동(2012)'!AH46","v":{"v":0,"d":"0.0"}},{"$f":"'법정동(2013)'!AI44-'법정동(2012)'!AI46","v":{"v":0,"d":"0.0"}},{"$f":"'법정동(2013)'!AJ44-'법정동(2012)'!AJ46","v":{"v":0,"d":"0.0"}},{"$f":"'법정동(2013)'!AK44-'법정동(2012)'!AK46","v":{"v":0,"d":"0.0"}},{"$f":"'법정동(2013)'!AL44-'법정동(2012)'!AL46","v":{"v":0,"d":"0.0"}},{"$f":"'법정동(2013)'!AM44-'법정동(2012)'!AM46","v":{"v":0,"d":"0.0"}},{"$f":"'법정동(2013)'!AN44-'법정동(2012)'!AN46","v":{"v":0,"d":"0.0"}},{"$f":"'법정동(2013)'!AO44-'법정동(2012)'!AO46","v":{"v":0,"d":"0.0"}},{"$f":"'법정동(2013)'!AP44-'법정동(2012)'!AP46","v":{"v":0,"d":"0.0"}},{"$f":"'법정동(2013)'!AQ44-'법정동(2012)'!AQ46","v":{"v":0,"d":"0.0"}},{"$f":"'법정동(2013)'!AR44-'법정동(2012)'!AR46","v":{"v":0,"d":"0.0"}},{"$f":"'법정동(2013)'!AS44-'법정동(2012)'!AS46","v":{"v":0,"d":"0.0"}},{"$f":"'법정동(2013)'!AT44-'법정동(2012)'!AT46","v":{"v":0,"d":"0.0"}},{"$f":"'법정동(2013)'!AU44-'법정동(2012)'!AU46","v":{"v":0,"d":"0.0"}},{"$f":"'법정동(2013)'!AV44-'법정동(2012)'!AV46","v":{"v":0,"d":"0.0"}},{"$f":"'법정동(2013)'!AW44-'법정동(2012)'!AW46","v":{"v":0,"d":"0.0"}},{"$f":"'법정동(2013)'!AX44-'법정동(2012)'!AX46","v":{"v":0,"d":"0.0"}},{"$f":"'법정동(2013)'!AY44-'법정동(2012)'!AY46","v":{"v":0,"d":"0.0"}},{"$f":"'법정동(2013)'!AZ44-'법정동(2012)'!AZ46","v":{"v":0,"d":"0.0"}},{"$f":"'법정동(2013)'!BA44-'법정동(2012)'!BA46","v":{"v":0,"d":"0.0"}},{"$f":"'법정동(2013)'!BB44-'법정동(2012)'!BB46","v":{"v":0,"d":"0.0"}},{"$f":"'법정동(2013)'!BC44-'법정동(2012)'!BC46","v":{"v":0,"d":"0.0"}},{"$f":"'법정동(2013)'!BD44-'법정동(2012)'!BD46","v":{"v":0,"d":"0.0"}},{"$f":"'법정동(2013)'!BE44-'법정동(2012)'!BE46","v":{"v":0,"d":"0.0"}},{"$f":"'법정동(2013)'!BF44-'법정동(2012)'!BF46","v":{"v":0,"d":"0.0"}},{"$f":"'법정동(2013)'!BG44-'법정동(2012)'!BG46","v":{"v":0,"d":"0.0"}}]
["해산동",{"$f":"'법정동(2013)'!B45-'법정동(2012)'!B47","v":{"v":735,"d":"735.0"}},{"$f":"'법정동(2013)'!C45-'법정동(2012)'!C47","v":{"v":60,"d":"60.0"}},{"$f":"'법정동(2013)'!D45-'법정동(2012)'!D47","v":{"v":-52057,"d":"-52,057.0"}},{"$f":"'법정동(2013)'!E45-'법정동(2012)'!E47","v":{"v":-83,"d":"-83.0"}},{"$f":"'법정동(2013)'!F45-'법정동(2012)'!F47","v":{"v":-22502.099999999977,"d":"-22,502.1"}},{"$f":"'법정동(2013)'!G45-'법정동(2012)'!G47","v":{"v":-27,"d":"-27.0"}},{"$f":"'법정동(2013)'!H45-'법정동(2012)'!H47","v":{"v":0,"d":"0.0"}},{"$f":"'법정동(2013)'!I45-'법정동(2012)'!I47","v":{"v":0,"d":"0.0"}},{"$f":"'법정동(2013)'!J45-'법정동(2012)'!J47","v":{"v":-1935,"d":"-1,935.0"}},{"$f":"'법정동(2013)'!K45-'법정동(2012)'!K47","v":{"v":-3,"d":"-3.0"}},{"$f":"'법정동(2013)'!L45-'법정동(2012)'!L47","v":{"v":-38999,"d":"-38,999.0"}},{"$f":"'법정동(2013)'!M45-'법정동(2012)'!M47","v":{"v":-22,"d":"-22.0"}},{"$f":"'법정동(2013)'!N45-'법정동(2012)'!N47","v":{"v":0,"d":"0.0"}},{"$f":"'법정동(2013)'!O45-'법정동(2012)'!O47","v":{"v":0,"d":"0.0"}},{"$f":"'법정동(2013)'!P45-'법정동(2012)'!P47","v":{"v":0,"d":"0.0"}},{"$f":"'법정동(2013)'!Q45-'법정동(2012)'!Q47","v":{"v":0,"d":"0.0"}},{"$f":"'법정동(2013)'!R45-'법정동(2012)'!R47","v":{"v":6981.399999999994,"d":"6,981.4"}},{"$f":"'법정동(2013)'!S45-'법정동(2012)'!S47","v":{"v":-9,"d":"-9.0"}},{"$f":"'법정동(2013)'!T45-'법정동(2012)'!T47","v":{"v":1380,"d":"1,380.0"}},{"$f":"'법정동(2013)'!U45-'법정동(2012)'!U47","v":{"v":1,"d":"1.0"}},{"$f":"'법정동(2013)'!V45-'법정동(2012)'!V47","v":{"v":0,"d":"0.0"}},{"$f":"'법정동(2013)'!W45-'법정동(2012)'!W47","v":{"v":0,"d":"0.0"}},{"$f":"'법정동(2013)'!X45-'법정동(2012)'!X47","v":{"v":0,"d":"0.0"}},{"$f":"'법정동(2013)'!Y45-'법정동(2012)'!Y47","v":{"v":0,"d":"0.0"}},{"$f":"'법정동(2013)'!Z45-'법정동(2012)'!Z47","v":{"v":-1546,"d":"-1,546.0"}},{"$f":"'법정동(2013)'!AA45-'법정동(2012)'!AA47","v":{"v":-3,"d":"-3.0"}},{"$f":"'법정동(2013)'!AB45-'법정동(2012)'!AB47","v":{"v":0,"d":"0.0"}},{"$f":"'법정동(2013)'!AC45-'법정동(2012)'!AC47","v":{"v":0,"d":"0.0"}},{"$f":"'법정동(2013)'!AD45-'법정동(2012)'!AD47","v":{"v":110794.70000000001,"d":"110,794.7"}},{"$f":"'법정동(2013)'!AE45-'법정동(2012)'!AE47","v":{"v":210,"d":"210.0"}},{"$f":"'법정동(2013)'!AF45-'법정동(2012)'!AF47","v":{"v":-7,"d":"-7.0"}},{"$f":"'법정동(2013)'!AG45-'법정동(2012)'!AG47","v":{"v":3,"d":"3.0"}},{"$f":"'법정동(2013)'!AH45-'법정동(2012)'!AH47","v":{"v":0,"d":"0.0"}},{"$f":"'법정동(2013)'!AI45-'법정동(2012)'!AI47","v":{"v":0,"d":"0.0"}},{"$f":"'법정동(2013)'!AJ45-'법정동(2012)'!AJ47","v":{"v":0,"d":"0.0"}},{"$f":"'법정동(2013)'!AK45-'법정동(2012)'!AK47","v":{"v":1,"d":"1.0"}},{"$f":"'법정동(2013)'!AL45-'법정동(2012)'!AL47","v":{"v":-30,"d":"-30.0"}},{"$f":"'법정동(2013)'!AM45-'법정동(2012)'!AM47","v":{"v":2,"d":"2.0"}},{"$f":"'법정동(2013)'!AN45-'법정동(2012)'!AN47","v":{"v":0,"d":"0.0"}},{"$f":"'법정동(2013)'!AO45-'법정동(2012)'!AO47","v":{"v":0,"d":"0.0"}},{"$f":"'법정동(2013)'!AP45-'법정동(2012)'!AP47","v":{"v":0,"d":"0.0"}},{"$f":"'법정동(2013)'!AQ45-'법정동(2012)'!AQ47","v":{"v":0,"d":"0.0"}},{"$f":"'법정동(2013)'!AR45-'법정동(2012)'!AR47","v":{"v":0,"d":"0.0"}},{"$f":"'법정동(2013)'!AS45-'법정동(2012)'!AS47","v":{"v":0,"d":"0.0"}},{"$f":"'법정동(2013)'!AT45-'법정동(2012)'!AT47","v":{"v":0,"d":"0.0"}},{"$f":"'법정동(2013)'!AU45-'법정동(2012)'!AU47","v":{"v":0,"d":"0.0"}},{"$f":"'법정동(2013)'!AV45-'법정동(2012)'!AV47","v":{"v":0,"d":"0.0"}},{"$f":"'법정동(2013)'!AW45-'법정동(2012)'!AW47","v":{"v":0,"d":"0.0"}},{"$f":"'법정동(2013)'!AX45-'법정동(2012)'!AX47","v":{"v":0,"d":"0.0"}},{"$f":"'법정동(2013)'!AY45-'법정동(2012)'!AY47","v":{"v":0,"d":"0.0"}},{"$f":"'법정동(2013)'!AZ45-'법정동(2012)'!AZ47","v":{"v":0,"d":"0.0"}},{"$f":"'법정동(2013)'!BA45-'법정동(2012)'!BA47","v":{"v":0,"d":"0.0"}},{"$f":"'법정동(2013)'!BB45-'법정동(2012)'!BB47","v":{"v":0,"d":"0.0"}},{"$f":"'법정동(2013)'!BC45-'법정동(2012)'!BC47","v":{"v":0,"d":"0.0"}},{"$f":"'법정동(2013)'!BD45-'법정동(2012)'!BD47","v":{"v":302,"d":"302.0"}},{"$f":"'법정동(2013)'!BE45-'법정동(2012)'!BE47","v":{"v":0,"d":"0.0"}},{"$f":"'법정동(2013)'!BF45-'법정동(2012)'!BF47","v":{"v":-1647,"d":"-1,647.0"}},{"$f":"'법정동(2013)'!BG45-'법정동(2012)'!BG47","v":{"v":-10,"d":"-10.0"}}]
["화치동",{"$f":"'법정동(2013)'!B46-'법정동(2012)'!B48","v":{"v":0,"d":"0.0"}},{"$f":"'법정동(2013)'!C46-'법정동(2012)'!C48","v":{"v":-14,"d":"-14.0"}},{"$f":"'법정동(2013)'!D46-'법정동(2012)'!D48","v":{"v":0,"d":"0.0"}},{"$f":"'법정동(2013)'!E46-'법정동(2012)'!E48","v":{"v":-2,"d":"-2.0"}},{"$f":"'법정동(2013)'!F46-'법정동(2012)'!F48","v":{"v":0,"d":"0.0"}},{"$f":"'법정동(2013)'!G46-'법정동(2012)'!G48","v":{"v":0,"d":"0.0"}},{"$f":"'법정동(2013)'!H46-'법정동(2012)'!H48","v":{"v":0,"d":"0.0"}},{"$f":"'법정동(2013)'!I46-'법정동(2012)'!I48","v":{"v":0,"d":"0.0"}},{"$f":"'법정동(2013)'!J46-'법정동(2012)'!J48","v":{"v":0,"d":"0.0"}},{"$f":"'법정동(2013)'!K46-'법정동(2012)'!K48","v":{"v":0,"d":"0.0"}},{"$f":"'법정동(2013)'!L46-'법정동(2012)'!L48","v":{"v":-4,"d":"-4.0"}},{"$f":"'법정동(2013)'!M46-'법정동(2012)'!M48","v":{"v":-1,"d":"-1.0"}},{"$f":"'법정동(2013)'!N46-'법정동(2012)'!N48","v":{"v":0,"d":"0.0"}},{"$f":"'법정동(2013)'!O46-'법정동(2012)'!O48","v":{"v":0,"d":"0.0"}},{"$f":"'법정동(2013)'!P46-'법정동(2012)'!P48","v":{"v":0,"d":"0.0"}},{"$f":"'법정동(2013)'!Q46-'법정동(2012)'!Q48","v":{"v":0,"d":"0.0"}},{"$f":"'법정동(2013)'!R46-'법정동(2012)'!R48","v":{"v":0,"d":"0.0"}},{"$f":"'법정동(2013)'!S46-'법정동(2012)'!S48","v":{"v":0,"d":"0.0"}},{"$f":"'법정동(2013)'!T46-'법정동(2012)'!T48","v":{"v":-608.7999999998137,"d":"-608.8"}},{"$f":"'법정동(2013)'!U46-'법정동(2012)'!U48","v":{"v":-2,"d":"-2.0"}},{"$f":"'법정동(2013)'!V46-'법정동(2012)'!V48","v":{"v":0,"d":"0.0"}},{"$f":"'법정동(2013)'!W46-'법정동(2012)'!W48","v":{"v":0,"d":"0.0"}},{"$f":"'법정동(2013)'!X46-'법정동(2012)'!X48","v":{"v":0,"d":"0.0"}},{"$f":"'법정동(2013)'!Y46-'법정동(2012)'!Y48","v":{"v":-11,"d":"-11.0"}},{"$f":"'법정동(2013)'!Z46-'법정동(2012)'!Z48","v":{"v":0,"d":"0.0"}},{"$f":"'법정동(2013)'!AA46-'법정동(2012)'!AA48","v":{"v":0,"d":"0.0"}},{"$f":"'법정동(2013)'!AB46-'법정동(2012)'!AB48","v":{"v":0,"d":"0.0"}},{"$f":"'법정동(2013)'!AC46-'법정동(2012)'!AC48","v":{"v":0,"d":"0.0"}},{"$f":"'법정동(2013)'!AD46-'법정동(2012)'!AD48","v":{"v":612.7999999999884,"d":"612.8"}},{"$f":"'법정동(2013)'!AE46-'법정동(2012)'!AE48","v":{"v":2,"d":"2.0"}},{"$f":"'법정동(2013)'!AF46-'법정동(2012)'!AF48","v":{"v":0,"d":"0.0"}},{"$f":"'법정동(2013)'!AG46-'법정동(2012)'!AG48","v":{"v":0,"d":"0.0"}},{"$f":"'법정동(2013)'!AH46-'법정동(2012)'!AH48","v":{"v":0,"d":"0.0"}},{"$f":"'법정동(2013)'!AI46-'법정동(2012)'!AI48","v":{"v":0,"d":"0.0"}},{"$f":"'법정동(2013)'!AJ46-'법정동(2012)'!AJ48","v":{"v":0,"d":"0.0"}},{"$f":"'법정동(2013)'!AK46-'법정동(2012)'!AK48","v":{"v":0,"d":"0.0"}},{"$f":"'법정동(2013)'!AL46-'법정동(2012)'!AL48","v":{"v":0,"d":"0.0"}},{"$f":"'법정동(2013)'!AM46-'법정동(2012)'!AM48","v":{"v":0,"d":"0.0"}},{"$f":"'법정동(2013)'!AN46-'법정동(2012)'!AN48","v":{"v":0,"d":"0.0"}},{"$f":"'법정동(2013)'!AO46-'법정동(2012)'!AO48","v":{"v":0,"d":"0.0"}},{"$f":"'법정동(2013)'!AP46-'법정동(2012)'!AP48","v":{"v":0,"d":"0.0"}},{"$f":"'법정동(2013)'!AQ46-'법정동(2012)'!AQ48","v":{"v":0,"d":"0.0"}},{"$f":"'법정동(2013)'!AR46-'법정동(2012)'!AR48","v":{"v":0,"d":"0.0"}},{"$f":"'법정동(2013)'!AS46-'법정동(2012)'!AS48","v":{"v":0,"d":"0.0"}},{"$f":"'법정동(2013)'!AT46-'법정동(2012)'!AT48","v":{"v":0,"d":"0.0"}},{"$f":"'법정동(2013)'!AU46-'법정동(2012)'!AU48","v":{"v":0,"d":"0.0"}},{"$f":"'법정동(2013)'!AV46-'법정동(2012)'!AV48","v":{"v":0,"d":"0.0"}},{"$f":"'법정동(2013)'!AW46-'법정동(2012)'!AW48","v":{"v":0,"d":"0.0"}},{"$f":"'법정동(2013)'!AX46-'법정동(2012)'!AX48","v":{"v":0,"d":"0.0"}},{"$f":"'법정동(2013)'!AY46-'법정동(2012)'!AY48","v":{"v":0,"d":"0.0"}},{"$f":"'법정동(2013)'!AZ46-'법정동(2012)'!AZ48","v":{"v":0,"d":"0.0"}},{"$f":"'법정동(2013)'!BA46-'법정동(2012)'!BA48","v":{"v":0,"d":"0.0"}},{"$f":"'법정동(2013)'!BB46-'법정동(2012)'!BB48","v":{"v":0,"d":"0.0"}},{"$f":"'법정동(2013)'!BC46-'법정동(2012)'!BC48","v":{"v":0,"d":"0.0"}},{"$f":"'법정동(2013)'!BD46-'법정동(2012)'!BD48","v":{"v":0,"d":"0.0"}},{"$f":"'법정동(2013)'!BE46-'법정동(2012)'!BE48","v":{"v":0,"d":"0.0"}},{"$f":"'법정동(2013)'!BF46-'법정동(2012)'!BF48","v":{"v":0,"d":"0.0"}},{"$f":"'법정동(2013)'!BG46-'법정동(2012)'!BG48","v":{"v":0,"d":"0.0"}}]
["월하동",{"$f":"'법정동(2013)'!B47-'법정동(2012)'!B49","v":{"v":-12,"d":"-12.0"}},{"$f":"'법정동(2013)'!C47-'법정동(2012)'!C49","v":{"v":-29,"d":"-29.0"}},{"$f":"'법정동(2013)'!D47-'법정동(2012)'!D49","v":{"v":-34087,"d":"-34,087.0"}},{"$f":"'법정동(2013)'!E47-'법정동(2012)'!E49","v":{"v":-55,"d":"-55.0"}},{"$f":"'법정동(2013)'!F47-'법정동(2012)'!F49","v":{"v":-5900,"d":"-5,900.0"}},{"$f":"'법정동(2013)'!G47-'법정동(2012)'!G49","v":{"v":-14,"d":"-14.0"}},{"$f":"'법정동(2013)'!H47-'법정동(2012)'!H49","v":{"v":0,"d":"0.0"}},{"$f":"'법정동(2013)'!I47-'법정동(2012)'!I49","v":{"v":0,"d":"0.0"}},{"$f":"'법정동(2013)'!J47-'법정동(2012)'!J49","v":{"v":0,"d":"0.0"}},{"$f":"'법정동(2013)'!K47-'법정동(2012)'!K49","v":{"v":0,"d":"0.0"}},{"$f":"'법정동(2013)'!L47-'법정동(2012)'!L49","v":{"v":-48088.19999999995,"d":"-48,088.2"}},{"$f":"'법정동(2013)'!M47-'법정동(2012)'!M49","v":{"v":-24,"d":"-24.0"}},{"$f":"'법정동(2013)'!N47-'법정동(2012)'!N49","v":{"v":0,"d":"0.0"}},{"$f":"'법정동(2013)'!O47-'법정동(2012)'!O49","v":{"v":0,"d":"0.0"}},{"$f":"'법정동(2013)'!P47-'법정동(2012)'!P49","v":{"v":0,"d":"0.0"}},{"$f":"'법정동(2013)'!Q47-'법정동(2012)'!Q49","v":{"v":0,"d":"0.0"}},{"$f":"'법정동(2013)'!R47-'법정동(2012)'!R49","v":-804.5},{"$f":"'법정동(2013)'!S47-'법정동(2012)'!S49","v":{"v":-1,"d":"-1.0"}},{"$f":"'법정동(2013)'!T47-'법정동(2012)'!T49","v":{"v":9165,"d":"9,165.0"}},{"$f":"'법정동(2013)'!U47-'법정동(2012)'!U49","v":{"v":1,"d":"1.0"}},{"$f":"'법정동(2013)'!V47-'법정동(2012)'!V49","v":{"v":0,"d":"0.0"}},{"$f":"'법정동(2013)'!W47-'법정동(2012)'!W49","v":{"v":0,"d":"0.0"}},{"$f":"'법정동(2013)'!X47-'법정동(2012)'!X49","v":{"v":0,"d":"0.0"}},{"$f":"'법정동(2013)'!Y47-'법정동(2012)'!Y49","v":{"v":0,"d":"0.0"}},{"$f":"'법정동(2013)'!Z47-'법정동(2012)'!Z49","v":{"v":0,"d":"0.0"}},{"$f":"'법정동(2013)'!AA47-'법정동(2012)'!AA49","v":{"v":0,"d":"0.0"}},{"$f":"'법정동(2013)'!AB47-'법정동(2012)'!AB49","v":{"v":0,"d":"0.0"}},{"$f":"'법정동(2013)'!AC47-'법정동(2012)'!AC49","v":{"v":0,"d":"0.0"}},{"$f":"'법정동(2013)'!AD47-'법정동(2012)'!AD49","v":{"v":81673.70000000001,"d":"81,673.7"}},{"$f":"'법정동(2013)'!AE47-'법정동(2012)'!AE49","v":{"v":66,"d":"66.0"}},{"$f":"'법정동(2013)'!AF47-'법정동(2012)'!AF49","v":{"v":0,"d":"0.0"}},{"$f":"'법정동(2013)'!AG47-'법정동(2012)'!AG49","v":{"v":0,"d":"0.0"}},{"$f":"'법정동(2013)'!AH47-'법정동(2012)'!AH49","v":{"v":0,"d":"0.0"}},{"$f":"'법정동(2013)'!AI47-'법정동(2012)'!AI49","v":{"v":0,"d":"0.0"}},{"$f":"'법정동(2013)'!AJ47-'법정동(2012)'!AJ49","v":{"v":0,"d":"0.0"}},{"$f":"'법정동(2013)'!AK47-'법정동(2012)'!AK49","v":{"v":0,"d":"0.0"}},{"$f":"'법정동(2013)'!AL47-'법정동(2012)'!AL49","v":{"v":0,"d":"0.0"}},{"$f":"'법정동(2013)'!AM47-'법정동(2012)'!AM49","v":{"v":0,"d":"0.0"}},{"$f":"'법정동(2013)'!AN47-'법정동(2012)'!AN49","v":{"v":0,"d":"0.0"}},{"$f":"'법정동(2013)'!AO47-'법정동(2012)'!AO49","v":{"v":0,"d":"0.0"}},{"$f":"'법정동(2013)'!AP47-'법정동(2012)'!AP49","v":{"v":0,"d":"0.0"}},{"$f":"'법정동(2013)'!AQ47-'법정동(2012)'!AQ49","v":{"v":0,"d":"0.0"}},{"$f":"'법정동(2013)'!AR47-'법정동(2012)'!AR49","v":{"v":0,"d":"0.0"}},{"$f":"'법정동(2013)'!AS47-'법정동(2012)'!AS49","v":{"v":0,"d":"0.0"}},{"$f":"'법정동(2013)'!AT47-'법정동(2012)'!AT49","v":{"v":0,"d":"0.0"}},{"$f":"'법정동(2013)'!AU47-'법정동(2012)'!AU49","v":{"v":0,"d":"0.0"}},{"$f":"'법정동(2013)'!AV47-'법정동(2012)'!AV49","v":{"v":0,"d":"0.0"}},{"$f":"'법정동(2013)'!AW47-'법정동(2012)'!AW49","v":{"v":0,"d":"0.0"}},{"$f":"'법정동(2013)'!AX47-'법정동(2012)'!AX49","v":{"v":0,"d":"0.0"}},{"$f":"'법정동(2013)'!AY47-'법정동(2012)'!AY49","v":{"v":0,"d":"0.0"}},{"$f":"'법정동(2013)'!AZ47-'법정동(2012)'!AZ49","v":{"v":0,"d":"0.0"}},{"$f":"'법정동(2013)'!BA47-'법정동(2012)'!BA49","v":{"v":0,"d":"0.0"}},{"$f":"'법정동(2013)'!BB47-'법정동(2012)'!BB49","v":{"v":0,"d":"0.0"}},{"$f":"'법정동(2013)'!BC47-'법정동(2012)'!BC49","v":{"v":0,"d":"0.0"}},{"$f":"'법정동(2013)'!BD47-'법정동(2012)'!BD49","v":{"v":0,"d":"0.0"}},{"$f":"'법정동(2013)'!BE47-'법정동(2012)'!BE49","v":{"v":0,"d":"0.0"}},{"$f":"'법정동(2013)'!BF47-'법정동(2012)'!BF49","v":{"v":-1971,"d":"-1,971.0"}},{"$f":"'법정동(2013)'!BG47-'법정동(2012)'!BG49","v":{"v":-2,"d":"-2.0"}}]
["평여동",{"$f":"'법정동(2013)'!B48-'법정동(2012)'!B50","v":{"v":0,"d":"0.0"}},{"$f":"'법정동(2013)'!C48-'법정동(2012)'!C50","v":{"v":-27,"d":"-27.0"}},{"$f":"'법정동(2013)'!D48-'법정동(2012)'!D50","v":{"v":-2408,"d":"-2,408.0"}},{"$f":"'법정동(2013)'!E48-'법정동(2012)'!E50","v":{"v":-8,"d":"-8.0"}},{"$f":"'법정동(2013)'!F48-'법정동(2012)'!F50","v":{"v":-3281,"d":"-3,281.0"}},{"$f":"'법정동(2013)'!G48-'법정동(2012)'!G50","v":{"v":-8,"d":"-8.0"}},{"$f":"'법정동(2013)'!H48-'법정동(2012)'!H50","v":{"v":0,"d":"0.0"}},{"$f":"'법정동(2013)'!I48-'법정동(2012)'!I50","v":{"v":0,"d":"0.0"}},{"$f":"'법정동(2013)'!J48-'법정동(2012)'!J50","v":{"v":0,"d":"0.0"}},{"$f":"'법정동(2013)'!K48-'법정동(2012)'!K50","v":{"v":0,"d":"0.0"}},{"$f":"'법정동(2013)'!L48-'법정동(2012)'!L50","v":{"v":-98649,"d":"-98,649.0"}},{"$f":"'법정동(2013)'!M48-'법정동(2012)'!M50","v":{"v":-30,"d":"-30.0"}},{"$f":"'법정동(2013)'!N48-'법정동(2012)'!N50","v":{"v":0,"d":"0.0"}},{"$f":"'법정동(2013)'!O48-'법정동(2012)'!O50","v":{"v":0,"d":"0.0"}},{"$f":"'법정동(2013)'!P48-'법정동(2012)'!P50","v":{"v":0,"d":"0.0"}},{"$f":"'법정동(2013)'!Q48-'법정동(2012)'!Q50","v":{"v":0,"d":"0.0"}},{"$f":"'법정동(2013)'!R48-'법정동(2012)'!R50","v":{"v":-67,"d":"-67.0"}},{"$f":"'법정동(2013)'!S48-'법정동(2012)'!S50","v":{"v":-2,"d":"-2.0"}},{"$f":"'법정동(2013)'!T48-'법정동(2012)'!T50","v":{"v":0,"d":"0.0"}},{"$f":"'법정동(2013)'!U48-'법정동(2012)'!U50","v":{"v":0,"d":"0.0"}},{"$f":"'법정동(2013)'!V48-'법정동(2012)'!V50","v":{"v":0,"d":"0.0"}},{"$f":"'법정동(2013)'!W48-'법정동(2012)'!W50","v":{"v":0,"d":"0.0"}},{"$f":"'법정동(2013)'!X48-'법정동(2012)'!X50","v":{"v":0,"d":"0.0"}},{"$f":"'법정동(2013)'!Y48-'법정동(2012)'!Y50","v":{"v":0,"d":"0.0"}},{"$f":"'법정동(2013)'!Z48-'법정동(2012)'!Z50","v":{"v":0,"d":"0.0"}},{"$f":"'법정동(2013)'!AA48-'법정동(2012)'!AA50","v":{"v":0,"d":"0.0"}},{"$f":"'법정동(2013)'!AB48-'법정동(2012)'!AB50","v":{"v":0,"d":"0.0"}},{"$f":"'법정동(2013)'!AC48-'법정동(2012)'!AC50","v":{"v":0,"d":"0.0"}},{"$f":"'법정동(2013)'!AD48-'법정동(2012)'!AD50","v":{"v":104405,"d":"104,405.0"}},{"$f":"'법정동(2013)'!AE48-'법정동(2012)'!AE50","v":{"v":20,"d":"20.0"}},{"$f":"'법정동(2013)'!AF48-'법정동(2012)'!AF50","v":{"v":0,"d":"0.0"}},{"$f":"'법정동(2013)'!AG48-'법정동(2012)'!AG50","v":{"v":0,"d":"0.0"}},{"$f":"'법정동(2013)'!AH48-'법정동(2012)'!AH50","v":{"v":0,"d":"0.0"}},{"$f":"'법정동(2013)'!AI48-'법정동(2012)'!AI50","v":{"v":0,"d":"0.0"}},{"$f":"'법정동(2013)'!AJ48-'법정동(2012)'!AJ50","v":{"v":0,"d":"0.0"}},{"$f":"'법정동(2013)'!AK48-'법정동(2012)'!AK50","v":{"v":0,"d":"0.0"}},{"$f":"'법정동(2013)'!AL48-'법정동(2012)'!AL50","v":{"v":0,"d":"0.0"}},{"$f":"'법정동(2013)'!AM48-'법정동(2012)'!AM50","v":{"v":0,"d":"0.0"}},{"$f":"'법정동(2013)'!AN48-'법정동(2012)'!AN50","v":{"v":0,"d":"0.0"}},{"$f":"'법정동(2013)'!AO48-'법정동(2012)'!AO50","v":{"v":0,"d":"0.0"}},{"$f":"'법정동(2013)'!AP48-'법정동(2012)'!AP50","v":{"v":0,"d":"0.0"}},{"$f":"'법정동(2013)'!AQ48-'법정동(2012)'!AQ50","v":{"v":0,"d":"0.0"}},{"$f":"'법정동(2013)'!AR48-'법정동(2012)'!AR50","v":{"v":0,"d":"0.0"}},{"$f":"'법정동(2013)'!AS48-'법정동(2012)'!AS50","v":{"v":0,"d":"0.0"}},{"$f":"'법정동(2013)'!AT48-'법정동(2012)'!AT50","v":{"v":0,"d":"0.0"}},{"$f":"'법정동(2013)'!AU48-'법정동(2012)'!AU50","v":{"v":0,"d":"0.0"}},{"$f":"'법정동(2013)'!AV48-'법정동(2012)'!AV50","v":{"v":0,"d":"0.0"}},{"$f":"'법정동(2013)'!AW48-'법정동(2012)'!AW50","v":{"v":0,"d":"0.0"}},{"$f":"'법정동(2013)'!AX48-'법정동(2012)'!AX50","v":{"v":0,"d":"0.0"}},{"$f":"'법정동(2013)'!AY48-'법정동(2012)'!AY50","v":{"v":0,"d":"0.0"}},{"$f":"'법정동(2013)'!AZ48-'법정동(2012)'!AZ50","v":{"v":0,"d":"0.0"}},{"$f":"'법정동(2013)'!BA48-'법정동(2012)'!BA50","v":{"v":0,"d":"0.0"}},{"$f":"'법정동(2013)'!BB48-'법정동(2012)'!BB50","v":{"v":0,"d":"0.0"}},{"$f":"'법정동(2013)'!BC48-'법정동(2012)'!BC50","v":{"v":0,"d":"0.0"}},{"$f":"'법정동(2013)'!BD48-'법정동(2012)'!BD50","v":{"v":0,"d":"0.0"}},{"$f":"'법정동(2013)'!BE48-'법정동(2012)'!BE50","v":{"v":0,"d":"0.0"}},{"$f":"'법정동(2013)'!BF48-'법정동(2012)'!BF50","v":{"v":0,"d":"0.0"}},{"$f":"'법정동(2013)'!BG48-'법정동(2012)'!BG50","v":{"v":1,"d":"1.0"}}]
["중흥동",{"$f":"'법정동(2013)'!B49-'법정동(2012)'!B51","v":{"v":-400,"d":"-400.0"}},{"$f":"'법정동(2013)'!C49-'법정동(2012)'!C51","v":{"v":10,"d":"10.0"}},{"$f":"'법정동(2013)'!D49-'법정동(2012)'!D51","v":{"v":-48921,"d":"-48,921.0"}},{"$f":"'법정동(2013)'!E49-'법정동(2012)'!E51","v":{"v":-10,"d":"-10.0"}},{"$f":"'법정동(2013)'!F49-'법정동(2012)'!F51","v":{"v":-2097,"d":"-2,097.0"}},{"$f":"'법정동(2013)'!G49-'법정동(2012)'!G51","v":{"v":-6,"d":"-6.0"}},{"$f":"'법정동(2013)'!H49-'법정동(2012)'!H51","v":{"v":0,"d":"0.0"}},{"$f":"'법정동(2013)'!I49-'법정동(2012)'!I51","v":{"v":0,"d":"0.0"}},{"$f":"'법정동(2013)'!J49-'법정동(2012)'!J51","v":{"v":0,"d":"0.0"}},{"$f":"'법정동(2013)'!K49-'법정동(2012)'!K51","v":{"v":0,"d":"0.0"}},{"$f":"'법정동(2013)'!L49-'법정동(2012)'!L51","v":{"v":-6663,"d":"-6,663.0"}},{"$f":"'법정동(2013)'!M49-'법정동(2012)'!M51","v":{"v":-6,"d":"-6.0"}},{"$f":"'법정동(2013)'!N49-'법정동(2012)'!N51","v":{"v":0,"d":"0.0"}},{"$f":"'법정동(2013)'!O49-'법정동(2012)'!O51","v":{"v":0,"d":"0.0"}},{"$f":"'법정동(2013)'!P49-'법정동(2012)'!P51","v":{"v":0,"d":"0.0"}},{"$f":"'법정동(2013)'!Q49-'법정동(2012)'!Q51","v":{"v":0,"d":"0.0"}},{"$f":"'법정동(2013)'!R49-'법정동(2012)'!R51","v":{"v":-7206,"d":"-7,206.0"}},{"$f":"'법정동(2013)'!S49-'법정동(2012)'!S51","v":{"v":1,"d":"1.0"}},{"$f":"'법정동(2013)'!T49-'법정동(2012)'!T51","v":{"v":69322,"d":"69,322.0"}},{"$f":"'법정동(2013)'!U49-'법정동(2012)'!U51","v":{"v":30,"d":"30.0"}},{"$f":"'법정동(2013)'!V49-'법정동(2012)'!V51","v":{"v":0,"d":"0.0"}},{"$f":"'법정동(2013)'!W49-'법정동(2012)'!W51","v":{"v":0,"d":"0.0"}},{"$f":"'법정동(2013)'!X49-'법정동(2012)'!X51","v":{"v":0,"d":"0.0"}},{"$f":"'법정동(2013)'!Y49-'법정동(2012)'!Y51","v":{"v":0,"d":"0.0"}},{"$f":"'법정동(2013)'!Z49-'법정동(2012)'!Z51","v":{"v":0,"d":"0.0"}},{"$f":"'법정동(2013)'!AA49-'법정동(2012)'!AA51","v":{"v":0,"d":"0.0"}},{"$f":"'법정동(2013)'!AB49-'법정동(2012)'!AB51","v":{"v":0,"d":"0.0"}},{"$f":"'법정동(2013)'!AC49-'법정동(2012)'!AC51","v":{"v":0,"d":"0.0"}},{"$f":"'법정동(2013)'!AD49-'법정동(2012)'!AD51","v":{"v":165,"d":"165.0"}},{"$f":"'법정동(2013)'!AE49-'법정동(2012)'!AE51","v":{"v":10,"d":"10.0"}},{"$f":"'법정동(2013)'!AF49-'법정동(2012)'!AF51","v":{"v":0,"d":"0.0"}},{"$f":"'법정동(2013)'!AG49-'법정동(2012)'!AG51","v":{"v":0,"d":"0.0"}},{"$f":"'법정동(2013)'!AH49-'법정동(2012)'!AH51","v":{"v":0,"d":"0.0"}},{"$f":"'법정동(2013)'!AI49-'법정동(2012)'!AI51","v":{"v":0,"d":"0.0"}},{"$f":"'법정동(2013)'!AJ49-'법정동(2012)'!AJ51","v":{"v":0,"d":"0.0"}},{"$f":"'법정동(2013)'!AK49-'법정동(2012)'!AK51","v":{"v":0,"d":"0.0"}},{"$f":"'법정동(2013)'!AL49-'법정동(2012)'!AL51","v":{"v":-437,"d":"-437.0"}},{"$f":"'법정동(2013)'!AM49-'법정동(2012)'!AM51","v":{"v":0,"d":"0.0"}},{"$f":"'법정동(2013)'!AN49-'법정동(2012)'!AN51","v":{"v":-3723,"d":"-3,723.0"}},{"$f":"'법정동(2013)'!AO49-'법정동(2012)'!AO51","v":{"v":-7,"d":"-7.0"}},{"$f":"'법정동(2013)'!AP49-'법정동(2012)'!AP51","v":{"v":0,"d":"0.0"}},{"$f":"'법정동(2013)'!AQ49-'법정동(2012)'!AQ51","v":{"v":0,"d":"0.0"}},{"$f":"'법정동(2013)'!AR49-'법정동(2012)'!AR51","v":{"v":0,"d":"0.0"}},{"$f":"'법정동(2013)'!AS49-'법정동(2012)'!AS51","v":{"v":0,"d":"0.0"}},{"$f":"'법정동(2013)'!AT49-'법정동(2012)'!AT51","v":{"v":0,"d":"0.0"}},{"$f":"'법정동(2013)'!AU49-'법정동(2012)'!AU51","v":{"v":0,"d":"0.0"}},{"$f":"'법정동(2013)'!AV49-'법정동(2012)'!AV51","v":{"v":0,"d":"0.0"}},{"$f":"'법정동(2013)'!AW49-'법정동(2012)'!AW51","v":{"v":0,"d":"0.0"}},{"$f":"'법정동(2013)'!AX49-'법정동(2012)'!AX51","v":{"v":0,"d":"0.0"}},{"$f":"'법정동(2013)'!AY49-'법정동(2012)'!AY51","v":{"v":0,"d":"0.0"}},{"$f":"'법정동(2013)'!AZ49-'법정동(2012)'!AZ51","v":{"v":330,"d":"330.0"}},{"$f":"'법정동(2013)'!BA49-'법정동(2012)'!BA51","v":{"v":1,"d":"1.0"}},{"$f":"'법정동(2013)'!BB49-'법정동(2012)'!BB51","v":{"v":0,"d":"0.0"}},{"$f":"'법정동(2013)'!BC49-'법정동(2012)'!BC51","v":{"v":0,"d":"0.0"}},{"$f":"'법정동(2013)'!BD49-'법정동(2012)'!BD51","v":{"v":0,"d":"0.0"}},{"$f":"'법정동(2013)'!BE49-'법정동(2012)'!BE51","v":{"v":0,"d":"0.0"}},{"$f":"'법정동(2013)'!BF49-'법정동(2012)'!BF51","v":{"v":-1170,"d":"-1,170.0"}},{"$f":"'법정동(2013)'!BG49-'법정동(2012)'!BG51","v":{"v":-3,"d":"-3.0"}}]
["적량동",{"$f":"'법정동(2013)'!B50-'법정동(2012)'!B52","v":{"v":0,"d":"0.0"}},{"$f":"'법정동(2013)'!C50-'법정동(2012)'!C52","v":{"v":0,"d":"0.0"}},{"$f":"'법정동(2013)'!D50-'법정동(2012)'!D52","v":{"v":0,"d":"0.0"}},{"$f":"'법정동(2013)'!E50-'법정동(2012)'!E52","v":{"v":0,"d":"0.0"}},{"$f":"'법정동(2013)'!F50-'법정동(2012)'!F52","v":{"v":0,"d":"0.0"}},{"$f":"'법정동(2013)'!G50-'법정동(2012)'!G52","v":{"v":0,"d":"0.0"}},{"$f":"'법정동(2013)'!H50-'법정동(2012)'!H52","v":{"v":0,"d":"0.0"}},{"$f":"'법정동(2013)'!I50-'법정동(2012)'!I52","v":{"v":0,"d":"0.0"}},{"$f":"'법정동(2013)'!J50-'법정동(2012)'!J52","v":{"v":0,"d":"0.0"}},{"$f":"'법정동(2013)'!K50-'법정동(2012)'!K52","v":{"v":0,"d":"0.0"}},{"$f":"'법정동(2013)'!L50-'법정동(2012)'!L52","v":{"v":0,"d":"0.0"}},{"$f":"'법정동(2013)'!M50-'법정동(2012)'!M52","v":{"v":0,"d":"0.0"}},{"$f":"'법정동(2013)'!N50-'법정동(2012)'!N52","v":{"v":0,"d":"0.0"}},{"$f":"'법정동(2013)'!O50-'법정동(2012)'!O52","v":{"v":0,"d":"0.0"}},{"$f":"'법정동(2013)'!P50-'법정동(2012)'!P52","v":{"v":0,"d":"0.0"}},{"$f":"'법정동(2013)'!Q50-'법정동(2012)'!Q52","v":{"v":0,"d":"0.0"}},{"$f":"'법정동(2013)'!R50-'법정동(2012)'!R52","v":{"v":0,"d":"0.0"}},{"$f":"'법정동(2013)'!S50-'법정동(2012)'!S52","v":{"v":0,"d":"0.0"}},{"$f":"'법정동(2013)'!T50-'법정동(2012)'!T52","v":{"v":0,"d":"0.0"}},{"$f":"'법정동(2013)'!U50-'법정동(2012)'!U52","v":{"v":0,"d":"0.0"}},{"$f":"'법정동(2013)'!V50-'법정동(2012)'!V52","v":{"v":0,"d":"0.0"}},{"$f":"'법정동(2013)'!W50-'법정동(2012)'!W52","v":{"v":0,"d":"0.0"}},{"$f":"'법정동(2013)'!X50-'법정동(2012)'!X52","v":{"v":0,"d":"0.0"}},{"$f":"'법정동(2013)'!Y50-'법정동(2012)'!Y52","v":{"v":0,"d":"0.0"}},{"$f":"'법정동(2013)'!Z50-'법정동(2012)'!Z52","v":{"v":0,"d":"0.0"}},{"$f":"'법정동(2013)'!AA50-'법정동(2012)'!AA52","v":{"v":0,"d":"0.0"}},{"$f":"'법정동(2013)'!AB50-'법정동(2012)'!AB52","v":{"v":0,"d":"0.0"}},{"$f":"'법정동(2013)'!AC50-'법정동(2012)'!AC52","v":{"v":0,"d":"0.0"}},{"$f":"'법정동(2013)'!AD50-'법정동(2012)'!AD52","v":{"v":0,"d":"0.0"}},{"$f":"'법정동(2013)'!AE50-'법정동(2012)'!AE52","v":{"v":0,"d":"0.0"}},{"$f":"'법정동(2013)'!AF50-'법정동(2012)'!AF52","v":{"v":0,"d":"0.0"}},{"$f":"'법정동(2013)'!AG50-'법정동(2012)'!AG52","v":{"v":0,"d":"0.0"}},{"$f":"'법정동(2013)'!AH50-'법정동(2012)'!AH52","v":{"v":0,"d":"0.0"}},{"$f":"'법정동(2013)'!AI50-'법정동(2012)'!AI52","v":{"v":0,"d":"0.0"}},{"$f":"'법정동(2013)'!AJ50-'법정동(2012)'!AJ52","v":{"v":0,"d":"0.0"}},{"$f":"'법정동(2013)'!AK50-'법정동(2012)'!AK52","v":{"v":0,"d":"0.0"}},{"$f":"'법정동(2013)'!AL50-'법정동(2012)'!AL52","v":{"v":0,"d":"0.0"}},{"$f":"'법정동(2013)'!AM50-'법정동(2012)'!AM52","v":{"v":0,"d":"0.0"}},{"$f":"'법정동(2013)'!AN50-'법정동(2012)'!AN52","v":{"v":0,"d":"0.0"}},{"$f":"'법정동(2013)'!AO50-'법정동(2012)'!AO52","v":{"v":0,"d":"0.0"}},{"$f":"'법정동(2013)'!AP50-'법정동(2012)'!AP52","v":{"v":0,"d":"0.0"}},{"$f":"'법정동(2013)'!AQ50-'법정동(2012)'!AQ52","v":{"v":0,"d":"0.0"}},{"$f":"'법정동(2013)'!AR50-'법정동(2012)'!AR52","v":{"v":0,"d":"0.0"}},{"$f":"'법정동(2013)'!AS50-'법정동(2012)'!AS52","v":{"v":0,"d":"0.0"}},{"$f":"'법정동(2013)'!AT50-'법정동(2012)'!AT52","v":{"v":0,"d":"0.0"}},{"$f":"'법정동(2013)'!AU50-'법정동(2012)'!AU52","v":{"v":0,"d":"0.0"}},{"$f":"'법정동(2013)'!AV50-'법정동(2012)'!AV52","v":{"v":0,"d":"0.0"}},{"$f":"'법정동(2013)'!AW50-'법정동(2012)'!AW52","v":{"v":0,"d":"0.0"}},{"$f":"'법정동(2013)'!AX50-'법정동(2012)'!AX52","v":{"v":0,"d":"0.0"}},{"$f":"'법정동(2013)'!AY50-'법정동(2012)'!AY52","v":{"v":0,"d":"0.0"}},{"$f":"'법정동(2013)'!AZ50-'법정동(2012)'!AZ52","v":{"v":0,"d":"0.0"}},{"$f":"'법정동(2013)'!BA50-'법정동(2012)'!BA52","v":{"v":0,"d":"0.0"}},{"$f":"'법정동(2013)'!BB50-'법정동(2012)'!BB52","v":{"v":0,"d":"0.0"}},{"$f":"'법정동(2013)'!BC50-'법정동(2012)'!BC52","v":{"v":0,"d":"0.0"}},{"$f":"'법정동(2013)'!BD50-'법정동(2012)'!BD52","v":{"v":0,"d":"0.0"}},{"$f":"'법정동(2013)'!BE50-'법정동(2012)'!BE52","v":{"v":0,"d":"0.0"}},{"$f":"'법정동(2013)'!BF50-'법정동(2012)'!BF52","v":{"v":0,"d":"0.0"}},{"$f":"'법정동(2013)'!BG50-'법정동(2012)'!BG52","v":{"v":0,"d":"0.0"}}]
["월내동",{"$f":"'법정동(2013)'!B51-'법정동(2012)'!B53","v":{"v":1012.7000000001863,"d":"1,012.7"}},{"$f":"'법정동(2013)'!C51-'법정동(2012)'!C53","v":{"v":-5,"d":"-5.0"}},{"$f":"'법정동(2013)'!D51-'법정동(2012)'!D53","v":{"v":0,"d":"0.0"}},{"$f":"'법정동(2013)'!E51-'법정동(2012)'!E53","v":{"v":0,"d":"0.0"}},{"$f":"'법정동(2013)'!F51-'법정동(2012)'!F53","v":{"v":0,"d":"0.0"}},{"$f":"'법정동(2013)'!G51-'법정동(2012)'!G53","v":{"v":0,"d":"0.0"}},{"$f":"'법정동(2013)'!H51-'법정동(2012)'!H53","v":{"v":0,"d":"0.0"}},{"$f":"'법정동(2013)'!I51-'법정동(2012)'!I53","v":{"v":0,"d":"0.0"}},{"$f":"'법정동(2013)'!J51-'법정동(2012)'!J53","v":{"v":0,"d":"0.0"}},{"$f":"'법정동(2013)'!K51-'법정동(2012)'!K53","v":{"v":0,"d":"0.0"}},{"$f":"'법정동(2013)'!L51-'법정동(2012)'!L53","v":{"v":-74678,"d":"-74,678.0"}},{"$f":"'법정동(2013)'!M51-'법정동(2012)'!M53","v":{"v":-2,"d":"-2.0"}},{"$f":"'법정동(2013)'!N51-'법정동(2012)'!N53","v":{"v":0,"d":"0.0"}},{"$f":"'법정동(2013)'!O51-'법정동(2012)'!O53","v":{"v":0,"d":"0.0"}},{"$f":"'법정동(2013)'!P51-'법정동(2012)'!P53","v":{"v":0,"d":"0.0"}},{"$f":"'법정동(2013)'!Q51-'법정동(2012)'!Q53","v":{"v":0,"d":"0.0"}},{"$f":"'법정동(2013)'!R51-'법정동(2012)'!R53","v":{"v":-642,"d":"-642.0"}},{"$f":"'법정동(2013)'!S51-'법정동(2012)'!S53","v":{"v":-1,"d":"-1.0"}},{"$f":"'법정동(2013)'!T51-'법정동(2012)'!T53","v":{"v":75216.70000000019,"d":"75,216.7"}},{"$f":"'법정동(2013)'!U51-'법정동(2012)'!U53","v":{"v":-5,"d":"-5.0"}},{"$f":"'법정동(2013)'!V51-'법정동(2012)'!V53","v":{"v":0,"d":"0.0"}},{"$f":"'법정동(2013)'!W51-'법정동(2012)'!W53","v":{"v":0,"d":"0.0"}},{"$f":"'법정동(2013)'!X51-'법정동(2012)'!X53","v":{"v":0,"d":"0.0"}},{"$f":"'법정동(2013)'!Y51-'법정동(2012)'!Y53","v":{"v":0,"d":"0.0"}},{"$f":"'법정동(2013)'!Z51-'법정동(2012)'!Z53","v":{"v":0,"d":"0.0"}},{"$f":"'법정동(2013)'!AA51-'법정동(2012)'!AA53","v":{"v":0,"d":"0.0"}},{"$f":"'법정동(2013)'!AB51-'법정동(2012)'!AB53","v":{"v":0,"d":"0.0"}},{"$f":"'법정동(2013)'!AC51-'법정동(2012)'!AC53","v":{"v":0,"d":"0.0"}},{"$f":"'법정동(2013)'!AD51-'법정동(2012)'!AD53","v":{"v":1398,"d":"1,398.0"}},{"$f":"'법정동(2013)'!AE51-'법정동(2012)'!AE53","v":{"v":4,"d":"4.0"}},{"$f":"'법정동(2013)'!AF51-'법정동(2012)'!AF53","v":{"v":0,"d":"0.0"}},{"$f":"'법정동(2013)'!AG51-'법정동(2012)'!AG53","v":{"v":0,"d":"0.0"}},{"$f":"'법정동(2013)'!AH51-'법정동(2012)'!AH53","v":{"v":0,"d":"0.0"}},{"$f":"'법정동(2013)'!AI51-'법정동(2012)'!AI53","v":{"v":0,"d":"0.0"}},{"$f":"'법정동(2013)'!AJ51-'법정동(2012)'!AJ53","v":{"v":0,"d":"0.0"}},{"$f":"'법정동(2013)'!AK51-'법정동(2012)'!AK53","v":{"v":0,"d":"0.0"}},{"$f":"'법정동(2013)'!AL51-'법정동(2012)'!AL53","v":{"v":0,"d":"0.0"}},{"$f":"'법정동(2013)'!AM51-'법정동(2012)'!AM53","v":{"v":0,"d":"0.0"}},{"$f":"'법정동(2013)'!AN51-'법정동(2012)'!AN53","v":{"v":0,"d":"0.0"}},{"$f":"'법정동(2013)'!AO51-'법정동(2012)'!AO53","v":{"v":0,"d":"0.0"}},{"$f":"'법정동(2013)'!AP51-'법정동(2012)'!AP53","v":{"v":0,"d":"0.0"}},{"$f":"'법정동(2013)'!AQ51-'법정동(2012)'!AQ53","v":{"v":0,"d":"0.0"}},{"$f":"'법정동(2013)'!AR51-'법정동(2012)'!AR53","v":{"v":0,"d":"0.0"}},{"$f":"'법정동(2013)'!AS51-'법정동(2012)'!AS53","v":{"v":0,"d":"0.0"}},{"$f":"'법정동(2013)'!AT51-'법정동(2012)'!AT53","v":{"v":0,"d":"0.0"}},{"$f":"'법정동(2013)'!AU51-'법정동(2012)'!AU53","v":{"v":0,"d":"0.0"}},{"$f":"'법정동(2013)'!AV51-'법정동(2012)'!AV53","v":{"v":0,"d":"0.0"}},{"$f":"'법정동(2013)'!AW51-'법정동(2012)'!AW53","v":{"v":0,"d":"0.0"}},{"$f":"'법정동(2013)'!AX51-'법정동(2012)'!AX53","v":{"v":0,"d":"0.0"}},{"$f":"'법정동(2013)'!AY51-'법정동(2012)'!AY53","v":{"v":0,"d":"0.0"}},{"$f":"'법정동(2013)'!AZ51-'법정동(2012)'!AZ53","v":{"v":0,"d":"0.0"}},{"$f":"'법정동(2013)'!BA51-'법정동(2012)'!BA53","v":{"v":0,"d":"0.0"}},{"$f":"'법정동(2013)'!BB51-'법정동(2012)'!BB53","v":{"v":0,"d":"0.0"}},{"$f":"'법정동(2013)'!BC51-'법정동(2012)'!BC53","v":{"v":0,"d":"0.0"}},{"$f":"'법정동(2013)'!BD51-'법정동(2012)'!BD53","v":{"v":0,"d":"0.0"}},{"$f":"'법정동(2013)'!BE51-'법정동(2012)'!BE53","v":{"v":0,"d":"0.0"}},{"$f":"'법정동(2013)'!BF51-'법정동(2012)'!BF53","v":{"v":-282,"d":"-282.0"}},{"$f":"'법정동(2013)'!BG51-'법정동(2012)'!BG53","v":{"v":-1,"d":"-1.0"}}]
["묘도동",{"$f":"'법정동(2013)'!B52-'법정동(2012)'!B54","v":{"v":-305,"d":"-305.0"}},{"$f":"'법정동(2013)'!C52-'법정동(2012)'!C54","v":{"v":250,"d":"250.0"}},{"$f":"'법정동(2013)'!D52-'법정동(2012)'!D54","v":{"v":-2068,"d":"-2,068.0"}},{"$f":"'법정동(2013)'!E52-'법정동(2012)'!E54","v":{"v":21,"d":"21.0"}},{"$f":"'법정동(2013)'!F52-'법정동(2012)'!F54","v":{"v":-345,"d":"-345.0"}},{"$f":"'법정동(2013)'!G52-'법정동(2012)'!G54","v":{"v":34,"d":"34.0"}},{"$f":"'법정동(2013)'!H52-'법정동(2012)'!H54","v":{"v":-3547,"d":"-3,547.0"}},{"$f":"'법정동(2013)'!I52-'법정동(2012)'!I54","v":{"v":-1,"d":"-1.0"}},{"$f":"'법정동(2013)'!J52-'법정동(2012)'!J54","v":{"v":0,"d":"0.0"}},{"$f":"'법정동(2013)'!K52-'법정동(2012)'!K54","v":{"v":0,"d":"0.0"}},{"$f":"'법정동(2013)'!L52-'법정동(2012)'!L54","v":{"v":-4333,"d":"-4,333.0"}},{"$f":"'법정동(2013)'!M52-'법정동(2012)'!M54","v":{"v":102,"d":"102.0"}},{"$f":"'법정동(2013)'!N52-'법정동(2012)'!N54","v":{"v":0,"d":"0.0"}},{"$f":"'법정동(2013)'!O52-'법정동(2012)'!O54","v":{"v":0,"d":"0.0"}},{"$f":"'법정동(2013)'!P52-'법정동(2012)'!P54","v":{"v":0,"d":"0.0"}},{"$f":"'법정동(2013)'!Q52-'법정동(2012)'!Q54","v":{"v":0,"d":"0.0"}},{"$f":"'법정동(2013)'!R52-'법정동(2012)'!R54","v":{"v":2648,"d":"2,648.0"}},{"$f":"'법정동(2013)'!S52-'법정동(2012)'!S54","v":{"v":25,"d":"25.0"}},{"$f":"'법정동(2013)'!T52-'법정동(2012)'!T54","v":{"v":0,"d":"0.0"}},{"$f":"'법정동(2013)'!U52-'법정동(2012)'!U54","v":{"v":0,"d":"0.0"}},{"$f":"'법정동(2013)'!V52-'법정동(2012)'!V54","v":{"v":0,"d":"0.0"}},{"$f":"'법정동(2013)'!W52-'법정동(2012)'!W54","v":{"v":2,"d":"2.0"}},{"$f":"'법정동(2013)'!X52-'법정동(2012)'!X54","v":{"v":0,"d":"0.0"}},{"$f":"'법정동(2013)'!Y52-'법정동(2012)'!Y54","v":{"v":0,"d":"0.0"}},{"$f":"'법정동(2013)'!Z52-'법정동(2012)'!Z54","v":{"v":0,"d":"0.0"}},{"$f":"'법정동(2013)'!AA52-'법정동(2012)'!AA54","v":{"v":0,"d":"0.0"}},{"$f":"'법정동(2013)'!AB52-'법정동(2012)'!AB54","v":{"v":1491,"d":"1,491.0"}},{"$f":"'법정동(2013)'!AC52-'법정동(2012)'!AC54","v":{"v":1,"d":"1.0"}},{"$f":"'법정동(2013)'!AD52-'법정동(2012)'!AD54","v":{"v":5849,"d":"5,849.0"}},{"$f":"'법정동(2013)'!AE52-'법정동(2012)'!AE54","v":{"v":66,"d":"66.0"}},{"$f":"'법정동(2013)'!AF52-'법정동(2012)'!AF54","v":{"v":0,"d":"0.0"}},{"$f":"'법정동(2013)'!AG52-'법정동(2012)'!AG54","v":{"v":0,"d":"0.0"}},{"$f":"'법정동(2013)'!AH52-'법정동(2012)'!AH54","v":{"v":0,"d":"0.0"}},{"$f":"'법정동(2013)'!AI52-'법정동(2012)'!AI54","v":{"v":0,"d":"0.0"}},{"$f":"'법정동(2013)'!AJ52-'법정동(2012)'!AJ54","v":{"v":0,"d":"0.0"}},{"$f":"'법정동(2013)'!AK52-'법정동(2012)'!AK54","v":{"v":0,"d":"0.0"}},{"$f":"'법정동(2013)'!AL52-'법정동(2012)'!AL54","v":{"v":0,"d":"0.0"}},{"$f":"'법정동(2013)'!AM52-'법정동(2012)'!AM54","v":{"v":0,"d":"0.0"}},{"$f":"'법정동(2013)'!AN52-'법정동(2012)'!AN54","v":{"v":0,"d":"0.0"}},{"$f":"'법정동(2013)'!AO52-'법정동(2012)'!AO54","v":{"v":0,"d":"0.0"}},{"$f":"'법정동(2013)'!AP52-'법정동(2012)'!AP54","v":{"v":0,"d":"0.0"}},{"$f":"'법정동(2013)'!AQ52-'법정동(2012)'!AQ54","v":{"v":0,"d":"0.0"}},{"$f":"'법정동(2013)'!AR52-'법정동(2012)'!AR54","v":{"v":0,"d":"0.0"}},{"$f":"'법정동(2013)'!AS52-'법정동(2012)'!AS54","v":{"v":0,"d":"0.0"}},{"$f":"'법정동(2013)'!AT52-'법정동(2012)'!AT54","v":{"v":0,"d":"0.0"}},{"$f":"'법정동(2013)'!AU52-'법정동(2012)'!AU54","v":{"v":0,"d":"0.0"}},{"$f":"'법정동(2013)'!AV52-'법정동(2012)'!AV54","v":{"v":0,"d":"0.0"}},{"$f":"'법정동(2013)'!AW52-'법정동(2012)'!AW54","v":{"v":0,"d":"0.0"}},{"$f":"'법정동(2013)'!AX52-'법정동(2012)'!AX54","v":{"v":0,"d":"0.0"}},{"$f":"'법정동(2013)'!AY52-'법정동(2012)'!AY54","v":{"v":0,"d":"0.0"}},{"$f":"'법정동(2013)'!AZ52-'법정동(2012)'!AZ54","v":{"v":0,"d":"0.0"}},{"$f":"'법정동(2013)'!BA52-'법정동(2012)'!BA54","v":{"v":0,"d":"0.0"}},{"$f":"'법정동(2013)'!BB52-'법정동(2012)'!BB54","v":{"v":0,"d":"0.0"}},{"$f":"'법정동(2013)'!BC52-'법정동(2012)'!BC54","v":{"v":0,"d":"0.0"}},{"$f":"'법정동(2013)'!BD52-'법정동(2012)'!BD54","v":{"v":0,"d":"0.0"}},{"$f":"'법정동(2013)'!BE52-'법정동(2012)'!BE54","v":{"v":0,"d":"0.0"}},{"$f":"'법정동(2013)'!BF52-'법정동(2012)'!BF54","v":{"v":0,"d":"0.0"}},{"$f":"'법정동(2013)'!BG52-'법정동(2012)'!BG54","v":{"v":0,"d":"0.0"}}]
["낙포동",{"$f":"'법정동(2013)'!B53-'법정동(2012)'!B55","v":{"v":83466,"d":"83,466.0"}},{"$f":"'법정동(2013)'!C53-'법정동(2012)'!C55","v":{"v":22,"d":"22.0"}},{"$f":"'법정동(2013)'!D53-'법정동(2012)'!D55","v":{"v":-1457,"d":"-1,457.0"}},{"$f":"'법정동(2013)'!E53-'법정동(2012)'!E55","v":{"v":-1,"d":"-1.0"}},{"$f":"'법정동(2013)'!F53-'법정동(2012)'!F55","v":{"v":-605,"d":"-605.0"}},{"$f":"'법정동(2013)'!G53-'법정동(2012)'!G55","v":{"v":-5,"d":"-5.0"}},{"$f":"'법정동(2013)'!H53-'법정동(2012)'!H55","v":{"v":0,"d":"0.0"}},{"$f":"'법정동(2013)'!I53-'법정동(2012)'!I55","v":{"v":0,"d":"0.0"}},{"$f":"'법정동(2013)'!J53-'법정동(2012)'!J55","v":{"v":0,"d":"0.0"}},{"$f":"'법정동(2013)'!K53-'법정동(2012)'!K55","v":{"v":0,"d":"0.0"}},{"$f":"'법정동(2013)'!L53-'법정동(2012)'!L55","v":{"v":-5264,"d":"-5,264.0"}},{"$f":"'법정동(2013)'!M53-'법정동(2012)'!M55","v":{"v":-6,"d":"-6.0"}},{"$f":"'법정동(2013)'!N53-'법정동(2012)'!N55","v":{"v":0,"d":"0.0"}},{"$f":"'법정동(2013)'!O53-'법정동(2012)'!O55","v":{"v":0,"d":"0.0"}},{"$f":"'법정동(2013)'!P53-'법정동(2012)'!P55","v":{"v":0,"d":"0.0"}},{"$f":"'법정동(2013)'!Q53-'법정동(2012)'!Q55","v":{"v":0,"d":"0.0"}},{"$f":"'법정동(2013)'!R53-'법정동(2012)'!R55","v":{"v":-2018,"d":"-2,018.0"}},{"$f":"'법정동(2013)'!S53-'법정동(2012)'!S55","v":{"v":0,"d":"0.0"}},{"$f":"'법정동(2013)'!T53-'법정동(2012)'!T55","v":{"v":11578.699999999953,"d":"11,578.7"}},{"$f":"'법정동(2013)'!U53-'법정동(2012)'!U55","v":{"v":-3,"d":"-3.0"}},{"$f":"'법정동(2013)'!V53-'법정동(2012)'!V55","v":{"v":0,"d":"0.0"}},{"$f":"'법정동(2013)'!W53-'법정동(2012)'!W55","v":{"v":0,"d":"0.0"}},{"$f":"'법정동(2013)'!X53-'법정동(2012)'!X55","v":{"v":0,"d":"0.0"}},{"$f":"'법정동(2013)'!Y53-'법정동(2012)'!Y55","v":{"v":0,"d":"0.0"}},{"$f":"'법정동(2013)'!Z53-'법정동(2012)'!Z55","v":{"v":0,"d":"0.0"}},{"$f":"'법정동(2013)'!AA53-'법정동(2012)'!AA55","v":{"v":2,"d":"2.0"}},{"$f":"'법정동(2013)'!AB53-'법정동(2012)'!AB55","v":{"v":0,"d":"0.0"}},{"$f":"'법정동(2013)'!AC53-'법정동(2012)'!AC55","v":{"v":0,"d":"0.0"}},{"$f":"'법정동(2013)'!AD53-'법정동(2012)'!AD55","v":{"v":11148,"d":"11,148.0"}},{"$f":"'법정동(2013)'!AE53-'법정동(2012)'!AE55","v":{"v":20,"d":"20.0"}},{"$f":"'법정동(2013)'!AF53-'법정동(2012)'!AF55","v":{"v":0,"d":"0.0"}},{"$f":"'법정동(2013)'!AG53-'법정동(2012)'!AG55","v":{"v":0,"d":"0.0"}},{"$f":"'법정동(2013)'!AH53-'법정동(2012)'!AH55","v":{"v":0,"d":"0.0"}},{"$f":"'법정동(2013)'!AI53-'법정동(2012)'!AI55","v":{"v":9,"d":"9.0"}},{"$f":"'법정동(2013)'!AJ53-'법정동(2012)'!AJ55","v":{"v":0,"d":"0.0"}},{"$f":"'법정동(2013)'!AK53-'법정동(2012)'!AK55","v":{"v":0,"d":"0.0"}},{"$f":"'법정동(2013)'!AL53-'법정동(2012)'!AL55","v":{"v":0,"d":"0.0"}},{"$f":"'법정동(2013)'!AM53-'법정동(2012)'!AM55","v":{"v":0,"d":"0.0"}},{"$f":"'법정동(2013)'!AN53-'법정동(2012)'!AN55","v":{"v":-7470,"d":"-7,470.0"}},{"$f":"'법정동(2013)'!AO53-'법정동(2012)'!AO55","v":{"v":-1,"d":"-1.0"}},{"$f":"'법정동(2013)'!AP53-'법정동(2012)'!AP55","v":{"v":0,"d":"0.0"}},{"$f":"'법정동(2013)'!AQ53-'법정동(2012)'!AQ55","v":{"v":0,"d":"0.0"}},{"$f":"'법정동(2013)'!AR53-'법정동(2012)'!AR55","v":{"v":0,"d":"0.0"}},{"$f":"'법정동(2013)'!AS53-'법정동(2012)'!AS55","v":{"v":0,"d":"0.0"}},{"$f":"'법정동(2013)'!AT53-'법정동(2012)'!AT55","v":{"v":0,"d":"0.0"}},{"$f":"'법정동(2013)'!AU53-'법정동(2012)'!AU55","v":{"v":0,"d":"0.0"}},{"$f":"'법정동(2013)'!AV53-'법정동(2012)'!AV55","v":{"v":0,"d":"0.0"}},{"$f":"'법정동(2013)'!AW53-'법정동(2012)'!AW55","v":{"v":0,"d":"0.0"}},{"$f":"'법정동(2013)'!AX53-'법정동(2012)'!AX55","v":{"v":0,"d":"0.0"}},{"$f":"'법정동(2013)'!AY53-'법정동(2012)'!AY55","v":{"v":0,"d":"0.0"}},{"$f":"'법정동(2013)'!AZ53-'법정동(2012)'!AZ55","v":{"v":0,"d":"0.0"}},{"$f":"'법정동(2013)'!BA53-'법정동(2012)'!BA55","v":{"v":0,"d":"0.0"}},{"$f":"'법정동(2013)'!BB53-'법정동(2012)'!BB55","v":{"v":0,"d":"0.0"}},{"$f":"'법정동(2013)'!BC53-'법정동(2012)'!BC55","v":{"v":0,"d":"0.0"}},{"$f":"'법정동(2013)'!BD53-'법정동(2012)'!BD55","v":{"v":0,"d":"0.0"}},{"$f":"'법정동(2013)'!BE53-'법정동(2012)'!BE55","v":{"v":0,"d":"0.0"}},{"$f":"'법정동(2013)'!BF53-'법정동(2012)'!BF55","v":{"v":77553.30000000005,"d":"77,553.3"}},{"$f":"'법정동(2013)'!BG53-'법정동(2012)'!BG55","v":{"v":7,"d":"7.0"}}]
["신덕동",{"$f":"'법정동(2013)'!B54-'법정동(2012)'!B56","v":{"v":5485.9000000003725,"d":"5,485.9"}},{"$f":"'법정동(2013)'!C54-'법정동(2012)'!C56","v":{"v":16,"d":"16.0"}},{"$f":"'법정동(2013)'!D54-'법정동(2012)'!D56","v":{"v":-16673,"d":"-16,673.0"}},{"$f":"'법정동(2013)'!E54-'법정동(2012)'!E56","v":{"v":-10,"d":"-10.0"}},{"$f":"'법정동(2013)'!F54-'법정동(2012)'!F56","v":{"v":-63157,"d":"-63,157.0"}},{"$f":"'법정동(2013)'!G54-'법정동(2012)'!G56","v":{"v":-8,"d":"-8.0"}},{"$f":"'법정동(2013)'!H54-'법정동(2012)'!H56","v":{"v":0,"d":"0.0"}},{"$f":"'법정동(2013)'!I54-'법정동(2012)'!I56","v":{"v":0,"d":"0.0"}},{"$f":"'법정동(2013)'!J54-'법정동(2012)'!J56","v":{"v":0,"d":"0.0"}},{"$f":"'법정동(2013)'!K54-'법정동(2012)'!K56","v":{"v":0,"d":"0.0"}},{"$f":"'법정동(2013)'!L54-'법정동(2012)'!L56","v":{"v":-66046,"d":"-66,046.0"}},{"$f":"'법정동(2013)'!M54-'법정동(2012)'!M56","v":{"v":-3,"d":"-3.0"}},{"$f":"'법정동(2013)'!N54-'법정동(2012)'!N56","v":{"v":0,"d":"0.0"}},{"$f":"'법정동(2013)'!O54-'법정동(2012)'!O56","v":{"v":0,"d":"0.0"}},{"$f":"'법정동(2013)'!P54-'법정동(2012)'!P56","v":{"v":0,"d":"0.0"}},{"$f":"'법정동(2013)'!Q54-'법정동(2012)'!Q56","v":{"v":0,"d":"0.0"}},{"$f":"'법정동(2013)'!R54-'법정동(2012)'!R56","v":{"v":7927,"d":"7,927.0"}},{"$f":"'법정동(2013)'!S54-'법정동(2012)'!S56","v":{"v":17,"d":"17.0"}},{"$f":"'법정동(2013)'!T54-'법정동(2012)'!T56","v":{"v":0,"d":"0.0"}},{"$f":"'법정동(2013)'!U54-'법정동(2012)'!U56","v":{"v":0,"d":"0.0"}},{"$f":"'법정동(2013)'!V54-'법정동(2012)'!V56","v":{"v":0,"d":"0.0"}},{"$f":"'법정동(2013)'!W54-'법정동(2012)'!W56","v":{"v":0,"d":"0.0"}},{"$f":"'법정동(2013)'!X54-'법정동(2012)'!X56","v":{"v":0,"d":"0.0"}},{"$f":"'법정동(2013)'!Y54-'법정동(2012)'!Y56","v":{"v":0,"d":"0.0"}},{"$f":"'법정동(2013)'!Z54-'법정동(2012)'!Z56","v":{"v":141181.2,"d":"141,181.2"}},{"$f":"'법정동(2013)'!AA54-'법정동(2012)'!AA56","v":{"v":2,"d":"2.0"}},{"$f":"'법정동(2013)'!AB54-'법정동(2012)'!AB56","v":{"v":0,"d":"0.0"}},{"$f":"'법정동(2013)'!AC54-'법정동(2012)'!AC56","v":{"v":0,"d":"0.0"}},{"$f":"'법정동(2013)'!AD54-'법정동(2012)'!AD56","v":{"v":4638,"d":"4,638.0"}},{"$f":"'법정동(2013)'!AE54-'법정동(2012)'!AE56","v":{"v":13,"d":"13.0"}},{"$f":"'법정동(2013)'!AF54-'법정동(2012)'!AF56","v":{"v":0,"d":"0.0"}},{"$f":"'법정동(2013)'!AG54-'법정동(2012)'!AG56","v":{"v":0,"d":"0.0"}},{"$f":"'법정동(2013)'!AH54-'법정동(2012)'!AH56","v":{"v":0,"d":"0.0"}},{"$f":"'법정동(2013)'!AI54-'법정동(2012)'!AI56","v":{"v":0,"d":"0.0"}},{"$f":"'법정동(2013)'!AJ54-'법정동(2012)'!AJ56","v":{"v":-5006,"d":"-5,006.0"}},{"$f":"'법정동(2013)'!AK54-'법정동(2012)'!AK56","v":{"v":1,"d":"1.0"}},{"$f":"'법정동(2013)'!AL54-'법정동(2012)'!AL56","v":{"v":0,"d":"0.0"}},{"$f":"'법정동(2013)'!AM54-'법정동(2012)'!AM56","v":{"v":0,"d":"0.0"}},{"$f":"'법정동(2013)'!AN54-'법정동(2012)'!AN56","v":{"v":0,"d":"0.0"}},{"$f":"'법정동(2013)'!AO54-'법정동(2012)'!AO56","v":{"v":0,"d":"0.0"}},{"$f":"'법정동(2013)'!AP54-'법정동(2012)'!AP56","v":{"v":0,"d":"0.0"}},{"$f":"'법정동(2013)'!AQ54-'법정동(2012)'!AQ56","v":{"v":0,"d":"0.0"}},{"$f":"'법정동(2013)'!AR54-'법정동(2012)'!AR56","v":{"v":0,"d":"0.0"}},{"$f":"'법정동(2013)'!AS54-'법정동(2012)'!AS56","v":{"v":0,"d":"0.0"}},{"$f":"'법정동(2013)'!AT54-'법정동(2012)'!AT56","v":{"v":2677.7,"d":"2,677.7"}},{"$f":"'법정동(2013)'!AU54-'법정동(2012)'!AU56","v":{"v":3,"d":"3.0"}},{"$f":"'법정동(2013)'!AV54-'법정동(2012)'!AV56","v":{"v":0,"d":"0.0"}},{"$f":"'법정동(2013)'!AW54-'법정동(2012)'!AW56","v":{"v":0,"d":"0.0"}},{"$f":"'법정동(2013)'!AX54-'법정동(2012)'!AX56","v":{"v":0,"d":"0.0"}},{"$f":"'법정동(2013)'!AY54-'법정동(2012)'!AY56","v":{"v":0,"d":"0.0"}},{"$f":"'법정동(2013)'!AZ54-'법정동(2012)'!AZ56","v":{"v":0,"d":"0.0"}},{"$f":"'법정동(2013)'!BA54-'법정동(2012)'!BA56","v":{"v":0,"d":"0.0"}},{"$f":"'법정동(2013)'!BB54-'법정동(2012)'!BB56","v":{"v":0,"d":"0.0"}},{"$f":"'법정동(2013)'!BC54-'법정동(2012)'!BC56","v":{"v":0,"d":"0.0"}},{"$f":"'법정동(2013)'!BD54-'법정동(2012)'!BD56","v":{"v":-403,"d":"-403.0"}},{"$f":"'법정동(2013)'!BE54-'법정동(2012)'!BE56","v":{"v":-1,"d":"-1.0"}},{"$f":"'법정동(2013)'!BF54-'법정동(2012)'!BF56","v":{"v":347,"d":"347.0"}},{"$f":"'법정동(2013)'!BG54-'법정동(2012)'!BG56","v":{"v":2,"d":"2.0"}}]
["상암동",{"$f":"'법정동(2013)'!B55-'법정동(2012)'!B57","v":{"v":-335,"d":"-335.0"}},{"$f":"'법정동(2013)'!C55-'법정동(2012)'!C57","v":{"v":63,"d":"63.0"}},{"$f":"'법정동(2013)'!D55-'법정동(2012)'!D57","v":{"v":-7271,"d":"-7,271.0"}},{"$f":"'법정동(2013)'!E55-'법정동(2012)'!E57","v":{"v":-21,"d":"-21.0"}},{"$f":"'법정동(2013)'!F55-'법정동(2012)'!F57","v":{"v":-44046,"d":"-44,046.0"}},{"$f":"'법정동(2013)'!G55-'법정동(2012)'!G57","v":{"v":-59,"d":"-59.0"}},{"$f":"'법정동(2013)'!H55-'법정동(2012)'!H57","v":{"v":0,"d":"0.0"}},{"$f":"'법정동(2013)'!I55-'법정동(2012)'!I57","v":{"v":0,"d":"0.0"}},{"$f":"'법정동(2013)'!J55-'법정동(2012)'!J57","v":{"v":0,"d":"0.0"}},{"$f":"'법정동(2013)'!K55-'법정동(2012)'!K57","v":{"v":0,"d":"0.0"}},{"$f":"'법정동(2013)'!L55-'법정동(2012)'!L57","v":{"v":-1760,"d":"-1,760.0"}},{"$f":"'법정동(2013)'!M55-'법정동(2012)'!M57","v":{"v":-3,"d":"-3.0"}},{"$f":"'법정동(2013)'!N55-'법정동(2012)'!N57","v":{"v":0,"d":"0.0"}},{"$f":"'법정동(2013)'!O55-'법정동(2012)'!O57","v":{"v":0,"d":"0.0"}},{"$f":"'법정동(2013)'!P55-'법정동(2012)'!P57","v":{"v":0,"d":"0.0"}},{"$f":"'법정동(2013)'!Q55-'법정동(2012)'!Q57","v":{"v":0,"d":"0.0"}},{"$f":"'법정동(2013)'!R55-'법정동(2012)'!R57","v":{"v":14832,"d":"14,832.0"}},{"$f":"'법정동(2013)'!S55-'법정동(2012)'!S57","v":{"v":4,"d":"4.0"}},{"$f":"'법정동(2013)'!T55-'법정동(2012)'!T57","v":{"v":-132,"d":"-132.0"}},{"$f":"'법정동(2013)'!U55-'법정동(2012)'!U57","v":{"v":-1,"d":"-1.0"}},{"$f":"'법정동(2013)'!V55-'법정동(2012)'!V57","v":{"v":-66,"d":"-66.0"}},{"$f":"'법정동(2013)'!W55-'법정동(2012)'!W57","v":{"v":-1,"d":"-1.0"}},{"$f":"'법정동(2013)'!X55-'법정동(2012)'!X57","v":{"v":3312,"d":"3,312.0"}},{"$f":"'법정동(2013)'!Y55-'법정동(2012)'!Y57","v":{"v":5,"d":"5.0"}},{"$f":"'법정동(2013)'!Z55-'법정동(2012)'!Z57","v":{"v":0,"d":"0.0"}},{"$f":"'법정동(2013)'!AA55-'법정동(2012)'!AA57","v":{"v":0,"d":"0.0"}},{"$f":"'법정동(2013)'!AB55-'법정동(2012)'!AB57","v":{"v":-139,"d":"-139.0"}},{"$f":"'법정동(2013)'!AC55-'법정동(2012)'!AC57","v":{"v":-2,"d":"-2.0"}},{"$f":"'법정동(2013)'!AD55-'법정동(2012)'!AD57","v":{"v":31680,"d":"31,680.0"}},{"$f":"'법정동(2013)'!AE55-'법정동(2012)'!AE57","v":{"v":139,"d":"139.0"}},{"$f":"'법정동(2013)'!AF55-'법정동(2012)'!AF57","v":{"v":0,"d":"0.0"}},{"$f":"'법정동(2013)'!AG55-'법정동(2012)'!AG57","v":{"v":0,"d":"0.0"}},{"$f":"'법정동(2013)'!AH55-'법정동(2012)'!AH57","v":{"v":0,"d":"0.0"}},{"$f":"'법정동(2013)'!AI55-'법정동(2012)'!AI57","v":{"v":0,"d":"0.0"}},{"$f":"'법정동(2013)'!AJ55-'법정동(2012)'!AJ57","v":{"v":0,"d":"0.0"}},{"$f":"'법정동(2013)'!AK55-'법정동(2012)'!AK57","v":{"v":0,"d":"0.0"}},{"$f":"'법정동(2013)'!AL55-'법정동(2012)'!AL57","v":{"v":0,"d":"0.0"}},{"$f":"'법정동(2013)'!AM55-'법정동(2012)'!AM57","v":{"v":0,"d":"0.0"}},{"$f":"'법정동(2013)'!AN55-'법정동(2012)'!AN57","v":{"v":0,"d":"0.0"}},{"$f":"'법정동(2013)'!AO55-'법정동(2012)'!AO57","v":{"v":0,"d":"0.0"}},{"$f":"'법정동(2013)'!AP55-'법정동(2012)'!AP57","v":{"v":0,"d":"0.0"}},{"$f":"'법정동(2013)'!AQ55-'법정동(2012)'!AQ57","v":{"v":0,"d":"0.0"}},{"$f":"'법정동(2013)'!AR55-'법정동(2012)'!AR57","v":{"v":0,"d":"0.0"}},{"$f":"'법정동(2013)'!AS55-'법정동(2012)'!AS57","v":{"v":0,"d":"0.0"}},{"$f":"'법정동(2013)'!AT55-'법정동(2012)'!AT57","v":{"v":0,"d":"0.0"}},{"$f":"'법정동(2013)'!AU55-'법정동(2012)'!AU57","v":{"v":0,"d":"0.0"}},{"$f":"'법정동(2013)'!AV55-'법정동(2012)'!AV57","v":{"v":0,"d":"0.0"}},{"$f":"'법정동(2013)'!AW55-'법정동(2012)'!AW57","v":{"v":0,"d":"0.0"}},{"$f":"'법정동(2013)'!AX55-'법정동(2012)'!AX57","v":{"v":0,"d":"0.0"}},{"$f":"'법정동(2013)'!AY55-'법정동(2012)'!AY57","v":{"v":0,"d":"0.0"}},{"$f":"'법정동(2013)'!AZ55-'법정동(2012)'!AZ57","v":{"v":322,"d":"322.0"}},{"$f":"'법정동(2013)'!BA55-'법정동(2012)'!BA57","v":{"v":1,"d":"1.0"}},{"$f":"'법정동(2013)'!BB55-'법정동(2012)'!BB57","v":{"v":0,"d":"0.0"}},{"$f":"'법정동(2013)'!BC55-'법정동(2012)'!BC57","v":{"v":0,"d":"0.0"}},{"$f":"'법정동(2013)'!BD55-'법정동(2012)'!BD57","v":{"v":94,"d":"94.0"}},{"$f":"'법정동(2013)'!BE55-'법정동(2012)'!BE57","v":{"v":1,"d":"1.0"}},{"$f":"'법정동(2013)'!BF55-'법정동(2012)'!BF57","v":{"v":2839,"d":"2,839.0"}},{"$f":"'법정동(2013)'!BG55-'법정동(2012)'!BG57","v":{"v":0,"d":"0.0"}}]
["호명동",{"$f":"'법정동(2013)'!B56-'법정동(2012)'!B58","v":{"v":45,"d":"45.0"}},{"$f":"'법정동(2013)'!C56-'법정동(2012)'!C58","v":{"v":12,"d":"12.0"}},{"$f":"'법정동(2013)'!D56-'법정동(2012)'!D58","v":{"v":-13071,"d":"-13,071.0"}},{"$f":"'법정동(2013)'!E56-'법정동(2012)'!E58","v":{"v":-4,"d":"-4.0"}},{"$f":"'법정동(2013)'!F56-'법정동(2012)'!F58","v":{"v":-11195,"d":"-11,195.0"}},{"$f":"'법정동(2013)'!G56-'법정동(2012)'!G58","v":{"v":-51,"d":"-51.0"}},{"$f":"'법정동(2013)'!H56-'법정동(2012)'!H58","v":{"v":7648,"d":"7,648.0"}},{"$f":"'법정동(2013)'!I56-'법정동(2012)'!I58","v":{"v":1,"d":"1.0"}},{"$f":"'법정동(2013)'!J56-'법정동(2012)'!J58","v":{"v":0,"d":"0.0"}},{"$f":"'법정동(2013)'!K56-'법정동(2012)'!K58","v":{"v":0,"d":"0.0"}},{"$f":"'법정동(2013)'!L56-'법정동(2012)'!L58","v":{"v":-17813,"d":"-17,813.0"}},{"$f":"'법정동(2013)'!M56-'법정동(2012)'!M58","v":{"v":-9,"d":"-9.0"}},{"$f":"'법정동(2013)'!N56-'법정동(2012)'!N58","v":{"v":0,"d":"0.0"}},{"$f":"'법정동(2013)'!O56-'법정동(2012)'!O58","v":{"v":0,"d":"0.0"}},{"$f":"'법정동(2013)'!P56-'법정동(2012)'!P58","v":{"v":0,"d":"0.0"}},{"$f":"'법정동(2013)'!Q56-'법정동(2012)'!Q58","v":{"v":0,"d":"0.0"}},{"$f":"'법정동(2013)'!R56-'법정동(2012)'!R58","v":{"v":18531,"d":"18,531.0"}},{"$f":"'법정동(2013)'!S56-'법정동(2012)'!S58","v":{"v":10,"d":"10.0"}},{"$f":"'법정동(2013)'!T56-'법정동(2012)'!T58","v":{"v":0,"d":"0.0"}},{"$f":"'법정동(2013)'!U56-'법정동(2012)'!U58","v":{"v":0,"d":"0.0"}},{"$f":"'법정동(2013)'!V56-'법정동(2012)'!V58","v":{"v":0,"d":"0.0"}},{"$f":"'법정동(2013)'!W56-'법정동(2012)'!W58","v":{"v":0,"d":"0.0"}},{"$f":"'법정동(2013)'!X56-'법정동(2012)'!X58","v":{"v":0,"d":"0.0"}},{"$f":"'법정동(2013)'!Y56-'법정동(2012)'!Y58","v":{"v":0,"d":"0.0"}},{"$f":"'법정동(2013)'!Z56-'법정동(2012)'!Z58","v":{"v":980,"d":"980.0"}},{"$f":"'법정동(2013)'!AA56-'법정동(2012)'!AA58","v":{"v":2,"d":"2.0"}},{"$f":"'법정동(2013)'!AB56-'법정동(2012)'!AB58","v":{"v":-1182,"d":"-1,182.0"}},{"$f":"'법정동(2013)'!AC56-'법정동(2012)'!AC58","v":{"v":-3,"d":"-3.0"}},{"$f":"'법정동(2013)'!AD56-'법정동(2012)'!AD58","v":{"v":15934,"d":"15,934.0"}},{"$f":"'법정동(2013)'!AE56-'법정동(2012)'!AE58","v":{"v":66,"d":"66.0"}},{"$f":"'법정동(2013)'!AF56-'법정동(2012)'!AF58","v":{"v":0,"d":"0.0"}},{"$f":"'법정동(2013)'!AG56-'법정동(2012)'!AG58","v":{"v":0,"d":"0.0"}},{"$f":"'법정동(2013)'!AH56-'법정동(2012)'!AH58","v":{"v":0,"d":"0.0"}},{"$f":"'법정동(2013)'!AI56-'법정동(2012)'!AI58","v":{"v":0,"d":"0.0"}},{"$f":"'법정동(2013)'!AJ56-'법정동(2012)'!AJ58","v":{"v":-549,"d":"-549.0"}},{"$f":"'법정동(2013)'!AK56-'법정동(2012)'!AK58","v":{"v":-1,"d":"-1.0"}},{"$f":"'법정동(2013)'!AL56-'법정동(2012)'!AL58","v":{"v":800,"d":"800.0"}},{"$f":"'법정동(2013)'!AM56-'법정동(2012)'!AM58","v":{"v":1,"d":"1.0"}},{"$f":"'법정동(2013)'!AN56-'법정동(2012)'!AN58","v":{"v":0,"d":"0.0"}},{"$f":"'법정동(2013)'!AO56-'법정동(2012)'!AO58","v":{"v":0,"d":"0.0"}},{"$f":"'법정동(2013)'!AP56-'법정동(2012)'!AP58","v":{"v":0,"d":"0.0"}},{"$f":"'법정동(2013)'!AQ56-'법정동(2012)'!AQ58","v":{"v":0,"d":"0.0"}},{"$f":"'법정동(2013)'!AR56-'법정동(2012)'!AR58","v":{"v":0,"d":"0.0"}},{"$f":"'법정동(2013)'!AS56-'법정동(2012)'!AS58","v":{"v":0,"d":"0.0"}},{"$f":"'법정동(2013)'!AT56-'법정동(2012)'!AT58","v":{"v":0,"d":"0.0"}},{"$f":"'법정동(2013)'!AU56-'법정동(2012)'!AU58","v":{"v":0,"d":"0.0"}},{"$f":"'법정동(2013)'!AV56-'법정동(2012)'!AV58","v":{"v":0,"d":"0.0"}},{"$f":"'법정동(2013)'!AW56-'법정동(2012)'!AW58","v":{"v":0,"d":"0.0"}},{"$f":"'법정동(2013)'!AX56-'법정동(2012)'!AX58","v":{"v":0,"d":"0.0"}},{"$f":"'법정동(2013)'!AY56-'법정동(2012)'!AY58","v":{"v":0,"d":"0.0"}},{"$f":"'법정동(2013)'!AZ56-'법정동(2012)'!AZ58","v":{"v":0,"d":"0.0"}},{"$f":"'법정동(2013)'!BA56-'법정동(2012)'!BA58","v":{"v":0,"d":"0.0"}},{"$f":"'법정동(2013)'!BB56-'법정동(2012)'!BB58","v":{"v":0,"d":"0.0"}},{"$f":"'법정동(2013)'!BC56-'법정동(2012)'!BC58","v":{"v":0,"d":"0.0"}},{"$f":"'법정동(2013)'!BD56-'법정동(2012)'!BD58","v":{"v":0,"d":"0.0"}},{"$f":"'법정동(2013)'!BE56-'법정동(2012)'!BE58","v":{"v":0,"d":"0.0"}},{"$f":"'법정동(2013)'!BF56-'법정동(2012)'!BF58","v":{"v":-38,"d":"-38.0"}},{"$f":"'법정동(2013)'!BG56-'법정동(2012)'!BG58","v":{"v":0,"d":"0.0"}}]
["돌산읍 군내리",{"$f":"'법정동(2013)'!B57-'법정동(2012)'!B59","v":{"v":48,"d":"48.0"}},{"$f":"'법정동(2013)'!C57-'법정동(2012)'!C59","v":{"v":81,"d":"81.0"}},{"$f":"'법정동(2013)'!D57-'법정동(2012)'!D59","v":{"v":-613,"d":"-613.0"}},{"$f":"'법정동(2013)'!E57-'법정동(2012)'!E59","v":{"v":43,"d":"43.0"}},{"$f":"'법정동(2013)'!F57-'법정동(2012)'!F59","v":{"v":-236,"d":"-236.0"}},{"$f":"'법정동(2013)'!G57-'법정동(2012)'!G59","v":{"v":0,"d":"0.0"}},{"$f":"'법정동(2013)'!H57-'법정동(2012)'!H59","v":{"v":0,"d":"0.0"}},{"$f":"'법정동(2013)'!I57-'법정동(2012)'!I59","v":{"v":0,"d":"0.0"}},{"$f":"'법정동(2013)'!J57-'법정동(2012)'!J59","v":{"v":0,"d":"0.0"}},{"$f":"'법정동(2013)'!K57-'법정동(2012)'!K59","v":{"v":0,"d":"0.0"}},{"$f":"'법정동(2013)'!L57-'법정동(2012)'!L59","v":{"v":0,"d":"0.0"}},{"$f":"'법정동(2013)'!M57-'법정동(2012)'!M59","v":{"v":0,"d":"0.0"}},{"$f":"'법정동(2013)'!N57-'법정동(2012)'!N59","v":{"v":0,"d":"0.0"}},{"$f":"'법정동(2013)'!O57-'법정동(2012)'!O59","v":{"v":0,"d":"0.0"}},{"$f":"'법정동(2013)'!P57-'법정동(2012)'!P59","v":{"v":0,"d":"0.0"}},{"$f":"'법정동(2013)'!Q57-'법정동(2012)'!Q59","v":{"v":0,"d":"0.0"}},{"$f":"'법정동(2013)'!R57-'법정동(2012)'!R59","v":{"v":137,"d":"137.0"}},{"$f":"'법정동(2013)'!S57-'법정동(2012)'!S59","v":{"v":26,"d":"26.0"}},{"$f":"'법정동(2013)'!T57-'법정동(2012)'!T59","v":{"v":0,"d":"0.0"}},{"$f":"'법정동(2013)'!U57-'법정동(2012)'!U59","v":{"v":0,"d":"0.0"}},{"$f":"'법정동(2013)'!V57-'법정동(2012)'!V59","v":{"v":0,"d":"0.0"}},{"$f":"'법정동(2013)'!W57-'법정동(2012)'!W59","v":{"v":0,"d":"0.0"}},{"$f":"'법정동(2013)'!X57-'법정동(2012)'!X59","v":{"v":0,"d":"0.0"}},{"$f":"'법정동(2013)'!Y57-'법정동(2012)'!Y59","v":{"v":0,"d":"0.0"}},{"$f":"'법정동(2013)'!Z57-'법정동(2012)'!Z59","v":{"v":0,"d":"0.0"}},{"$f":"'법정동(2013)'!AA57-'법정동(2012)'!AA59","v":{"v":0,"d":"0.0"}},{"$f":"'법정동(2013)'!AB57-'법정동(2012)'!AB59","v":{"v":0,"d":"0.0"}},{"$f":"'법정동(2013)'!AC57-'법정동(2012)'!AC59","v":{"v":1,"d":"1.0"}},{"$f":"'법정동(2013)'!AD57-'법정동(2012)'!AD59","v":{"v":203,"d":"203.0"}},{"$f":"'법정동(2013)'!AE57-'법정동(2012)'!AE59","v":{"v":6,"d":"6.0"}},{"$f":"'법정동(2013)'!AF57-'법정동(2012)'!AF59","v":{"v":0,"d":"0.0"}},{"$f":"'법정동(2013)'!AG57-'법정동(2012)'!AG59","v":{"v":0,"d":"0.0"}},{"$f":"'법정동(2013)'!AH57-'법정동(2012)'!AH59","v":{"v":0,"d":"0.0"}},{"$f":"'법정동(2013)'!AI57-'법정동(2012)'!AI59","v":{"v":0,"d":"0.0"}},{"$f":"'법정동(2013)'!AJ57-'법정동(2012)'!AJ59","v":{"v":0,"d":"0.0"}},{"$f":"'법정동(2013)'!AK57-'법정동(2012)'!AK59","v":{"v":0,"d":"0.0"}},{"$f":"'법정동(2013)'!AL57-'법정동(2012)'!AL59","v":{"v":0,"d":"0.0"}},{"$f":"'법정동(2013)'!AM57-'법정동(2012)'!AM59","v":{"v":0,"d":"0.0"}},{"$f":"'법정동(2013)'!AN57-'법정동(2012)'!AN59","v":{"v":0,"d":"0.0"}},{"$f":"'법정동(2013)'!AO57-'법정동(2012)'!AO59","v":{"v":0,"d":"0.0"}},{"$f":"'법정동(2013)'!AP57-'법정동(2012)'!AP59","v":{"v":0,"d":"0.0"}},{"$f":"'법정동(2013)'!AQ57-'법정동(2012)'!AQ59","v":{"v":0,"d":"0.0"}},{"$f":"'법정동(2013)'!AR57-'법정동(2012)'!AR59","v":{"v":0,"d":"0.0"}},{"$f":"'법정동(2013)'!AS57-'법정동(2012)'!AS59","v":{"v":0,"d":"0.0"}},{"$f":"'법정동(2013)'!AT57-'법정동(2012)'!AT59","v":{"v":0,"d":"0.0"}},{"$f":"'법정동(2013)'!AU57-'법정동(2012)'!AU59","v":{"v":0,"d":"0.0"}},{"$f":"'법정동(2013)'!AV57-'법정동(2012)'!AV59","v":{"v":0,"d":"0.0"}},{"$f":"'법정동(2013)'!AW57-'법정동(2012)'!AW59","v":{"v":0,"d":"0.0"}},{"$f":"'법정동(2013)'!AX57-'법정동(2012)'!AX59","v":{"v":0,"d":"0.0"}},{"$f":"'법정동(2013)'!AY57-'법정동(2012)'!AY59","v":{"v":0,"d":"0.0"}},{"$f":"'법정동(2013)'!AZ57-'법정동(2012)'!AZ59","v":{"v":557,"d":"557.0"}},{"$f":"'법정동(2013)'!BA57-'법정동(2012)'!BA59","v":{"v":1,"d":"1.0"}},{"$f":"'법정동(2013)'!BB57-'법정동(2012)'!BB59","v":{"v":0,"d":"0.0"}},{"$f":"'법정동(2013)'!BC57-'법정동(2012)'!BC59","v":{"v":0,"d":"0.0"}},{"$f":"'법정동(2013)'!BD57-'법정동(2012)'!BD59","v":{"v":0,"d":"0.0"}},{"$f":"'법정동(2013)'!BE57-'법정동(2012)'!BE59","v":{"v":0,"d":"0.0"}},{"$f":"'법정동(2013)'!BF57-'법정동(2012)'!BF59","v":{"v":0,"d":"0.0"}},{"$f":"'법정동(2013)'!BG57-'법정동(2012)'!BG59","v":{"v":4,"d":"4.0"}}]
["돌산읍 신복리",{"$f":"'법정동(2013)'!B58-'법정동(2012)'!B60","v":{"v":-452,"d":"-452.0"}},{"$f":"'법정동(2013)'!C58-'법정동(2012)'!C60","v":{"v":1,"d":"1.0"}},{"$f":"'법정동(2013)'!D58-'법정동(2012)'!D60","v":{"v":-27,"d":"-27.0"}},{"$f":"'법정동(2013)'!E58-'법정동(2012)'!E60","v":{"v":-2,"d":"-2.0"}},{"$f":"'법정동(2013)'!F58-'법정동(2012)'!F60","v":{"v":-485,"d":"-485.0"}},{"$f":"'법정동(2013)'!G58-'법정동(2012)'!G60","v":{"v":0,"d":"0.0"}},{"$f":"'법정동(2013)'!H58-'법정동(2012)'!H60","v":{"v":0,"d":"0.0"}},{"$f":"'법정동(2013)'!I58-'법정동(2012)'!I60","v":{"v":0,"d":"0.0"}},{"$f":"'법정동(2013)'!J58-'법정동(2012)'!J60","v":{"v":0,"d":"0.0"}},{"$f":"'법정동(2013)'!K58-'법정동(2012)'!K60","v":{"v":0,"d":"0.0"}},{"$f":"'법정동(2013)'!L58-'법정동(2012)'!L60","v":{"v":-452,"d":"-452.0"}},{"$f":"'법정동(2013)'!M58-'법정동(2012)'!M60","v":{"v":0,"d":"0.0"}},{"$f":"'법정동(2013)'!N58-'법정동(2012)'!N60","v":{"v":0,"d":"0.0"}},{"$f":"'법정동(2013)'!O58-'법정동(2012)'!O60","v":{"v":0,"d":"0.0"}},{"$f":"'법정동(2013)'!P58-'법정동(2012)'!P60","v":{"v":0,"d":"0.0"}},{"$f":"'법정동(2013)'!Q58-'법정동(2012)'!Q60","v":{"v":0,"d":"0.0"}},{"$f":"'법정동(2013)'!R58-'법정동(2012)'!R60","v":{"v":996,"d":"996.0"}},{"$f":"'법정동(2013)'!S58-'법정동(2012)'!S60","v":{"v":2,"d":"2.0"}},{"$f":"'법정동(2013)'!T58-'법정동(2012)'!T60","v":{"v":0,"d":"0.0"}},{"$f":"'법정동(2013)'!U58-'법정동(2012)'!U60","v":{"v":0,"d":"0.0"}},{"$f":"'법정동(2013)'!V58-'법정동(2012)'!V60","v":{"v":0,"d":"0.0"}},{"$f":"'법정동(2013)'!W58-'법정동(2012)'!W60","v":{"v":0,"d":"0.0"}},{"$f":"'법정동(2013)'!X58-'법정동(2012)'!X60","v":{"v":0,"d":"0.0"}},{"$f":"'법정동(2013)'!Y58-'법정동(2012)'!Y60","v":{"v":0,"d":"0.0"}},{"$f":"'법정동(2013)'!Z58-'법정동(2012)'!Z60","v":{"v":0,"d":"0.0"}},{"$f":"'법정동(2013)'!AA58-'법정동(2012)'!AA60","v":{"v":0,"d":"0.0"}},{"$f":"'법정동(2013)'!AB58-'법정동(2012)'!AB60","v":{"v":-564,"d":"-564.0"}},{"$f":"'법정동(2013)'!AC58-'법정동(2012)'!AC60","v":{"v":-1,"d":"-1.0"}},{"$f":"'법정동(2013)'!AD58-'법정동(2012)'!AD60","v":{"v":82,"d":"82.0"}},{"$f":"'법정동(2013)'!AE58-'법정동(2012)'!AE60","v":{"v":2,"d":"2.0"}},{"$f":"'법정동(2013)'!AF58-'법정동(2012)'!AF60","v":{"v":0,"d":"0.0"}},{"$f":"'법정동(2013)'!AG58-'법정동(2012)'!AG60","v":{"v":0,"d":"0.0"}},{"$f":"'법정동(2013)'!AH58-'법정동(2012)'!AH60","v":{"v":0,"d":"0.0"}},{"$f":"'법정동(2013)'!AI58-'법정동(2012)'!AI60","v":{"v":0,"d":"0.0"}},{"$f":"'법정동(2013)'!AJ58-'법정동(2012)'!AJ60","v":{"v":0,"d":"0.0"}},{"$f":"'법정동(2013)'!AK58-'법정동(2012)'!AK60","v":{"v":0,"d":"0.0"}},{"$f":"'법정동(2013)'!AL58-'법정동(2012)'!AL60","v":{"v":0,"d":"0.0"}},{"$f":"'법정동(2013)'!AM58-'법정동(2012)'!AM60","v":{"v":0,"d":"0.0"}},{"$f":"'법정동(2013)'!AN58-'법정동(2012)'!AN60","v":{"v":0,"d":"0.0"}},{"$f":"'법정동(2013)'!AO58-'법정동(2012)'!AO60","v":{"v":0,"d":"0.0"}},{"$f":"'법정동(2013)'!AP58-'법정동(2012)'!AP60","v":{"v":0,"d":"0.0"}},{"$f":"'법정동(2013)'!AQ58-'법정동(2012)'!AQ60","v":{"v":0,"d":"0.0"}},{"$f":"'법정동(2013)'!AR58-'법정동(2012)'!AR60","v":{"v":0,"d":"0.0"}},{"$f":"'법정동(2013)'!AS58-'법정동(2012)'!AS60","v":{"v":0,"d":"0.0"}},{"$f":"'법정동(2013)'!AT58-'법정동(2012)'!AT60","v":{"v":0,"d":"0.0"}},{"$f":"'법정동(2013)'!AU58-'법정동(2012)'!AU60","v":{"v":0,"d":"0.0"}},{"$f":"'법정동(2013)'!AV58-'법정동(2012)'!AV60","v":{"v":0,"d":"0.0"}},{"$f":"'법정동(2013)'!AW58-'법정동(2012)'!AW60","v":{"v":0,"d":"0.0"}},{"$f":"'법정동(2013)'!AX58-'법정동(2012)'!AX60","v":{"v":0,"d":"0.0"}},{"$f":"'법정동(2013)'!AY58-'법정동(2012)'!AY60","v":{"v":0,"d":"0.0"}},{"$f":"'법정동(2013)'!AZ58-'법정동(2012)'!AZ60","v":{"v":0,"d":"0.0"}},{"$f":"'법정동(2013)'!BA58-'법정동(2012)'!BA60","v":{"v":0,"d":"0.0"}},{"$f":"'법정동(2013)'!BB58-'법정동(2012)'!BB60","v":{"v":0,"d":"0.0"}},{"$f":"'법정동(2013)'!BC58-'법정동(2012)'!BC60","v":{"v":0,"d":"0.0"}},{"$f":"'법정동(2013)'!BD58-'법정동(2012)'!BD60","v":{"v":-2,"d":"-2.0"}},{"$f":"'법정동(2013)'!BE58-'법정동(2012)'!BE60","v":{"v":0,"d":"0.0"}},{"$f":"'법정동(2013)'!BF58-'법정동(2012)'!BF60","v":{"v":0,"d":"0.0"}},{"$f":"'법정동(2013)'!BG58-'법정동(2012)'!BG60","v":{"v":0,"d":"0.0"}}]
["돌산읍 금성리",{"$f":"'법정동(2013)'!B59-'법정동(2012)'!B61","v":{"v":-1836,"d":"-1,836.0"}},{"$f":"'법정동(2013)'!C59-'법정동(2012)'!C61","v":{"v":1,"d":"1.0"}},{"$f":"'법정동(2013)'!D59-'법정동(2012)'!D61","v":{"v":13,"d":"13.0"}},{"$f":"'법정동(2013)'!E59-'법정동(2012)'!E61","v":{"v":0,"d":"0.0"}},{"$f":"'법정동(2013)'!F59-'법정동(2012)'!F61","v":{"v":0,"d":"0.0"}},{"$f":"'법정동(2013)'!G59-'법정동(2012)'!G61","v":{"v":0,"d":"0.0"}},{"$f":"'법정동(2013)'!H59-'법정동(2012)'!H61","v":{"v":0,"d":"0.0"}},{"$f":"'법정동(2013)'!I59-'법정동(2012)'!I61","v":{"v":0,"d":"0.0"}},{"$f":"'법정동(2013)'!J59-'법정동(2012)'!J61","v":{"v":0,"d":"0.0"}},{"$f":"'법정동(2013)'!K59-'법정동(2012)'!K61","v":{"v":0,"d":"0.0"}},{"$f":"'법정동(2013)'!L59-'법정동(2012)'!L61","v":{"v":-1849,"d":"-1,849.0"}},{"$f":"'법정동(2013)'!M59-'법정동(2012)'!M61","v":{"v":1,"d":"1.0"}},{"$f":"'법정동(2013)'!N59-'법정동(2012)'!N61","v":{"v":0,"d":"0.0"}},{"$f":"'법정동(2013)'!O59-'법정동(2012)'!O61","v":{"v":0,"d":"0.0"}},{"$f":"'법정동(2013)'!P59-'법정동(2012)'!P61","v":{"v":0,"d":"0.0"}},{"$f":"'법정동(2013)'!Q59-'법정동(2012)'!Q61","v":{"v":0,"d":"0.0"}},{"$f":"'법정동(2013)'!R59-'법정동(2012)'!R61","v":{"v":0,"d":"0.0"}},{"$f":"'법정동(2013)'!S59-'법정동(2012)'!S61","v":{"v":-1,"d":"-1.0"}},{"$f":"'법정동(2013)'!T59-'법정동(2012)'!T61","v":{"v":0,"d":"0.0"}},{"$f":"'법정동(2013)'!U59-'법정동(2012)'!U61","v":{"v":0,"d":"0.0"}},{"$f":"'법정동(2013)'!V59-'법정동(2012)'!V61","v":{"v":0,"d":"0.0"}},{"$f":"'법정동(2013)'!W59-'법정동(2012)'!W61","v":{"v":0,"d":"0.0"}},{"$f":"'법정동(2013)'!X59-'법정동(2012)'!X61","v":{"v":0,"d":"0.0"}},{"$f":"'법정동(2013)'!Y59-'법정동(2012)'!Y61","v":{"v":0,"d":"0.0"}},{"$f":"'법정동(2013)'!Z59-'법정동(2012)'!Z61","v":{"v":0,"d":"0.0"}},{"$f":"'법정동(2013)'!AA59-'법정동(2012)'!AA61","v":{"v":0,"d":"0.0"}},{"$f":"'법정동(2013)'!AB59-'법정동(2012)'!AB61","v":{"v":0,"d":"0.0"}},{"$f":"'법정동(2013)'!AC59-'법정동(2012)'!AC61","v":{"v":0,"d":"0.0"}},{"$f":"'법정동(2013)'!AD59-'법정동(2012)'!AD61","v":{"v":0,"d":"0.0"}},{"$f":"'법정동(2013)'!AE59-'법정동(2012)'!AE61","v":{"v":1,"d":"1.0"}},{"$f":"'법정동(2013)'!AF59-'법정동(2012)'!AF61","v":{"v":0,"d":"0.0"}},{"$f":"'법정동(2013)'!AG59-'법정동(2012)'!AG61","v":{"v":0,"d":"0.0"}},{"$f":"'법정동(2013)'!AH59-'법정동(2012)'!AH61","v":{"v":0,"d":"0.0"}},{"$f":"'법정동(2013)'!AI59-'법정동(2012)'!AI61","v":{"v":0,"d":"0.0"}},{"$f":"'법정동(2013)'!AJ59-'법정동(2012)'!AJ61","v":{"v":0,"d":"0.0"}},{"$f":"'법정동(2013)'!AK59-'법정동(2012)'!AK61","v":{"v":0,"d":"0.0"}},{"$f":"'법정동(2013)'!AL59-'법정동(2012)'!AL61","v":{"v":0,"d":"0.0"}},{"$f":"'법정동(2013)'!AM59-'법정동(2012)'!AM61","v":{"v":0,"d":"0.0"}},{"$f":"'법정동(2013)'!AN59-'법정동(2012)'!AN61","v":{"v":0,"d":"0.0"}},{"$f":"'법정동(2013)'!AO59-'법정동(2012)'!AO61","v":{"v":0,"d":"0.0"}},{"$f":"'법정동(2013)'!AP59-'법정동(2012)'!AP61","v":{"v":0,"d":"0.0"}},{"$f":"'법정동(2013)'!AQ59-'법정동(2012)'!AQ61","v":{"v":0,"d":"0.0"}},{"$f":"'법정동(2013)'!AR59-'법정동(2012)'!AR61","v":{"v":0,"d":"0.0"}},{"$f":"'법정동(2013)'!AS59-'법정동(2012)'!AS61","v":{"v":0,"d":"0.0"}},{"$f":"'법정동(2013)'!AT59-'법정동(2012)'!AT61","v":{"v":0,"d":"0.0"}},{"$f":"'법정동(2013)'!AU59-'법정동(2012)'!AU61","v":{"v":0,"d":"0.0"}},{"$f":"'법정동(2013)'!AV59-'법정동(2012)'!AV61","v":{"v":0,"d":"0.0"}},{"$f":"'법정동(2013)'!AW59-'법정동(2012)'!AW61","v":{"v":0,"d":"0.0"}},{"$f":"'법정동(2013)'!AX59-'법정동(2012)'!AX61","v":{"v":0,"d":"0.0"}},{"$f":"'법정동(2013)'!AY59-'법정동(2012)'!AY61","v":{"v":0,"d":"0.0"}},{"$f":"'법정동(2013)'!AZ59-'법정동(2012)'!AZ61","v":{"v":0,"d":"0.0"}},{"$f":"'법정동(2013)'!BA59-'법정동(2012)'!BA61","v":{"v":0,"d":"0.0"}},{"$f":"'법정동(2013)'!BB59-'법정동(2012)'!BB61","v":{"v":0,"d":"0.0"}},{"$f":"'법정동(2013)'!BC59-'법정동(2012)'!BC61","v":{"v":0,"d":"0.0"}},{"$f":"'법정동(2013)'!BD59-'법정동(2012)'!BD61","v":{"v":0,"d":"0.0"}},{"$f":"'법정동(2013)'!BE59-'법정동(2012)'!BE61","v":{"v":0,"d":"0.0"}},{"$f":"'법정동(2013)'!BF59-'법정동(2012)'!BF61","v":{"v":0,"d":"0.0"}},{"$f":"'법정동(2013)'!BG59-'법정동(2012)'!BG61","v":{"v":0,"d":"0.0"}}]
["돌산읍 율림리",{"$f":"'법정동(2013)'!B60-'법정동(2012)'!B62","v":{"v":-125,"d":"-125.0"}},{"$f":"'법정동(2013)'!C60-'법정동(2012)'!C62","v":{"v":-123,"d":"-123.0"}},{"$f":"'법정동(2013)'!D60-'법정동(2012)'!D62","v":{"v":-9388,"d":"-9,388.0"}},{"$f":"'법정동(2013)'!E60-'법정동(2012)'!E62","v":{"v":-41,"d":"-41.0"}},{"$f":"'법정동(2013)'!F60-'법정동(2012)'!F62","v":{"v":-66,"d":"-66.0"}},{"$f":"'법정동(2013)'!G60-'법정동(2012)'!G62","v":{"v":-2,"d":"-2.0"}},{"$f":"'법정동(2013)'!H60-'법정동(2012)'!H62","v":{"v":0,"d":"0.0"}},{"$f":"'법정동(2013)'!I60-'법정동(2012)'!I62","v":{"v":0,"d":"0.0"}},{"$f":"'법정동(2013)'!J60-'법정동(2012)'!J62","v":{"v":0,"d":"0.0"}},{"$f":"'법정동(2013)'!K60-'법정동(2012)'!K62","v":{"v":0,"d":"0.0"}},{"$f":"'법정동(2013)'!L60-'법정동(2012)'!L62","v":{"v":-10309,"d":"-10,309.0"}},{"$f":"'법정동(2013)'!M60-'법정동(2012)'!M62","v":{"v":-41,"d":"-41.0"}},{"$f":"'법정동(2013)'!N60-'법정동(2012)'!N62","v":{"v":0,"d":"0.0"}},{"$f":"'법정동(2013)'!O60-'법정동(2012)'!O62","v":{"v":0,"d":"0.0"}},{"$f":"'법정동(2013)'!P60-'법정동(2012)'!P62","v":{"v":0,"d":"0.0"}},{"$f":"'법정동(2013)'!Q60-'법정동(2012)'!Q62","v":{"v":0,"d":"0.0"}},{"$f":"'법정동(2013)'!R60-'법정동(2012)'!R62","v":{"v":429,"d":"429.0"}},{"$f":"'법정동(2013)'!S60-'법정동(2012)'!S62","v":{"v":-10,"d":"-10.0"}},{"$f":"'법정동(2013)'!T60-'법정동(2012)'!T62","v":{"v":0,"d":"0.0"}},{"$f":"'법정동(2013)'!U60-'법정동(2012)'!U62","v":{"v":0,"d":"0.0"}},{"$f":"'법정동(2013)'!V60-'법정동(2012)'!V62","v":{"v":0,"d":"0.0"}},{"$f":"'법정동(2013)'!W60-'법정동(2012)'!W62","v":{"v":0,"d":"0.0"}},{"$f":"'법정동(2013)'!X60-'법정동(2012)'!X62","v":{"v":0,"d":"0.0"}},{"$f":"'법정동(2013)'!Y60-'법정동(2012)'!Y62","v":{"v":0,"d":"0.0"}},{"$f":"'법정동(2013)'!Z60-'법정동(2012)'!Z62","v":{"v":0,"d":"0.0"}},{"$f":"'법정동(2013)'!AA60-'법정동(2012)'!AA62","v":{"v":0,"d":"0.0"}},{"$f":"'법정동(2013)'!AB60-'법정동(2012)'!AB62","v":{"v":0,"d":"0.0"}},{"$f":"'법정동(2013)'!AC60-'법정동(2012)'!AC62","v":{"v":0,"d":"0.0"}},{"$f":"'법정동(2013)'!AD60-'법정동(2012)'!AD62","v":{"v":17551,"d":"17,551.0"}},{"$f":"'법정동(2013)'!AE60-'법정동(2012)'!AE62","v":{"v":-30,"d":"-30.0"}},{"$f":"'법정동(2013)'!AF60-'법정동(2012)'!AF62","v":{"v":0,"d":"0.0"}},{"$f":"'법정동(2013)'!AG60-'법정동(2012)'!AG62","v":{"v":0,"d":"0.0"}},{"$f":"'법정동(2013)'!AH60-'법정동(2012)'!AH62","v":{"v":0,"d":"0.0"}},{"$f":"'법정동(2013)'!AI60-'법정동(2012)'!AI62","v":{"v":0,"d":"0.0"}},{"$f":"'법정동(2013)'!AJ60-'법정동(2012)'!AJ62","v":{"v":0,"d":"0.0"}},{"$f":"'법정동(2013)'!AK60-'법정동(2012)'!AK62","v":{"v":0,"d":"0.0"}},{"$f":"'법정동(2013)'!AL60-'법정동(2012)'!AL62","v":{"v":0,"d":"0.0"}},{"$f":"'법정동(2013)'!AM60-'법정동(2012)'!AM62","v":{"v":0,"d":"0.0"}},{"$f":"'법정동(2013)'!AN60-'법정동(2012)'!AN62","v":{"v":0,"d":"0.0"}},{"$f":"'법정동(2013)'!AO60-'법정동(2012)'!AO62","v":{"v":0,"d":"0.0"}},{"$f":"'법정동(2013)'!AP60-'법정동(2012)'!AP62","v":{"v":0,"d":"0.0"}},{"$f":"'법정동(2013)'!AQ60-'법정동(2012)'!AQ62","v":{"v":0,"d":"0.0"}},{"$f":"'법정동(2013)'!AR60-'법정동(2012)'!AR62","v":{"v":0,"d":"0.0"}},{"$f":"'법정동(2013)'!AS60-'법정동(2012)'!AS62","v":{"v":0,"d":"0.0"}},{"$f":"'법정동(2013)'!AT60-'법정동(2012)'!AT62","v":{"v":0,"d":"0.0"}},{"$f":"'법정동(2013)'!AU60-'법정동(2012)'!AU62","v":{"v":0,"d":"0.0"}},{"$f":"'법정동(2013)'!AV60-'법정동(2012)'!AV62","v":{"v":0,"d":"0.0"}},{"$f":"'법정동(2013)'!AW60-'법정동(2012)'!AW62","v":{"v":0,"d":"0.0"}},{"$f":"'법정동(2013)'!AX60-'법정동(2012)'!AX62","v":{"v":0,"d":"0.0"}},{"$f":"'법정동(2013)'!AY60-'법정동(2012)'!AY62","v":{"v":0,"d":"0.0"}},{"$f":"'법정동(2013)'!AZ60-'법정동(2012)'!AZ62","v":{"v":0,"d":"0.0"}},{"$f":"'법정동(2013)'!BA60-'법정동(2012)'!BA62","v":{"v":0,"d":"0.0"}},{"$f":"'법정동(2013)'!BB60-'법정동(2012)'!BB62","v":{"v":0,"d":"0.0"}},{"$f":"'법정동(2013)'!BC60-'법정동(2012)'!BC62","v":{"v":0,"d":"0.0"}},{"$f":"'법정동(2013)'!BD60-'법정동(2012)'!BD62","v":{"v":0,"d":"0.0"}},{"$f":"'법정동(2013)'!BE60-'법정동(2012)'!BE62","v":{"v":0,"d":"0.0"}},{"$f":"'법정동(2013)'!BF60-'법정동(2012)'!BF62","v":{"v":1658,"d":"1,658.0"}},{"$f":"'법정동(2013)'!BG60-'법정동(2012)'!BG62","v":{"v":1,"d":"1.0"}}]
["돌산읍 죽포리",{"$f":"'법정동(2013)'!B61-'법정동(2012)'!B63","v":{"v":0,"d":"0.0"}},{"$f":"'법정동(2013)'!C61-'법정동(2012)'!C63","v":{"v":-13,"d":"-13.0"}},{"$f":"'법정동(2013)'!D61-'법정동(2012)'!D63","v":{"v":-2625,"d":"-2,625.0"}},{"$f":"'법정동(2013)'!E61-'법정동(2012)'!E63","v":{"v":-9,"d":"-9.0"}},{"$f":"'법정동(2013)'!F61-'법정동(2012)'!F63","v":{"v":-2110,"d":"-2,110.0"}},{"$f":"'법정동(2013)'!G61-'법정동(2012)'!G63","v":{"v":-7,"d":"-7.0"}},{"$f":"'법정동(2013)'!H61-'법정동(2012)'!H63","v":{"v":0,"d":"0.0"}},{"$f":"'법정동(2013)'!I61-'법정동(2012)'!I63","v":{"v":0,"d":"0.0"}},{"$f":"'법정동(2013)'!J61-'법정동(2012)'!J63","v":{"v":0,"d":"0.0"}},{"$f":"'법정동(2013)'!K61-'법정동(2012)'!K63","v":{"v":0,"d":"0.0"}},{"$f":"'법정동(2013)'!L61-'법정동(2012)'!L63","v":{"v":-379,"d":"-379.0"}},{"$f":"'법정동(2013)'!M61-'법정동(2012)'!M63","v":{"v":-1,"d":"-1.0"}},{"$f":"'법정동(2013)'!N61-'법정동(2012)'!N63","v":{"v":0,"d":"0.0"}},{"$f":"'법정동(2013)'!O61-'법정동(2012)'!O63","v":{"v":0,"d":"0.0"}},{"$f":"'법정동(2013)'!P61-'법정동(2012)'!P63","v":{"v":0,"d":"0.0"}},{"$f":"'법정동(2013)'!Q61-'법정동(2012)'!Q63","v":{"v":0,"d":"0.0"}},{"$f":"'법정동(2013)'!R61-'법정동(2012)'!R63","v":{"v":3707,"d":"3,707.0"}},{"$f":"'법정동(2013)'!S61-'법정동(2012)'!S63","v":{"v":4,"d":"4.0"}},{"$f":"'법정동(2013)'!T61-'법정동(2012)'!T63","v":{"v":0,"d":"0.0"}},{"$f":"'법정동(2013)'!U61-'법정동(2012)'!U63","v":{"v":0,"d":"0.0"}},{"$f":"'법정동(2013)'!V61-'법정동(2012)'!V63","v":{"v":0,"d":"0.0"}},{"$f":"'법정동(2013)'!W61-'법정동(2012)'!W63","v":{"v":0,"d":"0.0"}},{"$f":"'법정동(2013)'!X61-'법정동(2012)'!X63","v":{"v":0,"d":"0.0"}},{"$f":"'법정동(2013)'!Y61-'법정동(2012)'!Y63","v":{"v":0,"d":"0.0"}},{"$f":"'법정동(2013)'!Z61-'법정동(2012)'!Z63","v":{"v":0,"d":"0.0"}},{"$f":"'법정동(2013)'!AA61-'법정동(2012)'!AA63","v":{"v":0,"d":"0.0"}},{"$f":"'법정동(2013)'!AB61-'법정동(2012)'!AB63","v":{"v":990,"d":"990.0"}},{"$f":"'법정동(2013)'!AC61-'법정동(2012)'!AC63","v":{"v":1,"d":"1.0"}},{"$f":"'법정동(2013)'!AD61-'법정동(2012)'!AD63","v":{"v":313,"d":"313.0"}},{"$f":"'법정동(2013)'!AE61-'법정동(2012)'!AE63","v":{"v":3,"d":"3.0"}},{"$f":"'법정동(2013)'!AF61-'법정동(2012)'!AF63","v":{"v":0,"d":"0.0"}},{"$f":"'법정동(2013)'!AG61-'법정동(2012)'!AG63","v":{"v":0,"d":"0.0"}},{"$f":"'법정동(2013)'!AH61-'법정동(2012)'!AH63","v":{"v":0,"d":"0.0"}},{"$f":"'법정동(2013)'!AI61-'법정동(2012)'!AI63","v":{"v":0,"d":"0.0"}},{"$f":"'법정동(2013)'!AJ61-'법정동(2012)'!AJ63","v":{"v":0,"d":"0.0"}},{"$f":"'법정동(2013)'!AK61-'법정동(2012)'!AK63","v":{"v":0,"d":"0.0"}},{"$f":"'법정동(2013)'!AL61-'법정동(2012)'!AL63","v":{"v":0,"d":"0.0"}},{"$f":"'법정동(2013)'!AM61-'법정동(2012)'!AM63","v":{"v":0,"d":"0.0"}},{"$f":"'법정동(2013)'!AN61-'법정동(2012)'!AN63","v":{"v":-296,"d":"-296.0"}},{"$f":"'법정동(2013)'!AO61-'법정동(2012)'!AO63","v":{"v":-1,"d":"-1.0"}},{"$f":"'법정동(2013)'!AP61-'법정동(2012)'!AP63","v":{"v":0,"d":"0.0"}},{"$f":"'법정동(2013)'!AQ61-'법정동(2012)'!AQ63","v":{"v":0,"d":"0.0"}},{"$f":"'법정동(2013)'!AR61-'법정동(2012)'!AR63","v":{"v":0,"d":"0.0"}},{"$f":"'법정동(2013)'!AS61-'법정동(2012)'!AS63","v":{"v":0,"d":"0.0"}},{"$f":"'법정동(2013)'!AT61-'법정동(2012)'!AT63","v":{"v":0,"d":"0.0"}},{"$f":"'법정동(2013)'!AU61-'법정동(2012)'!AU63","v":{"v":0,"d":"0.0"}},{"$f":"'법정동(2013)'!AV61-'법정동(2012)'!AV63","v":{"v":0,"d":"0.0"}},{"$f":"'법정동(2013)'!AW61-'법정동(2012)'!AW63","v":{"v":0,"d":"0.0"}},{"$f":"'법정동(2013)'!AX61-'법정동(2012)'!AX63","v":{"v":0,"d":"0.0"}},{"$f":"'법정동(2013)'!AY61-'법정동(2012)'!AY63","v":{"v":0,"d":"0.0"}},{"$f":"'법정동(2013)'!AZ61-'법정동(2012)'!AZ63","v":{"v":0,"d":"0.0"}},{"$f":"'법정동(2013)'!BA61-'법정동(2012)'!BA63","v":{"v":0,"d":"0.0"}},{"$f":"'법정동(2013)'!BB61-'법정동(2012)'!BB63","v":{"v":0,"d":"0.0"}},{"$f":"'법정동(2013)'!BC61-'법정동(2012)'!BC63","v":{"v":0,"d":"0.0"}},{"$f":"'법정동(2013)'!BD61-'법정동(2012)'!BD63","v":{"v":0,"d":"0.0"}},{"$f":"'법정동(2013)'!BE61-'법정동(2012)'!BE63","v":{"v":0,"d":"0.0"}},{"$f":"'법정동(2013)'!BF61-'법정동(2012)'!BF63","v":{"v":400,"d":"400.0"}},{"$f":"'법정동(2013)'!BG61-'법정동(2012)'!BG63","v":{"v":-3,"d":"-3.0"}}]
["돌산읍 서덕리",{"$f":"'법정동(2013)'!B62-'법정동(2012)'!B64","v":{"v":-679,"d":"-679.0"}},{"$f":"'법정동(2013)'!C62-'법정동(2012)'!C64","v":{"v":-4,"d":"-4.0"}},{"$f":"'법정동(2013)'!D62-'법정동(2012)'!D64","v":{"v":2678,"d":"2,678.0"}},{"$f":"'법정동(2013)'!E62-'법정동(2012)'!E64","v":{"v":-5,"d":"-5.0"}},{"$f":"'법정동(2013)'!F62-'법정동(2012)'!F64","v":{"v":-2678,"d":"-2,678.0"}},{"$f":"'법정동(2013)'!G62-'법정동(2012)'!G64","v":{"v":-1,"d":"-1.0"}},{"$f":"'법정동(2013)'!H62-'법정동(2012)'!H64","v":{"v":0,"d":"0.0"}},{"$f":"'법정동(2013)'!I62-'법정동(2012)'!I64","v":{"v":0,"d":"0.0"}},{"$f":"'법정동(2013)'!J62-'법정동(2012)'!J64","v":{"v":0,"d":"0.0"}},{"$f":"'법정동(2013)'!K62-'법정동(2012)'!K64","v":{"v":0,"d":"0.0"}},{"$f":"'법정동(2013)'!L62-'법정동(2012)'!L64","v":{"v":-679,"d":"-679.0"}},{"$f":"'법정동(2013)'!M62-'법정동(2012)'!M64","v":{"v":2,"d":"2.0"}},{"$f":"'법정동(2013)'!N62-'법정동(2012)'!N64","v":{"v":0,"d":"0.0"}},{"$f":"'법정동(2013)'!O62-'법정동(2012)'!O64","v":{"v":0,"d":"0.0"}},{"$f":"'법정동(2013)'!P62-'법정동(2012)'!P64","v":{"v":0,"d":"0.0"}},{"$f":"'법정동(2013)'!Q62-'법정동(2012)'!Q64","v":{"v":0,"d":"0.0"}},{"$f":"'법정동(2013)'!R62-'법정동(2012)'!R64","v":{"v":0,"d":"0.0"}},{"$f":"'법정동(2013)'!S62-'법정동(2012)'!S64","v":{"v":0,"d":"0.0"}},{"$f":"'법정동(2013)'!T62-'법정동(2012)'!T64","v":{"v":0,"d":"0.0"}},{"$f":"'법정동(2013)'!U62-'법정동(2012)'!U64","v":{"v":0,"d":"0.0"}},{"$f":"'법정동(2013)'!V62-'법정동(2012)'!V64","v":{"v":0,"d":"0.0"}},{"$f":"'법정동(2013)'!W62-'법정동(2012)'!W64","v":{"v":0,"d":"0.0"}},{"$f":"'법정동(2013)'!X62-'법정동(2012)'!X64","v":{"v":0,"d":"0.0"}},{"$f":"'법정동(2013)'!Y62-'법정동(2012)'!Y64","v":{"v":0,"d":"0.0"}},{"$f":"'법정동(2013)'!Z62-'법정동(2012)'!Z64","v":{"v":0,"d":"0.0"}},{"$f":"'법정동(2013)'!AA62-'법정동(2012)'!AA64","v":{"v":0,"d":"0.0"}},{"$f":"'법정동(2013)'!AB62-'법정동(2012)'!AB64","v":{"v":0,"d":"0.0"}},{"$f":"'법정동(2013)'!AC62-'법정동(2012)'!AC64","v":{"v":0,"d":"0.0"}},{"$f":"'법정동(2013)'!AD62-'법정동(2012)'!AD64","v":{"v":0,"d":"0.0"}},{"$f":"'법정동(2013)'!AE62-'법정동(2012)'!AE64","v":{"v":0,"d":"0.0"}},{"$f":"'법정동(2013)'!AF62-'법정동(2012)'!AF64","v":{"v":0,"d":"0.0"}},{"$f":"'법정동(2013)'!AG62-'법정동(2012)'!AG64","v":{"v":0,"d":"0.0"}},{"$f":"'법정동(2013)'!AH62-'법정동(2012)'!AH64","v":{"v":0,"d":"0.0"}},{"$f":"'법정동(2013)'!AI62-'법정동(2012)'!AI64","v":{"v":0,"d":"0.0"}},{"$f":"'법정동(2013)'!AJ62-'법정동(2012)'!AJ64","v":{"v":0,"d":"0.0"}},{"$f":"'법정동(2013)'!AK62-'법정동(2012)'!AK64","v":{"v":0,"d":"0.0"}},{"$f":"'법정동(2013)'!AL62-'법정동(2012)'!AL64","v":{"v":0,"d":"0.0"}},{"$f":"'법정동(2013)'!AM62-'법정동(2012)'!AM64","v":{"v":0,"d":"0.0"}},{"$f":"'법정동(2013)'!AN62-'법정동(2012)'!AN64","v":{"v":0,"d":"0.0"}},{"$f":"'법정동(2013)'!AO62-'법정동(2012)'!AO64","v":{"v":0,"d":"0.0"}},{"$f":"'법정동(2013)'!AP62-'법정동(2012)'!AP64","v":{"v":0,"d":"0.0"}},{"$f":"'법정동(2013)'!AQ62-'법정동(2012)'!AQ64","v":{"v":0,"d":"0.0"}},{"$f":"'법정동(2013)'!AR62-'법정동(2012)'!AR64","v":{"v":0,"d":"0.0"}},{"$f":"'법정동(2013)'!AS62-'법정동(2012)'!AS64","v":{"v":0,"d":"0.0"}},{"$f":"'법정동(2013)'!AT62-'법정동(2012)'!AT64","v":{"v":0,"d":"0.0"}},{"$f":"'법정동(2013)'!AU62-'법정동(2012)'!AU64","v":{"v":0,"d":"0.0"}},{"$f":"'법정동(2013)'!AV62-'법정동(2012)'!AV64","v":{"v":0,"d":"0.0"}},{"$f":"'법정동(2013)'!AW62-'법정동(2012)'!AW64","v":{"v":0,"d":"0.0"}},{"$f":"'법정동(2013)'!AX62-'법정동(2012)'!AX64","v":{"v":0,"d":"0.0"}},{"$f":"'법정동(2013)'!AY62-'법정동(2012)'!AY64","v":{"v":0,"d":"0.0"}},{"$f":"'법정동(2013)'!AZ62-'법정동(2012)'!AZ64","v":{"v":0,"d":"0.0"}},{"$f":"'법정동(2013)'!BA62-'법정동(2012)'!BA64","v":{"v":0,"d":"0.0"}},{"$f":"'법정동(2013)'!BB62-'법정동(2012)'!BB64","v":{"v":0,"d":"0.0"}},{"$f":"'법정동(2013)'!BC62-'법정동(2012)'!BC64","v":{"v":0,"d":"0.0"}},{"$f":"'법정동(2013)'!BD62-'법정동(2012)'!BD64","v":{"v":0,"d":"0.0"}},{"$f":"'법정동(2013)'!BE62-'법정동(2012)'!BE64","v":{"v":0,"d":"0.0"}},{"$f":"'법정동(2013)'!BF62-'법정동(2012)'!BF64","v":{"v":0,"d":"0.0"}},{"$f":"'법정동(2013)'!BG62-'법정동(2012)'!BG64","v":{"v":0,"d":"0.0"}}]
["돌산읍 금봉리",{"$f":"'법정동(2013)'!B63-'법정동(2012)'!B65","v":{"v":-347,"d":"-347.0"}},{"$f":"'법정동(2013)'!C63-'법정동(2012)'!C65","v":{"v":6,"d":"6.0"}},{"$f":"'법정동(2013)'!D63-'법정동(2012)'!D65","v":{"v":-1103,"d":"-1,103.0"}},{"$f":"'법정동(2013)'!E63-'법정동(2012)'!E65","v":{"v":-1,"d":"-1.0"}},{"$f":"'법정동(2013)'!F63-'법정동(2012)'!F65","v":{"v":-2932,"d":"-2,932.0"}},{"$f":"'법정동(2013)'!G63-'법정동(2012)'!G65","v":{"v":-6,"d":"-6.0"}},{"$f":"'법정동(2013)'!H63-'법정동(2012)'!H65","v":{"v":0,"d":"0.0"}},{"$f":"'법정동(2013)'!I63-'법정동(2012)'!I65","v":{"v":0,"d":"0.0"}},{"$f":"'법정동(2013)'!J63-'법정동(2012)'!J65","v":{"v":0,"d":"0.0"}},{"$f":"'법정동(2013)'!K63-'법정동(2012)'!K65","v":{"v":0,"d":"0.0"}},{"$f":"'법정동(2013)'!L63-'법정동(2012)'!L65","v":{"v":-347,"d":"-347.0"}},{"$f":"'법정동(2013)'!M63-'법정동(2012)'!M65","v":{"v":0,"d":"0.0"}},{"$f":"'법정동(2013)'!N63-'법정동(2012)'!N65","v":{"v":0,"d":"0.0"}},{"$f":"'법정동(2013)'!O63-'법정동(2012)'!O65","v":{"v":0,"d":"0.0"}},{"$f":"'법정동(2013)'!P63-'법정동(2012)'!P65","v":{"v":0,"d":"0.0"}},{"$f":"'법정동(2013)'!Q63-'법정동(2012)'!Q65","v":{"v":0,"d":"0.0"}},{"$f":"'법정동(2013)'!R63-'법정동(2012)'!R65","v":{"v":958,"d":"958.0"}},{"$f":"'법정동(2013)'!S63-'법정동(2012)'!S65","v":{"v":3,"d":"3.0"}},{"$f":"'법정동(2013)'!T63-'법정동(2012)'!T65","v":{"v":2016,"d":"2,016.0"}},{"$f":"'법정동(2013)'!U63-'법정동(2012)'!U65","v":{"v":4,"d":"4.0"}},{"$f":"'법정동(2013)'!V63-'법정동(2012)'!V65","v":{"v":-6383,"d":"-6,383.0"}},{"$f":"'법정동(2013)'!W63-'법정동(2012)'!W65","v":{"v":-2,"d":"-2.0"}},{"$f":"'법정동(2013)'!X63-'법정동(2012)'!X65","v":{"v":0,"d":"0.0"}},{"$f":"'법정동(2013)'!Y63-'법정동(2012)'!Y65","v":{"v":0,"d":"0.0"}},{"$f":"'법정동(2013)'!Z63-'법정동(2012)'!Z65","v":{"v":0,"d":"0.0"}},{"$f":"'법정동(2013)'!AA63-'법정동(2012)'!AA65","v":{"v":0,"d":"0.0"}},{"$f":"'법정동(2013)'!AB63-'법정동(2012)'!AB65","v":{"v":1123,"d":"1,123.0"}},{"$f":"'법정동(2013)'!AC63-'법정동(2012)'!AC65","v":{"v":2,"d":"2.0"}},{"$f":"'법정동(2013)'!AD63-'법정동(2012)'!AD65","v":{"v":512,"d":"512.0"}},{"$f":"'법정동(2013)'!AE63-'법정동(2012)'!AE65","v":{"v":5,"d":"5.0"}},{"$f":"'법정동(2013)'!AF63-'법정동(2012)'!AF65","v":{"v":0,"d":"0.0"}},{"$f":"'법정동(2013)'!AG63-'법정동(2012)'!AG65","v":{"v":0,"d":"0.0"}},{"$f":"'법정동(2013)'!AH63-'법정동(2012)'!AH65","v":{"v":0,"d":"0.0"}},{"$f":"'법정동(2013)'!AI63-'법정동(2012)'!AI65","v":{"v":0,"d":"0.0"}},{"$f":"'법정동(2013)'!AJ63-'법정동(2012)'!AJ65","v":{"v":0,"d":"0.0"}},{"$f":"'법정동(2013)'!AK63-'법정동(2012)'!AK65","v":{"v":0,"d":"0.0"}},{"$f":"'법정동(2013)'!AL63-'법정동(2012)'!AL65","v":{"v":0,"d":"0.0"}},{"$f":"'법정동(2013)'!AM63-'법정동(2012)'!AM65","v":{"v":0,"d":"0.0"}},{"$f":"'법정동(2013)'!AN63-'법정동(2012)'!AN65","v":{"v":0,"d":"0.0"}},{"$f":"'법정동(2013)'!AO63-'법정동(2012)'!AO65","v":{"v":0,"d":"0.0"}},{"$f":"'법정동(2013)'!AP63-'법정동(2012)'!AP65","v":{"v":0,"d":"0.0"}},{"$f":"'법정동(2013)'!AQ63-'법정동(2012)'!AQ65","v":{"v":0,"d":"0.0"}},{"$f":"'법정동(2013)'!AR63-'법정동(2012)'!AR65","v":{"v":0,"d":"0.0"}},{"$f":"'법정동(2013)'!AS63-'법정동(2012)'!AS65","v":{"v":0,"d":"0.0"}},{"$f":"'법정동(2013)'!AT63-'법정동(2012)'!AT65","v":{"v":0,"d":"0.0"}},{"$f":"'법정동(2013)'!AU63-'법정동(2012)'!AU65","v":{"v":0,"d":"0.0"}},{"$f":"'법정동(2013)'!AV63-'법정동(2012)'!AV65","v":{"v":0,"d":"0.0"}},{"$f":"'법정동(2013)'!AW63-'법정동(2012)'!AW65","v":{"v":0,"d":"0.0"}},{"$f":"'법정동(2013)'!AX63-'법정동(2012)'!AX65","v":{"v":0,"d":"0.0"}},{"$f":"'법정동(2013)'!AY63-'법정동(2012)'!AY65","v":{"v":0,"d":"0.0"}},{"$f":"'법정동(2013)'!AZ63-'법정동(2012)'!AZ65","v":{"v":0,"d":"0.0"}},{"$f":"'법정동(2013)'!BA63-'법정동(2012)'!BA65","v":{"v":0,"d":"0.0"}},{"$f":"'법정동(2013)'!BB63-'법정동(2012)'!BB65","v":{"v":0,"d":"0.0"}},{"$f":"'법정동(2013)'!BC63-'법정동(2012)'!BC65","v":{"v":0,"d":"0.0"}},{"$f":"'법정동(2013)'!BD63-'법정동(2012)'!BD65","v":{"v":0,"d":"0.0"}},{"$f":"'법정동(2013)'!BE63-'법정동(2012)'!BE65","v":{"v":0,"d":"0.0"}},{"$f":"'법정동(2013)'!BF63-'법정동(2012)'!BF65","v":{"v":5809,"d":"5,809.0"}},{"$f":"'법정동(2013)'!BG63-'법정동(2012)'!BG65","v":{"v":1,"d":"1.0"}}]
["돌산읍 둔전리",{"$f":"'법정동(2013)'!B64-'법정동(2012)'!B66","v":{"v":0,"d":"0.0"}},{"$f":"'법정동(2013)'!C64-'법정동(2012)'!C66","v":{"v":5,"d":"5.0"}},{"$f":"'법정동(2013)'!D64-'법정동(2012)'!D66","v":{"v":0,"d":"0.0"}},{"$f":"'법정동(2013)'!E64-'법정동(2012)'!E66","v":{"v":1,"d":"1.0"}},{"$f":"'법정동(2013)'!F64-'법정동(2012)'!F66","v":{"v":-2565,"d":"-2,565.0"}},{"$f":"'법정동(2013)'!G64-'법정동(2012)'!G66","v":{"v":-3,"d":"-3.0"}},{"$f":"'법정동(2013)'!H64-'법정동(2012)'!H66","v":{"v":0,"d":"0.0"}},{"$f":"'법정동(2013)'!I64-'법정동(2012)'!I66","v":{"v":0,"d":"0.0"}},{"$f":"'법정동(2013)'!J64-'법정동(2012)'!J66","v":{"v":0,"d":"0.0"}},{"$f":"'법정동(2013)'!K64-'법정동(2012)'!K66","v":{"v":1,"d":"1.0"}},{"$f":"'법정동(2013)'!L64-'법정동(2012)'!L66","v":{"v":0,"d":"0.0"}},{"$f":"'법정동(2013)'!M64-'법정동(2012)'!M66","v":{"v":1,"d":"1.0"}},{"$f":"'법정동(2013)'!N64-'법정동(2012)'!N66","v":{"v":0,"d":"0.0"}},{"$f":"'법정동(2013)'!O64-'법정동(2012)'!O66","v":{"v":0,"d":"0.0"}},{"$f":"'법정동(2013)'!P64-'법정동(2012)'!P66","v":{"v":0,"d":"0.0"}},{"$f":"'법정동(2013)'!Q64-'법정동(2012)'!Q66","v":{"v":0,"d":"0.0"}},{"$f":"'법정동(2013)'!R64-'법정동(2012)'!R66","v":{"v":2319,"d":"2,319.0"}},{"$f":"'법정동(2013)'!S64-'법정동(2012)'!S66","v":{"v":1,"d":"1.0"}},{"$f":"'법정동(2013)'!T64-'법정동(2012)'!T66","v":{"v":0,"d":"0.0"}},{"$f":"'법정동(2013)'!U64-'법정동(2012)'!U66","v":{"v":0,"d":"0.0"}},{"$f":"'법정동(2013)'!V64-'법정동(2012)'!V66","v":{"v":0,"d":"0.0"}},{"$f":"'법정동(2013)'!W64-'법정동(2012)'!W66","v":{"v":0,"d":"0.0"}},{"$f":"'법정동(2013)'!X64-'법정동(2012)'!X66","v":{"v":0,"d":"0.0"}},{"$f":"'법정동(2013)'!Y64-'법정동(2012)'!Y66","v":{"v":0,"d":"0.0"}},{"$f":"'법정동(2013)'!Z64-'법정동(2012)'!Z66","v":{"v":0,"d":"0.0"}},{"$f":"'법정동(2013)'!AA64-'법정동(2012)'!AA66","v":{"v":0,"d":"0.0"}},{"$f":"'법정동(2013)'!AB64-'법정동(2012)'!AB66","v":{"v":69,"d":"69.0"}},{"$f":"'법정동(2013)'!AC64-'법정동(2012)'!AC66","v":{"v":1,"d":"1.0"}},{"$f":"'법정동(2013)'!AD64-'법정동(2012)'!AD66","v":{"v":177,"d":"177.0"}},{"$f":"'법정동(2013)'!AE64-'법정동(2012)'!AE66","v":{"v":3,"d":"3.0"}},{"$f":"'법정동(2013)'!AF64-'법정동(2012)'!AF66","v":{"v":0,"d":"0.0"}},{"$f":"'법정동(2013)'!AG64-'법정동(2012)'!AG66","v":{"v":0,"d":"0.0"}},{"$f":"'법정동(2013)'!AH64-'법정동(2012)'!AH66","v":{"v":0,"d":"0.0"}},{"$f":"'법정동(2013)'!AI64-'법정동(2012)'!AI66","v":{"v":0,"d":"0.0"}},{"$f":"'법정동(2013)'!AJ64-'법정동(2012)'!AJ66","v":{"v":0,"d":"0.0"}},{"$f":"'법정동(2013)'!AK64-'법정동(2012)'!AK66","v":{"v":0,"d":"0.0"}},{"$f":"'법정동(2013)'!AL64-'법정동(2012)'!AL66","v":{"v":0,"d":"0.0"}},{"$f":"'법정동(2013)'!AM64-'법정동(2012)'!AM66","v":{"v":0,"d":"0.0"}},{"$f":"'법정동(2013)'!AN64-'법정동(2012)'!AN66","v":{"v":0,"d":"0.0"}},{"$f":"'법정동(2013)'!AO64-'법정동(2012)'!AO66","v":{"v":0,"d":"0.0"}},{"$f":"'법정동(2013)'!AP64-'법정동(2012)'!AP66","v":{"v":0,"d":"0.0"}},{"$f":"'법정동(2013)'!AQ64-'법정동(2012)'!AQ66","v":{"v":0,"d":"0.0"}},{"$f":"'법정동(2013)'!AR64-'법정동(2012)'!AR66","v":{"v":0,"d":"0.0"}},{"$f":"'법정동(2013)'!AS64-'법정동(2012)'!AS66","v":{"v":0,"d":"0.0"}},{"$f":"'법정동(2013)'!AT64-'법정동(2012)'!AT66","v":{"v":0,"d":"0.0"}},{"$f":"'법정동(2013)'!AU64-'법정동(2012)'!AU66","v":{"v":0,"d":"0.0"}},{"$f":"'법정동(2013)'!AV64-'법정동(2012)'!AV66","v":{"v":0,"d":"0.0"}},{"$f":"'법정동(2013)'!AW64-'법정동(2012)'!AW66","v":{"v":0,"d":"0.0"}},{"$f":"'법정동(2013)'!AX64-'법정동(2012)'!AX66","v":{"v":0,"d":"0.0"}},{"$f":"'법정동(2013)'!AY64-'법정동(2012)'!AY66","v":{"v":0,"d":"0.0"}},{"$f":"'법정동(2013)'!AZ64-'법정동(2012)'!AZ66","v":{"v":0,"d":"0.0"}},{"$f":"'법정동(2013)'!BA64-'법정동(2012)'!BA66","v":{"v":0,"d":"0.0"}},{"$f":"'법정동(2013)'!BB64-'법정동(2012)'!BB66","v":{"v":0,"d":"0.0"}},{"$f":"'법정동(2013)'!BC64-'법정동(2012)'!BC66","v":{"v":0,"d":"0.0"}},{"$f":"'법정동(2013)'!BD64-'법정동(2012)'!BD66","v":{"v":0,"d":"0.0"}},{"$f":"'법정동(2013)'!BE64-'법정동(2012)'!BE66","v":{"v":0,"d":"0.0"}},{"$f":"'법정동(2013)'!BF64-'법정동(2012)'!BF66","v":{"v":0,"d":"0.0"}},{"$f":"'법정동(2013)'!BG64-'법정동(2012)'!BG66","v":{"v":0,"d":"0.0"}}]
["돌산읍 평사리",{"$f":"'법정동(2013)'!B65-'법정동(2012)'!B67","v":{"v":723,"d":"723.0"}},{"$f":"'법정동(2013)'!C65-'법정동(2012)'!C67","v":{"v":-63,"d":"-63.0"}},{"$f":"'법정동(2013)'!D65-'법정동(2012)'!D67","v":{"v":-8324,"d":"-8,324.0"}},{"$f":"'법정동(2013)'!E65-'법정동(2012)'!E67","v":{"v":-10,"d":"-10.0"}},{"$f":"'법정동(2013)'!F65-'법정동(2012)'!F67","v":{"v":-7080,"d":"-7,080.0"}},{"$f":"'법정동(2013)'!G65-'법정동(2012)'!G67","v":{"v":-13,"d":"-13.0"}},{"$f":"'법정동(2013)'!H65-'법정동(2012)'!H67","v":{"v":0,"d":"0.0"}},{"$f":"'법정동(2013)'!I65-'법정동(2012)'!I67","v":{"v":1,"d":"1.0"}},{"$f":"'법정동(2013)'!J65-'법정동(2012)'!J67","v":{"v":0,"d":"0.0"}},{"$f":"'법정동(2013)'!K65-'법정동(2012)'!K67","v":{"v":0,"d":"0.0"}},{"$f":"'법정동(2013)'!L65-'법정동(2012)'!L67","v":{"v":-45606,"d":"-45,606.0"}},{"$f":"'법정동(2013)'!M65-'법정동(2012)'!M67","v":{"v":-46,"d":"-46.0"}},{"$f":"'법정동(2013)'!N65-'법정동(2012)'!N67","v":{"v":0,"d":"0.0"}},{"$f":"'법정동(2013)'!O65-'법정동(2012)'!O67","v":{"v":0,"d":"0.0"}},{"$f":"'법정동(2013)'!P65-'법정동(2012)'!P67","v":{"v":0,"d":"0.0"}},{"$f":"'법정동(2013)'!Q65-'법정동(2012)'!Q67","v":{"v":0,"d":"0.0"}},{"$f":"'법정동(2013)'!R65-'법정동(2012)'!R67","v":{"v":13817,"d":"13,817.0"}},{"$f":"'법정동(2013)'!S65-'법정동(2012)'!S67","v":{"v":1,"d":"1.0"}},{"$f":"'법정동(2013)'!T65-'법정동(2012)'!T67","v":{"v":2476,"d":"2,476.0"}},{"$f":"'법정동(2013)'!U65-'법정동(2012)'!U67","v":{"v":3,"d":"3.0"}},{"$f":"'법정동(2013)'!V65-'법정동(2012)'!V67","v":{"v":0,"d":"0.0"}},{"$f":"'법정동(2013)'!W65-'법정동(2012)'!W67","v":{"v":0,"d":"0.0"}},{"$f":"'법정동(2013)'!X65-'법정동(2012)'!X67","v":{"v":0,"d":"0.0"}},{"$f":"'법정동(2013)'!Y65-'법정동(2012)'!Y67","v":{"v":0,"d":"0.0"}},{"$f":"'법정동(2013)'!Z65-'법정동(2012)'!Z67","v":{"v":424,"d":"424.0"}},{"$f":"'법정동(2013)'!AA65-'법정동(2012)'!AA67","v":{"v":1,"d":"1.0"}},{"$f":"'법정동(2013)'!AB65-'법정동(2012)'!AB67","v":{"v":1289,"d":"1,289.0"}},{"$f":"'법정동(2013)'!AC65-'법정동(2012)'!AC67","v":{"v":2,"d":"2.0"}},{"$f":"'법정동(2013)'!AD65-'법정동(2012)'!AD67","v":{"v":44465,"d":"44,465.0"}},{"$f":"'법정동(2013)'!AE65-'법정동(2012)'!AE67","v":{"v":14,"d":"14.0"}},{"$f":"'법정동(2013)'!AF65-'법정동(2012)'!AF67","v":{"v":0,"d":"0.0"}},{"$f":"'법정동(2013)'!AG65-'법정동(2012)'!AG67","v":{"v":0,"d":"0.0"}},{"$f":"'법정동(2013)'!AH65-'법정동(2012)'!AH67","v":{"v":0,"d":"0.0"}},{"$f":"'법정동(2013)'!AI65-'법정동(2012)'!AI67","v":{"v":0,"d":"0.0"}},{"$f":"'법정동(2013)'!AJ65-'법정동(2012)'!AJ67","v":{"v":0,"d":"0.0"}},{"$f":"'법정동(2013)'!AK65-'법정동(2012)'!AK67","v":{"v":0,"d":"0.0"}},{"$f":"'법정동(2013)'!AL65-'법정동(2012)'!AL67","v":{"v":-40,"d":"-40.0"}},{"$f":"'법정동(2013)'!AM65-'법정동(2012)'!AM67","v":{"v":-1,"d":"-1.0"}},{"$f":"'법정동(2013)'!AN65-'법정동(2012)'!AN67","v":{"v":0,"d":"0.0"}},{"$f":"'법정동(2013)'!AO65-'법정동(2012)'!AO67","v":{"v":0,"d":"0.0"}},{"$f":"'법정동(2013)'!AP65-'법정동(2012)'!AP67","v":{"v":0,"d":"0.0"}},{"$f":"'법정동(2013)'!AQ65-'법정동(2012)'!AQ67","v":{"v":0,"d":"0.0"}},{"$f":"'법정동(2013)'!AR65-'법정동(2012)'!AR67","v":{"v":0,"d":"0.0"}},{"$f":"'법정동(2013)'!AS65-'법정동(2012)'!AS67","v":{"v":0,"d":"0.0"}},{"$f":"'법정동(2013)'!AT65-'법정동(2012)'!AT67","v":{"v":0,"d":"0.0"}},{"$f":"'법정동(2013)'!AU65-'법정동(2012)'!AU67","v":{"v":0,"d":"0.0"}},{"$f":"'법정동(2013)'!AV65-'법정동(2012)'!AV67","v":{"v":0,"d":"0.0"}},{"$f":"'법정동(2013)'!AW65-'법정동(2012)'!AW67","v":{"v":0,"d":"0.0"}},{"$f":"'법정동(2013)'!AX65-'법정동(2012)'!AX67","v":{"v":0,"d":"0.0"}},{"$f":"'법정동(2013)'!AY65-'법정동(2012)'!AY67","v":{"v":0,"d":"0.0"}},{"$f":"'법정동(2013)'!AZ65-'법정동(2012)'!AZ67","v":{"v":0,"d":"0.0"}},{"$f":"'법정동(2013)'!BA65-'법정동(2012)'!BA67","v":{"v":0,"d":"0.0"}},{"$f":"'법정동(2013)'!BB65-'법정동(2012)'!BB67","v":{"v":0,"d":"0.0"}},{"$f":"'법정동(2013)'!BC65-'법정동(2012)'!BC67","v":{"v":0,"d":"0.0"}},{"$f":"'법정동(2013)'!BD65-'법정동(2012)'!BD67","v":{"v":-56,"d":"-56.0"}},{"$f":"'법정동(2013)'!BE65-'법정동(2012)'!BE67","v":{"v":-1,"d":"-1.0"}},{"$f":"'법정동(2013)'!BF65-'법정동(2012)'!BF67","v":{"v":-642,"d":"-642.0"}},{"$f":"'법정동(2013)'!BG65-'법정동(2012)'!BG67","v":{"v":-14,"d":"-14.0"}}]
["돌산읍 우두리",{"$f":"'법정동(2013)'!B66-'법정동(2012)'!B68","v":{"v":-4719,"d":"-4,719.0"}},{"$f":"'법정동(2013)'!C66-'법정동(2012)'!C68","v":{"v":22,"d":"22.0"}},{"$f":"'법정동(2013)'!D66-'법정동(2012)'!D68","v":{"v":-4615,"d":"-4,615.0"}},{"$f":"'법정동(2013)'!E66-'법정동(2012)'!E68","v":{"v":6,"d":"6.0"}},{"$f":"'법정동(2013)'!F66-'법정동(2012)'!F68","v":{"v":-1661,"d":"-1,661.0"}},{"$f":"'법정동(2013)'!G66-'법정동(2012)'!G68","v":{"v":-3,"d":"-3.0"}},{"$f":"'법정동(2013)'!H66-'법정동(2012)'!H68","v":{"v":-1352,"d":"-1,352.0"}},{"$f":"'법정동(2013)'!I66-'법정동(2012)'!I68","v":{"v":-1,"d":"-1.0"}},{"$f":"'법정동(2013)'!J66-'법정동(2012)'!J68","v":{"v":0,"d":"0.0"}},{"$f":"'법정동(2013)'!K66-'법정동(2012)'!K68","v":{"v":0,"d":"0.0"}},{"$f":"'법정동(2013)'!L66-'법정동(2012)'!L68","v":{"v":-4758,"d":"-4,758.0"}},{"$f":"'법정동(2013)'!M66-'법정동(2012)'!M68","v":{"v":5,"d":"5.0"}},{"$f":"'법정동(2013)'!N66-'법정동(2012)'!N68","v":{"v":0,"d":"0.0"}},{"$f":"'법정동(2013)'!O66-'법정동(2012)'!O68","v":{"v":0,"d":"0.0"}},{"$f":"'법정동(2013)'!P66-'법정동(2012)'!P68","v":{"v":0,"d":"0.0"}},{"$f":"'법정동(2013)'!Q66-'법정동(2012)'!Q68","v":{"v":0,"d":"0.0"}},{"$f":"'법정동(2013)'!R66-'법정동(2012)'!R68","v":{"v":5495,"d":"5,495.0"}},{"$f":"'법정동(2013)'!S66-'법정동(2012)'!S68","v":{"v":4,"d":"4.0"}},{"$f":"'법정동(2013)'!T66-'법정동(2012)'!T68","v":{"v":1759,"d":"1,759.0"}},{"$f":"'법정동(2013)'!U66-'법정동(2012)'!U68","v":{"v":6,"d":"6.0"}},{"$f":"'법정동(2013)'!V66-'법정동(2012)'!V68","v":{"v":0,"d":"0.0"}},{"$f":"'법정동(2013)'!W66-'법정동(2012)'!W68","v":{"v":0,"d":"0.0"}},{"$f":"'법정동(2013)'!X66-'법정동(2012)'!X68","v":{"v":0,"d":"0.0"}},{"$f":"'법정동(2013)'!Y66-'법정동(2012)'!Y68","v":{"v":0,"d":"0.0"}},{"$f":"'법정동(2013)'!Z66-'법정동(2012)'!Z68","v":{"v":0,"d":"0.0"}},{"$f":"'법정동(2013)'!AA66-'법정동(2012)'!AA68","v":{"v":0,"d":"0.0"}},{"$f":"'법정동(2013)'!AB66-'법정동(2012)'!AB68","v":{"v":229,"d":"229.0"}},{"$f":"'법정동(2013)'!AC66-'법정동(2012)'!AC68","v":{"v":1,"d":"1.0"}},{"$f":"'법정동(2013)'!AD66-'법정동(2012)'!AD68","v":{"v":1024,"d":"1,024.0"}},{"$f":"'법정동(2013)'!AE66-'법정동(2012)'!AE68","v":{"v":7,"d":"7.0"}},{"$f":"'법정동(2013)'!AF66-'법정동(2012)'!AF68","v":{"v":0,"d":"0.0"}},{"$f":"'법정동(2013)'!AG66-'법정동(2012)'!AG68","v":{"v":0,"d":"0.0"}},{"$f":"'법정동(2013)'!AH66-'법정동(2012)'!AH68","v":{"v":0,"d":"0.0"}},{"$f":"'법정동(2013)'!AI66-'법정동(2012)'!AI68","v":{"v":0,"d":"0.0"}},{"$f":"'법정동(2013)'!AJ66-'법정동(2012)'!AJ68","v":{"v":0,"d":"0.0"}},{"$f":"'법정동(2013)'!AK66-'법정동(2012)'!AK68","v":{"v":0,"d":"0.0"}},{"$f":"'법정동(2013)'!AL66-'법정동(2012)'!AL68","v":{"v":0,"d":"0.0"}},{"$f":"'법정동(2013)'!AM66-'법정동(2012)'!AM68","v":{"v":0,"d":"0.0"}},{"$f":"'법정동(2013)'!AN66-'법정동(2012)'!AN68","v":{"v":0,"d":"0.0"}},{"$f":"'법정동(2013)'!AO66-'법정동(2012)'!AO68","v":{"v":0,"d":"0.0"}},{"$f":"'법정동(2013)'!AP66-'법정동(2012)'!AP68","v":{"v":0,"d":"0.0"}},{"$f":"'법정동(2013)'!AQ66-'법정동(2012)'!AQ68","v":{"v":0,"d":"0.0"}},{"$f":"'법정동(2013)'!AR66-'법정동(2012)'!AR68","v":{"v":0,"d":"0.0"}},{"$f":"'법정동(2013)'!AS66-'법정동(2012)'!AS68","v":{"v":0,"d":"0.0"}},{"$f":"'법정동(2013)'!AT66-'법정동(2012)'!AT68","v":{"v":0,"d":"0.0"}},{"$f":"'법정동(2013)'!AU66-'법정동(2012)'!AU68","v":{"v":0,"d":"0.0"}},{"$f":"'법정동(2013)'!AV66-'법정동(2012)'!AV68","v":{"v":0,"d":"0.0"}},{"$f":"'법정동(2013)'!AW66-'법정동(2012)'!AW68","v":{"v":0,"d":"0.0"}},{"$f":"'법정동(2013)'!AX66-'법정동(2012)'!AX68","v":{"v":0,"d":"0.0"}},{"$f":"'법정동(2013)'!AY66-'법정동(2012)'!AY68","v":{"v":0,"d":"0.0"}},{"$f":"'법정동(2013)'!AZ66-'법정동(2012)'!AZ68","v":{"v":0,"d":"0.0"}},{"$f":"'법정동(2013)'!BA66-'법정동(2012)'!BA68","v":{"v":0,"d":"0.0"}},{"$f":"'법정동(2013)'!BB66-'법정동(2012)'!BB68","v":{"v":0,"d":"0.0"}},{"$f":"'법정동(2013)'!BC66-'법정동(2012)'!BC68","v":{"v":0,"d":"0.0"}},{"$f":"'법정동(2013)'!BD66-'법정동(2012)'!BD68","v":{"v":-229,"d":"-229.0"}},{"$f":"'법정동(2013)'!BE66-'법정동(2012)'!BE68","v":{"v":-1,"d":"-1.0"}},{"$f":"'법정동(2013)'!BF66-'법정동(2012)'!BF68","v":{"v":-611,"d":"-611.0"}},{"$f":"'법정동(2013)'!BG66-'법정동(2012)'!BG68","v":{"v":-2,"d":"-2.0"}}]
["소라면 덕양리",{"$f":"'법정동(2013)'!B67-'법정동(2012)'!B69","v":{"v":2197,"d":"2,197.0"}},{"$f":"'법정동(2013)'!C67-'법정동(2012)'!C69","v":{"v":95,"d":"95.0"}},{"$f":"'법정동(2013)'!D67-'법정동(2012)'!D69","v":{"v":-4552,"d":"-4,552.0"}},{"$f":"'법정동(2013)'!E67-'법정동(2012)'!E69","v":{"v":-2,"d":"-2.0"}},{"$f":"'법정동(2013)'!F67-'법정동(2012)'!F69","v":{"v":-4593,"d":"-4,593.0"}},{"$f":"'법정동(2013)'!G67-'법정동(2012)'!G69","v":{"v":40,"d":"40.0"}},{"$f":"'법정동(2013)'!H67-'법정동(2012)'!H69","v":{"v":0,"d":"0.0"}},{"$f":"'법정동(2013)'!I67-'법정동(2012)'!I69","v":{"v":0,"d":"0.0"}},{"$f":"'법정동(2013)'!J67-'법정동(2012)'!J69","v":{"v":0,"d":"0.0"}},{"$f":"'법정동(2013)'!K67-'법정동(2012)'!K69","v":{"v":0,"d":"0.0"}},{"$f":"'법정동(2013)'!L67-'법정동(2012)'!L69","v":{"v":1036,"d":"1,036.0"}},{"$f":"'법정동(2013)'!M67-'법정동(2012)'!M69","v":{"v":11,"d":"11.0"}},{"$f":"'법정동(2013)'!N67-'법정동(2012)'!N69","v":{"v":0,"d":"0.0"}},{"$f":"'법정동(2013)'!O67-'법정동(2012)'!O69","v":{"v":0,"d":"0.0"}},{"$f":"'법정동(2013)'!P67-'법정동(2012)'!P69","v":{"v":0,"d":"0.0"}},{"$f":"'법정동(2013)'!Q67-'법정동(2012)'!Q69","v":{"v":0,"d":"0.0"}},{"$f":"'법정동(2013)'!R67-'법정동(2012)'!R69","v":{"v":5993,"d":"5,993.0"}},{"$f":"'법정동(2013)'!S67-'법정동(2012)'!S69","v":{"v":12,"d":"12.0"}},{"$f":"'법정동(2013)'!T67-'법정동(2012)'!T69","v":{"v":0,"d":"0.0"}},{"$f":"'법정동(2013)'!U67-'법정동(2012)'!U69","v":{"v":0,"d":"0.0"}},{"$f":"'법정동(2013)'!V67-'법정동(2012)'!V69","v":{"v":0,"d":"0.0"}},{"$f":"'법정동(2013)'!W67-'법정동(2012)'!W69","v":{"v":0,"d":"0.0"}},{"$f":"'법정동(2013)'!X67-'법정동(2012)'!X69","v":{"v":0,"d":"0.0"}},{"$f":"'법정동(2013)'!Y67-'법정동(2012)'!Y69","v":{"v":0,"d":"0.0"}},{"$f":"'법정동(2013)'!Z67-'법정동(2012)'!Z69","v":{"v":286,"d":"286.0"}},{"$f":"'법정동(2013)'!AA67-'법정동(2012)'!AA69","v":{"v":1,"d":"1.0"}},{"$f":"'법정동(2013)'!AB67-'법정동(2012)'!AB69","v":{"v":1472,"d":"1,472.0"}},{"$f":"'법정동(2013)'!AC67-'법정동(2012)'!AC69","v":{"v":1,"d":"1.0"}},{"$f":"'법정동(2013)'!AD67-'법정동(2012)'!AD69","v":{"v":809,"d":"809.0"}},{"$f":"'법정동(2013)'!AE67-'법정동(2012)'!AE69","v":{"v":17,"d":"17.0"}},{"$f":"'법정동(2013)'!AF67-'법정동(2012)'!AF69","v":{"v":0,"d":"0.0"}},{"$f":"'법정동(2013)'!AG67-'법정동(2012)'!AG69","v":{"v":0,"d":"0.0"}},{"$f":"'법정동(2013)'!AH67-'법정동(2012)'!AH69","v":{"v":0,"d":"0.0"}},{"$f":"'법정동(2013)'!AI67-'법정동(2012)'!AI69","v":{"v":0,"d":"0.0"}},{"$f":"'법정동(2013)'!AJ67-'법정동(2012)'!AJ69","v":{"v":0,"d":"0.0"}},{"$f":"'법정동(2013)'!AK67-'법정동(2012)'!AK69","v":{"v":0,"d":"0.0"}},{"$f":"'법정동(2013)'!AL67-'법정동(2012)'!AL69","v":{"v":-640,"d":"-640.0"}},{"$f":"'법정동(2013)'!AM67-'법정동(2012)'!AM69","v":{"v":13,"d":"13.0"}},{"$f":"'법정동(2013)'!AN67-'법정동(2012)'!AN69","v":{"v":0,"d":"0.0"}},{"$f":"'법정동(2013)'!AO67-'법정동(2012)'!AO69","v":{"v":0,"d":"0.0"}},{"$f":"'법정동(2013)'!AP67-'법정동(2012)'!AP69","v":{"v":0,"d":"0.0"}},{"$f":"'법정동(2013)'!AQ67-'법정동(2012)'!AQ69","v":{"v":0,"d":"0.0"}},{"$f":"'법정동(2013)'!AR67-'법정동(2012)'!AR69","v":{"v":0,"d":"0.0"}},{"$f":"'법정동(2013)'!AS67-'법정동(2012)'!AS69","v":{"v":0,"d":"0.0"}},{"$f":"'법정동(2013)'!AT67-'법정동(2012)'!AT69","v":{"v":0,"d":"0.0"}},{"$f":"'법정동(2013)'!AU67-'법정동(2012)'!AU69","v":{"v":0,"d":"0.0"}},{"$f":"'법정동(2013)'!AV67-'법정동(2012)'!AV69","v":{"v":0,"d":"0.0"}},{"$f":"'법정동(2013)'!AW67-'법정동(2012)'!AW69","v":{"v":0,"d":"0.0"}},{"$f":"'법정동(2013)'!AX67-'법정동(2012)'!AX69","v":{"v":0,"d":"0.0"}},{"$f":"'법정동(2013)'!AY67-'법정동(2012)'!AY69","v":{"v":0,"d":"0.0"}},{"$f":"'법정동(2013)'!AZ67-'법정동(2012)'!AZ69","v":{"v":0,"d":"0.0"}},{"$f":"'법정동(2013)'!BA67-'법정동(2012)'!BA69","v":{"v":0,"d":"0.0"}},{"$f":"'법정동(2013)'!BB67-'법정동(2012)'!BB69","v":{"v":0,"d":"0.0"}},{"$f":"'법정동(2013)'!BC67-'법정동(2012)'!BC69","v":{"v":0,"d":"0.0"}},{"$f":"'법정동(2013)'!BD67-'법정동(2012)'!BD69","v":{"v":0,"d":"0.0"}},{"$f":"'법정동(2013)'!BE67-'법정동(2012)'!BE69","v":{"v":0,"d":"0.0"}},{"$f":"'법정동(2013)'!BF67-'법정동(2012)'!BF69","v":{"v":2386,"d":"2,386.0"}},{"$f":"'법정동(2013)'!BG67-'법정동(2012)'!BG69","v":{"v":2,"d":"2.0"}}]
["소라면 죽림리",{"$f":"'법정동(2013)'!B68-'법정동(2012)'!B70","v":{"v":-143,"d":"-143.0"}},{"$f":"'법정동(2013)'!C68-'법정동(2012)'!C70","v":{"v":89,"d":"89.0"}},{"$f":"'법정동(2013)'!D68-'법정동(2012)'!D70","v":{"v":559,"d":"559.0"}},{"$f":"'법정동(2013)'!E68-'법정동(2012)'!E70","v":{"v":15,"d":"15.0"}},{"$f":"'법정동(2013)'!F68-'법정동(2012)'!F70","v":{"v":-2276,"d":"-2,276.0"}},{"$f":"'법정동(2013)'!G68-'법정동(2012)'!G70","v":{"v":10,"d":"10.0"}},{"$f":"'법정동(2013)'!H68-'법정동(2012)'!H70","v":{"v":0,"d":"0.0"}},{"$f":"'법정동(2013)'!I68-'법정동(2012)'!I70","v":{"v":0,"d":"0.0"}},{"$f":"'법정동(2013)'!J68-'법정동(2012)'!J70","v":{"v":0,"d":"0.0"}},{"$f":"'법정동(2013)'!K68-'법정동(2012)'!K70","v":{"v":0,"d":"0.0"}},{"$f":"'법정동(2013)'!L68-'법정동(2012)'!L70","v":{"v":-143,"d":"-143.0"}},{"$f":"'법정동(2013)'!M68-'법정동(2012)'!M70","v":{"v":60,"d":"60.0"}},{"$f":"'법정동(2013)'!N68-'법정동(2012)'!N70","v":{"v":0,"d":"0.0"}},{"$f":"'법정동(2013)'!O68-'법정동(2012)'!O70","v":{"v":0,"d":"0.0"}},{"$f":"'법정동(2013)'!P68-'법정동(2012)'!P70","v":{"v":0,"d":"0.0"}},{"$f":"'법정동(2013)'!Q68-'법정동(2012)'!Q70","v":{"v":0,"d":"0.0"}},{"$f":"'법정동(2013)'!R68-'법정동(2012)'!R70","v":{"v":1550,"d":"1,550.0"}},{"$f":"'법정동(2013)'!S68-'법정동(2012)'!S70","v":{"v":1,"d":"1.0"}},{"$f":"'법정동(2013)'!T68-'법정동(2012)'!T70","v":{"v":0,"d":"0.0"}},{"$f":"'법정동(2013)'!U68-'법정동(2012)'!U70","v":{"v":0,"d":"0.0"}},{"$f":"'법정동(2013)'!V68-'법정동(2012)'!V70","v":{"v":0,"d":"0.0"}},{"$f":"'법정동(2013)'!W68-'법정동(2012)'!W70","v":{"v":0,"d":"0.0"}},{"$f":"'법정동(2013)'!X68-'법정동(2012)'!X70","v":{"v":0,"d":"0.0"}},{"$f":"'법정동(2013)'!Y68-'법정동(2012)'!Y70","v":{"v":0,"d":"0.0"}},{"$f":"'법정동(2013)'!Z68-'법정동(2012)'!Z70","v":{"v":0,"d":"0.0"}},{"$f":"'법정동(2013)'!AA68-'법정동(2012)'!AA70","v":{"v":0,"d":"0.0"}},{"$f":"'법정동(2013)'!AB68-'법정동(2012)'!AB70","v":{"v":0,"d":"0.0"}},{"$f":"'법정동(2013)'!AC68-'법정동(2012)'!AC70","v":{"v":0,"d":"0.0"}},{"$f":"'법정동(2013)'!AD68-'법정동(2012)'!AD70","v":{"v":0,"d":"0.0"}},{"$f":"'법정동(2013)'!AE68-'법정동(2012)'!AE70","v":{"v":0,"d":"0.0"}},{"$f":"'법정동(2013)'!AF68-'법정동(2012)'!AF70","v":{"v":0,"d":"0.0"}},{"$f":"'법정동(2013)'!AG68-'법정동(2012)'!AG70","v":{"v":0,"d":"0.0"}},{"$f":"'법정동(2013)'!AH68-'법정동(2012)'!AH70","v":{"v":0,"d":"0.0"}},{"$f":"'법정동(2013)'!AI68-'법정동(2012)'!AI70","v":{"v":0,"d":"0.0"}},{"$f":"'법정동(2013)'!AJ68-'법정동(2012)'!AJ70","v":{"v":0,"d":"0.0"}},{"$f":"'법정동(2013)'!AK68-'법정동(2012)'!AK70","v":{"v":0,"d":"0.0"}},{"$f":"'법정동(2013)'!AL68-'법정동(2012)'!AL70","v":{"v":0,"d":"0.0"}},{"$f":"'법정동(2013)'!AM68-'법정동(2012)'!AM70","v":{"v":0,"d":"0.0"}},{"$f":"'법정동(2013)'!AN68-'법정동(2012)'!AN70","v":{"v":0,"d":"0.0"}},{"$f":"'법정동(2013)'!AO68-'법정동(2012)'!AO70","v":{"v":2,"d":"2.0"}},{"$f":"'법정동(2013)'!AP68-'법정동(2012)'!AP70","v":{"v":0,"d":"0.0"}},{"$f":"'법정동(2013)'!AQ68-'법정동(2012)'!AQ70","v":{"v":0,"d":"0.0"}},{"$f":"'법정동(2013)'!AR68-'법정동(2012)'!AR70","v":{"v":0,"d":"0.0"}},{"$f":"'법정동(2013)'!AS68-'법정동(2012)'!AS70","v":{"v":0,"d":"0.0"}},{"$f":"'법정동(2013)'!AT68-'법정동(2012)'!AT70","v":{"v":0,"d":"0.0"}},{"$f":"'법정동(2013)'!AU68-'법정동(2012)'!AU70","v":{"v":0,"d":"0.0"}},{"$f":"'법정동(2013)'!AV68-'법정동(2012)'!AV70","v":{"v":0,"d":"0.0"}},{"$f":"'법정동(2013)'!AW68-'법정동(2012)'!AW70","v":{"v":0,"d":"0.0"}},{"$f":"'법정동(2013)'!AX68-'법정동(2012)'!AX70","v":{"v":0,"d":"0.0"}},{"$f":"'법정동(2013)'!AY68-'법정동(2012)'!AY70","v":{"v":0,"d":"0.0"}},{"$f":"'법정동(2013)'!AZ68-'법정동(2012)'!AZ70","v":{"v":0,"d":"0.0"}},{"$f":"'법정동(2013)'!BA68-'법정동(2012)'!BA70","v":{"v":0,"d":"0.0"}},{"$f":"'법정동(2013)'!BB68-'법정동(2012)'!BB70","v":{"v":0,"d":"0.0"}},{"$f":"'법정동(2013)'!BC68-'법정동(2012)'!BC70","v":{"v":0,"d":"0.0"}},{"$f":"'법정동(2013)'!BD68-'법정동(2012)'!BD70","v":{"v":0,"d":"0.0"}},{"$f":"'법정동(2013)'!BE68-'법정동(2012)'!BE70","v":{"v":0,"d":"0.0"}},{"$f":"'법정동(2013)'!BF68-'법정동(2012)'!BF70","v":{"v":167,"d":"167.0"}},{"$f":"'법정동(2013)'!BG68-'법정동(2012)'!BG70","v":{"v":1,"d":"1.0"}}]
["소라면 관기리",{"$f":"'법정동(2013)'!B69-'법정동(2012)'!B71","v":{"v":0,"d":"0.0"}},{"$f":"'법정동(2013)'!C69-'법정동(2012)'!C71","v":{"v":10,"d":"10.0"}},{"$f":"'법정동(2013)'!D69-'법정동(2012)'!D71","v":{"v":-207,"d":"-207.0"}},{"$f":"'법정동(2013)'!E69-'법정동(2012)'!E71","v":{"v":1,"d":"1.0"}},{"$f":"'법정동(2013)'!F69-'법정동(2012)'!F71","v":{"v":-5065,"d":"-5,065.0"}},{"$f":"'법정동(2013)'!G69-'법정동(2012)'!G71","v":{"v":9,"d":"9.0"}},{"$f":"'법정동(2013)'!H69-'법정동(2012)'!H71","v":{"v":0,"d":"0.0"}},{"$f":"'법정동(2013)'!I69-'법정동(2012)'!I71","v":{"v":0,"d":"0.0"}},{"$f":"'법정동(2013)'!J69-'법정동(2012)'!J71","v":{"v":0,"d":"0.0"}},{"$f":"'법정동(2013)'!K69-'법정동(2012)'!K71","v":{"v":0,"d":"0.0"}},{"$f":"'법정동(2013)'!L69-'법정동(2012)'!L71","v":{"v":-3401,"d":"-3,401.0"}},{"$f":"'법정동(2013)'!M69-'법정동(2012)'!M71","v":{"v":-10,"d":"-10.0"}},{"$f":"'법정동(2013)'!N69-'법정동(2012)'!N71","v":{"v":0,"d":"0.0"}},{"$f":"'법정동(2013)'!O69-'법정동(2012)'!O71","v":{"v":0,"d":"0.0"}},{"$f":"'법정동(2013)'!P69-'법정동(2012)'!P71","v":{"v":0,"d":"0.0"}},{"$f":"'법정동(2013)'!Q69-'법정동(2012)'!Q71","v":{"v":0,"d":"0.0"}},{"$f":"'법정동(2013)'!R69-'법정동(2012)'!R71","v":{"v":5536,"d":"5,536.0"}},{"$f":"'법정동(2013)'!S69-'법정동(2012)'!S71","v":{"v":7,"d":"7.0"}},{"$f":"'법정동(2013)'!T69-'법정동(2012)'!T71","v":{"v":0,"d":"0.0"}},{"$f":"'법정동(2013)'!U69-'법정동(2012)'!U71","v":{"v":0,"d":"0.0"}},{"$f":"'법정동(2013)'!V69-'법정동(2012)'!V71","v":{"v":0,"d":"0.0"}},{"$f":"'법정동(2013)'!W69-'법정동(2012)'!W71","v":{"v":0,"d":"0.0"}},{"$f":"'법정동(2013)'!X69-'법정동(2012)'!X71","v":{"v":3451,"d":"3,451.0"}},{"$f":"'법정동(2013)'!Y69-'법정동(2012)'!Y71","v":{"v":3,"d":"3.0"}},{"$f":"'법정동(2013)'!Z69-'법정동(2012)'!Z71","v":{"v":0,"d":"0.0"}},{"$f":"'법정동(2013)'!AA69-'법정동(2012)'!AA71","v":{"v":0,"d":"0.0"}},{"$f":"'법정동(2013)'!AB69-'법정동(2012)'!AB71","v":{"v":0,"d":"0.0"}},{"$f":"'법정동(2013)'!AC69-'법정동(2012)'!AC71","v":{"v":0,"d":"0.0"}},{"$f":"'법정동(2013)'!AD69-'법정동(2012)'!AD71","v":{"v":200,"d":"200.0"}},{"$f":"'법정동(2013)'!AE69-'법정동(2012)'!AE71","v":{"v":1,"d":"1.0"}},{"$f":"'법정동(2013)'!AF69-'법정동(2012)'!AF71","v":{"v":0,"d":"0.0"}},{"$f":"'법정동(2013)'!AG69-'법정동(2012)'!AG71","v":{"v":0,"d":"0.0"}},{"$f":"'법정동(2013)'!AH69-'법정동(2012)'!AH71","v":{"v":0,"d":"0.0"}},{"$f":"'법정동(2013)'!AI69-'법정동(2012)'!AI71","v":{"v":0,"d":"0.0"}},{"$f":"'법정동(2013)'!AJ69-'법정동(2012)'!AJ71","v":{"v":0,"d":"0.0"}},{"$f":"'법정동(2013)'!AK69-'법정동(2012)'!AK71","v":{"v":0,"d":"0.0"}},{"$f":"'법정동(2013)'!AL69-'법정동(2012)'!AL71","v":{"v":0,"d":"0.0"}},{"$f":"'법정동(2013)'!AM69-'법정동(2012)'!AM71","v":{"v":0,"d":"0.0"}},{"$f":"'법정동(2013)'!AN69-'법정동(2012)'!AN71","v":{"v":0,"d":"0.0"}},{"$f":"'법정동(2013)'!AO69-'법정동(2012)'!AO71","v":{"v":0,"d":"0.0"}},{"$f":"'법정동(2013)'!AP69-'법정동(2012)'!AP71","v":{"v":0,"d":"0.0"}},{"$f":"'법정동(2013)'!AQ69-'법정동(2012)'!AQ71","v":{"v":0,"d":"0.0"}},{"$f":"'법정동(2013)'!AR69-'법정동(2012)'!AR71","v":{"v":0,"d":"0.0"}},{"$f":"'법정동(2013)'!AS69-'법정동(2012)'!AS71","v":{"v":0,"d":"0.0"}},{"$f":"'법정동(2013)'!AT69-'법정동(2012)'!AT71","v":{"v":0,"d":"0.0"}},{"$f":"'법정동(2013)'!AU69-'법정동(2012)'!AU71","v":{"v":0,"d":"0.0"}},{"$f":"'법정동(2013)'!AV69-'법정동(2012)'!AV71","v":{"v":0,"d":"0.0"}},{"$f":"'법정동(2013)'!AW69-'법정동(2012)'!AW71","v":{"v":0,"d":"0.0"}},{"$f":"'법정동(2013)'!AX69-'법정동(2012)'!AX71","v":{"v":0,"d":"0.0"}},{"$f":"'법정동(2013)'!AY69-'법정동(2012)'!AY71","v":{"v":0,"d":"0.0"}},{"$f":"'법정동(2013)'!AZ69-'법정동(2012)'!AZ71","v":{"v":0,"d":"0.0"}},{"$f":"'법정동(2013)'!BA69-'법정동(2012)'!BA71","v":{"v":0,"d":"0.0"}},{"$f":"'법정동(2013)'!BB69-'법정동(2012)'!BB71","v":{"v":0,"d":"0.0"}},{"$f":"'법정동(2013)'!BC69-'법정동(2012)'!BC71","v":{"v":0,"d":"0.0"}},{"$f":"'법정동(2013)'!BD69-'법정동(2012)'!BD71","v":{"v":0,"d":"0.0"}},{"$f":"'법정동(2013)'!BE69-'법정동(2012)'!BE71","v":{"v":0,"d":"0.0"}},{"$f":"'법정동(2013)'!BF69-'법정동(2012)'!BF71","v":{"v":-514,"d":"-514.0"}},{"$f":"'법정동(2013)'!BG69-'법정동(2012)'!BG71","v":{"v":-1,"d":"-1.0"}}]
["소라면 현천리",{"$f":"'법정동(2013)'!B70-'법정동(2012)'!B72","v":{"v":0,"d":"0.0"}},{"$f":"'법정동(2013)'!C70-'법정동(2012)'!C72","v":{"v":32,"d":"32.0"}},{"$f":"'법정동(2013)'!D70-'법정동(2012)'!D72","v":{"v":1162,"d":"1,162.0"}},{"$f":"'법정동(2013)'!E70-'법정동(2012)'!E72","v":{"v":6,"d":"6.0"}},{"$f":"'법정동(2013)'!F70-'법정동(2012)'!F72","v":{"v":-6086,"d":"-6,086.0"}},{"$f":"'법정동(2013)'!G70-'법정동(2012)'!G72","v":{"v":-3,"d":"-3.0"}},{"$f":"'법정동(2013)'!H70-'법정동(2012)'!H72","v":{"v":0,"d":"0.0"}},{"$f":"'법정동(2013)'!I70-'법정동(2012)'!I72","v":{"v":0,"d":"0.0"}},{"$f":"'법정동(2013)'!J70-'법정동(2012)'!J72","v":{"v":0,"d":"0.0"}},{"$f":"'법정동(2013)'!K70-'법정동(2012)'!K72","v":{"v":0,"d":"0.0"}},{"$f":"'법정동(2013)'!L70-'법정동(2012)'!L72","v":{"v":-7832,"d":"-7,832.0"}},{"$f":"'법정동(2013)'!M70-'법정동(2012)'!M72","v":{"v":0,"d":"0.0"}},{"$f":"'법정동(2013)'!N70-'법정동(2012)'!N72","v":{"v":0,"d":"0.0"}},{"$f":"'법정동(2013)'!O70-'법정동(2012)'!O72","v":{"v":0,"d":"0.0"}},{"$f":"'법정동(2013)'!P70-'법정동(2012)'!P72","v":{"v":0,"d":"0.0"}},{"$f":"'법정동(2013)'!Q70-'법정동(2012)'!Q72","v":{"v":0,"d":"0.0"}},{"$f":"'법정동(2013)'!R70-'법정동(2012)'!R72","v":{"v":11106,"d":"11,106.0"}},{"$f":"'법정동(2013)'!S70-'법정동(2012)'!S72","v":{"v":1,"d":"1.0"}},{"$f":"'법정동(2013)'!T70-'법정동(2012)'!T72","v":{"v":0,"d":"0.0"}},{"$f":"'법정동(2013)'!U70-'법정동(2012)'!U72","v":{"v":0,"d":"0.0"}},{"$f":"'법정동(2013)'!V70-'법정동(2012)'!V72","v":{"v":0,"d":"0.0"}},{"$f":"'법정동(2013)'!W70-'법정동(2012)'!W72","v":{"v":0,"d":"0.0"}},{"$f":"'법정동(2013)'!X70-'법정동(2012)'!X72","v":{"v":0,"d":"0.0"}},{"$f":"'법정동(2013)'!Y70-'법정동(2012)'!Y72","v":{"v":0,"d":"0.0"}},{"$f":"'법정동(2013)'!Z70-'법정동(2012)'!Z72","v":{"v":0,"d":"0.0"}},{"$f":"'법정동(2013)'!AA70-'법정동(2012)'!AA72","v":{"v":0,"d":"0.0"}},{"$f":"'법정동(2013)'!AB70-'법정동(2012)'!AB72","v":{"v":482,"d":"482.0"}},{"$f":"'법정동(2013)'!AC70-'법정동(2012)'!AC72","v":{"v":1,"d":"1.0"}},{"$f":"'법정동(2013)'!AD70-'법정동(2012)'!AD72","v":{"v":1354,"d":"1,354.0"}},{"$f":"'법정동(2013)'!AE70-'법정동(2012)'!AE72","v":{"v":25,"d":"25.0"}},{"$f":"'법정동(2013)'!AF70-'법정동(2012)'!AF72","v":{"v":0,"d":"0.0"}},{"$f":"'법정동(2013)'!AG70-'법정동(2012)'!AG72","v":{"v":0,"d":"0.0"}},{"$f":"'법정동(2013)'!AH70-'법정동(2012)'!AH72","v":{"v":0,"d":"0.0"}},{"$f":"'법정동(2013)'!AI70-'법정동(2012)'!AI72","v":{"v":0,"d":"0.0"}},{"$f":"'법정동(2013)'!AJ70-'법정동(2012)'!AJ72","v":{"v":0,"d":"0.0"}},{"$f":"'법정동(2013)'!AK70-'법정동(2012)'!AK72","v":{"v":0,"d":"0.0"}},{"$f":"'법정동(2013)'!AL70-'법정동(2012)'!AL72","v":{"v":0,"d":"0.0"}},{"$f":"'법정동(2013)'!AM70-'법정동(2012)'!AM72","v":{"v":0,"d":"0.0"}},{"$f":"'법정동(2013)'!AN70-'법정동(2012)'!AN72","v":{"v":0,"d":"0.0"}},{"$f":"'법정동(2013)'!AO70-'법정동(2012)'!AO72","v":{"v":0,"d":"0.0"}},{"$f":"'법정동(2013)'!AP70-'법정동(2012)'!AP72","v":{"v":0,"d":"0.0"}},{"$f":"'법정동(2013)'!AQ70-'법정동(2012)'!AQ72","v":{"v":0,"d":"0.0"}},{"$f":"'법정동(2013)'!AR70-'법정동(2012)'!AR72","v":{"v":0,"d":"0.0"}},{"$f":"'법정동(2013)'!AS70-'법정동(2012)'!AS72","v":{"v":0,"d":"0.0"}},{"$f":"'법정동(2013)'!AT70-'법정동(2012)'!AT72","v":{"v":0,"d":"0.0"}},{"$f":"'법정동(2013)'!AU70-'법정동(2012)'!AU72","v":{"v":0,"d":"0.0"}},{"$f":"'법정동(2013)'!AV70-'법정동(2012)'!AV72","v":{"v":0,"d":"0.0"}},{"$f":"'법정동(2013)'!AW70-'법정동(2012)'!AW72","v":{"v":0,"d":"0.0"}},{"$f":"'법정동(2013)'!AX70-'법정동(2012)'!AX72","v":{"v":0,"d":"0.0"}},{"$f":"'법정동(2013)'!AY70-'법정동(2012)'!AY72","v":{"v":0,"d":"0.0"}},{"$f":"'법정동(2013)'!AZ70-'법정동(2012)'!AZ72","v":{"v":-1424,"d":"-1,424.0"}},{"$f":"'법정동(2013)'!BA70-'법정동(2012)'!BA72","v":{"v":0,"d":"0.0"}},{"$f":"'법정동(2013)'!BB70-'법정동(2012)'!BB72","v":{"v":0,"d":"0.0"}},{"$f":"'법정동(2013)'!BC70-'법정동(2012)'!BC72","v":{"v":0,"d":"0.0"}},{"$f":"'법정동(2013)'!BD70-'법정동(2012)'!BD72","v":{"v":0,"d":"0.0"}},{"$f":"'법정동(2013)'!BE70-'법정동(2012)'!BE72","v":{"v":0,"d":"0.0"}},{"$f":"'법정동(2013)'!BF70-'법정동(2012)'!BF72","v":{"v":1238,"d":"1,238.0"}},{"$f":"'법정동(2013)'!BG70-'법정동(2012)'!BG72","v":{"v":2,"d":"2.0"}}]
["소라면 복산리",{"$f":"'법정동(2013)'!B71-'법정동(2012)'!B73","v":{"v":65750,"d":"65,750.0"}},{"$f":"'법정동(2013)'!C71-'법정동(2012)'!C73","v":{"v":59,"d":"59.0"}},{"$f":"'법정동(2013)'!D71-'법정동(2012)'!D73","v":{"v":1305,"d":"1,305.0"}},{"$f":"'법정동(2013)'!E71-'법정동(2012)'!E73","v":{"v":-6,"d":"-6.0"}},{"$f":"'법정동(2013)'!F71-'법정동(2012)'!F73","v":{"v":-10656,"d":"-10,656.0"}},{"$f":"'법정동(2013)'!G71-'법정동(2012)'!G73","v":{"v":-5,"d":"-5.0"}},{"$f":"'법정동(2013)'!H71-'법정동(2012)'!H73","v":{"v":0,"d":"0.0"}},{"$f":"'법정동(2013)'!I71-'법정동(2012)'!I73","v":{"v":0,"d":"0.0"}},{"$f":"'법정동(2013)'!J71-'법정동(2012)'!J73","v":{"v":2254,"d":"2,254.0"}},{"$f":"'법정동(2013)'!K71-'법정동(2012)'!K73","v":{"v":3,"d":"3.0"}},{"$f":"'법정동(2013)'!L71-'법정동(2012)'!L73","v":{"v":-7104,"d":"-7,104.0"}},{"$f":"'법정동(2013)'!M71-'법정동(2012)'!M73","v":{"v":8,"d":"8.0"}},{"$f":"'법정동(2013)'!N71-'법정동(2012)'!N73","v":{"v":0,"d":"0.0"}},{"$f":"'법정동(2013)'!O71-'법정동(2012)'!O73","v":{"v":0,"d":"0.0"}},{"$f":"'법정동(2013)'!P71-'법정동(2012)'!P73","v":{"v":0,"d":"0.0"}},{"$f":"'법정동(2013)'!Q71-'법정동(2012)'!Q73","v":{"v":0,"d":"0.0"}},{"$f":"'법정동(2013)'!R71-'법정동(2012)'!R73","v":{"v":13204,"d":"13,204.0"}},{"$f":"'법정동(2013)'!S71-'법정동(2012)'!S73","v":{"v":11,"d":"11.0"}},{"$f":"'법정동(2013)'!T71-'법정동(2012)'!T73","v":{"v":0,"d":"0.0"}},{"$f":"'법정동(2013)'!U71-'법정동(2012)'!U73","v":{"v":0,"d":"0.0"}},{"$f":"'법정동(2013)'!V71-'법정동(2012)'!V73","v":{"v":0,"d":"0.0"}},{"$f":"'법정동(2013)'!W71-'법정동(2012)'!W73","v":{"v":0,"d":"0.0"}},{"$f":"'법정동(2013)'!X71-'법정동(2012)'!X73","v":{"v":-514,"d":"-514.0"}},{"$f":"'법정동(2013)'!Y71-'법정동(2012)'!Y73","v":{"v":1,"d":"1.0"}},{"$f":"'법정동(2013)'!Z71-'법정동(2012)'!Z73","v":{"v":-95,"d":"-95.0"}},{"$f":"'법정동(2013)'!AA71-'법정동(2012)'!AA73","v":{"v":0,"d":"0.0"}},{"$f":"'법정동(2013)'!AB71-'법정동(2012)'!AB73","v":{"v":964,"d":"964.0"}},{"$f":"'법정동(2013)'!AC71-'법정동(2012)'!AC73","v":{"v":1,"d":"1.0"}},{"$f":"'법정동(2013)'!AD71-'법정동(2012)'!AD73","v":{"v":66209,"d":"66,209.0"}},{"$f":"'법정동(2013)'!AE71-'법정동(2012)'!AE73","v":{"v":45,"d":"45.0"}},{"$f":"'법정동(2013)'!AF71-'법정동(2012)'!AF73","v":{"v":0,"d":"0.0"}},{"$f":"'법정동(2013)'!AG71-'법정동(2012)'!AG73","v":{"v":0,"d":"0.0"}},{"$f":"'법정동(2013)'!AH71-'법정동(2012)'!AH73","v":{"v":0,"d":"0.0"}},{"$f":"'법정동(2013)'!AI71-'법정동(2012)'!AI73","v":{"v":0,"d":"0.0"}},{"$f":"'법정동(2013)'!AJ71-'법정동(2012)'!AJ73","v":{"v":0,"d":"0.0"}},{"$f":"'법정동(2013)'!AK71-'법정동(2012)'!AK73","v":{"v":0,"d":"0.0"}},{"$f":"'법정동(2013)'!AL71-'법정동(2012)'!AL73","v":{"v":183,"d":"183.0"}},{"$f":"'법정동(2013)'!AM71-'법정동(2012)'!AM73","v":{"v":1,"d":"1.0"}},{"$f":"'법정동(2013)'!AN71-'법정동(2012)'!AN73","v":{"v":0,"d":"0.0"}},{"$f":"'법정동(2013)'!AO71-'법정동(2012)'!AO73","v":{"v":0,"d":"0.0"}},{"$f":"'법정동(2013)'!AP71-'법정동(2012)'!AP73","v":{"v":0,"d":"0.0"}},{"$f":"'법정동(2013)'!AQ71-'법정동(2012)'!AQ73","v":{"v":0,"d":"0.0"}},{"$f":"'법정동(2013)'!AR71-'법정동(2012)'!AR73","v":{"v":0,"d":"0.0"}},{"$f":"'법정동(2013)'!AS71-'법정동(2012)'!AS73","v":{"v":0,"d":"0.0"}},{"$f":"'법정동(2013)'!AT71-'법정동(2012)'!AT73","v":{"v":0,"d":"0.0"}},{"$f":"'법정동(2013)'!AU71-'법정동(2012)'!AU73","v":{"v":0,"d":"0.0"}},{"$f":"'법정동(2013)'!AV71-'법정동(2012)'!AV73","v":{"v":0,"d":"0.0"}},{"$f":"'법정동(2013)'!AW71-'법정동(2012)'!AW73","v":{"v":0,"d":"0.0"}},{"$f":"'법정동(2013)'!AX71-'법정동(2012)'!AX73","v":{"v":0,"d":"0.0"}},{"$f":"'법정동(2013)'!AY71-'법정동(2012)'!AY73","v":{"v":0,"d":"0.0"}},{"$f":"'법정동(2013)'!AZ71-'법정동(2012)'!AZ73","v":{"v":0,"d":"0.0"}},{"$f":"'법정동(2013)'!BA71-'법정동(2012)'!BA73","v":{"v":0,"d":"0.0"}},{"$f":"'법정동(2013)'!BB71-'법정동(2012)'!BB73","v":{"v":0,"d":"0.0"}},{"$f":"'법정동(2013)'!BC71-'법정동(2012)'!BC73","v":{"v":0,"d":"0.0"}},{"$f":"'법정동(2013)'!BD71-'법정동(2012)'!BD73","v":{"v":0,"d":"0.0"}},{"$f":"'법정동(2013)'!BE71-'법정동(2012)'!BE73","v":{"v":0,"d":"0.0"}},{"$f":"'법정동(2013)'!BF71-'법정동(2012)'!BF73","v":{"v":0,"d":"0.0"}},{"$f":"'법정동(2013)'!BG71-'법정동(2012)'!BG73","v":{"v":0,"d":"0.0"}}]
["소라면 사곡리",{"$f":"'법정동(2013)'!B72-'법정동(2012)'!B74","v":{"v":18535,"d":"18,535.0"}},{"$f":"'법정동(2013)'!C72-'법정동(2012)'!C74","v":{"v":28,"d":"28.0"}},{"$f":"'법정동(2013)'!D72-'법정동(2012)'!D74","v":{"v":-2314,"d":"-2,314.0"}},{"$f":"'법정동(2013)'!E72-'법정동(2012)'!E74","v":{"v":-1,"d":"-1.0"}},{"$f":"'법정동(2013)'!F72-'법정동(2012)'!F74","v":{"v":171,"d":"171.0"}},{"$f":"'법정동(2013)'!G72-'법정동(2012)'!G74","v":{"v":2,"d":"2.0"}},{"$f":"'법정동(2013)'!H72-'법정동(2012)'!H74","v":{"v":0,"d":"0.0"}},{"$f":"'법정동(2013)'!I72-'법정동(2012)'!I74","v":{"v":0,"d":"0.0"}},{"$f":"'법정동(2013)'!J72-'법정동(2012)'!J74","v":{"v":0,"d":"0.0"}},{"$f":"'법정동(2013)'!K72-'법정동(2012)'!K74","v":{"v":0,"d":"0.0"}},{"$f":"'법정동(2013)'!L72-'법정동(2012)'!L74","v":{"v":-3740,"d":"-3,740.0"}},{"$f":"'법정동(2013)'!M72-'법정동(2012)'!M74","v":{"v":-2,"d":"-2.0"}},{"$f":"'법정동(2013)'!N72-'법정동(2012)'!N74","v":{"v":0,"d":"0.0"}},{"$f":"'법정동(2013)'!O72-'법정동(2012)'!O74","v":{"v":0,"d":"0.0"}},{"$f":"'법정동(2013)'!P72-'법정동(2012)'!P74","v":{"v":0,"d":"0.0"}},{"$f":"'법정동(2013)'!Q72-'법정동(2012)'!Q74","v":{"v":0,"d":"0.0"}},{"$f":"'법정동(2013)'!R72-'법정동(2012)'!R74","v":{"v":7112,"d":"7,112.0"}},{"$f":"'법정동(2013)'!S72-'법정동(2012)'!S74","v":{"v":12,"d":"12.0"}},{"$f":"'법정동(2013)'!T72-'법정동(2012)'!T74","v":{"v":0,"d":"0.0"}},{"$f":"'법정동(2013)'!U72-'법정동(2012)'!U74","v":{"v":0,"d":"0.0"}},{"$f":"'법정동(2013)'!V72-'법정동(2012)'!V74","v":{"v":0,"d":"0.0"}},{"$f":"'법정동(2013)'!W72-'법정동(2012)'!W74","v":{"v":0,"d":"0.0"}},{"$f":"'법정동(2013)'!X72-'법정동(2012)'!X74","v":{"v":0,"d":"0.0"}},{"$f":"'법정동(2013)'!Y72-'법정동(2012)'!Y74","v":{"v":0,"d":"0.0"}},{"$f":"'법정동(2013)'!Z72-'법정동(2012)'!Z74","v":{"v":-991,"d":"-991.0"}},{"$f":"'법정동(2013)'!AA72-'법정동(2012)'!AA74","v":{"v":-1,"d":"-1.0"}},{"$f":"'법정동(2013)'!AB72-'법정동(2012)'!AB74","v":{"v":0,"d":"0.0"}},{"$f":"'법정동(2013)'!AC72-'법정동(2012)'!AC74","v":{"v":0,"d":"0.0"}},{"$f":"'법정동(2013)'!AD72-'법정동(2012)'!AD74","v":{"v":18117,"d":"18,117.0"}},{"$f":"'법정동(2013)'!AE72-'법정동(2012)'!AE74","v":{"v":17,"d":"17.0"}},{"$f":"'법정동(2013)'!AF72-'법정동(2012)'!AF74","v":{"v":0,"d":"0.0"}},{"$f":"'법정동(2013)'!AG72-'법정동(2012)'!AG74","v":{"v":0,"d":"0.0"}},{"$f":"'법정동(2013)'!AH72-'법정동(2012)'!AH74","v":{"v":0,"d":"0.0"}},{"$f":"'법정동(2013)'!AI72-'법정동(2012)'!AI74","v":{"v":0,"d":"0.0"}},{"$f":"'법정동(2013)'!AJ72-'법정동(2012)'!AJ74","v":{"v":0,"d":"0.0"}},{"$f":"'법정동(2013)'!AK72-'법정동(2012)'!AK74","v":{"v":0,"d":"0.0"}},{"$f":"'법정동(2013)'!AL72-'법정동(2012)'!AL74","v":{"v":0,"d":"0.0"}},{"$f":"'법정동(2013)'!AM72-'법정동(2012)'!AM74","v":{"v":0,"d":"0.0"}},{"$f":"'법정동(2013)'!AN72-'법정동(2012)'!AN74","v":{"v":0,"d":"0.0"}},{"$f":"'법정동(2013)'!AO72-'법정동(2012)'!AO74","v":{"v":0,"d":"0.0"}},{"$f":"'법정동(2013)'!AP72-'법정동(2012)'!AP74","v":{"v":0,"d":"0.0"}},{"$f":"'법정동(2013)'!AQ72-'법정동(2012)'!AQ74","v":{"v":0,"d":"0.0"}},{"$f":"'법정동(2013)'!AR72-'법정동(2012)'!AR74","v":{"v":0,"d":"0.0"}},{"$f":"'법정동(2013)'!AS72-'법정동(2012)'!AS74","v":{"v":0,"d":"0.0"}},{"$f":"'법정동(2013)'!AT72-'법정동(2012)'!AT74","v":{"v":0,"d":"0.0"}},{"$f":"'법정동(2013)'!AU72-'법정동(2012)'!AU74","v":{"v":0,"d":"0.0"}},{"$f":"'법정동(2013)'!AV72-'법정동(2012)'!AV74","v":{"v":0,"d":"0.0"}},{"$f":"'법정동(2013)'!AW72-'법정동(2012)'!AW74","v":{"v":0,"d":"0.0"}},{"$f":"'법정동(2013)'!AX72-'법정동(2012)'!AX74","v":{"v":0,"d":"0.0"}},{"$f":"'법정동(2013)'!AY72-'법정동(2012)'!AY74","v":{"v":0,"d":"0.0"}},{"$f":"'법정동(2013)'!AZ72-'법정동(2012)'!AZ74","v":{"v":0,"d":"0.0"}},{"$f":"'법정동(2013)'!BA72-'법정동(2012)'!BA74","v":{"v":0,"d":"0.0"}},{"$f":"'법정동(2013)'!BB72-'법정동(2012)'!BB74","v":{"v":0,"d":"0.0"}},{"$f":"'법정동(2013)'!BC72-'법정동(2012)'!BC74","v":{"v":0,"d":"0.0"}},{"$f":"'법정동(2013)'!BD72-'법정동(2012)'!BD74","v":{"v":0,"d":"0.0"}},{"$f":"'법정동(2013)'!BE72-'법정동(2012)'!BE74","v":{"v":0,"d":"0.0"}},{"$f":"'법정동(2013)'!BF72-'법정동(2012)'!BF74","v":{"v":180,"d":"180.0"}},{"$f":"'법정동(2013)'!BG72-'법정동(2012)'!BG74","v":{"v":1,"d":"1.0"}}]
["소라면 봉두리",{"$f":"'법정동(2013)'!B73-'법정동(2012)'!B75","v":{"v":0,"d":"0.0"}},{"$f":"'법정동(2013)'!C73-'법정동(2012)'!C75","v":{"v":9,"d":"9.0"}},{"$f":"'법정동(2013)'!D73-'법정동(2012)'!D75","v":{"v":-3603,"d":"-3,603.0"}},{"$f":"'법정동(2013)'!E73-'법정동(2012)'!E75","v":{"v":-6,"d":"-6.0"}},{"$f":"'법정동(2013)'!F73-'법정동(2012)'!F75","v":{"v":-6946,"d":"-6,946.0"}},{"$f":"'법정동(2013)'!G73-'법정동(2012)'!G75","v":{"v":0,"d":"0.0"}},{"$f":"'법정동(2013)'!H73-'법정동(2012)'!H75","v":{"v":0,"d":"0.0"}},{"$f":"'법정동(2013)'!I73-'법정동(2012)'!I75","v":{"v":0,"d":"0.0"}},{"$f":"'법정동(2013)'!J73-'법정동(2012)'!J75","v":{"v":0,"d":"0.0"}},{"$f":"'법정동(2013)'!K73-'법정동(2012)'!K75","v":{"v":0,"d":"0.0"}},{"$f":"'법정동(2013)'!L73-'법정동(2012)'!L75","v":{"v":-263,"d":"-263.0"}},{"$f":"'법정동(2013)'!M73-'법정동(2012)'!M75","v":{"v":2,"d":"2.0"}},{"$f":"'법정동(2013)'!N73-'법정동(2012)'!N75","v":{"v":0,"d":"0.0"}},{"$f":"'법정동(2013)'!O73-'법정동(2012)'!O75","v":{"v":0,"d":"0.0"}},{"$f":"'법정동(2013)'!P73-'법정동(2012)'!P75","v":{"v":0,"d":"0.0"}},{"$f":"'법정동(2013)'!Q73-'법정동(2012)'!Q75","v":{"v":0,"d":"0.0"}},{"$f":"'법정동(2013)'!R73-'법정동(2012)'!R75","v":{"v":1201,"d":"1,201.0"}},{"$f":"'법정동(2013)'!S73-'법정동(2012)'!S75","v":{"v":3,"d":"3.0"}},{"$f":"'법정동(2013)'!T73-'법정동(2012)'!T75","v":{"v":3043,"d":"3,043.0"}},{"$f":"'법정동(2013)'!U73-'법정동(2012)'!U75","v":{"v":1,"d":"1.0"}},{"$f":"'법정동(2013)'!V73-'법정동(2012)'!V75","v":{"v":0,"d":"0.0"}},{"$f":"'법정동(2013)'!W73-'법정동(2012)'!W75","v":{"v":0,"d":"0.0"}},{"$f":"'법정동(2013)'!X73-'법정동(2012)'!X75","v":{"v":461,"d":"461.0"}},{"$f":"'법정동(2013)'!Y73-'법정동(2012)'!Y75","v":{"v":1,"d":"1.0"}},{"$f":"'법정동(2013)'!Z73-'법정동(2012)'!Z75","v":{"v":0,"d":"0.0"}},{"$f":"'법정동(2013)'!AA73-'법정동(2012)'!AA75","v":{"v":0,"d":"0.0"}},{"$f":"'법정동(2013)'!AB73-'법정동(2012)'!AB75","v":{"v":0,"d":"0.0"}},{"$f":"'법정동(2013)'!AC73-'법정동(2012)'!AC75","v":{"v":0,"d":"0.0"}},{"$f":"'법정동(2013)'!AD73-'법정동(2012)'!AD75","v":{"v":1136,"d":"1,136.0"}},{"$f":"'법정동(2013)'!AE73-'법정동(2012)'!AE75","v":{"v":7,"d":"7.0"}},{"$f":"'법정동(2013)'!AF73-'법정동(2012)'!AF75","v":{"v":0,"d":"0.0"}},{"$f":"'법정동(2013)'!AG73-'법정동(2012)'!AG75","v":{"v":0,"d":"0.0"}},{"$f":"'법정동(2013)'!AH73-'법정동(2012)'!AH75","v":{"v":0,"d":"0.0"}},{"$f":"'법정동(2013)'!AI73-'법정동(2012)'!AI75","v":{"v":0,"d":"0.0"}},{"$f":"'법정동(2013)'!AJ73-'법정동(2012)'!AJ75","v":{"v":0,"d":"0.0"}},{"$f":"'법정동(2013)'!AK73-'법정동(2012)'!AK75","v":{"v":0,"d":"0.0"}},{"$f":"'법정동(2013)'!AL73-'법정동(2012)'!AL75","v":{"v":0,"d":"0.0"}},{"$f":"'법정동(2013)'!AM73-'법정동(2012)'!AM75","v":{"v":0,"d":"0.0"}},{"$f":"'법정동(2013)'!AN73-'법정동(2012)'!AN75","v":{"v":-204,"d":"-204.0"}},{"$f":"'법정동(2013)'!AO73-'법정동(2012)'!AO75","v":{"v":-1,"d":"-1.0"}},{"$f":"'법정동(2013)'!AP73-'법정동(2012)'!AP75","v":{"v":0,"d":"0.0"}},{"$f":"'법정동(2013)'!AQ73-'법정동(2012)'!AQ75","v":{"v":0,"d":"0.0"}},{"$f":"'법정동(2013)'!AR73-'법정동(2012)'!AR75","v":{"v":0,"d":"0.0"}},{"$f":"'법정동(2013)'!AS73-'법정동(2012)'!AS75","v":{"v":0,"d":"0.0"}},{"$f":"'법정동(2013)'!AT73-'법정동(2012)'!AT75","v":{"v":0,"d":"0.0"}},{"$f":"'법정동(2013)'!AU73-'법정동(2012)'!AU75","v":{"v":0,"d":"0.0"}},{"$f":"'법정동(2013)'!AV73-'법정동(2012)'!AV75","v":{"v":0,"d":"0.0"}},{"$f":"'법정동(2013)'!AW73-'법정동(2012)'!AW75","v":{"v":0,"d":"0.0"}},{"$f":"'법정동(2013)'!AX73-'법정동(2012)'!AX75","v":{"v":0,"d":"0.0"}},{"$f":"'법정동(2013)'!AY73-'법정동(2012)'!AY75","v":{"v":0,"d":"0.0"}},{"$f":"'법정동(2013)'!AZ73-'법정동(2012)'!AZ75","v":{"v":1108,"d":"1,108.0"}},{"$f":"'법정동(2013)'!BA73-'법정동(2012)'!BA75","v":{"v":2,"d":"2.0"}},{"$f":"'법정동(2013)'!BB73-'법정동(2012)'!BB75","v":{"v":0,"d":"0.0"}},{"$f":"'법정동(2013)'!BC73-'법정동(2012)'!BC75","v":{"v":0,"d":"0.0"}},{"$f":"'법정동(2013)'!BD73-'법정동(2012)'!BD75","v":{"v":0,"d":"0.0"}},{"$f":"'법정동(2013)'!BE73-'법정동(2012)'!BE75","v":{"v":0,"d":"0.0"}},{"$f":"'법정동(2013)'!BF73-'법정동(2012)'!BF75","v":{"v":4067,"d":"4,067.0"}},{"$f":"'법정동(2013)'!BG73-'법정동(2012)'!BG75","v":{"v":0,"d":"0.0"}}]
["소라면 대포리",{"$f":"'법정동(2013)'!B74-'법정동(2012)'!B76","v":{"v":-1556.9999999981374,"d":"-1,557.0"}},{"$f":"'법정동(2013)'!C74-'법정동(2012)'!C76","v":{"v":64,"d":"64.0"}},{"$f":"'법정동(2013)'!D74-'법정동(2012)'!D76","v":{"v":-8918,"d":"-8,918.0"}},{"$f":"'법정동(2013)'!E74-'법정동(2012)'!E76","v":{"v":0,"d":"0.0"}},{"$f":"'법정동(2013)'!F74-'법정동(2012)'!F76","v":{"v":-8033,"d":"-8,033.0"}},{"$f":"'법정동(2013)'!G74-'법정동(2012)'!G76","v":{"v":24,"d":"24.0"}},{"$f":"'법정동(2013)'!H74-'법정동(2012)'!H76","v":{"v":0,"d":"0.0"}},{"$f":"'법정동(2013)'!I74-'법정동(2012)'!I76","v":{"v":0,"d":"0.0"}},{"$f":"'법정동(2013)'!J74-'법정동(2012)'!J76","v":{"v":0,"d":"0.0"}},{"$f":"'법정동(2013)'!K74-'법정동(2012)'!K76","v":{"v":0,"d":"0.0"}},{"$f":"'법정동(2013)'!L74-'법정동(2012)'!L76","v":{"v":-4590,"d":"-4,590.0"}},{"$f":"'법정동(2013)'!M74-'법정동(2012)'!M76","v":{"v":0,"d":"0.0"}},{"$f":"'법정동(2013)'!N74-'법정동(2012)'!N76","v":{"v":0,"d":"0.0"}},{"$f":"'법정동(2013)'!O74-'법정동(2012)'!O76","v":{"v":0,"d":"0.0"}},{"$f":"'법정동(2013)'!P74-'법정동(2012)'!P76","v":{"v":0,"d":"0.0"}},{"$f":"'법정동(2013)'!Q74-'법정동(2012)'!Q76","v":{"v":0,"d":"0.0"}},{"$f":"'법정동(2013)'!R74-'법정동(2012)'!R76","v":{"v":229,"d":"229.0"}},{"$f":"'법정동(2013)'!S74-'법정동(2012)'!S76","v":{"v":-1,"d":"-1.0"}},{"$f":"'법정동(2013)'!T74-'법정동(2012)'!T76","v":{"v":7383,"d":"7,383.0"}},{"$f":"'법정동(2013)'!U74-'법정동(2012)'!U76","v":{"v":8,"d":"8.0"}},{"$f":"'법정동(2013)'!V74-'법정동(2012)'!V76","v":{"v":0,"d":"0.0"}},{"$f":"'법정동(2013)'!W74-'법정동(2012)'!W76","v":{"v":0,"d":"0.0"}},{"$f":"'법정동(2013)'!X74-'법정동(2012)'!X76","v":{"v":97,"d":"97.0"}},{"$f":"'법정동(2013)'!Y74-'법정동(2012)'!Y76","v":{"v":1,"d":"1.0"}},{"$f":"'법정동(2013)'!Z74-'법정동(2012)'!Z76","v":{"v":0,"d":"0.0"}},{"$f":"'법정동(2013)'!AA74-'법정동(2012)'!AA76","v":{"v":0,"d":"0.0"}},{"$f":"'법정동(2013)'!AB74-'법정동(2012)'!AB76","v":{"v":5521,"d":"5,521.0"}},{"$f":"'법정동(2013)'!AC74-'법정동(2012)'!AC76","v":{"v":6,"d":"6.0"}},{"$f":"'법정동(2013)'!AD74-'법정동(2012)'!AD76","v":{"v":421,"d":"421.0"}},{"$f":"'법정동(2013)'!AE74-'법정동(2012)'!AE76","v":{"v":14,"d":"14.0"}},{"$f":"'법정동(2013)'!AF74-'법정동(2012)'!AF76","v":{"v":83,"d":"83.0"}},{"$f":"'법정동(2013)'!AG74-'법정동(2012)'!AG76","v":{"v":1,"d":"1.0"}},{"$f":"'법정동(2013)'!AH74-'법정동(2012)'!AH76","v":{"v":0,"d":"0.0"}},{"$f":"'법정동(2013)'!AI74-'법정동(2012)'!AI76","v":{"v":2,"d":"2.0"}},{"$f":"'법정동(2013)'!AJ74-'법정동(2012)'!AJ76","v":{"v":0,"d":"0.0"}},{"$f":"'법정동(2013)'!AK74-'법정동(2012)'!AK76","v":{"v":0,"d":"0.0"}},{"$f":"'법정동(2013)'!AL74-'법정동(2012)'!AL76","v":{"v":0,"d":"0.0"}},{"$f":"'법정동(2013)'!AM74-'법정동(2012)'!AM76","v":{"v":6,"d":"6.0"}},{"$f":"'법정동(2013)'!AN74-'법정동(2012)'!AN76","v":{"v":0,"d":"0.0"}},{"$f":"'법정동(2013)'!AO74-'법정동(2012)'!AO76","v":{"v":0,"d":"0.0"}},{"$f":"'법정동(2013)'!AP74-'법정동(2012)'!AP76","v":{"v":0,"d":"0.0"}},{"$f":"'법정동(2013)'!AQ74-'법정동(2012)'!AQ76","v":{"v":0,"d":"0.0"}},{"$f":"'법정동(2013)'!AR74-'법정동(2012)'!AR76","v":{"v":0,"d":"0.0"}},{"$f":"'법정동(2013)'!AS74-'법정동(2012)'!AS76","v":{"v":0,"d":"0.0"}},{"$f":"'법정동(2013)'!AT74-'법정동(2012)'!AT76","v":{"v":0,"d":"0.0"}},{"$f":"'법정동(2013)'!AU74-'법정동(2012)'!AU76","v":{"v":0,"d":"0.0"}},{"$f":"'법정동(2013)'!AV74-'법정동(2012)'!AV76","v":{"v":0,"d":"0.0"}},{"$f":"'법정동(2013)'!AW74-'법정동(2012)'!AW76","v":{"v":0,"d":"0.0"}},{"$f":"'법정동(2013)'!AX74-'법정동(2012)'!AX76","v":{"v":0,"d":"0.0"}},{"$f":"'법정동(2013)'!AY74-'법정동(2012)'!AY76","v":{"v":0,"d":"0.0"}},{"$f":"'법정동(2013)'!AZ74-'법정동(2012)'!AZ76","v":{"v":0,"d":"0.0"}},{"$f":"'법정동(2013)'!BA74-'법정동(2012)'!BA76","v":{"v":0,"d":"0.0"}},{"$f":"'법정동(2013)'!BB74-'법정동(2012)'!BB76","v":{"v":0,"d":"0.0"}},{"$f":"'법정동(2013)'!BC74-'법정동(2012)'!BC76","v":{"v":0,"d":"0.0"}},{"$f":"'법정동(2013)'!BD74-'법정동(2012)'!BD76","v":{"v":0,"d":"0.0"}},{"$f":"'법정동(2013)'!BE74-'법정동(2012)'!BE76","v":{"v":0,"d":"0.0"}},{"$f":"'법정동(2013)'!BF74-'법정동(2012)'!BF76","v":{"v":6250,"d":"6,250.0"}},{"$f":"'법정동(2013)'!BG74-'법정동(2012)'!BG76","v":{"v":3,"d":"3.0"}}]
["율촌면 조화리",{"$f":"'법정동(2013)'!B75-'법정동(2012)'!B77","v":{"v":246142.90000000037,"d":"246,142.9"}},{"$f":"'법정동(2013)'!C75-'법정동(2012)'!C77","v":{"v":-35,"d":"-35.0"}},{"$f":"'법정동(2013)'!D75-'법정동(2012)'!D77","v":{"v":-6601,"d":"-6,601.0"}},{"$f":"'법정동(2013)'!E75-'법정동(2012)'!E77","v":{"v":-11,"d":"-11.0"}},{"$f":"'법정동(2013)'!F75-'법정동(2012)'!F77","v":{"v":-56054,"d":"-56,054.0"}},{"$f":"'법정동(2013)'!G75-'법정동(2012)'!G77","v":{"v":-80,"d":"-80.0"}},{"$f":"'법정동(2013)'!H75-'법정동(2012)'!H77","v":{"v":0,"d":"0.0"}},{"$f":"'법정동(2013)'!I75-'법정동(2012)'!I77","v":{"v":0,"d":"0.0"}},{"$f":"'법정동(2013)'!J75-'법정동(2012)'!J77","v":{"v":0,"d":"0.0"}},{"$f":"'법정동(2013)'!K75-'법정동(2012)'!K77","v":{"v":0,"d":"0.0"}},{"$f":"'법정동(2013)'!L75-'법정동(2012)'!L77","v":{"v":-18435,"d":"-18,435.0"}},{"$f":"'법정동(2013)'!M75-'법정동(2012)'!M77","v":{"v":-7,"d":"-7.0"}},{"$f":"'법정동(2013)'!N75-'법정동(2012)'!N77","v":{"v":0,"d":"0.0"}},{"$f":"'법정동(2013)'!O75-'법정동(2012)'!O77","v":{"v":0,"d":"0.0"}},{"$f":"'법정동(2013)'!P75-'법정동(2012)'!P77","v":{"v":0,"d":"0.0"}},{"$f":"'법정동(2013)'!Q75-'법정동(2012)'!Q77","v":{"v":0,"d":"0.0"}},{"$f":"'법정동(2013)'!R75-'법정동(2012)'!R77","v":{"v":-161,"d":"-161.0"}},{"$f":"'법정동(2013)'!S75-'법정동(2012)'!S77","v":{"v":-3,"d":"-3.0"}},{"$f":"'법정동(2013)'!T75-'법정동(2012)'!T77","v":{"v":70796.5,"d":"70,796.5"}},{"$f":"'법정동(2013)'!U75-'법정동(2012)'!U77","v":{"v":2,"d":"2.0"}},{"$f":"'법정동(2013)'!V75-'법정동(2012)'!V77","v":{"v":-2,"d":"-2.0"}},{"$f":"'법정동(2013)'!W75-'법정동(2012)'!W77","v":{"v":-1,"d":"-1.0"}},{"$f":"'법정동(2013)'!X75-'법정동(2012)'!X77","v":{"v":18207.8,"d":"18,207.8"}},{"$f":"'법정동(2013)'!Y75-'법정동(2012)'!Y77","v":{"v":1,"d":"1.0"}},{"$f":"'법정동(2013)'!Z75-'법정동(2012)'!Z77","v":{"v":0,"d":"0.0"}},{"$f":"'법정동(2013)'!AA75-'법정동(2012)'!AA77","v":{"v":0,"d":"0.0"}},{"$f":"'법정동(2013)'!AB75-'법정동(2012)'!AB77","v":{"v":-69,"d":"-69.0"}},{"$f":"'법정동(2013)'!AC75-'법정동(2012)'!AC77","v":{"v":0,"d":"0.0"}},{"$f":"'법정동(2013)'!AD75-'법정동(2012)'!AD77","v":{"v":146860,"d":"146,860.0"}},{"$f":"'법정동(2013)'!AE75-'법정동(2012)'!AE77","v":{"v":58,"d":"58.0"}},{"$f":"'법정동(2013)'!AF75-'법정동(2012)'!AF77","v":{"v":0,"d":"0.0"}},{"$f":"'법정동(2013)'!AG75-'법정동(2012)'!AG77","v":{"v":0,"d":"0.0"}},{"$f":"'법정동(2013)'!AH75-'법정동(2012)'!AH77","v":{"v":0,"d":"0.0"}},{"$f":"'법정동(2013)'!AI75-'법정동(2012)'!AI77","v":{"v":0,"d":"0.0"}},{"$f":"'법정동(2013)'!AJ75-'법정동(2012)'!AJ77","v":{"v":0,"d":"0.0"}},{"$f":"'법정동(2013)'!AK75-'법정동(2012)'!AK77","v":{"v":0,"d":"0.0"}},{"$f":"'법정동(2013)'!AL75-'법정동(2012)'!AL77","v":{"v":-162,"d":"-162.0"}},{"$f":"'법정동(2013)'!AM75-'법정동(2012)'!AM77","v":{"v":8,"d":"8.0"}},{"$f":"'법정동(2013)'!AN75-'법정동(2012)'!AN77","v":{"v":0,"d":"0.0"}},{"$f":"'법정동(2013)'!AO75-'법정동(2012)'!AO77","v":{"v":0,"d":"0.0"}},{"$f":"'법정동(2013)'!AP75-'법정동(2012)'!AP77","v":{"v":0,"d":"0.0"}},{"$f":"'법정동(2013)'!AQ75-'법정동(2012)'!AQ77","v":{"v":0,"d":"0.0"}},{"$f":"'법정동(2013)'!AR75-'법정동(2012)'!AR77","v":{"v":-259,"d":"-259.0"}},{"$f":"'법정동(2013)'!AS75-'법정동(2012)'!AS77","v":{"v":0,"d":"0.0"}},{"$f":"'법정동(2013)'!AT75-'법정동(2012)'!AT77","v":{"v":95242.6,"d":"95,242.6"}},{"$f":"'법정동(2013)'!AU75-'법정동(2012)'!AU77","v":{"v":8,"d":"8.0"}},{"$f":"'법정동(2013)'!AV75-'법정동(2012)'!AV77","v":{"v":0,"d":"0.0"}},{"$f":"'법정동(2013)'!AW75-'법정동(2012)'!AW77","v":{"v":0,"d":"0.0"}},{"$f":"'법정동(2013)'!AX75-'법정동(2012)'!AX77","v":{"v":0,"d":"0.0"}},{"$f":"'법정동(2013)'!AY75-'법정동(2012)'!AY77","v":{"v":0,"d":"0.0"}},{"$f":"'법정동(2013)'!AZ75-'법정동(2012)'!AZ77","v":{"v":0,"d":"0.0"}},{"$f":"'법정동(2013)'!BA75-'법정동(2012)'!BA77","v":{"v":0,"d":"0.0"}},{"$f":"'법정동(2013)'!BB75-'법정동(2012)'!BB77","v":{"v":0,"d":"0.0"}},{"$f":"'법정동(2013)'!BC75-'법정동(2012)'!BC77","v":{"v":0,"d":"0.0"}},{"$f":"'법정동(2013)'!BD75-'법정동(2012)'!BD77","v":{"v":-61,"d":"-61.0"}},{"$f":"'법정동(2013)'!BE75-'법정동(2012)'!BE77","v":{"v":-1,"d":"-1.0"}},{"$f":"'법정동(2013)'!BF75-'법정동(2012)'!BF77","v":{"v":-3160,"d":"-3,160.0"}},{"$f":"'법정동(2013)'!BG75-'법정동(2012)'!BG77","v":{"v":-9,"d":"-9.0"}}]
["율촌면 월산리",{"$f":"'법정동(2013)'!B76-'법정동(2012)'!B78","v":{"v":-149,"d":"-149.0"}},{"$f":"'법정동(2013)'!C76-'법정동(2012)'!C78","v":{"v":-18,"d":"-18.0"}},{"$f":"'법정동(2013)'!D76-'법정동(2012)'!D78","v":{"v":-17618,"d":"-17,618.0"}},{"$f":"'법정동(2013)'!E76-'법정동(2012)'!E78","v":{"v":-19,"d":"-19.0"}},{"$f":"'법정동(2013)'!F76-'법정동(2012)'!F78","v":{"v":-66101,"d":"-66,101.0"}},{"$f":"'법정동(2013)'!G76-'법정동(2012)'!G78","v":{"v":-76,"d":"-76.0"}},{"$f":"'법정동(2013)'!H76-'법정동(2012)'!H78","v":{"v":0,"d":"0.0"}},{"$f":"'법정동(2013)'!I76-'법정동(2012)'!I78","v":{"v":3,"d":"3.0"}},{"$f":"'법정동(2013)'!J76-'법정동(2012)'!J78","v":{"v":0,"d":"0.0"}},{"$f":"'법정동(2013)'!K76-'법정동(2012)'!K78","v":{"v":0,"d":"0.0"}},{"$f":"'법정동(2013)'!L76-'법정동(2012)'!L78","v":{"v":-16703,"d":"-16,703.0"}},{"$f":"'법정동(2013)'!M76-'법정동(2012)'!M78","v":{"v":8,"d":"8.0"}},{"$f":"'법정동(2013)'!N76-'법정동(2012)'!N78","v":{"v":0,"d":"0.0"}},{"$f":"'법정동(2013)'!O76-'법정동(2012)'!O78","v":{"v":0,"d":"0.0"}},{"$f":"'법정동(2013)'!P76-'법정동(2012)'!P78","v":{"v":0,"d":"0.0"}},{"$f":"'법정동(2013)'!Q76-'법정동(2012)'!Q78","v":{"v":0,"d":"0.0"}},{"$f":"'법정동(2013)'!R76-'법정동(2012)'!R78","v":{"v":982,"d":"982.0"}},{"$f":"'법정동(2013)'!S76-'법정동(2012)'!S78","v":{"v":4,"d":"4.0"}},{"$f":"'법정동(2013)'!T76-'법정동(2012)'!T78","v":{"v":0,"d":"0.0"}},{"$f":"'법정동(2013)'!U76-'법정동(2012)'!U78","v":{"v":0,"d":"0.0"}},{"$f":"'법정동(2013)'!V76-'법정동(2012)'!V78","v":{"v":0,"d":"0.0"}},{"$f":"'법정동(2013)'!W76-'법정동(2012)'!W78","v":{"v":0,"d":"0.0"}},{"$f":"'법정동(2013)'!X76-'법정동(2012)'!X78","v":{"v":5720,"d":"5,720.0"}},{"$f":"'법정동(2013)'!Y76-'법정동(2012)'!Y78","v":{"v":7,"d":"7.0"}},{"$f":"'법정동(2013)'!Z76-'법정동(2012)'!Z78","v":{"v":0,"d":"0.0"}},{"$f":"'법정동(2013)'!AA76-'법정동(2012)'!AA78","v":{"v":0,"d":"0.0"}},{"$f":"'법정동(2013)'!AB76-'법정동(2012)'!AB78","v":{"v":1070,"d":"1,070.0"}},{"$f":"'법정동(2013)'!AC76-'법정동(2012)'!AC78","v":{"v":0,"d":"0.0"}},{"$f":"'법정동(2013)'!AD76-'법정동(2012)'!AD78","v":{"v":92832,"d":"92,832.0"}},{"$f":"'법정동(2013)'!AE76-'법정동(2012)'!AE78","v":{"v":55,"d":"55.0"}},{"$f":"'법정동(2013)'!AF76-'법정동(2012)'!AF78","v":{"v":0,"d":"0.0"}},{"$f":"'법정동(2013)'!AG76-'법정동(2012)'!AG78","v":{"v":0,"d":"0.0"}},{"$f":"'법정동(2013)'!AH76-'법정동(2012)'!AH78","v":{"v":0,"d":"0.0"}},{"$f":"'법정동(2013)'!AI76-'법정동(2012)'!AI78","v":{"v":0,"d":"0.0"}},{"$f":"'법정동(2013)'!AJ76-'법정동(2012)'!AJ78","v":{"v":0,"d":"0.0"}},{"$f":"'법정동(2013)'!AK76-'법정동(2012)'!AK78","v":{"v":0,"d":"0.0"}},{"$f":"'법정동(2013)'!AL76-'법정동(2012)'!AL78","v":{"v":-2102,"d":"-2,102.0"}},{"$f":"'법정동(2013)'!AM76-'법정동(2012)'!AM78","v":{"v":-8,"d":"-8.0"}},{"$f":"'법정동(2013)'!AN76-'법정동(2012)'!AN78","v":{"v":0,"d":"0.0"}},{"$f":"'법정동(2013)'!AO76-'법정동(2012)'!AO78","v":{"v":0,"d":"0.0"}},{"$f":"'법정동(2013)'!AP76-'법정동(2012)'!AP78","v":{"v":0,"d":"0.0"}},{"$f":"'법정동(2013)'!AQ76-'법정동(2012)'!AQ78","v":{"v":0,"d":"0.0"}},{"$f":"'법정동(2013)'!AR76-'법정동(2012)'!AR78","v":{"v":0,"d":"0.0"}},{"$f":"'법정동(2013)'!AS76-'법정동(2012)'!AS78","v":{"v":0,"d":"0.0"}},{"$f":"'법정동(2013)'!AT76-'법정동(2012)'!AT78","v":{"v":0,"d":"0.0"}},{"$f":"'법정동(2013)'!AU76-'법정동(2012)'!AU78","v":{"v":0,"d":"0.0"}},{"$f":"'법정동(2013)'!AV76-'법정동(2012)'!AV78","v":{"v":0,"d":"0.0"}},{"$f":"'법정동(2013)'!AW76-'법정동(2012)'!AW78","v":{"v":0,"d":"0.0"}},{"$f":"'법정동(2013)'!AX76-'법정동(2012)'!AX78","v":{"v":0,"d":"0.0"}},{"$f":"'법정동(2013)'!AY76-'법정동(2012)'!AY78","v":{"v":0,"d":"0.0"}},{"$f":"'법정동(2013)'!AZ76-'법정동(2012)'!AZ78","v":{"v":0,"d":"0.0"}},{"$f":"'법정동(2013)'!BA76-'법정동(2012)'!BA78","v":{"v":0,"d":"0.0"}},{"$f":"'법정동(2013)'!BB76-'법정동(2012)'!BB78","v":{"v":0,"d":"0.0"}},{"$f":"'법정동(2013)'!BC76-'법정동(2012)'!BC78","v":{"v":0,"d":"0.0"}},{"$f":"'법정동(2013)'!BD76-'법정동(2012)'!BD78","v":{"v":0,"d":"0.0"}},{"$f":"'법정동(2013)'!BE76-'법정동(2012)'!BE78","v":{"v":0,"d":"0.0"}},{"$f":"'법정동(2013)'!BF76-'법정동(2012)'!BF78","v":{"v":1771,"d":"1,771.0"}},{"$f":"'법정동(2013)'!BG76-'법정동(2012)'!BG78","v":{"v":8,"d":"8.0"}}]
["율촌면 산수리",{"$f":"'법정동(2013)'!B77-'법정동(2012)'!B79","v":{"v":-249,"d":"-249.0"}},{"$f":"'법정동(2013)'!C77-'법정동(2012)'!C79","v":{"v":74,"d":"74.0"}},{"$f":"'법정동(2013)'!D77-'법정동(2012)'!D79","v":{"v":-549,"d":"-549.0"}},{"$f":"'법정동(2013)'!E77-'법정동(2012)'!E79","v":{"v":3,"d":"3.0"}},{"$f":"'법정동(2013)'!F77-'법정동(2012)'!F79","v":{"v":0,"d":"0.0"}},{"$f":"'법정동(2013)'!G77-'법정동(2012)'!G79","v":{"v":35,"d":"35.0"}},{"$f":"'법정동(2013)'!H77-'법정동(2012)'!H79","v":{"v":0,"d":"0.0"}},{"$f":"'법정동(2013)'!I77-'법정동(2012)'!I79","v":{"v":0,"d":"0.0"}},{"$f":"'법정동(2013)'!J77-'법정동(2012)'!J79","v":{"v":0,"d":"0.0"}},{"$f":"'법정동(2013)'!K77-'법정동(2012)'!K79","v":{"v":0,"d":"0.0"}},{"$f":"'법정동(2013)'!L77-'법정동(2012)'!L79","v":{"v":-249,"d":"-249.0"}},{"$f":"'법정동(2013)'!M77-'법정동(2012)'!M79","v":{"v":29,"d":"29.0"}},{"$f":"'법정동(2013)'!N77-'법정동(2012)'!N79","v":{"v":0,"d":"0.0"}},{"$f":"'법정동(2013)'!O77-'법정동(2012)'!O79","v":{"v":0,"d":"0.0"}},{"$f":"'법정동(2013)'!P77-'법정동(2012)'!P79","v":{"v":0,"d":"0.0"}},{"$f":"'법정동(2013)'!Q77-'법정동(2012)'!Q79","v":{"v":0,"d":"0.0"}},{"$f":"'법정동(2013)'!R77-'법정동(2012)'!R79","v":{"v":-5,"d":"-5.0"}},{"$f":"'법정동(2013)'!S77-'법정동(2012)'!S79","v":{"v":5,"d":"5.0"}},{"$f":"'법정동(2013)'!T77-'법정동(2012)'!T79","v":{"v":0,"d":"0.0"}},{"$f":"'법정동(2013)'!U77-'법정동(2012)'!U79","v":{"v":0,"d":"0.0"}},{"$f":"'법정동(2013)'!V77-'법정동(2012)'!V79","v":{"v":0,"d":"0.0"}},{"$f":"'법정동(2013)'!W77-'법정동(2012)'!W79","v":{"v":0,"d":"0.0"}},{"$f":"'법정동(2013)'!X77-'법정동(2012)'!X79","v":{"v":0,"d":"0.0"}},{"$f":"'법정동(2013)'!Y77-'법정동(2012)'!Y79","v":{"v":0,"d":"0.0"}},{"$f":"'법정동(2013)'!Z77-'법정동(2012)'!Z79","v":{"v":0,"d":"0.0"}},{"$f":"'법정동(2013)'!AA77-'법정동(2012)'!AA79","v":{"v":0,"d":"0.0"}},{"$f":"'법정동(2013)'!AB77-'법정동(2012)'!AB79","v":{"v":0,"d":"0.0"}},{"$f":"'법정동(2013)'!AC77-'법정동(2012)'!AC79","v":{"v":0,"d":"0.0"}},{"$f":"'법정동(2013)'!AD77-'법정동(2012)'!AD79","v":{"v":5,"d":"5.0"}},{"$f":"'법정동(2013)'!AE77-'법정동(2012)'!AE79","v":{"v":1,"d":"1.0"}},{"$f":"'법정동(2013)'!AF77-'법정동(2012)'!AF79","v":{"v":0,"d":"0.0"}},{"$f":"'법정동(2013)'!AG77-'법정동(2012)'!AG79","v":{"v":0,"d":"0.0"}},{"$f":"'법정동(2013)'!AH77-'법정동(2012)'!AH79","v":{"v":0,"d":"0.0"}},{"$f":"'법정동(2013)'!AI77-'법정동(2012)'!AI79","v":{"v":0,"d":"0.0"}},{"$f":"'법정동(2013)'!AJ77-'법정동(2012)'!AJ79","v":{"v":0,"d":"0.0"}},{"$f":"'법정동(2013)'!AK77-'법정동(2012)'!AK79","v":{"v":0,"d":"0.0"}},{"$f":"'법정동(2013)'!AL77-'법정동(2012)'!AL79","v":{"v":0,"d":"0.0"}},{"$f":"'법정동(2013)'!AM77-'법정동(2012)'!AM79","v":{"v":0,"d":"0.0"}},{"$f":"'법정동(2013)'!AN77-'법정동(2012)'!AN79","v":{"v":0,"d":"0.0"}},{"$f":"'법정동(2013)'!AO77-'법정동(2012)'!AO79","v":{"v":0,"d":"0.0"}},{"$f":"'법정동(2013)'!AP77-'법정동(2012)'!AP79","v":{"v":0,"d":"0.0"}},{"$f":"'법정동(2013)'!AQ77-'법정동(2012)'!AQ79","v":{"v":0,"d":"0.0"}},{"$f":"'법정동(2013)'!AR77-'법정동(2012)'!AR79","v":{"v":549,"d":"549.0"}},{"$f":"'법정동(2013)'!AS77-'법정동(2012)'!AS79","v":{"v":1,"d":"1.0"}},{"$f":"'법정동(2013)'!AT77-'법정동(2012)'!AT79","v":{"v":0,"d":"0.0"}},{"$f":"'법정동(2013)'!AU77-'법정동(2012)'!AU79","v":{"v":0,"d":"0.0"}},{"$f":"'법정동(2013)'!AV77-'법정동(2012)'!AV79","v":{"v":0,"d":"0.0"}},{"$f":"'법정동(2013)'!AW77-'법정동(2012)'!AW79","v":{"v":0,"d":"0.0"}},{"$f":"'법정동(2013)'!AX77-'법정동(2012)'!AX79","v":{"v":0,"d":"0.0"}},{"$f":"'법정동(2013)'!AY77-'법정동(2012)'!AY79","v":{"v":0,"d":"0.0"}},{"$f":"'법정동(2013)'!AZ77-'법정동(2012)'!AZ79","v":{"v":0,"d":"0.0"}},{"$f":"'법정동(2013)'!BA77-'법정동(2012)'!BA79","v":{"v":0,"d":"0.0"}},{"$f":"'법정동(2013)'!BB77-'법정동(2012)'!BB79","v":{"v":0,"d":"0.0"}},{"$f":"'법정동(2013)'!BC77-'법정동(2012)'!BC79","v":{"v":0,"d":"0.0"}},{"$f":"'법정동(2013)'!BD77-'법정동(2012)'!BD79","v":{"v":0,"d":"0.0"}},{"$f":"'법정동(2013)'!BE77-'법정동(2012)'!BE79","v":{"v":0,"d":"0.0"}},{"$f":"'법정동(2013)'!BF77-'법정동(2012)'!BF79","v":{"v":0,"d":"0.0"}},{"$f":"'법정동(2013)'!BG77-'법정동(2012)'!BG79","v":{"v":0,"d":"0.0"}}]
["율촌면 가장리",{"$f":"'법정동(2013)'!B78-'법정동(2012)'!B80","v":{"v":0,"d":"0.0"}},{"$f":"'법정동(2013)'!C78-'법정동(2012)'!C80","v":{"v":14,"d":"14.0"}},{"$f":"'법정동(2013)'!D78-'법정동(2012)'!D80","v":{"v":-5003,"d":"-5,003.0"}},{"$f":"'법정동(2013)'!E78-'법정동(2012)'!E80","v":{"v":-7,"d":"-7.0"}},{"$f":"'법정동(2013)'!F78-'법정동(2012)'!F80","v":{"v":-680,"d":"-680.0"}},{"$f":"'법정동(2013)'!G78-'법정동(2012)'!G80","v":{"v":1,"d":"1.0"}},{"$f":"'법정동(2013)'!H78-'법정동(2012)'!H80","v":{"v":0,"d":"0.0"}},{"$f":"'법정동(2013)'!I78-'법정동(2012)'!I80","v":{"v":0,"d":"0.0"}},{"$f":"'법정동(2013)'!J78-'법정동(2012)'!J80","v":{"v":0,"d":"0.0"}},{"$f":"'법정동(2013)'!K78-'법정동(2012)'!K80","v":{"v":0,"d":"0.0"}},{"$f":"'법정동(2013)'!L78-'법정동(2012)'!L80","v":{"v":0,"d":"0.0"}},{"$f":"'법정동(2013)'!M78-'법정동(2012)'!M80","v":{"v":6,"d":"6.0"}},{"$f":"'법정동(2013)'!N78-'법정동(2012)'!N80","v":{"v":0,"d":"0.0"}},{"$f":"'법정동(2013)'!O78-'법정동(2012)'!O80","v":{"v":0,"d":"0.0"}},{"$f":"'법정동(2013)'!P78-'법정동(2012)'!P80","v":{"v":0,"d":"0.0"}},{"$f":"'법정동(2013)'!Q78-'법정동(2012)'!Q80","v":{"v":0,"d":"0.0"}},{"$f":"'법정동(2013)'!R78-'법정동(2012)'!R80","v":{"v":11997,"d":"11,997.0"}},{"$f":"'법정동(2013)'!S78-'법정동(2012)'!S80","v":{"v":12,"d":"12.0"}},{"$f":"'법정동(2013)'!T78-'법정동(2012)'!T80","v":{"v":0,"d":"0.0"}},{"$f":"'법정동(2013)'!U78-'법정동(2012)'!U80","v":{"v":0,"d":"0.0"}},{"$f":"'법정동(2013)'!V78-'법정동(2012)'!V80","v":{"v":-8505,"d":"-8,505.0"}},{"$f":"'법정동(2013)'!W78-'법정동(2012)'!W80","v":{"v":-3,"d":"-3.0"}},{"$f":"'법정동(2013)'!X78-'법정동(2012)'!X80","v":{"v":2134,"d":"2,134.0"}},{"$f":"'법정동(2013)'!Y78-'법정동(2012)'!Y80","v":{"v":1,"d":"1.0"}},{"$f":"'법정동(2013)'!Z78-'법정동(2012)'!Z80","v":{"v":0,"d":"0.0"}},{"$f":"'법정동(2013)'!AA78-'법정동(2012)'!AA80","v":{"v":0,"d":"0.0"}},{"$f":"'법정동(2013)'!AB78-'법정동(2012)'!AB80","v":{"v":0,"d":"0.0"}},{"$f":"'법정동(2013)'!AC78-'법정동(2012)'!AC80","v":{"v":0,"d":"0.0"}},{"$f":"'법정동(2013)'!AD78-'법정동(2012)'!AD80","v":{"v":57,"d":"57.0"}},{"$f":"'법정동(2013)'!AE78-'법정동(2012)'!AE80","v":{"v":4,"d":"4.0"}},{"$f":"'법정동(2013)'!AF78-'법정동(2012)'!AF80","v":{"v":0,"d":"0.0"}},{"$f":"'법정동(2013)'!AG78-'법정동(2012)'!AG80","v":{"v":0,"d":"0.0"}},{"$f":"'법정동(2013)'!AH78-'법정동(2012)'!AH80","v":{"v":0,"d":"0.0"}},{"$f":"'법정동(2013)'!AI78-'법정동(2012)'!AI80","v":{"v":0,"d":"0.0"}},{"$f":"'법정동(2013)'!AJ78-'법정동(2012)'!AJ80","v":{"v":0,"d":"0.0"}},{"$f":"'법정동(2013)'!AK78-'법정동(2012)'!AK80","v":{"v":0,"d":"0.0"}},{"$f":"'법정동(2013)'!AL78-'법정동(2012)'!AL80","v":{"v":0,"d":"0.0"}},{"$f":"'법정동(2013)'!AM78-'법정동(2012)'!AM80","v":{"v":0,"d":"0.0"}},{"$f":"'법정동(2013)'!AN78-'법정동(2012)'!AN80","v":{"v":0,"d":"0.0"}},{"$f":"'법정동(2013)'!AO78-'법정동(2012)'!AO80","v":{"v":0,"d":"0.0"}},{"$f":"'법정동(2013)'!AP78-'법정동(2012)'!AP80","v":{"v":0,"d":"0.0"}},{"$f":"'법정동(2013)'!AQ78-'법정동(2012)'!AQ80","v":{"v":0,"d":"0.0"}},{"$f":"'법정동(2013)'!AR78-'법정동(2012)'!AR80","v":{"v":0,"d":"0.0"}},{"$f":"'법정동(2013)'!AS78-'법정동(2012)'!AS80","v":{"v":0,"d":"0.0"}},{"$f":"'법정동(2013)'!AT78-'법정동(2012)'!AT80","v":{"v":0,"d":"0.0"}},{"$f":"'법정동(2013)'!AU78-'법정동(2012)'!AU80","v":{"v":0,"d":"0.0"}},{"$f":"'법정동(2013)'!AV78-'법정동(2012)'!AV80","v":{"v":0,"d":"0.0"}},{"$f":"'법정동(2013)'!AW78-'법정동(2012)'!AW80","v":{"v":0,"d":"0.0"}},{"$f":"'법정동(2013)'!AX78-'법정동(2012)'!AX80","v":{"v":0,"d":"0.0"}},{"$f":"'법정동(2013)'!AY78-'법정동(2012)'!AY80","v":{"v":0,"d":"0.0"}},{"$f":"'법정동(2013)'!AZ78-'법정동(2012)'!AZ80","v":{"v":0,"d":"0.0"}},{"$f":"'법정동(2013)'!BA78-'법정동(2012)'!BA80","v":{"v":0,"d":"0.0"}},{"$f":"'법정동(2013)'!BB78-'법정동(2012)'!BB80","v":{"v":0,"d":"0.0"}},{"$f":"'법정동(2013)'!BC78-'법정동(2012)'!BC80","v":{"v":0,"d":"0.0"}},{"$f":"'법정동(2013)'!BD78-'법정동(2012)'!BD80","v":{"v":0,"d":"0.0"}},{"$f":"'법정동(2013)'!BE78-'법정동(2012)'!BE80","v":{"v":0,"d":"0.0"}},{"$f":"'법정동(2013)'!BF78-'법정동(2012)'!BF80","v":{"v":0,"d":"0.0"}},{"$f":"'법정동(2013)'!BG78-'법정동(2012)'!BG80","v":{"v":0,"d":"0.0"}}]
["율촌면 봉전리",{"$f":"'법정동(2013)'!B79-'법정동(2012)'!B81","v":{"v":2752,"d":"2,752.0"}},{"$f":"'법정동(2013)'!C79-'법정동(2012)'!C81","v":{"v":12,"d":"12.0"}},{"$f":"'법정동(2013)'!D79-'법정동(2012)'!D81","v":{"v":-1606,"d":"-1,606.0"}},{"$f":"'법정동(2013)'!E79-'법정동(2012)'!E81","v":{"v":-1,"d":"-1.0"}},{"$f":"'법정동(2013)'!F79-'법정동(2012)'!F81","v":{"v":24717,"d":"24,717.0"}},{"$f":"'법정동(2013)'!G79-'법정동(2012)'!G81","v":{"v":6,"d":"6.0"}},{"$f":"'법정동(2013)'!H79-'법정동(2012)'!H81","v":{"v":0,"d":"0.0"}},{"$f":"'법정동(2013)'!I79-'법정동(2012)'!I81","v":{"v":0,"d":"0.0"}},{"$f":"'법정동(2013)'!J79-'법정동(2012)'!J81","v":{"v":0,"d":"0.0"}},{"$f":"'법정동(2013)'!K79-'법정동(2012)'!K81","v":{"v":0,"d":"0.0"}},{"$f":"'법정동(2013)'!L79-'법정동(2012)'!L81","v":{"v":-709,"d":"-709.0"}},{"$f":"'법정동(2013)'!M79-'법정동(2012)'!M81","v":{"v":5,"d":"5.0"}},{"$f":"'법정동(2013)'!N79-'법정동(2012)'!N81","v":{"v":0,"d":"0.0"}},{"$f":"'법정동(2013)'!O79-'법정동(2012)'!O81","v":{"v":0,"d":"0.0"}},{"$f":"'법정동(2013)'!P79-'법정동(2012)'!P81","v":{"v":0,"d":"0.0"}},{"$f":"'법정동(2013)'!Q79-'법정동(2012)'!Q81","v":{"v":0,"d":"0.0"}},{"$f":"'법정동(2013)'!R79-'법정동(2012)'!R81","v":{"v":1291,"d":"1,291.0"}},{"$f":"'법정동(2013)'!S79-'법정동(2012)'!S81","v":{"v":2,"d":"2.0"}},{"$f":"'법정동(2013)'!T79-'법정동(2012)'!T81","v":{"v":0,"d":"0.0"}},{"$f":"'법정동(2013)'!U79-'법정동(2012)'!U81","v":{"v":0,"d":"0.0"}},{"$f":"'법정동(2013)'!V79-'법정동(2012)'!V81","v":{"v":0,"d":"0.0"}},{"$f":"'법정동(2013)'!W79-'법정동(2012)'!W81","v":{"v":0,"d":"0.0"}},{"$f":"'법정동(2013)'!X79-'법정동(2012)'!X81","v":{"v":0,"d":"0.0"}},{"$f":"'법정동(2013)'!Y79-'법정동(2012)'!Y81","v":{"v":0,"d":"0.0"}},{"$f":"'법정동(2013)'!Z79-'법정동(2012)'!Z81","v":{"v":0,"d":"0.0"}},{"$f":"'법정동(2013)'!AA79-'법정동(2012)'!AA81","v":{"v":0,"d":"0.0"}},{"$f":"'법정동(2013)'!AB79-'법정동(2012)'!AB81","v":{"v":0,"d":"0.0"}},{"$f":"'법정동(2013)'!AC79-'법정동(2012)'!AC81","v":{"v":0,"d":"0.0"}},{"$f":"'법정동(2013)'!AD79-'법정동(2012)'!AD81","v":{"v":2384,"d":"2,384.0"}},{"$f":"'법정동(2013)'!AE79-'법정동(2012)'!AE81","v":{"v":3,"d":"3.0"}},{"$f":"'법정동(2013)'!AF79-'법정동(2012)'!AF81","v":{"v":0,"d":"0.0"}},{"$f":"'법정동(2013)'!AG79-'법정동(2012)'!AG81","v":{"v":0,"d":"0.0"}},{"$f":"'법정동(2013)'!AH79-'법정동(2012)'!AH81","v":{"v":0,"d":"0.0"}},{"$f":"'법정동(2013)'!AI79-'법정동(2012)'!AI81","v":{"v":0,"d":"0.0"}},{"$f":"'법정동(2013)'!AJ79-'법정동(2012)'!AJ81","v":{"v":0,"d":"0.0"}},{"$f":"'법정동(2013)'!AK79-'법정동(2012)'!AK81","v":{"v":0,"d":"0.0"}},{"$f":"'법정동(2013)'!AL79-'법정동(2012)'!AL81","v":{"v":0,"d":"0.0"}},{"$f":"'법정동(2013)'!AM79-'법정동(2012)'!AM81","v":{"v":0,"d":"0.0"}},{"$f":"'법정동(2013)'!AN79-'법정동(2012)'!AN81","v":{"v":0,"d":"0.0"}},{"$f":"'법정동(2013)'!AO79-'법정동(2012)'!AO81","v":{"v":0,"d":"0.0"}},{"$f":"'법정동(2013)'!AP79-'법정동(2012)'!AP81","v":{"v":0,"d":"0.0"}},{"$f":"'법정동(2013)'!AQ79-'법정동(2012)'!AQ81","v":{"v":0,"d":"0.0"}},{"$f":"'법정동(2013)'!AR79-'법정동(2012)'!AR81","v":{"v":0,"d":"0.0"}},{"$f":"'법정동(2013)'!AS79-'법정동(2012)'!AS81","v":{"v":0,"d":"0.0"}},{"$f":"'법정동(2013)'!AT79-'법정동(2012)'!AT81","v":{"v":0,"d":"0.0"}},{"$f":"'법정동(2013)'!AU79-'법정동(2012)'!AU81","v":{"v":0,"d":"0.0"}},{"$f":"'법정동(2013)'!AV79-'법정동(2012)'!AV81","v":{"v":0,"d":"0.0"}},{"$f":"'법정동(2013)'!AW79-'법정동(2012)'!AW81","v":{"v":0,"d":"0.0"}},{"$f":"'법정동(2013)'!AX79-'법정동(2012)'!AX81","v":{"v":0,"d":"0.0"}},{"$f":"'법정동(2013)'!AY79-'법정동(2012)'!AY81","v":{"v":0,"d":"0.0"}},{"$f":"'법정동(2013)'!AZ79-'법정동(2012)'!AZ81","v":{"v":0,"d":"0.0"}},{"$f":"'법정동(2013)'!BA79-'법정동(2012)'!BA81","v":{"v":0,"d":"0.0"}},{"$f":"'법정동(2013)'!BB79-'법정동(2012)'!BB81","v":{"v":0,"d":"0.0"}},{"$f":"'법정동(2013)'!BC79-'법정동(2012)'!BC81","v":{"v":0,"d":"0.0"}},{"$f":"'법정동(2013)'!BD79-'법정동(2012)'!BD81","v":{"v":0,"d":"0.0"}},{"$f":"'법정동(2013)'!BE79-'법정동(2012)'!BE81","v":{"v":0,"d":"0.0"}},{"$f":"'법정동(2013)'!BF79-'법정동(2012)'!BF81","v":{"v":-23325,"d":"-23,325.0"}},{"$f":"'법정동(2013)'!BG79-'법정동(2012)'!BG81","v":{"v":-3,"d":"-3.0"}}]
["율촌면 반월리",{"$f":"'법정동(2013)'!B80-'법정동(2012)'!B82","v":{"v":0,"d":"0.0"}},{"$f":"'법정동(2013)'!C80-'법정동(2012)'!C82","v":{"v":2,"d":"2.0"}},{"$f":"'법정동(2013)'!D80-'법정동(2012)'!D82","v":{"v":0,"d":"0.0"}},{"$f":"'법정동(2013)'!E80-'법정동(2012)'!E82","v":{"v":0,"d":"0.0"}},{"$f":"'법정동(2013)'!F80-'법정동(2012)'!F82","v":{"v":0,"d":"0.0"}},{"$f":"'법정동(2013)'!G80-'법정동(2012)'!G82","v":{"v":0,"d":"0.0"}},{"$f":"'법정동(2013)'!H80-'법정동(2012)'!H82","v":{"v":0,"d":"0.0"}},{"$f":"'법정동(2013)'!I80-'법정동(2012)'!I82","v":{"v":0,"d":"0.0"}},{"$f":"'법정동(2013)'!J80-'법정동(2012)'!J82","v":{"v":0,"d":"0.0"}},{"$f":"'법정동(2013)'!K80-'법정동(2012)'!K82","v":{"v":0,"d":"0.0"}},{"$f":"'법정동(2013)'!L80-'법정동(2012)'!L82","v":{"v":0,"d":"0.0"}},{"$f":"'법정동(2013)'!M80-'법정동(2012)'!M82","v":{"v":0,"d":"0.0"}},{"$f":"'법정동(2013)'!N80-'법정동(2012)'!N82","v":{"v":0,"d":"0.0"}},{"$f":"'법정동(2013)'!O80-'법정동(2012)'!O82","v":{"v":0,"d":"0.0"}},{"$f":"'법정동(2013)'!P80-'법정동(2012)'!P82","v":{"v":0,"d":"0.0"}},{"$f":"'법정동(2013)'!Q80-'법정동(2012)'!Q82","v":{"v":0,"d":"0.0"}},{"$f":"'법정동(2013)'!R80-'법정동(2012)'!R82","v":{"v":-84,"d":"-84.0"}},{"$f":"'법정동(2013)'!S80-'법정동(2012)'!S82","v":{"v":1,"d":"1.0"}},{"$f":"'법정동(2013)'!T80-'법정동(2012)'!T82","v":{"v":0,"d":"0.0"}},{"$f":"'법정동(2013)'!U80-'법정동(2012)'!U82","v":{"v":0,"d":"0.0"}},{"$f":"'법정동(2013)'!V80-'법정동(2012)'!V82","v":{"v":0,"d":"0.0"}},{"$f":"'법정동(2013)'!W80-'법정동(2012)'!W82","v":{"v":0,"d":"0.0"}},{"$f":"'법정동(2013)'!X80-'법정동(2012)'!X82","v":{"v":0,"d":"0.0"}},{"$f":"'법정동(2013)'!Y80-'법정동(2012)'!Y82","v":{"v":0,"d":"0.0"}},{"$f":"'법정동(2013)'!Z80-'법정동(2012)'!Z82","v":{"v":0,"d":"0.0"}},{"$f":"'법정동(2013)'!AA80-'법정동(2012)'!AA82","v":{"v":0,"d":"0.0"}},{"$f":"'법정동(2013)'!AB80-'법정동(2012)'!AB82","v":{"v":0,"d":"0.0"}},{"$f":"'법정동(2013)'!AC80-'법정동(2012)'!AC82","v":{"v":0,"d":"0.0"}},{"$f":"'법정동(2013)'!AD80-'법정동(2012)'!AD82","v":{"v":84,"d":"84.0"}},{"$f":"'법정동(2013)'!AE80-'법정동(2012)'!AE82","v":{"v":1,"d":"1.0"}},{"$f":"'법정동(2013)'!AF80-'법정동(2012)'!AF82","v":{"v":0,"d":"0.0"}},{"$f":"'법정동(2013)'!AG80-'법정동(2012)'!AG82","v":{"v":0,"d":"0.0"}},{"$f":"'법정동(2013)'!AH80-'법정동(2012)'!AH82","v":{"v":0,"d":"0.0"}},{"$f":"'법정동(2013)'!AI80-'법정동(2012)'!AI82","v":{"v":0,"d":"0.0"}},{"$f":"'법정동(2013)'!AJ80-'법정동(2012)'!AJ82","v":{"v":0,"d":"0.0"}},{"$f":"'법정동(2013)'!AK80-'법정동(2012)'!AK82","v":{"v":0,"d":"0.0"}},{"$f":"'법정동(2013)'!AL80-'법정동(2012)'!AL82","v":{"v":0,"d":"0.0"}},{"$f":"'법정동(2013)'!AM80-'법정동(2012)'!AM82","v":{"v":0,"d":"0.0"}},{"$f":"'법정동(2013)'!AN80-'법정동(2012)'!AN82","v":{"v":0,"d":"0.0"}},{"$f":"'법정동(2013)'!AO80-'법정동(2012)'!AO82","v":{"v":0,"d":"0.0"}},{"$f":"'법정동(2013)'!AP80-'법정동(2012)'!AP82","v":{"v":0,"d":"0.0"}},{"$f":"'법정동(2013)'!AQ80-'법정동(2012)'!AQ82","v":{"v":0,"d":"0.0"}},{"$f":"'법정동(2013)'!AR80-'법정동(2012)'!AR82","v":{"v":0,"d":"0.0"}},{"$f":"'법정동(2013)'!AS80-'법정동(2012)'!AS82","v":{"v":0,"d":"0.0"}},{"$f":"'법정동(2013)'!AT80-'법정동(2012)'!AT82","v":{"v":0,"d":"0.0"}},{"$f":"'법정동(2013)'!AU80-'법정동(2012)'!AU82","v":{"v":0,"d":"0.0"}},{"$f":"'법정동(2013)'!AV80-'법정동(2012)'!AV82","v":{"v":0,"d":"0.0"}},{"$f":"'법정동(2013)'!AW80-'법정동(2012)'!AW82","v":{"v":0,"d":"0.0"}},{"$f":"'법정동(2013)'!AX80-'법정동(2012)'!AX82","v":{"v":0,"d":"0.0"}},{"$f":"'법정동(2013)'!AY80-'법정동(2012)'!AY82","v":{"v":0,"d":"0.0"}},{"$f":"'법정동(2013)'!AZ80-'법정동(2012)'!AZ82","v":{"v":0,"d":"0.0"}},{"$f":"'법정동(2013)'!BA80-'법정동(2012)'!BA82","v":{"v":0,"d":"0.0"}},{"$f":"'법정동(2013)'!BB80-'법정동(2012)'!BB82","v":{"v":0,"d":"0.0"}},{"$f":"'법정동(2013)'!BC80-'법정동(2012)'!BC82","v":{"v":0,"d":"0.0"}},{"$f":"'법정동(2013)'!BD80-'법정동(2012)'!BD82","v":{"v":0,"d":"0.0"}},{"$f":"'법정동(2013)'!BE80-'법정동(2012)'!BE82","v":{"v":0,"d":"0.0"}},{"$f":"'법정동(2013)'!BF80-'법정동(2012)'!BF82","v":{"v":0,"d":"0.0"}},{"$f":"'법정동(2013)'!BG80-'법정동(2012)'!BG82","v":{"v":0,"d":"0.0"}}]
["율촌면 취적리",{"$f":"'법정동(2013)'!B81-'법정동(2012)'!B83","v":{"v":-255,"d":"-255.0"}},{"$f":"'법정동(2013)'!C81-'법정동(2012)'!C83","v":{"v":27,"d":"27.0"}},{"$f":"'법정동(2013)'!D81-'법정동(2012)'!D83","v":{"v":-3260,"d":"-3,260.0"}},{"$f":"'법정동(2013)'!E81-'법정동(2012)'!E83","v":{"v":1,"d":"1.0"}},{"$f":"'법정동(2013)'!F81-'법정동(2012)'!F83","v":{"v":-1362,"d":"-1,362.0"}},{"$f":"'법정동(2013)'!G81-'법정동(2012)'!G83","v":{"v":4,"d":"4.0"}},{"$f":"'법정동(2013)'!H81-'법정동(2012)'!H83","v":{"v":0,"d":"0.0"}},{"$f":"'법정동(2013)'!I81-'법정동(2012)'!I83","v":{"v":0,"d":"0.0"}},{"$f":"'법정동(2013)'!J81-'법정동(2012)'!J83","v":{"v":0,"d":"0.0"}},{"$f":"'법정동(2013)'!K81-'법정동(2012)'!K83","v":{"v":0,"d":"0.0"}},{"$f":"'법정동(2013)'!L81-'법정동(2012)'!L83","v":{"v":7,"d":"7.0"}},{"$f":"'법정동(2013)'!M81-'법정동(2012)'!M83","v":{"v":1,"d":"1.0"}},{"$f":"'법정동(2013)'!N81-'법정동(2012)'!N83","v":{"v":0,"d":"0.0"}},{"$f":"'법정동(2013)'!O81-'법정동(2012)'!O83","v":{"v":0,"d":"0.0"}},{"$f":"'법정동(2013)'!P81-'법정동(2012)'!P83","v":{"v":0,"d":"0.0"}},{"$f":"'법정동(2013)'!Q81-'법정동(2012)'!Q83","v":{"v":0,"d":"0.0"}},{"$f":"'법정동(2013)'!R81-'법정동(2012)'!R83","v":{"v":1154,"d":"1,154.0"}},{"$f":"'법정동(2013)'!S81-'법정동(2012)'!S83","v":{"v":2,"d":"2.0"}},{"$f":"'법정동(2013)'!T81-'법정동(2012)'!T83","v":{"v":2106,"d":"2,106.0"}},{"$f":"'법정동(2013)'!U81-'법정동(2012)'!U83","v":{"v":1,"d":"1.0"}},{"$f":"'법정동(2013)'!V81-'법정동(2012)'!V83","v":{"v":0,"d":"0.0"}},{"$f":"'법정동(2013)'!W81-'법정동(2012)'!W83","v":{"v":0,"d":"0.0"}},{"$f":"'법정동(2013)'!X81-'법정동(2012)'!X83","v":{"v":1359,"d":"1,359.0"}},{"$f":"'법정동(2013)'!Y81-'법정동(2012)'!Y83","v":{"v":1,"d":"1.0"}},{"$f":"'법정동(2013)'!Z81-'법정동(2012)'!Z83","v":{"v":0,"d":"0.0"}},{"$f":"'법정동(2013)'!AA81-'법정동(2012)'!AA83","v":{"v":0,"d":"0.0"}},{"$f":"'법정동(2013)'!AB81-'법정동(2012)'!AB83","v":{"v":0,"d":"0.0"}},{"$f":"'법정동(2013)'!AC81-'법정동(2012)'!AC83","v":{"v":0,"d":"0.0"}},{"$f":"'법정동(2013)'!AD81-'법정동(2012)'!AD83","v":{"v":-150,"d":"-150.0"}},{"$f":"'법정동(2013)'!AE81-'법정동(2012)'!AE83","v":{"v":10,"d":"10.0"}},{"$f":"'법정동(2013)'!AF81-'법정동(2012)'!AF83","v":{"v":-109,"d":"-109.0"}},{"$f":"'법정동(2013)'!AG81-'법정동(2012)'!AG83","v":{"v":5,"d":"5.0"}},{"$f":"'법정동(2013)'!AH81-'법정동(2012)'!AH83","v":{"v":0,"d":"0.0"}},{"$f":"'법정동(2013)'!AI81-'법정동(2012)'!AI83","v":{"v":0,"d":"0.0"}},{"$f":"'법정동(2013)'!AJ81-'법정동(2012)'!AJ83","v":{"v":0,"d":"0.0"}},{"$f":"'법정동(2013)'!AK81-'법정동(2012)'!AK83","v":{"v":0,"d":"0.0"}},{"$f":"'법정동(2013)'!AL81-'법정동(2012)'!AL83","v":{"v":0,"d":"0.0"}},{"$f":"'법정동(2013)'!AM81-'법정동(2012)'!AM83","v":{"v":2,"d":"2.0"}},{"$f":"'법정동(2013)'!AN81-'법정동(2012)'!AN83","v":{"v":0,"d":"0.0"}},{"$f":"'법정동(2013)'!AO81-'법정동(2012)'!AO83","v":{"v":0,"d":"0.0"}},{"$f":"'법정동(2013)'!AP81-'법정동(2012)'!AP83","v":{"v":0,"d":"0.0"}},{"$f":"'법정동(2013)'!AQ81-'법정동(2012)'!AQ83","v":{"v":0,"d":"0.0"}},{"$f":"'법정동(2013)'!AR81-'법정동(2012)'!AR83","v":{"v":0,"d":"0.0"}},{"$f":"'법정동(2013)'!AS81-'법정동(2012)'!AS83","v":{"v":0,"d":"0.0"}},{"$f":"'법정동(2013)'!AT81-'법정동(2012)'!AT83","v":{"v":0,"d":"0.0"}},{"$f":"'법정동(2013)'!AU81-'법정동(2012)'!AU83","v":{"v":0,"d":"0.0"}},{"$f":"'법정동(2013)'!AV81-'법정동(2012)'!AV83","v":{"v":0,"d":"0.0"}},{"$f":"'법정동(2013)'!AW81-'법정동(2012)'!AW83","v":{"v":0,"d":"0.0"}},{"$f":"'법정동(2013)'!AX81-'법정동(2012)'!AX83","v":{"v":0,"d":"0.0"}},{"$f":"'법정동(2013)'!AY81-'법정동(2012)'!AY83","v":{"v":0,"d":"0.0"}},{"$f":"'법정동(2013)'!AZ81-'법정동(2012)'!AZ83","v":{"v":0,"d":"0.0"}},{"$f":"'법정동(2013)'!BA81-'법정동(2012)'!BA83","v":{"v":0,"d":"0.0"}},{"$f":"'법정동(2013)'!BB81-'법정동(2012)'!BB83","v":{"v":0,"d":"0.0"}},{"$f":"'법정동(2013)'!BC81-'법정동(2012)'!BC83","v":{"v":0,"d":"0.0"}},{"$f":"'법정동(2013)'!BD81-'법정동(2012)'!BD83","v":{"v":0,"d":"0.0"}},{"$f":"'법정동(2013)'!BE81-'법정동(2012)'!BE83","v":{"v":0,"d":"0.0"}},{"$f":"'법정동(2013)'!BF81-'법정동(2012)'!BF83","v":{"v":0,"d":"0.0"}},{"$f":"'법정동(2013)'!BG81-'법정동(2012)'!BG83","v":{"v":0,"d":"0.0"}}]
["율촌면 신풍리",{"$f":"'법정동(2013)'!B82-'법정동(2012)'!B84","v":{"v":0,"d":"0.0"}},{"$f":"'법정동(2013)'!C82-'법정동(2012)'!C84","v":{"v":37,"d":"37.0"}},{"$f":"'법정동(2013)'!D82-'법정동(2012)'!D84","v":{"v":-1027,"d":"-1,027.0"}},{"$f":"'법정동(2013)'!E82-'법정동(2012)'!E84","v":{"v":5,"d":"5.0"}},{"$f":"'법정동(2013)'!F82-'법정동(2012)'!F84","v":{"v":-2427,"d":"-2,427.0"}},{"$f":"'법정동(2013)'!G82-'법정동(2012)'!G84","v":{"v":8,"d":"8.0"}},{"$f":"'법정동(2013)'!H82-'법정동(2012)'!H84","v":{"v":0,"d":"0.0"}},{"$f":"'법정동(2013)'!I82-'법정동(2012)'!I84","v":{"v":0,"d":"0.0"}},{"$f":"'법정동(2013)'!J82-'법정동(2012)'!J84","v":{"v":0,"d":"0.0"}},{"$f":"'법정동(2013)'!K82-'법정동(2012)'!K84","v":{"v":0,"d":"0.0"}},{"$f":"'법정동(2013)'!L82-'법정동(2012)'!L84","v":{"v":-4130,"d":"-4,130.0"}},{"$f":"'법정동(2013)'!M82-'법정동(2012)'!M84","v":{"v":1,"d":"1.0"}},{"$f":"'법정동(2013)'!N82-'법정동(2012)'!N84","v":{"v":0,"d":"0.0"}},{"$f":"'법정동(2013)'!O82-'법정동(2012)'!O84","v":{"v":0,"d":"0.0"}},{"$f":"'법정동(2013)'!P82-'법정동(2012)'!P84","v":{"v":0,"d":"0.0"}},{"$f":"'법정동(2013)'!Q82-'법정동(2012)'!Q84","v":{"v":0,"d":"0.0"}},{"$f":"'법정동(2013)'!R82-'법정동(2012)'!R84","v":{"v":-335,"d":"-335.0"}},{"$f":"'법정동(2013)'!S82-'법정동(2012)'!S84","v":{"v":1,"d":"1.0"}},{"$f":"'법정동(2013)'!T82-'법정동(2012)'!T84","v":{"v":0,"d":"0.0"}},{"$f":"'법정동(2013)'!U82-'법정동(2012)'!U84","v":{"v":0,"d":"0.0"}},{"$f":"'법정동(2013)'!V82-'법정동(2012)'!V84","v":{"v":0,"d":"0.0"}},{"$f":"'법정동(2013)'!W82-'법정동(2012)'!W84","v":{"v":0,"d":"0.0"}},{"$f":"'법정동(2013)'!X82-'법정동(2012)'!X84","v":{"v":225,"d":"225.0"}},{"$f":"'법정동(2013)'!Y82-'법정동(2012)'!Y84","v":{"v":2,"d":"2.0"}},{"$f":"'법정동(2013)'!Z82-'법정동(2012)'!Z84","v":{"v":0,"d":"0.0"}},{"$f":"'법정동(2013)'!AA82-'법정동(2012)'!AA84","v":{"v":0,"d":"0.0"}},{"$f":"'법정동(2013)'!AB82-'법정동(2012)'!AB84","v":{"v":0,"d":"0.0"}},{"$f":"'법정동(2013)'!AC82-'법정동(2012)'!AC84","v":{"v":0,"d":"0.0"}},{"$f":"'법정동(2013)'!AD82-'법정동(2012)'!AD84","v":{"v":7454,"d":"7,454.0"}},{"$f":"'법정동(2013)'!AE82-'법정동(2012)'!AE84","v":{"v":18,"d":"18.0"}},{"$f":"'법정동(2013)'!AF82-'법정동(2012)'!AF84","v":{"v":0,"d":"0.0"}},{"$f":"'법정동(2013)'!AG82-'법정동(2012)'!AG84","v":{"v":0,"d":"0.0"}},{"$f":"'법정동(2013)'!AH82-'법정동(2012)'!AH84","v":{"v":240,"d":"240.0"}},{"$f":"'법정동(2013)'!AI82-'법정동(2012)'!AI84","v":{"v":1,"d":"1.0"}},{"$f":"'법정동(2013)'!AJ82-'법정동(2012)'!AJ84","v":{"v":0,"d":"0.0"}},{"$f":"'법정동(2013)'!AK82-'법정동(2012)'!AK84","v":{"v":0,"d":"0.0"}},{"$f":"'법정동(2013)'!AL82-'법정동(2012)'!AL84","v":{"v":0,"d":"0.0"}},{"$f":"'법정동(2013)'!AM82-'법정동(2012)'!AM84","v":{"v":0,"d":"0.0"}},{"$f":"'법정동(2013)'!AN82-'법정동(2012)'!AN84","v":{"v":0,"d":"0.0"}},{"$f":"'법정동(2013)'!AO82-'법정동(2012)'!AO84","v":{"v":0,"d":"0.0"}},{"$f":"'법정동(2013)'!AP82-'법정동(2012)'!AP84","v":{"v":0,"d":"0.0"}},{"$f":"'법정동(2013)'!AQ82-'법정동(2012)'!AQ84","v":{"v":0,"d":"0.0"}},{"$f":"'법정동(2013)'!AR82-'법정동(2012)'!AR84","v":{"v":0,"d":"0.0"}},{"$f":"'법정동(2013)'!AS82-'법정동(2012)'!AS84","v":{"v":0,"d":"0.0"}},{"$f":"'법정동(2013)'!AT82-'법정동(2012)'!AT84","v":{"v":0,"d":"0.0"}},{"$f":"'법정동(2013)'!AU82-'법정동(2012)'!AU84","v":{"v":0,"d":"0.0"}},{"$f":"'법정동(2013)'!AV82-'법정동(2012)'!AV84","v":{"v":0,"d":"0.0"}},{"$f":"'법정동(2013)'!AW82-'법정동(2012)'!AW84","v":{"v":0,"d":"0.0"}},{"$f":"'법정동(2013)'!AX82-'법정동(2012)'!AX84","v":{"v":0,"d":"0.0"}},{"$f":"'법정동(2013)'!AY82-'법정동(2012)'!AY84","v":{"v":0,"d":"0.0"}},{"$f":"'법정동(2013)'!AZ82-'법정동(2012)'!AZ84","v":{"v":0,"d":"0.0"}},{"$f":"'법정동(2013)'!BA82-'법정동(2012)'!BA84","v":{"v":0,"d":"0.0"}},{"$f":"'법정동(2013)'!BB82-'법정동(2012)'!BB84","v":{"v":0,"d":"0.0"}},{"$f":"'법정동(2013)'!BC82-'법정동(2012)'!BC84","v":{"v":0,"d":"0.0"}},{"$f":"'법정동(2013)'!BD82-'법정동(2012)'!BD84","v":{"v":0,"d":"0.0"}},{"$f":"'법정동(2013)'!BE82-'법정동(2012)'!BE84","v":{"v":1,"d":"1.0"}},{"$f":"'법정동(2013)'!BF82-'법정동(2012)'!BF84","v":{"v":0,"d":"0.0"}},{"$f":"'법정동(2013)'!BG82-'법정동(2012)'!BG84","v":{"v":0,"d":"0.0"}}]
["율촌면 상봉리",{"$f":"'법정동(2013)'!B83-'법정동(2012)'!B85","v":{"v":-223,"d":"-223.0"}},{"$f":"'법정동(2013)'!C83-'법정동(2012)'!C85","v":{"v":2,"d":"2.0"}},{"$f":"'법정동(2013)'!D83-'법정동(2012)'!D85","v":{"v":-493,"d":"-493.0"}},{"$f":"'법정동(2013)'!E83-'법정동(2012)'!E85","v":{"v":-1,"d":"-1.0"}},{"$f":"'법정동(2013)'!F83-'법정동(2012)'!F85","v":{"v":0,"d":"0.0"}},{"$f":"'법정동(2013)'!G83-'법정동(2012)'!G85","v":{"v":0,"d":"0.0"}},{"$f":"'법정동(2013)'!H83-'법정동(2012)'!H85","v":{"v":0,"d":"0.0"}},{"$f":"'법정동(2013)'!I83-'법정동(2012)'!I85","v":{"v":0,"d":"0.0"}},{"$f":"'법정동(2013)'!J83-'법정동(2012)'!J85","v":{"v":0,"d":"0.0"}},{"$f":"'법정동(2013)'!K83-'법정동(2012)'!K85","v":{"v":0,"d":"0.0"}},{"$f":"'법정동(2013)'!L83-'법정동(2012)'!L85","v":{"v":0,"d":"0.0"}},{"$f":"'법정동(2013)'!M83-'법정동(2012)'!M85","v":{"v":0,"d":"0.0"}},{"$f":"'법정동(2013)'!N83-'법정동(2012)'!N85","v":{"v":0,"d":"0.0"}},{"$f":"'법정동(2013)'!O83-'법정동(2012)'!O85","v":{"v":0,"d":"0.0"}},{"$f":"'법정동(2013)'!P83-'법정동(2012)'!P85","v":{"v":0,"d":"0.0"}},{"$f":"'법정동(2013)'!Q83-'법정동(2012)'!Q85","v":{"v":0,"d":"0.0"}},{"$f":"'법정동(2013)'!R83-'법정동(2012)'!R85","v":{"v":848,"d":"848.0"}},{"$f":"'법정동(2013)'!S83-'법정동(2012)'!S85","v":{"v":2,"d":"2.0"}},{"$f":"'법정동(2013)'!T83-'법정동(2012)'!T85","v":{"v":0,"d":"0.0"}},{"$f":"'법정동(2013)'!U83-'법정동(2012)'!U85","v":{"v":0,"d":"0.0"}},{"$f":"'법정동(2013)'!V83-'법정동(2012)'!V85","v":{"v":0,"d":"0.0"}},{"$f":"'법정동(2013)'!W83-'법정동(2012)'!W85","v":{"v":0,"d":"0.0"}},{"$f":"'법정동(2013)'!X83-'법정동(2012)'!X85","v":{"v":0,"d":"0.0"}},{"$f":"'법정동(2013)'!Y83-'법정동(2012)'!Y85","v":{"v":0,"d":"0.0"}},{"$f":"'법정동(2013)'!Z83-'법정동(2012)'!Z85","v":{"v":0,"d":"0.0"}},{"$f":"'법정동(2013)'!AA83-'법정동(2012)'!AA85","v":{"v":0,"d":"0.0"}},{"$f":"'법정동(2013)'!AB83-'법정동(2012)'!AB85","v":{"v":0,"d":"0.0"}},{"$f":"'법정동(2013)'!AC83-'법정동(2012)'!AC85","v":{"v":0,"d":"0.0"}},{"$f":"'법정동(2013)'!AD83-'법정동(2012)'!AD85","v":{"v":-198,"d":"-198.0"}},{"$f":"'법정동(2013)'!AE83-'법정동(2012)'!AE85","v":{"v":2,"d":"2.0"}},{"$f":"'법정동(2013)'!AF83-'법정동(2012)'!AF85","v":{"v":0,"d":"0.0"}},{"$f":"'법정동(2013)'!AG83-'법정동(2012)'!AG85","v":{"v":0,"d":"0.0"}},{"$f":"'법정동(2013)'!AH83-'법정동(2012)'!AH85","v":{"v":0,"d":"0.0"}},{"$f":"'법정동(2013)'!AI83-'법정동(2012)'!AI85","v":{"v":0,"d":"0.0"}},{"$f":"'법정동(2013)'!AJ83-'법정동(2012)'!AJ85","v":{"v":0,"d":"0.0"}},{"$f":"'법정동(2013)'!AK83-'법정동(2012)'!AK85","v":{"v":0,"d":"0.0"}},{"$f":"'법정동(2013)'!AL83-'법정동(2012)'!AL85","v":{"v":0,"d":"0.0"}},{"$f":"'법정동(2013)'!AM83-'법정동(2012)'!AM85","v":{"v":0,"d":"0.0"}},{"$f":"'법정동(2013)'!AN83-'법정동(2012)'!AN85","v":{"v":0,"d":"0.0"}},{"$f":"'법정동(2013)'!AO83-'법정동(2012)'!AO85","v":{"v":0,"d":"0.0"}},{"$f":"'법정동(2013)'!AP83-'법정동(2012)'!AP85","v":{"v":0,"d":"0.0"}},{"$f":"'법정동(2013)'!AQ83-'법정동(2012)'!AQ85","v":{"v":0,"d":"0.0"}},{"$f":"'법정동(2013)'!AR83-'법정동(2012)'!AR85","v":{"v":0,"d":"0.0"}},{"$f":"'법정동(2013)'!AS83-'법정동(2012)'!AS85","v":{"v":0,"d":"0.0"}},{"$f":"'법정동(2013)'!AT83-'법정동(2012)'!AT85","v":{"v":0,"d":"0.0"}},{"$f":"'법정동(2013)'!AU83-'법정동(2012)'!AU85","v":{"v":0,"d":"0.0"}},{"$f":"'법정동(2013)'!AV83-'법정동(2012)'!AV85","v":{"v":0,"d":"0.0"}},{"$f":"'법정동(2013)'!AW83-'법정동(2012)'!AW85","v":{"v":0,"d":"0.0"}},{"$f":"'법정동(2013)'!AX83-'법정동(2012)'!AX85","v":{"v":0,"d":"0.0"}},{"$f":"'법정동(2013)'!AY83-'법정동(2012)'!AY85","v":{"v":0,"d":"0.0"}},{"$f":"'법정동(2013)'!AZ83-'법정동(2012)'!AZ85","v":{"v":0,"d":"0.0"}},{"$f":"'법정동(2013)'!BA83-'법정동(2012)'!BA85","v":{"v":0,"d":"0.0"}},{"$f":"'법정동(2013)'!BB83-'법정동(2012)'!BB85","v":{"v":0,"d":"0.0"}},{"$f":"'법정동(2013)'!BC83-'법정동(2012)'!BC85","v":{"v":0,"d":"0.0"}},{"$f":"'법정동(2013)'!BD83-'법정동(2012)'!BD85","v":{"v":-380,"d":"-380.0"}},{"$f":"'법정동(2013)'!BE83-'법정동(2012)'!BE85","v":{"v":-1,"d":"-1.0"}},{"$f":"'법정동(2013)'!BF83-'법정동(2012)'!BF85","v":{"v":0,"d":"0.0"}},{"$f":"'법정동(2013)'!BG83-'법정동(2012)'!BG85","v":{"v":0,"d":"0.0"}}]
["율촌면 여동리",{"$f":"'법정동(2013)'!B84-'법정동(2012)'!B86","v":{"v":0,"d":"0.0"}},{"$f":"'법정동(2013)'!C84-'법정동(2012)'!C86","v":{"v":0,"d":"0.0"}},{"$f":"'법정동(2013)'!D84-'법정동(2012)'!D86","v":{"v":0,"d":"0.0"}},{"$f":"'법정동(2013)'!E84-'법정동(2012)'!E86","v":{"v":0,"d":"0.0"}},{"$f":"'법정동(2013)'!F84-'법정동(2012)'!F86","v":{"v":0,"d":"0.0"}},{"$f":"'법정동(2013)'!G84-'법정동(2012)'!G86","v":{"v":0,"d":"0.0"}},{"$f":"'법정동(2013)'!H84-'법정동(2012)'!H86","v":{"v":0,"d":"0.0"}},{"$f":"'법정동(2013)'!I84-'법정동(2012)'!I86","v":{"v":0,"d":"0.0"}},{"$f":"'법정동(2013)'!J84-'법정동(2012)'!J86","v":{"v":0,"d":"0.0"}},{"$f":"'법정동(2013)'!K84-'법정동(2012)'!K86","v":{"v":0,"d":"0.0"}},{"$f":"'법정동(2013)'!L84-'법정동(2012)'!L86","v":{"v":0,"d":"0.0"}},{"$f":"'법정동(2013)'!M84-'법정동(2012)'!M86","v":{"v":0,"d":"0.0"}},{"$f":"'법정동(2013)'!N84-'법정동(2012)'!N86","v":{"v":0,"d":"0.0"}},{"$f":"'법정동(2013)'!O84-'법정동(2012)'!O86","v":{"v":0,"d":"0.0"}},{"$f":"'법정동(2013)'!P84-'법정동(2012)'!P86","v":{"v":0,"d":"0.0"}},{"$f":"'법정동(2013)'!Q84-'법정동(2012)'!Q86","v":{"v":0,"d":"0.0"}},{"$f":"'법정동(2013)'!R84-'법정동(2012)'!R86","v":{"v":0,"d":"0.0"}},{"$f":"'법정동(2013)'!S84-'법정동(2012)'!S86","v":{"v":0,"d":"0.0"}},{"$f":"'법정동(2013)'!T84-'법정동(2012)'!T86","v":{"v":0,"d":"0.0"}},{"$f":"'법정동(2013)'!U84-'법정동(2012)'!U86","v":{"v":0,"d":"0.0"}},{"$f":"'법정동(2013)'!V84-'법정동(2012)'!V86","v":{"v":0,"d":"0.0"}},{"$f":"'법정동(2013)'!W84-'법정동(2012)'!W86","v":{"v":0,"d":"0.0"}},{"$f":"'법정동(2013)'!X84-'법정동(2012)'!X86","v":{"v":0,"d":"0.0"}},{"$f":"'법정동(2013)'!Y84-'법정동(2012)'!Y86","v":{"v":0,"d":"0.0"}},{"$f":"'법정동(2013)'!Z84-'법정동(2012)'!Z86","v":{"v":0,"d":"0.0"}},{"$f":"'법정동(2013)'!AA84-'법정동(2012)'!AA86","v":{"v":0,"d":"0.0"}},{"$f":"'법정동(2013)'!AB84-'법정동(2012)'!AB86","v":{"v":0,"d":"0.0"}},{"$f":"'법정동(2013)'!AC84-'법정동(2012)'!AC86","v":{"v":0,"d":"0.0"}},{"$f":"'법정동(2013)'!AD84-'법정동(2012)'!AD86","v":{"v":0,"d":"0.0"}},{"$f":"'법정동(2013)'!AE84-'법정동(2012)'!AE86","v":{"v":0,"d":"0.0"}},{"$f":"'법정동(2013)'!AF84-'법정동(2012)'!AF86","v":{"v":0,"d":"0.0"}},{"$f":"'법정동(2013)'!AG84-'법정동(2012)'!AG86","v":{"v":0,"d":"0.0"}},{"$f":"'법정동(2013)'!AH84-'법정동(2012)'!AH86","v":{"v":0,"d":"0.0"}},{"$f":"'법정동(2013)'!AI84-'법정동(2012)'!AI86","v":{"v":0,"d":"0.0"}},{"$f":"'법정동(2013)'!AJ84-'법정동(2012)'!AJ86","v":{"v":0,"d":"0.0"}},{"$f":"'법정동(2013)'!AK84-'법정동(2012)'!AK86","v":{"v":0,"d":"0.0"}},{"$f":"'법정동(2013)'!AL84-'법정동(2012)'!AL86","v":{"v":0,"d":"0.0"}},{"$f":"'법정동(2013)'!AM84-'법정동(2012)'!AM86","v":{"v":0,"d":"0.0"}},{"$f":"'법정동(2013)'!AN84-'법정동(2012)'!AN86","v":{"v":0,"d":"0.0"}},{"$f":"'법정동(2013)'!AO84-'법정동(2012)'!AO86","v":{"v":0,"d":"0.0"}},{"$f":"'법정동(2013)'!AP84-'법정동(2012)'!AP86","v":{"v":0,"d":"0.0"}},{"$f":"'법정동(2013)'!AQ84-'법정동(2012)'!AQ86","v":{"v":0,"d":"0.0"}},{"$f":"'법정동(2013)'!AR84-'법정동(2012)'!AR86","v":{"v":0,"d":"0.0"}},{"$f":"'법정동(2013)'!AS84-'법정동(2012)'!AS86","v":{"v":0,"d":"0.0"}},{"$f":"'법정동(2013)'!AT84-'법정동(2012)'!AT86","v":{"v":0,"d":"0.0"}},{"$f":"'법정동(2013)'!AU84-'법정동(2012)'!AU86","v":{"v":0,"d":"0.0"}},{"$f":"'법정동(2013)'!AV84-'법정동(2012)'!AV86","v":{"v":0,"d":"0.0"}},{"$f":"'법정동(2013)'!AW84-'법정동(2012)'!AW86","v":{"v":0,"d":"0.0"}},{"$f":"'법정동(2013)'!AX84-'법정동(2012)'!AX86","v":{"v":0,"d":"0.0"}},{"$f":"'법정동(2013)'!AY84-'법정동(2012)'!AY86","v":{"v":0,"d":"0.0"}},{"$f":"'법정동(2013)'!AZ84-'법정동(2012)'!AZ86","v":{"v":0,"d":"0.0"}},{"$f":"'법정동(2013)'!BA84-'법정동(2012)'!BA86","v":{"v":0,"d":"0.0"}},{"$f":"'법정동(2013)'!BB84-'법정동(2012)'!BB86","v":{"v":0,"d":"0.0"}},{"$f":"'법정동(2013)'!BC84-'법정동(2012)'!BC86","v":{"v":0,"d":"0.0"}},{"$f":"'법정동(2013)'!BD84-'법정동(2012)'!BD86","v":{"v":0,"d":"0.0"}},{"$f":"'법정동(2013)'!BE84-'법정동(2012)'!BE86","v":{"v":0,"d":"0.0"}},{"$f":"'법정동(2013)'!BF84-'법정동(2012)'!BF86","v":{"v":0,"d":"0.0"}},{"$f":"'법정동(2013)'!BG84-'법정동(2012)'!BG86","v":{"v":0,"d":"0.0"}}]
["화양면 나진리",{"$f":"'법정동(2013)'!B85-'법정동(2012)'!B87","v":{"v":-210.99999999906868,"d":"-211.0"}},{"$f":"'법정동(2013)'!C85-'법정동(2012)'!C87","v":{"v":23,"d":"23.0"}},{"$f":"'법정동(2013)'!D85-'법정동(2012)'!D87","v":{"v":-2036,"d":"-2,036.0"}},{"$f":"'법정동(2013)'!E85-'법정동(2012)'!E87","v":{"v":1,"d":"1.0"}},{"$f":"'법정동(2013)'!F85-'법정동(2012)'!F87","v":{"v":0,"d":"0.0"}},{"$f":"'법정동(2013)'!G85-'법정동(2012)'!G87","v":{"v":8,"d":"8.0"}},{"$f":"'법정동(2013)'!H85-'법정동(2012)'!H87","v":{"v":0,"d":"0.0"}},{"$f":"'법정동(2013)'!I85-'법정동(2012)'!I87","v":{"v":0,"d":"0.0"}},{"$f":"'법정동(2013)'!J85-'법정동(2012)'!J87","v":{"v":0,"d":"0.0"}},{"$f":"'법정동(2013)'!K85-'법정동(2012)'!K87","v":{"v":0,"d":"0.0"}},{"$f":"'법정동(2013)'!L85-'법정동(2012)'!L87","v":{"v":-940,"d":"-940.0"}},{"$f":"'법정동(2013)'!M85-'법정동(2012)'!M87","v":{"v":0,"d":"0.0"}},{"$f":"'법정동(2013)'!N85-'법정동(2012)'!N87","v":{"v":0,"d":"0.0"}},{"$f":"'법정동(2013)'!O85-'법정동(2012)'!O87","v":{"v":0,"d":"0.0"}},{"$f":"'법정동(2013)'!P85-'법정동(2012)'!P87","v":{"v":0,"d":"0.0"}},{"$f":"'법정동(2013)'!Q85-'법정동(2012)'!Q87","v":{"v":0,"d":"0.0"}},{"$f":"'법정동(2013)'!R85-'법정동(2012)'!R87","v":{"v":2398,"d":"2,398.0"}},{"$f":"'법정동(2013)'!S85-'법정동(2012)'!S87","v":{"v":12,"d":"12.0"}},{"$f":"'법정동(2013)'!T85-'법정동(2012)'!T87","v":{"v":0,"d":"0.0"}},{"$f":"'법정동(2013)'!U85-'법정동(2012)'!U87","v":{"v":0,"d":"0.0"}},{"$f":"'법정동(2013)'!V85-'법정동(2012)'!V87","v":{"v":0,"d":"0.0"}},{"$f":"'법정동(2013)'!W85-'법정동(2012)'!W87","v":{"v":0,"d":"0.0"}},{"$f":"'법정동(2013)'!X85-'법정동(2012)'!X87","v":{"v":647,"d":"647.0"}},{"$f":"'법정동(2013)'!Y85-'법정동(2012)'!Y87","v":{"v":2,"d":"2.0"}},{"$f":"'법정동(2013)'!Z85-'법정동(2012)'!Z87","v":{"v":0,"d":"0.0"}},{"$f":"'법정동(2013)'!AA85-'법정동(2012)'!AA87","v":{"v":0,"d":"0.0"}},{"$f":"'법정동(2013)'!AB85-'법정동(2012)'!AB87","v":{"v":0,"d":"0.0"}},{"$f":"'법정동(2013)'!AC85-'법정동(2012)'!AC87","v":{"v":0,"d":"0.0"}},{"$f":"'법정동(2013)'!AD85-'법정동(2012)'!AD87","v":{"v":327,"d":"327.0"}},{"$f":"'법정동(2013)'!AE85-'법정동(2012)'!AE87","v":{"v":1,"d":"1.0"}},{"$f":"'법정동(2013)'!AF85-'법정동(2012)'!AF87","v":{"v":0,"d":"0.0"}},{"$f":"'법정동(2013)'!AG85-'법정동(2012)'!AG87","v":{"v":0,"d":"0.0"}},{"$f":"'법정동(2013)'!AH85-'법정동(2012)'!AH87","v":{"v":0,"d":"0.0"}},{"$f":"'법정동(2013)'!AI85-'법정동(2012)'!AI87","v":{"v":0,"d":"0.0"}},{"$f":"'법정동(2013)'!AJ85-'법정동(2012)'!AJ87","v":{"v":0,"d":"0.0"}},{"$f":"'법정동(2013)'!AK85-'법정동(2012)'!AK87","v":{"v":0,"d":"0.0"}},{"$f":"'법정동(2013)'!AL85-'법정동(2012)'!AL87","v":{"v":0,"d":"0.0"}},{"$f":"'법정동(2013)'!AM85-'법정동(2012)'!AM87","v":{"v":0,"d":"0.0"}},{"$f":"'법정동(2013)'!AN85-'법정동(2012)'!AN87","v":{"v":0,"d":"0.0"}},{"$f":"'법정동(2013)'!AO85-'법정동(2012)'!AO87","v":{"v":0,"d":"0.0"}},{"$f":"'법정동(2013)'!AP85-'법정동(2012)'!AP87","v":{"v":0,"d":"0.0"}},{"$f":"'법정동(2013)'!AQ85-'법정동(2012)'!AQ87","v":{"v":0,"d":"0.0"}},{"$f":"'법정동(2013)'!AR85-'법정동(2012)'!AR87","v":{"v":0,"d":"0.0"}},{"$f":"'법정동(2013)'!AS85-'법정동(2012)'!AS87","v":{"v":0,"d":"0.0"}},{"$f":"'법정동(2013)'!AT85-'법정동(2012)'!AT87","v":{"v":0,"d":"0.0"}},{"$f":"'법정동(2013)'!AU85-'법정동(2012)'!AU87","v":{"v":0,"d":"0.0"}},{"$f":"'법정동(2013)'!AV85-'법정동(2012)'!AV87","v":{"v":0,"d":"0.0"}},{"$f":"'법정동(2013)'!AW85-'법정동(2012)'!AW87","v":{"v":0,"d":"0.0"}},{"$f":"'법정동(2013)'!AX85-'법정동(2012)'!AX87","v":{"v":0,"d":"0.0"}},{"$f":"'법정동(2013)'!AY85-'법정동(2012)'!AY87","v":{"v":0,"d":"0.0"}},{"$f":"'법정동(2013)'!AZ85-'법정동(2012)'!AZ87","v":{"v":-607,"d":"-607.0"}},{"$f":"'법정동(2013)'!BA85-'법정동(2012)'!BA87","v":{"v":-1,"d":"-1.0"}},{"$f":"'법정동(2013)'!BB85-'법정동(2012)'!BB87","v":{"v":0,"d":"0.0"}},{"$f":"'법정동(2013)'!BC85-'법정동(2012)'!BC87","v":{"v":0,"d":"0.0"}},{"$f":"'법정동(2013)'!BD85-'법정동(2012)'!BD87","v":{"v":0,"d":"0.0"}},{"$f":"'법정동(2013)'!BE85-'법정동(2012)'!BE87","v":{"v":0,"d":"0.0"}},{"$f":"'법정동(2013)'!BF85-'법정동(2012)'!BF87","v":{"v":0,"d":"0.0"}},{"$f":"'법정동(2013)'!BG85-'법정동(2012)'!BG87","v":{"v":0,"d":"0.0"}}]
["화양면 용주리",{"$f":"'법정동(2013)'!B86-'법정동(2012)'!B88","v":{"v":-116,"d":"-116.0"}},{"$f":"'법정동(2013)'!C86-'법정동(2012)'!C88","v":{"v":3,"d":"3.0"}},{"$f":"'법정동(2013)'!D86-'법정동(2012)'!D88","v":{"v":13367,"d":"13,367.0"}},{"$f":"'법정동(2013)'!E86-'법정동(2012)'!E88","v":{"v":-6,"d":"-6.0"}},{"$f":"'법정동(2013)'!F86-'법정동(2012)'!F88","v":{"v":-49291,"d":"-49,291.0"}},{"$f":"'법정동(2013)'!G86-'법정동(2012)'!G88","v":{"v":-32,"d":"-32.0"}},{"$f":"'법정동(2013)'!H86-'법정동(2012)'!H88","v":{"v":0,"d":"0.0"}},{"$f":"'법정동(2013)'!I86-'법정동(2012)'!I88","v":{"v":0,"d":"0.0"}},{"$f":"'법정동(2013)'!J86-'법정동(2012)'!J88","v":{"v":0,"d":"0.0"}},{"$f":"'법정동(2013)'!K86-'법정동(2012)'!K88","v":{"v":0,"d":"0.0"}},{"$f":"'법정동(2013)'!L86-'법정동(2012)'!L88","v":{"v":-6189,"d":"-6,189.0"}},{"$f":"'법정동(2013)'!M86-'법정동(2012)'!M88","v":{"v":-13,"d":"-13.0"}},{"$f":"'법정동(2013)'!N86-'법정동(2012)'!N88","v":{"v":0,"d":"0.0"}},{"$f":"'법정동(2013)'!O86-'법정동(2012)'!O88","v":{"v":0,"d":"0.0"}},{"$f":"'법정동(2013)'!P86-'법정동(2012)'!P88","v":{"v":0,"d":"0.0"}},{"$f":"'법정동(2013)'!Q86-'법정동(2012)'!Q88","v":{"v":0,"d":"0.0"}},{"$f":"'법정동(2013)'!R86-'법정동(2012)'!R88","v":{"v":2561,"d":"2,561.0"}},{"$f":"'법정동(2013)'!S86-'법정동(2012)'!S88","v":{"v":6,"d":"6.0"}},{"$f":"'법정동(2013)'!T86-'법정동(2012)'!T88","v":{"v":0,"d":"0.0"}},{"$f":"'법정동(2013)'!U86-'법정동(2012)'!U88","v":{"v":0,"d":"0.0"}},{"$f":"'법정동(2013)'!V86-'법정동(2012)'!V88","v":{"v":0,"d":"0.0"}},{"$f":"'법정동(2013)'!W86-'법정동(2012)'!W88","v":{"v":0,"d":"0.0"}},{"$f":"'법정동(2013)'!X86-'법정동(2012)'!X88","v":{"v":0,"d":"0.0"}},{"$f":"'법정동(2013)'!Y86-'법정동(2012)'!Y88","v":{"v":0,"d":"0.0"}},{"$f":"'법정동(2013)'!Z86-'법정동(2012)'!Z88","v":{"v":0,"d":"0.0"}},{"$f":"'법정동(2013)'!AA86-'법정동(2012)'!AA88","v":{"v":0,"d":"0.0"}},{"$f":"'법정동(2013)'!AB86-'법정동(2012)'!AB88","v":{"v":655,"d":"655.0"}},{"$f":"'법정동(2013)'!AC86-'법정동(2012)'!AC88","v":{"v":1,"d":"1.0"}},{"$f":"'법정동(2013)'!AD86-'법정동(2012)'!AD88","v":{"v":35499,"d":"35,499.0"}},{"$f":"'법정동(2013)'!AE86-'법정동(2012)'!AE88","v":{"v":45,"d":"45.0"}},{"$f":"'법정동(2013)'!AF86-'법정동(2012)'!AF88","v":{"v":0,"d":"0.0"}},{"$f":"'법정동(2013)'!AG86-'법정동(2012)'!AG88","v":{"v":0,"d":"0.0"}},{"$f":"'법정동(2013)'!AH86-'법정동(2012)'!AH88","v":{"v":0,"d":"0.0"}},{"$f":"'법정동(2013)'!AI86-'법정동(2012)'!AI88","v":{"v":0,"d":"0.0"}},{"$f":"'법정동(2013)'!AJ86-'법정동(2012)'!AJ88","v":{"v":0,"d":"0.0"}},{"$f":"'법정동(2013)'!AK86-'법정동(2012)'!AK88","v":{"v":0,"d":"0.0"}},{"$f":"'법정동(2013)'!AL86-'법정동(2012)'!AL88","v":{"v":0,"d":"0.0"}},{"$f":"'법정동(2013)'!AM86-'법정동(2012)'!AM88","v":{"v":0,"d":"0.0"}},{"$f":"'법정동(2013)'!AN86-'법정동(2012)'!AN88","v":{"v":0,"d":"0.0"}},{"$f":"'법정동(2013)'!AO86-'법정동(2012)'!AO88","v":{"v":0,"d":"0.0"}},{"$f":"'법정동(2013)'!AP86-'법정동(2012)'!AP88","v":{"v":3315,"d":"3,315.0"}},{"$f":"'법정동(2013)'!AQ86-'법정동(2012)'!AQ88","v":{"v":1,"d":"1.0"}},{"$f":"'법정동(2013)'!AR86-'법정동(2012)'!AR88","v":{"v":0,"d":"0.0"}},{"$f":"'법정동(2013)'!AS86-'법정동(2012)'!AS88","v":{"v":0,"d":"0.0"}},{"$f":"'법정동(2013)'!AT86-'법정동(2012)'!AT88","v":{"v":0,"d":"0.0"}},{"$f":"'법정동(2013)'!AU86-'법정동(2012)'!AU88","v":{"v":0,"d":"0.0"}},{"$f":"'법정동(2013)'!AV86-'법정동(2012)'!AV88","v":{"v":0,"d":"0.0"}},{"$f":"'법정동(2013)'!AW86-'법정동(2012)'!AW88","v":{"v":0,"d":"0.0"}},{"$f":"'법정동(2013)'!AX86-'법정동(2012)'!AX88","v":{"v":0,"d":"0.0"}},{"$f":"'법정동(2013)'!AY86-'법정동(2012)'!AY88","v":{"v":0,"d":"0.0"}},{"$f":"'법정동(2013)'!AZ86-'법정동(2012)'!AZ88","v":{"v":0,"d":"0.0"}},{"$f":"'법정동(2013)'!BA86-'법정동(2012)'!BA88","v":{"v":0,"d":"0.0"}},{"$f":"'법정동(2013)'!BB86-'법정동(2012)'!BB88","v":{"v":0,"d":"0.0"}},{"$f":"'법정동(2013)'!BC86-'법정동(2012)'!BC88","v":{"v":0,"d":"0.0"}},{"$f":"'법정동(2013)'!BD86-'법정동(2012)'!BD88","v":{"v":0,"d":"0.0"}},{"$f":"'법정동(2013)'!BE86-'법정동(2012)'!BE88","v":{"v":0,"d":"0.0"}},{"$f":"'법정동(2013)'!BF86-'법정동(2012)'!BF88","v":{"v":-33,"d":"-33.0"}},{"$f":"'법정동(2013)'!BG86-'법정동(2012)'!BG88","v":{"v":1,"d":"1.0"}}]
["화양면 창무리",{"$f":"'법정동(2013)'!B87-'법정동(2012)'!B89","v":{"v":-376.99999999953434,"d":"-377.0"}},{"$f":"'법정동(2013)'!C87-'법정동(2012)'!C89","v":{"v":30,"d":"30.0"}},{"$f":"'법정동(2013)'!D87-'법정동(2012)'!D89","v":{"v":-720,"d":"-720.0"}},{"$f":"'법정동(2013)'!E87-'법정동(2012)'!E89","v":{"v":21,"d":"21.0"}},{"$f":"'법정동(2013)'!F87-'법정동(2012)'!F89","v":{"v":-466,"d":"-466.0"}},{"$f":"'법정동(2013)'!G87-'법정동(2012)'!G89","v":{"v":4,"d":"4.0"}},{"$f":"'법정동(2013)'!H87-'법정동(2012)'!H89","v":{"v":0,"d":"0.0"}},{"$f":"'법정동(2013)'!I87-'법정동(2012)'!I89","v":{"v":0,"d":"0.0"}},{"$f":"'법정동(2013)'!J87-'법정동(2012)'!J89","v":{"v":-660,"d":"-660.0"}},{"$f":"'법정동(2013)'!K87-'법정동(2012)'!K89","v":{"v":-1,"d":"-1.0"}},{"$f":"'법정동(2013)'!L87-'법정동(2012)'!L89","v":{"v":-377,"d":"-377.0"}},{"$f":"'법정동(2013)'!M87-'법정동(2012)'!M89","v":{"v":4,"d":"4.0"}},{"$f":"'법정동(2013)'!N87-'법정동(2012)'!N89","v":{"v":0,"d":"0.0"}},{"$f":"'법정동(2013)'!O87-'법정동(2012)'!O89","v":{"v":0,"d":"0.0"}},{"$f":"'법정동(2013)'!P87-'법정동(2012)'!P89","v":{"v":0,"d":"0.0"}},{"$f":"'법정동(2013)'!Q87-'법정동(2012)'!Q89","v":{"v":0,"d":"0.0"}},{"$f":"'법정동(2013)'!R87-'법정동(2012)'!R89","v":{"v":1155,"d":"1,155.0"}},{"$f":"'법정동(2013)'!S87-'법정동(2012)'!S89","v":{"v":-2,"d":"-2.0"}},{"$f":"'법정동(2013)'!T87-'법정동(2012)'!T89","v":{"v":0,"d":"0.0"}},{"$f":"'법정동(2013)'!U87-'법정동(2012)'!U89","v":{"v":0,"d":"0.0"}},{"$f":"'법정동(2013)'!V87-'법정동(2012)'!V89","v":{"v":0,"d":"0.0"}},{"$f":"'법정동(2013)'!W87-'법정동(2012)'!W89","v":{"v":0,"d":"0.0"}},{"$f":"'법정동(2013)'!X87-'법정동(2012)'!X89","v":{"v":-4192,"d":"-4,192.0"}},{"$f":"'법정동(2013)'!Y87-'법정동(2012)'!Y89","v":{"v":-2,"d":"-2.0"}},{"$f":"'법정동(2013)'!Z87-'법정동(2012)'!Z89","v":{"v":4192,"d":"4,192.0"}},{"$f":"'법정동(2013)'!AA87-'법정동(2012)'!AA89","v":{"v":2,"d":"2.0"}},{"$f":"'법정동(2013)'!AB87-'법정동(2012)'!AB89","v":{"v":691,"d":"691.0"}},{"$f":"'법정동(2013)'!AC87-'법정동(2012)'!AC89","v":{"v":2,"d":"2.0"}},{"$f":"'법정동(2013)'!AD87-'법정동(2012)'!AD89","v":{"v":0,"d":"0.0"}},{"$f":"'법정동(2013)'!AE87-'법정동(2012)'!AE89","v":{"v":1,"d":"1.0"}},{"$f":"'법정동(2013)'!AF87-'법정동(2012)'!AF89","v":{"v":0,"d":"0.0"}},{"$f":"'법정동(2013)'!AG87-'법정동(2012)'!AG89","v":{"v":0,"d":"0.0"}},{"$f":"'법정동(2013)'!AH87-'법정동(2012)'!AH89","v":{"v":0,"d":"0.0"}},{"$f":"'법정동(2013)'!AI87-'법정동(2012)'!AI89","v":{"v":0,"d":"0.0"}},{"$f":"'법정동(2013)'!AJ87-'법정동(2012)'!AJ89","v":{"v":0,"d":"0.0"}},{"$f":"'법정동(2013)'!AK87-'법정동(2012)'!AK89","v":{"v":0,"d":"0.0"}},{"$f":"'법정동(2013)'!AL87-'법정동(2012)'!AL89","v":{"v":0,"d":"0.0"}},{"$f":"'법정동(2013)'!AM87-'법정동(2012)'!AM89","v":{"v":0,"d":"0.0"}},{"$f":"'법정동(2013)'!AN87-'법정동(2012)'!AN89","v":{"v":0,"d":"0.0"}},{"$f":"'법정동(2013)'!AO87-'법정동(2012)'!AO89","v":{"v":0,"d":"0.0"}},{"$f":"'법정동(2013)'!AP87-'법정동(2012)'!AP89","v":{"v":0,"d":"0.0"}},{"$f":"'법정동(2013)'!AQ87-'법정동(2012)'!AQ89","v":{"v":0,"d":"0.0"}},{"$f":"'법정동(2013)'!AR87-'법정동(2012)'!AR89","v":{"v":0,"d":"0.0"}},{"$f":"'법정동(2013)'!AS87-'법정동(2012)'!AS89","v":{"v":0,"d":"0.0"}},{"$f":"'법정동(2013)'!AT87-'법정동(2012)'!AT89","v":{"v":0,"d":"0.0"}},{"$f":"'법정동(2013)'!AU87-'법정동(2012)'!AU89","v":{"v":0,"d":"0.0"}},{"$f":"'법정동(2013)'!AV87-'법정동(2012)'!AV89","v":{"v":0,"d":"0.0"}},{"$f":"'법정동(2013)'!AW87-'법정동(2012)'!AW89","v":{"v":0,"d":"0.0"}},{"$f":"'법정동(2013)'!AX87-'법정동(2012)'!AX89","v":{"v":0,"d":"0.0"}},{"$f":"'법정동(2013)'!AY87-'법정동(2012)'!AY89","v":{"v":0,"d":"0.0"}},{"$f":"'법정동(2013)'!AZ87-'법정동(2012)'!AZ89","v":{"v":0,"d":"0.0"}},{"$f":"'법정동(2013)'!BA87-'법정동(2012)'!BA89","v":{"v":0,"d":"0.0"}},{"$f":"'법정동(2013)'!BB87-'법정동(2012)'!BB89","v":{"v":0,"d":"0.0"}},{"$f":"'법정동(2013)'!BC87-'법정동(2012)'!BC89","v":{"v":0,"d":"0.0"}},{"$f":"'법정동(2013)'!BD87-'법정동(2012)'!BD89","v":{"v":0,"d":"0.0"}},{"$f":"'법정동(2013)'!BE87-'법정동(2012)'!BE89","v":{"v":0,"d":"0.0"}},{"$f":"'법정동(2013)'!BF87-'법정동(2012)'!BF89","v":{"v":0,"d":"0.0"}},{"$f":"'법정동(2013)'!BG87-'법정동(2012)'!BG89","v":{"v":1,"d":"1.0"}}]
["화양면 이천리",{"$f":"'법정동(2013)'!B88-'법정동(2012)'!B90","v":{"v":59,"d":"59.0"}},{"$f":"'법정동(2013)'!C88-'법정동(2012)'!C90","v":{"v":28,"d":"28.0"}},{"$f":"'법정동(2013)'!D88-'법정동(2012)'!D90","v":{"v":-1434,"d":"-1,434.0"}},{"$f":"'법정동(2013)'!E88-'법정동(2012)'!E90","v":{"v":8,"d":"8.0"}},{"$f":"'법정동(2013)'!F88-'법정동(2012)'!F90","v":{"v":-1418,"d":"-1,418.0"}},{"$f":"'법정동(2013)'!G88-'법정동(2012)'!G90","v":{"v":-1,"d":"-1.0"}},{"$f":"'법정동(2013)'!H88-'법정동(2012)'!H90","v":{"v":-42,"d":"-42.0"}},{"$f":"'법정동(2013)'!I88-'법정동(2012)'!I90","v":{"v":1,"d":"1.0"}},{"$f":"'법정동(2013)'!J88-'법정동(2012)'!J90","v":{"v":0,"d":"0.0"}},{"$f":"'법정동(2013)'!K88-'법정동(2012)'!K90","v":{"v":0,"d":"0.0"}},{"$f":"'법정동(2013)'!L88-'법정동(2012)'!L90","v":{"v":59,"d":"59.0"}},{"$f":"'법정동(2013)'!M88-'법정동(2012)'!M90","v":{"v":14,"d":"14.0"}},{"$f":"'법정동(2013)'!N88-'법정동(2012)'!N90","v":{"v":0,"d":"0.0"}},{"$f":"'법정동(2013)'!O88-'법정동(2012)'!O90","v":{"v":0,"d":"0.0"}},{"$f":"'법정동(2013)'!P88-'법정동(2012)'!P90","v":{"v":0,"d":"0.0"}},{"$f":"'법정동(2013)'!Q88-'법정동(2012)'!Q90","v":{"v":0,"d":"0.0"}},{"$f":"'법정동(2013)'!R88-'법정동(2012)'!R90","v":{"v":2044,"d":"2,044.0"}},{"$f":"'법정동(2013)'!S88-'법정동(2012)'!S90","v":{"v":2,"d":"2.0"}},{"$f":"'법정동(2013)'!T88-'법정동(2012)'!T90","v":{"v":0,"d":"0.0"}},{"$f":"'법정동(2013)'!U88-'법정동(2012)'!U90","v":{"v":0,"d":"0.0"}},{"$f":"'법정동(2013)'!V88-'법정동(2012)'!V90","v":{"v":0,"d":"0.0"}},{"$f":"'법정동(2013)'!W88-'법정동(2012)'!W90","v":{"v":0,"d":"0.0"}},{"$f":"'법정동(2013)'!X88-'법정동(2012)'!X90","v":{"v":0,"d":"0.0"}},{"$f":"'법정동(2013)'!Y88-'법정동(2012)'!Y90","v":{"v":0,"d":"0.0"}},{"$f":"'법정동(2013)'!Z88-'법정동(2012)'!Z90","v":{"v":0,"d":"0.0"}},{"$f":"'법정동(2013)'!AA88-'법정동(2012)'!AA90","v":{"v":0,"d":"0.0"}},{"$f":"'법정동(2013)'!AB88-'법정동(2012)'!AB90","v":{"v":0,"d":"0.0"}},{"$f":"'법정동(2013)'!AC88-'법정동(2012)'!AC90","v":{"v":0,"d":"0.0"}},{"$f":"'법정동(2013)'!AD88-'법정동(2012)'!AD90","v":{"v":850,"d":"850.0"}},{"$f":"'법정동(2013)'!AE88-'법정동(2012)'!AE90","v":{"v":4,"d":"4.0"}},{"$f":"'법정동(2013)'!AF88-'법정동(2012)'!AF90","v":{"v":0,"d":"0.0"}},{"$f":"'법정동(2013)'!AG88-'법정동(2012)'!AG90","v":{"v":0,"d":"0.0"}},{"$f":"'법정동(2013)'!AH88-'법정동(2012)'!AH90","v":{"v":0,"d":"0.0"}},{"$f":"'법정동(2013)'!AI88-'법정동(2012)'!AI90","v":{"v":0,"d":"0.0"}},{"$f":"'법정동(2013)'!AJ88-'법정동(2012)'!AJ90","v":{"v":0,"d":"0.0"}},{"$f":"'법정동(2013)'!AK88-'법정동(2012)'!AK90","v":{"v":0,"d":"0.0"}},{"$f":"'법정동(2013)'!AL88-'법정동(2012)'!AL90","v":{"v":0,"d":"0.0"}},{"$f":"'법정동(2013)'!AM88-'법정동(2012)'!AM90","v":{"v":0,"d":"0.0"}},{"$f":"'법정동(2013)'!AN88-'법정동(2012)'!AN90","v":{"v":0,"d":"0.0"}},{"$f":"'법정동(2013)'!AO88-'법정동(2012)'!AO90","v":{"v":0,"d":"0.0"}},{"$f":"'법정동(2013)'!AP88-'법정동(2012)'!AP90","v":{"v":0,"d":"0.0"}},{"$f":"'법정동(2013)'!AQ88-'법정동(2012)'!AQ90","v":{"v":0,"d":"0.0"}},{"$f":"'법정동(2013)'!AR88-'법정동(2012)'!AR90","v":{"v":0,"d":"0.0"}},{"$f":"'법정동(2013)'!AS88-'법정동(2012)'!AS90","v":{"v":0,"d":"0.0"}},{"$f":"'법정동(2013)'!AT88-'법정동(2012)'!AT90","v":{"v":0,"d":"0.0"}},{"$f":"'법정동(2013)'!AU88-'법정동(2012)'!AU90","v":{"v":0,"d":"0.0"}},{"$f":"'법정동(2013)'!AV88-'법정동(2012)'!AV90","v":{"v":0,"d":"0.0"}},{"$f":"'법정동(2013)'!AW88-'법정동(2012)'!AW90","v":{"v":0,"d":"0.0"}},{"$f":"'법정동(2013)'!AX88-'법정동(2012)'!AX90","v":{"v":0,"d":"0.0"}},{"$f":"'법정동(2013)'!AY88-'법정동(2012)'!AY90","v":{"v":0,"d":"0.0"}},{"$f":"'법정동(2013)'!AZ88-'법정동(2012)'!AZ90","v":{"v":0,"d":"0.0"}},{"$f":"'법정동(2013)'!BA88-'법정동(2012)'!BA90","v":{"v":0,"d":"0.0"}},{"$f":"'법정동(2013)'!BB88-'법정동(2012)'!BB90","v":{"v":0,"d":"0.0"}},{"$f":"'법정동(2013)'!BC88-'법정동(2012)'!BC90","v":{"v":0,"d":"0.0"}},{"$f":"'법정동(2013)'!BD88-'법정동(2012)'!BD90","v":{"v":0,"d":"0.0"}},{"$f":"'법정동(2013)'!BE88-'법정동(2012)'!BE90","v":{"v":0,"d":"0.0"}},{"$f":"'법정동(2013)'!BF88-'법정동(2012)'!BF90","v":{"v":0,"d":"0.0"}},{"$f":"'법정동(2013)'!BG88-'법정동(2012)'!BG90","v":{"v":0,"d":"0.0"}}]
["화양면 옥적리",{"$f":"'법정동(2013)'!B89-'법정동(2012)'!B91","v":{"v":-177.00000000186265,"d":"-177.0"}},{"$f":"'법정동(2013)'!C89-'법정동(2012)'!C91","v":{"v":7,"d":"7.0"}},{"$f":"'법정동(2013)'!D89-'법정동(2012)'!D91","v":{"v":-5660,"d":"-5,660.0"}},{"$f":"'법정동(2013)'!E89-'법정동(2012)'!E91","v":{"v":-1,"d":"-1.0"}},{"$f":"'법정동(2013)'!F89-'법정동(2012)'!F91","v":{"v":1487,"d":"1,487.0"}},{"$f":"'법정동(2013)'!G89-'법정동(2012)'!G91","v":{"v":1,"d":"1.0"}},{"$f":"'법정동(2013)'!H89-'법정동(2012)'!H91","v":{"v":0,"d":"0.0"}},{"$f":"'법정동(2013)'!I89-'법정동(2012)'!I91","v":{"v":0,"d":"0.0"}},{"$f":"'법정동(2013)'!J89-'법정동(2012)'!J91","v":{"v":0,"d":"0.0"}},{"$f":"'법정동(2013)'!K89-'법정동(2012)'!K91","v":{"v":0,"d":"0.0"}},{"$f":"'법정동(2013)'!L89-'법정동(2012)'!L91","v":{"v":-5022,"d":"-5,022.0"}},{"$f":"'법정동(2013)'!M89-'법정동(2012)'!M91","v":{"v":0,"d":"0.0"}},{"$f":"'법정동(2013)'!N89-'법정동(2012)'!N91","v":{"v":0,"d":"0.0"}},{"$f":"'법정동(2013)'!O89-'법정동(2012)'!O91","v":{"v":0,"d":"0.0"}},{"$f":"'법정동(2013)'!P89-'법정동(2012)'!P91","v":{"v":0,"d":"0.0"}},{"$f":"'법정동(2013)'!Q89-'법정동(2012)'!Q91","v":{"v":0,"d":"0.0"}},{"$f":"'법정동(2013)'!R89-'법정동(2012)'!R91","v":{"v":1311,"d":"1,311.0"}},{"$f":"'법정동(2013)'!S89-'법정동(2012)'!S91","v":{"v":-1,"d":"-1.0"}},{"$f":"'법정동(2013)'!T89-'법정동(2012)'!T91","v":{"v":4950,"d":"4,950.0"}},{"$f":"'법정동(2013)'!U89-'법정동(2012)'!U91","v":{"v":7,"d":"7.0"}},{"$f":"'법정동(2013)'!V89-'법정동(2012)'!V91","v":{"v":0,"d":"0.0"}},{"$f":"'법정동(2013)'!W89-'법정동(2012)'!W91","v":{"v":0,"d":"0.0"}},{"$f":"'법정동(2013)'!X89-'법정동(2012)'!X91","v":{"v":0,"d":"0.0"}},{"$f":"'법정동(2013)'!Y89-'법정동(2012)'!Y91","v":{"v":0,"d":"0.0"}},{"$f":"'법정동(2013)'!Z89-'법정동(2012)'!Z91","v":{"v":0,"d":"0.0"}},{"$f":"'법정동(2013)'!AA89-'법정동(2012)'!AA91","v":{"v":0,"d":"0.0"}},{"$f":"'법정동(2013)'!AB89-'법정동(2012)'!AB91","v":{"v":0,"d":"0.0"}},{"$f":"'법정동(2013)'!AC89-'법정동(2012)'!AC91","v":{"v":0,"d":"0.0"}},{"$f":"'법정동(2013)'!AD89-'법정동(2012)'!AD91","v":{"v":0,"d":"0.0"}},{"$f":"'법정동(2013)'!AE89-'법정동(2012)'!AE91","v":{"v":0,"d":"0.0"}},{"$f":"'법정동(2013)'!AF89-'법정동(2012)'!AF91","v":{"v":0,"d":"0.0"}},{"$f":"'법정동(2013)'!AG89-'법정동(2012)'!AG91","v":{"v":0,"d":"0.0"}},{"$f":"'법정동(2013)'!AH89-'법정동(2012)'!AH91","v":{"v":0,"d":"0.0"}},{"$f":"'법정동(2013)'!AI89-'법정동(2012)'!AI91","v":{"v":0,"d":"0.0"}},{"$f":"'법정동(2013)'!AJ89-'법정동(2012)'!AJ91","v":{"v":0,"d":"0.0"}},{"$f":"'법정동(2013)'!AK89-'법정동(2012)'!AK91","v":{"v":0,"d":"0.0"}},{"$f":"'법정동(2013)'!AL89-'법정동(2012)'!AL91","v":{"v":0,"d":"0.0"}},{"$f":"'법정동(2013)'!AM89-'법정동(2012)'!AM91","v":{"v":0,"d":"0.0"}},{"$f":"'법정동(2013)'!AN89-'법정동(2012)'!AN91","v":{"v":0,"d":"0.0"}},{"$f":"'법정동(2013)'!AO89-'법정동(2012)'!AO91","v":{"v":0,"d":"0.0"}},{"$f":"'법정동(2013)'!AP89-'법정동(2012)'!AP91","v":{"v":0,"d":"0.0"}},{"$f":"'법정동(2013)'!AQ89-'법정동(2012)'!AQ91","v":{"v":0,"d":"0.0"}},{"$f":"'법정동(2013)'!AR89-'법정동(2012)'!AR91","v":{"v":0,"d":"0.0"}},{"$f":"'법정동(2013)'!AS89-'법정동(2012)'!AS91","v":{"v":0,"d":"0.0"}},{"$f":"'법정동(2013)'!AT89-'법정동(2012)'!AT91","v":{"v":0,"d":"0.0"}},{"$f":"'법정동(2013)'!AU89-'법정동(2012)'!AU91","v":{"v":0,"d":"0.0"}},{"$f":"'법정동(2013)'!AV89-'법정동(2012)'!AV91","v":{"v":0,"d":"0.0"}},{"$f":"'법정동(2013)'!AW89-'법정동(2012)'!AW91","v":{"v":0,"d":"0.0"}},{"$f":"'법정동(2013)'!AX89-'법정동(2012)'!AX91","v":{"v":0,"d":"0.0"}},{"$f":"'법정동(2013)'!AY89-'법정동(2012)'!AY91","v":{"v":0,"d":"0.0"}},{"$f":"'법정동(2013)'!AZ89-'법정동(2012)'!AZ91","v":{"v":0,"d":"0.0"}},{"$f":"'법정동(2013)'!BA89-'법정동(2012)'!BA91","v":{"v":0,"d":"0.0"}},{"$f":"'법정동(2013)'!BB89-'법정동(2012)'!BB91","v":{"v":0,"d":"0.0"}},{"$f":"'법정동(2013)'!BC89-'법정동(2012)'!BC91","v":{"v":0,"d":"0.0"}},{"$f":"'법정동(2013)'!BD89-'법정동(2012)'!BD91","v":{"v":0,"d":"0.0"}},{"$f":"'법정동(2013)'!BE89-'법정동(2012)'!BE91","v":{"v":0,"d":"0.0"}},{"$f":"'법정동(2013)'!BF89-'법정동(2012)'!BF91","v":{"v":2757,"d":"2,757.0"}},{"$f":"'법정동(2013)'!BG89-'법정동(2012)'!BG91","v":{"v":1,"d":"1.0"}}]
["화양면 화동리",{"$f":"'법정동(2013)'!B90-'법정동(2012)'!B92","v":{"v":-386.0000000009313,"d":"-386.0"}},{"$f":"'법정동(2013)'!C90-'법정동(2012)'!C92","v":{"v":-2,"d":"-2.0"}},{"$f":"'법정동(2013)'!D90-'법정동(2012)'!D92","v":{"v":3859.6999999999534,"d":"3,859.7"}},{"$f":"'법정동(2013)'!E90-'법정동(2012)'!E92","v":{"v":-1,"d":"-1.0"}},{"$f":"'법정동(2013)'!F90-'법정동(2012)'!F92","v":{"v":-4321.70000000007,"d":"-4,321.7"}},{"$f":"'법정동(2013)'!G90-'법정동(2012)'!G92","v":{"v":-5,"d":"-5.0"}},{"$f":"'법정동(2013)'!H90-'법정동(2012)'!H92","v":{"v":0,"d":"0.0"}},{"$f":"'법정동(2013)'!I90-'법정동(2012)'!I92","v":{"v":0,"d":"0.0"}},{"$f":"'법정동(2013)'!J90-'법정동(2012)'!J92","v":{"v":0,"d":"0.0"}},{"$f":"'법정동(2013)'!K90-'법정동(2012)'!K92","v":{"v":0,"d":"0.0"}},{"$f":"'법정동(2013)'!L90-'법정동(2012)'!L92","v":{"v":-386,"d":"-386.0"}},{"$f":"'법정동(2013)'!M90-'법정동(2012)'!M92","v":{"v":2,"d":"2.0"}},{"$f":"'법정동(2013)'!N90-'법정동(2012)'!N92","v":{"v":0,"d":"0.0"}},{"$f":"'법정동(2013)'!O90-'법정동(2012)'!O92","v":{"v":0,"d":"0.0"}},{"$f":"'법정동(2013)'!P90-'법정동(2012)'!P92","v":{"v":0,"d":"0.0"}},{"$f":"'법정동(2013)'!Q90-'법정동(2012)'!Q92","v":{"v":0,"d":"0.0"}},{"$f":"'법정동(2013)'!R90-'법정동(2012)'!R92","v":{"v":377,"d":"377.0"}},{"$f":"'법정동(2013)'!S90-'법정동(2012)'!S92","v":{"v":1,"d":"1.0"}},{"$f":"'법정동(2013)'!T90-'법정동(2012)'!T92","v":{"v":0,"d":"0.0"}},{"$f":"'법정동(2013)'!U90-'법정동(2012)'!U92","v":{"v":0,"d":"0.0"}},{"$f":"'법정동(2013)'!V90-'법정동(2012)'!V92","v":{"v":0,"d":"0.0"}},{"$f":"'법정동(2013)'!W90-'법정동(2012)'!W92","v":{"v":0,"d":"0.0"}},{"$f":"'법정동(2013)'!X90-'법정동(2012)'!X92","v":{"v":0,"d":"0.0"}},{"$f":"'법정동(2013)'!Y90-'법정동(2012)'!Y92","v":{"v":0,"d":"0.0"}},{"$f":"'법정동(2013)'!Z90-'법정동(2012)'!Z92","v":{"v":0,"d":"0.0"}},{"$f":"'법정동(2013)'!AA90-'법정동(2012)'!AA92","v":{"v":0,"d":"0.0"}},{"$f":"'법정동(2013)'!AB90-'법정동(2012)'!AB92","v":{"v":0,"d":"0.0"}},{"$f":"'법정동(2013)'!AC90-'법정동(2012)'!AC92","v":{"v":0,"d":"0.0"}},{"$f":"'법정동(2013)'!AD90-'법정동(2012)'!AD92","v":{"v":85,"d":"85.0"}},{"$f":"'법정동(2013)'!AE90-'법정동(2012)'!AE92","v":{"v":1,"d":"1.0"}},{"$f":"'법정동(2013)'!AF90-'법정동(2012)'!AF92","v":{"v":0,"d":"0.0"}},{"$f":"'법정동(2013)'!AG90-'법정동(2012)'!AG92","v":{"v":0,"d":"0.0"}},{"$f":"'법정동(2013)'!AH90-'법정동(2012)'!AH92","v":{"v":0,"d":"0.0"}},{"$f":"'법정동(2013)'!AI90-'법정동(2012)'!AI92","v":{"v":0,"d":"0.0"}},{"$f":"'법정동(2013)'!AJ90-'법정동(2012)'!AJ92","v":{"v":0,"d":"0.0"}},{"$f":"'법정동(2013)'!AK90-'법정동(2012)'!AK92","v":{"v":0,"d":"0.0"}},{"$f":"'법정동(2013)'!AL90-'법정동(2012)'!AL92","v":{"v":0,"d":"0.0"}},{"$f":"'법정동(2013)'!AM90-'법정동(2012)'!AM92","v":{"v":0,"d":"0.0"}},{"$f":"'법정동(2013)'!AN90-'법정동(2012)'!AN92","v":{"v":0,"d":"0.0"}},{"$f":"'법정동(2013)'!AO90-'법정동(2012)'!AO92","v":{"v":0,"d":"0.0"}},{"$f":"'법정동(2013)'!AP90-'법정동(2012)'!AP92","v":{"v":0,"d":"0.0"}},{"$f":"'법정동(2013)'!AQ90-'법정동(2012)'!AQ92","v":{"v":0,"d":"0.0"}},{"$f":"'법정동(2013)'!AR90-'법정동(2012)'!AR92","v":{"v":0,"d":"0.0"}},{"$f":"'법정동(2013)'!AS90-'법정동(2012)'!AS92","v":{"v":0,"d":"0.0"}},{"$f":"'법정동(2013)'!AT90-'법정동(2012)'!AT92","v":{"v":0,"d":"0.0"}},{"$f":"'법정동(2013)'!AU90-'법정동(2012)'!AU92","v":{"v":0,"d":"0.0"}},{"$f":"'법정동(2013)'!AV90-'법정동(2012)'!AV92","v":{"v":0,"d":"0.0"}},{"$f":"'법정동(2013)'!AW90-'법정동(2012)'!AW92","v":{"v":0,"d":"0.0"}},{"$f":"'법정동(2013)'!AX90-'법정동(2012)'!AX92","v":{"v":0,"d":"0.0"}},{"$f":"'법정동(2013)'!AY90-'법정동(2012)'!AY92","v":{"v":0,"d":"0.0"}},{"$f":"'법정동(2013)'!AZ90-'법정동(2012)'!AZ92","v":{"v":0,"d":"0.0"}},{"$f":"'법정동(2013)'!BA90-'법정동(2012)'!BA92","v":{"v":0,"d":"0.0"}},{"$f":"'법정동(2013)'!BB90-'법정동(2012)'!BB92","v":{"v":0,"d":"0.0"}},{"$f":"'법정동(2013)'!BC90-'법정동(2012)'!BC92","v":{"v":0,"d":"0.0"}},{"$f":"'법정동(2013)'!BD90-'법정동(2012)'!BD92","v":{"v":0,"d":"0.0"}},{"$f":"'법정동(2013)'!BE90-'법정동(2012)'!BE92","v":{"v":0,"d":"0.0"}},{"$f":"'법정동(2013)'!BF90-'법정동(2012)'!BF92","v":{"v":0,"d":"0.0"}},{"$f":"'법정동(2013)'!BG90-'법정동(2012)'!BG92","v":{"v":0,"d":"0.0"}}]
["화양면 서촌리",{"$f":"'법정동(2013)'!B91-'법정동(2012)'!B93","v":{"v":-574.0000000009313,"d":"-574.0"}},{"$f":"'법정동(2013)'!C91-'법정동(2012)'!C93","v":{"v":5,"d":"5.0"}},{"$f":"'법정동(2013)'!D91-'법정동(2012)'!D93","v":{"v":3433,"d":"3,433.0"}},{"$f":"'법정동(2013)'!E91-'법정동(2012)'!E93","v":{"v":3,"d":"3.0"}},{"$f":"'법정동(2013)'!F91-'법정동(2012)'!F93","v":{"v":-3610,"d":"-3,610.0"}},{"$f":"'법정동(2013)'!G91-'법정동(2012)'!G93","v":{"v":-2,"d":"-2.0"}},{"$f":"'법정동(2013)'!H91-'법정동(2012)'!H93","v":{"v":0,"d":"0.0"}},{"$f":"'법정동(2013)'!I91-'법정동(2012)'!I93","v":{"v":0,"d":"0.0"}},{"$f":"'법정동(2013)'!J91-'법정동(2012)'!J93","v":{"v":0,"d":"0.0"}},{"$f":"'법정동(2013)'!K91-'법정동(2012)'!K93","v":{"v":0,"d":"0.0"}},{"$f":"'법정동(2013)'!L91-'법정동(2012)'!L93","v":{"v":-944,"d":"-944.0"}},{"$f":"'법정동(2013)'!M91-'법정동(2012)'!M93","v":{"v":2,"d":"2.0"}},{"$f":"'법정동(2013)'!N91-'법정동(2012)'!N93","v":{"v":0,"d":"0.0"}},{"$f":"'법정동(2013)'!O91-'법정동(2012)'!O93","v":{"v":0,"d":"0.0"}},{"$f":"'법정동(2013)'!P91-'법정동(2012)'!P93","v":{"v":0,"d":"0.0"}},{"$f":"'법정동(2013)'!Q91-'법정동(2012)'!Q93","v":{"v":0,"d":"0.0"}},{"$f":"'법정동(2013)'!R91-'법정동(2012)'!R93","v":{"v":547,"d":"547.0"}},{"$f":"'법정동(2013)'!S91-'법정동(2012)'!S93","v":{"v":2,"d":"2.0"}},{"$f":"'법정동(2013)'!T91-'법정동(2012)'!T93","v":{"v":0,"d":"0.0"}},{"$f":"'법정동(2013)'!U91-'법정동(2012)'!U93","v":{"v":0,"d":"0.0"}},{"$f":"'법정동(2013)'!V91-'법정동(2012)'!V93","v":{"v":0,"d":"0.0"}},{"$f":"'법정동(2013)'!W91-'법정동(2012)'!W93","v":{"v":0,"d":"0.0"}},{"$f":"'법정동(2013)'!X91-'법정동(2012)'!X93","v":{"v":0,"d":"0.0"}},{"$f":"'법정동(2013)'!Y91-'법정동(2012)'!Y93","v":{"v":0,"d":"0.0"}},{"$f":"'법정동(2013)'!Z91-'법정동(2012)'!Z93","v":{"v":0,"d":"0.0"}},{"$f":"'법정동(2013)'!AA91-'법정동(2012)'!AA93","v":{"v":0,"d":"0.0"}},{"$f":"'법정동(2013)'!AB91-'법정동(2012)'!AB93","v":{"v":0,"d":"0.0"}},{"$f":"'법정동(2013)'!AC91-'법정동(2012)'!AC93","v":{"v":0,"d":"0.0"}},{"$f":"'법정동(2013)'!AD91-'법정동(2012)'!AD93","v":{"v":0,"d":"0.0"}},{"$f":"'법정동(2013)'!AE91-'법정동(2012)'!AE93","v":{"v":0,"d":"0.0"}},{"$f":"'법정동(2013)'!AF91-'법정동(2012)'!AF93","v":{"v":0,"d":"0.0"}},{"$f":"'법정동(2013)'!AG91-'법정동(2012)'!AG93","v":{"v":0,"d":"0.0"}},{"$f":"'법정동(2013)'!AH91-'법정동(2012)'!AH93","v":{"v":0,"d":"0.0"}},{"$f":"'법정동(2013)'!AI91-'법정동(2012)'!AI93","v":{"v":0,"d":"0.0"}},{"$f":"'법정동(2013)'!AJ91-'법정동(2012)'!AJ93","v":{"v":0,"d":"0.0"}},{"$f":"'법정동(2013)'!AK91-'법정동(2012)'!AK93","v":{"v":0,"d":"0.0"}},{"$f":"'법정동(2013)'!AL91-'법정동(2012)'!AL93","v":{"v":0,"d":"0.0"}},{"$f":"'법정동(2013)'!AM91-'법정동(2012)'!AM93","v":{"v":0,"d":"0.0"}},{"$f":"'법정동(2013)'!AN91-'법정동(2012)'!AN93","v":{"v":0,"d":"0.0"}},{"$f":"'법정동(2013)'!AO91-'법정동(2012)'!AO93","v":{"v":0,"d":"0.0"}},{"$f":"'법정동(2013)'!AP91-'법정동(2012)'!AP93","v":{"v":0,"d":"0.0"}},{"$f":"'법정동(2013)'!AQ91-'법정동(2012)'!AQ93","v":{"v":0,"d":"0.0"}},{"$f":"'법정동(2013)'!AR91-'법정동(2012)'!AR93","v":{"v":0,"d":"0.0"}},{"$f":"'법정동(2013)'!AS91-'법정동(2012)'!AS93","v":{"v":0,"d":"0.0"}},{"$f":"'법정동(2013)'!AT91-'법정동(2012)'!AT93","v":{"v":0,"d":"0.0"}},{"$f":"'법정동(2013)'!AU91-'법정동(2012)'!AU93","v":{"v":0,"d":"0.0"}},{"$f":"'법정동(2013)'!AV91-'법정동(2012)'!AV93","v":{"v":0,"d":"0.0"}},{"$f":"'법정동(2013)'!AW91-'법정동(2012)'!AW93","v":{"v":0,"d":"0.0"}},{"$f":"'법정동(2013)'!AX91-'법정동(2012)'!AX93","v":{"v":0,"d":"0.0"}},{"$f":"'법정동(2013)'!AY91-'법정동(2012)'!AY93","v":{"v":0,"d":"0.0"}},{"$f":"'법정동(2013)'!AZ91-'법정동(2012)'!AZ93","v":{"v":0,"d":"0.0"}},{"$f":"'법정동(2013)'!BA91-'법정동(2012)'!BA93","v":{"v":0,"d":"0.0"}},{"$f":"'법정동(2013)'!BB91-'법정동(2012)'!BB93","v":{"v":0,"d":"0.0"}},{"$f":"'법정동(2013)'!BC91-'법정동(2012)'!BC93","v":{"v":0,"d":"0.0"}},{"$f":"'법정동(2013)'!BD91-'법정동(2012)'!BD93","v":{"v":0,"d":"0.0"}},{"$f":"'법정동(2013)'!BE91-'법정동(2012)'!BE93","v":{"v":0,"d":"0.0"}},{"$f":"'법정동(2013)'!BF91-'법정동(2012)'!BF93","v":{"v":0,"d":"0.0"}},{"$f":"'법정동(2013)'!BG91-'법정동(2012)'!BG93","v":{"v":0,"d":"0.0"}}]
["화양면 이목리",{"$f":"'법정동(2013)'!B92-'법정동(2012)'!B94","v":{"v":0,"d":"0.0"}},{"$f":"'법정동(2013)'!C92-'법정동(2012)'!C94","v":{"v":4,"d":"4.0"}},{"$f":"'법정동(2013)'!D92-'법정동(2012)'!D94","v":{"v":172,"d":"172.0"}},{"$f":"'법정동(2013)'!E92-'법정동(2012)'!E94","v":{"v":0,"d":"0.0"}},{"$f":"'법정동(2013)'!F92-'법정동(2012)'!F94","v":{"v":-172,"d":"-172.0"}},{"$f":"'법정동(2013)'!G92-'법정동(2012)'!G94","v":{"v":-2,"d":"-2.0"}},{"$f":"'법정동(2013)'!H92-'법정동(2012)'!H94","v":{"v":0,"d":"0.0"}},{"$f":"'법정동(2013)'!I92-'법정동(2012)'!I94","v":{"v":0,"d":"0.0"}},{"$f":"'법정동(2013)'!J92-'법정동(2012)'!J94","v":{"v":0,"d":"0.0"}},{"$f":"'법정동(2013)'!K92-'법정동(2012)'!K94","v":{"v":1,"d":"1.0"}},{"$f":"'법정동(2013)'!L92-'법정동(2012)'!L94","v":{"v":-1349,"d":"-1,349.0"}},{"$f":"'법정동(2013)'!M92-'법정동(2012)'!M94","v":{"v":-3,"d":"-3.0"}},{"$f":"'법정동(2013)'!N92-'법정동(2012)'!N94","v":{"v":0,"d":"0.0"}},{"$f":"'법정동(2013)'!O92-'법정동(2012)'!O94","v":{"v":0,"d":"0.0"}},{"$f":"'법정동(2013)'!P92-'법정동(2012)'!P94","v":{"v":0,"d":"0.0"}},{"$f":"'법정동(2013)'!Q92-'법정동(2012)'!Q94","v":{"v":0,"d":"0.0"}},{"$f":"'법정동(2013)'!R92-'법정동(2012)'!R94","v":{"v":124,"d":"124.0"}},{"$f":"'법정동(2013)'!S92-'법정동(2012)'!S94","v":{"v":-1,"d":"-1.0"}},{"$f":"'법정동(2013)'!T92-'법정동(2012)'!T94","v":{"v":0,"d":"0.0"}},{"$f":"'법정동(2013)'!U92-'법정동(2012)'!U94","v":{"v":0,"d":"0.0"}},{"$f":"'법정동(2013)'!V92-'법정동(2012)'!V94","v":{"v":0,"d":"0.0"}},{"$f":"'법정동(2013)'!W92-'법정동(2012)'!W94","v":{"v":0,"d":"0.0"}},{"$f":"'법정동(2013)'!X92-'법정동(2012)'!X94","v":{"v":0,"d":"0.0"}},{"$f":"'법정동(2013)'!Y92-'법정동(2012)'!Y94","v":{"v":0,"d":"0.0"}},{"$f":"'법정동(2013)'!Z92-'법정동(2012)'!Z94","v":{"v":0,"d":"0.0"}},{"$f":"'법정동(2013)'!AA92-'법정동(2012)'!AA94","v":{"v":0,"d":"0.0"}},{"$f":"'법정동(2013)'!AB92-'법정동(2012)'!AB94","v":{"v":0,"d":"0.0"}},{"$f":"'법정동(2013)'!AC92-'법정동(2012)'!AC94","v":{"v":0,"d":"0.0"}},{"$f":"'법정동(2013)'!AD92-'법정동(2012)'!AD94","v":{"v":1225,"d":"1,225.0"}},{"$f":"'법정동(2013)'!AE92-'법정동(2012)'!AE94","v":{"v":9,"d":"9.0"}},{"$f":"'법정동(2013)'!AF92-'법정동(2012)'!AF94","v":{"v":0,"d":"0.0"}},{"$f":"'법정동(2013)'!AG92-'법정동(2012)'!AG94","v":{"v":0,"d":"0.0"}},{"$f":"'법정동(2013)'!AH92-'법정동(2012)'!AH94","v":{"v":0,"d":"0.0"}},{"$f":"'법정동(2013)'!AI92-'법정동(2012)'!AI94","v":{"v":0,"d":"0.0"}},{"$f":"'법정동(2013)'!AJ92-'법정동(2012)'!AJ94","v":{"v":0,"d":"0.0"}},{"$f":"'법정동(2013)'!AK92-'법정동(2012)'!AK94","v":{"v":0,"d":"0.0"}},{"$f":"'법정동(2013)'!AL92-'법정동(2012)'!AL94","v":{"v":0,"d":"0.0"}},{"$f":"'법정동(2013)'!AM92-'법정동(2012)'!AM94","v":{"v":0,"d":"0.0"}},{"$f":"'법정동(2013)'!AN92-'법정동(2012)'!AN94","v":{"v":0,"d":"0.0"}},{"$f":"'법정동(2013)'!AO92-'법정동(2012)'!AO94","v":{"v":0,"d":"0.0"}},{"$f":"'법정동(2013)'!AP92-'법정동(2012)'!AP94","v":{"v":0,"d":"0.0"}},{"$f":"'법정동(2013)'!AQ92-'법정동(2012)'!AQ94","v":{"v":0,"d":"0.0"}},{"$f":"'법정동(2013)'!AR92-'법정동(2012)'!AR94","v":{"v":0,"d":"0.0"}},{"$f":"'법정동(2013)'!AS92-'법정동(2012)'!AS94","v":{"v":0,"d":"0.0"}},{"$f":"'법정동(2013)'!AT92-'법정동(2012)'!AT94","v":{"v":0,"d":"0.0"}},{"$f":"'법정동(2013)'!AU92-'법정동(2012)'!AU94","v":{"v":0,"d":"0.0"}},{"$f":"'법정동(2013)'!AV92-'법정동(2012)'!AV94","v":{"v":0,"d":"0.0"}},{"$f":"'법정동(2013)'!AW92-'법정동(2012)'!AW94","v":{"v":0,"d":"0.0"}},{"$f":"'법정동(2013)'!AX92-'법정동(2012)'!AX94","v":{"v":0,"d":"0.0"}},{"$f":"'법정동(2013)'!AY92-'법정동(2012)'!AY94","v":{"v":0,"d":"0.0"}},{"$f":"'법정동(2013)'!AZ92-'법정동(2012)'!AZ94","v":{"v":0,"d":"0.0"}},{"$f":"'법정동(2013)'!BA92-'법정동(2012)'!BA94","v":{"v":0,"d":"0.0"}},{"$f":"'법정동(2013)'!BB92-'법정동(2012)'!BB94","v":{"v":0,"d":"0.0"}},{"$f":"'법정동(2013)'!BC92-'법정동(2012)'!BC94","v":{"v":0,"d":"0.0"}},{"$f":"'법정동(2013)'!BD92-'법정동(2012)'!BD94","v":{"v":0,"d":"0.0"}},{"$f":"'법정동(2013)'!BE92-'법정동(2012)'!BE94","v":{"v":0,"d":"0.0"}},{"$f":"'법정동(2013)'!BF92-'법정동(2012)'!BF94","v":{"v":0,"d":"0.0"}},{"$f":"'법정동(2013)'!BG92-'법정동(2012)'!BG94","v":{"v":0,"d":"0.0"}}]
["화양면 장수리",{"$f":"'법정동(2013)'!B93-'법정동(2012)'!B95","v":{"v":-208,"d":"-208.0"}},{"$f":"'법정동(2013)'!C93-'법정동(2012)'!C95","v":{"v":14,"d":"14.0"}},{"$f":"'법정동(2013)'!D93-'법정동(2012)'!D95","v":{"v":-1859,"d":"-1,859.0"}},{"$f":"'법정동(2013)'!E93-'법정동(2012)'!E95","v":{"v":-2,"d":"-2.0"}},{"$f":"'법정동(2013)'!F93-'법정동(2012)'!F95","v":{"v":0,"d":"0.0"}},{"$f":"'법정동(2013)'!G93-'법정동(2012)'!G95","v":{"v":2,"d":"2.0"}},{"$f":"'법정동(2013)'!H93-'법정동(2012)'!H95","v":{"v":0,"d":"0.0"}},{"$f":"'법정동(2013)'!I93-'법정동(2012)'!I95","v":{"v":0,"d":"0.0"}},{"$f":"'법정동(2013)'!J93-'법정동(2012)'!J95","v":{"v":0,"d":"0.0"}},{"$f":"'법정동(2013)'!K93-'법정동(2012)'!K95","v":{"v":0,"d":"0.0"}},{"$f":"'법정동(2013)'!L93-'법정동(2012)'!L95","v":{"v":-301,"d":"-301.0"}},{"$f":"'법정동(2013)'!M93-'법정동(2012)'!M95","v":{"v":10,"d":"10.0"}},{"$f":"'법정동(2013)'!N93-'법정동(2012)'!N95","v":{"v":0,"d":"0.0"}},{"$f":"'법정동(2013)'!O93-'법정동(2012)'!O95","v":{"v":0,"d":"0.0"}},{"$f":"'법정동(2013)'!P93-'법정동(2012)'!P95","v":{"v":0,"d":"0.0"}},{"$f":"'법정동(2013)'!Q93-'법정동(2012)'!Q95","v":{"v":0,"d":"0.0"}},{"$f":"'법정동(2013)'!R93-'법정동(2012)'!R95","v":{"v":2101,"d":"2,101.0"}},{"$f":"'법정동(2013)'!S93-'법정동(2012)'!S95","v":{"v":3,"d":"3.0"}},{"$f":"'법정동(2013)'!T93-'법정동(2012)'!T95","v":{"v":0,"d":"0.0"}},{"$f":"'법정동(2013)'!U93-'법정동(2012)'!U95","v":{"v":0,"d":"0.0"}},{"$f":"'법정동(2013)'!V93-'법정동(2012)'!V95","v":{"v":0,"d":"0.0"}},{"$f":"'법정동(2013)'!W93-'법정동(2012)'!W95","v":{"v":0,"d":"0.0"}},{"$f":"'법정동(2013)'!X93-'법정동(2012)'!X95","v":{"v":0,"d":"0.0"}},{"$f":"'법정동(2013)'!Y93-'법정동(2012)'!Y95","v":{"v":0,"d":"0.0"}},{"$f":"'법정동(2013)'!Z93-'법정동(2012)'!Z95","v":{"v":0,"d":"0.0"}},{"$f":"'법정동(2013)'!AA93-'법정동(2012)'!AA95","v":{"v":0,"d":"0.0"}},{"$f":"'법정동(2013)'!AB93-'법정동(2012)'!AB95","v":{"v":0,"d":"0.0"}},{"$f":"'법정동(2013)'!AC93-'법정동(2012)'!AC95","v":{"v":0,"d":"0.0"}},{"$f":"'법정동(2013)'!AD93-'법정동(2012)'!AD95","v":{"v":0,"d":"0.0"}},{"$f":"'법정동(2013)'!AE93-'법정동(2012)'!AE95","v":{"v":0,"d":"0.0"}},{"$f":"'법정동(2013)'!AF93-'법정동(2012)'!AF95","v":{"v":0,"d":"0.0"}},{"$f":"'법정동(2013)'!AG93-'법정동(2012)'!AG95","v":{"v":0,"d":"0.0"}},{"$f":"'법정동(2013)'!AH93-'법정동(2012)'!AH95","v":{"v":0,"d":"0.0"}},{"$f":"'법정동(2013)'!AI93-'법정동(2012)'!AI95","v":{"v":0,"d":"0.0"}},{"$f":"'법정동(2013)'!AJ93-'법정동(2012)'!AJ95","v":{"v":0,"d":"0.0"}},{"$f":"'법정동(2013)'!AK93-'법정동(2012)'!AK95","v":{"v":0,"d":"0.0"}},{"$f":"'법정동(2013)'!AL93-'법정동(2012)'!AL95","v":{"v":-149,"d":"-149.0"}},{"$f":"'법정동(2013)'!AM93-'법정동(2012)'!AM95","v":{"v":1,"d":"1.0"}},{"$f":"'법정동(2013)'!AN93-'법정동(2012)'!AN95","v":{"v":0,"d":"0.0"}},{"$f":"'법정동(2013)'!AO93-'법정동(2012)'!AO95","v":{"v":0,"d":"0.0"}},{"$f":"'법정동(2013)'!AP93-'법정동(2012)'!AP95","v":{"v":0,"d":"0.0"}},{"$f":"'법정동(2013)'!AQ93-'법정동(2012)'!AQ95","v":{"v":0,"d":"0.0"}},{"$f":"'법정동(2013)'!AR93-'법정동(2012)'!AR95","v":{"v":0,"d":"0.0"}},{"$f":"'법정동(2013)'!AS93-'법정동(2012)'!AS95","v":{"v":0,"d":"0.0"}},{"$f":"'법정동(2013)'!AT93-'법정동(2012)'!AT95","v":{"v":0,"d":"0.0"}},{"$f":"'법정동(2013)'!AU93-'법정동(2012)'!AU95","v":{"v":0,"d":"0.0"}},{"$f":"'법정동(2013)'!AV93-'법정동(2012)'!AV95","v":{"v":0,"d":"0.0"}},{"$f":"'법정동(2013)'!AW93-'법정동(2012)'!AW95","v":{"v":0,"d":"0.0"}},{"$f":"'법정동(2013)'!AX93-'법정동(2012)'!AX95","v":{"v":0,"d":"0.0"}},{"$f":"'법정동(2013)'!AY93-'법정동(2012)'!AY95","v":{"v":0,"d":"0.0"}},{"$f":"'법정동(2013)'!AZ93-'법정동(2012)'!AZ95","v":{"v":0,"d":"0.0"}},{"$f":"'법정동(2013)'!BA93-'법정동(2012)'!BA95","v":{"v":0,"d":"0.0"}},{"$f":"'법정동(2013)'!BB93-'법정동(2012)'!BB95","v":{"v":0,"d":"0.0"}},{"$f":"'법정동(2013)'!BC93-'법정동(2012)'!BC95","v":{"v":0,"d":"0.0"}},{"$f":"'법정동(2013)'!BD93-'법정동(2012)'!BD95","v":{"v":0,"d":"0.0"}},{"$f":"'법정동(2013)'!BE93-'법정동(2012)'!BE95","v":{"v":0,"d":"0.0"}},{"$f":"'법정동(2013)'!BF93-'법정동(2012)'!BF95","v":{"v":0,"d":"0.0"}},{"$f":"'법정동(2013)'!BG93-'법정동(2012)'!BG95","v":{"v":0,"d":"0.0"}}]
["화양면 안포리",{"$f":"'법정동(2013)'!B94-'법정동(2012)'!B96","v":{"v":-1008,"d":"-1,008.0"}},{"$f":"'법정동(2013)'!C94-'법정동(2012)'!C96","v":{"v":108,"d":"108.0"}},{"$f":"'법정동(2013)'!D94-'법정동(2012)'!D96","v":{"v":-2447,"d":"-2,447.0"}},{"$f":"'법정동(2013)'!E94-'법정동(2012)'!E96","v":{"v":21,"d":"21.0"}},{"$f":"'법정동(2013)'!F94-'법정동(2012)'!F96","v":{"v":-3177,"d":"-3,177.0"}},{"$f":"'법정동(2013)'!G94-'법정동(2012)'!G96","v":{"v":40,"d":"40.0"}},{"$f":"'법정동(2013)'!H94-'법정동(2012)'!H96","v":{"v":0,"d":"0.0"}},{"$f":"'법정동(2013)'!I94-'법정동(2012)'!I96","v":{"v":0,"d":"0.0"}},{"$f":"'법정동(2013)'!J94-'법정동(2012)'!J96","v":{"v":0,"d":"0.0"}},{"$f":"'법정동(2013)'!K94-'법정동(2012)'!K96","v":{"v":1,"d":"1.0"}},{"$f":"'법정동(2013)'!L94-'법정동(2012)'!L96","v":{"v":-1283,"d":"-1,283.0"}},{"$f":"'법정동(2013)'!M94-'법정동(2012)'!M96","v":{"v":12,"d":"12.0"}},{"$f":"'법정동(2013)'!N94-'법정동(2012)'!N96","v":{"v":0,"d":"0.0"}},{"$f":"'법정동(2013)'!O94-'법정동(2012)'!O96","v":{"v":0,"d":"0.0"}},{"$f":"'법정동(2013)'!P94-'법정동(2012)'!P96","v":{"v":0,"d":"0.0"}},{"$f":"'법정동(2013)'!Q94-'법정동(2012)'!Q96","v":{"v":0,"d":"0.0"}},{"$f":"'법정동(2013)'!R94-'법정동(2012)'!R96","v":{"v":4676,"d":"4,676.0"}},{"$f":"'법정동(2013)'!S94-'법정동(2012)'!S96","v":{"v":14,"d":"14.0"}},{"$f":"'법정동(2013)'!T94-'법정동(2012)'!T96","v":{"v":0,"d":"0.0"}},{"$f":"'법정동(2013)'!U94-'법정동(2012)'!U96","v":{"v":0,"d":"0.0"}},{"$f":"'법정동(2013)'!V94-'법정동(2012)'!V96","v":{"v":0,"d":"0.0"}},{"$f":"'법정동(2013)'!W94-'법정동(2012)'!W96","v":{"v":0,"d":"0.0"}},{"$f":"'법정동(2013)'!X94-'법정동(2012)'!X96","v":{"v":0,"d":"0.0"}},{"$f":"'법정동(2013)'!Y94-'법정동(2012)'!Y96","v":{"v":0,"d":"0.0"}},{"$f":"'법정동(2013)'!Z94-'법정동(2012)'!Z96","v":{"v":0,"d":"0.0"}},{"$f":"'법정동(2013)'!AA94-'법정동(2012)'!AA96","v":{"v":0,"d":"0.0"}},{"$f":"'법정동(2013)'!AB94-'법정동(2012)'!AB96","v":{"v":660,"d":"660.0"}},{"$f":"'법정동(2013)'!AC94-'법정동(2012)'!AC96","v":{"v":1,"d":"1.0"}},{"$f":"'법정동(2013)'!AD94-'법정동(2012)'!AD96","v":{"v":563,"d":"563.0"}},{"$f":"'법정동(2013)'!AE94-'법정동(2012)'!AE96","v":{"v":15,"d":"15.0"}},{"$f":"'법정동(2013)'!AF94-'법정동(2012)'!AF96","v":{"v":0,"d":"0.0"}},{"$f":"'법정동(2013)'!AG94-'법정동(2012)'!AG96","v":{"v":0,"d":"0.0"}},{"$f":"'법정동(2013)'!AH94-'법정동(2012)'!AH96","v":{"v":0,"d":"0.0"}},{"$f":"'법정동(2013)'!AI94-'법정동(2012)'!AI96","v":{"v":0,"d":"0.0"}},{"$f":"'법정동(2013)'!AJ94-'법정동(2012)'!AJ96","v":{"v":0,"d":"0.0"}},{"$f":"'법정동(2013)'!AK94-'법정동(2012)'!AK96","v":{"v":0,"d":"0.0"}},{"$f":"'법정동(2013)'!AL94-'법정동(2012)'!AL96","v":{"v":0,"d":"0.0"}},{"$f":"'법정동(2013)'!AM94-'법정동(2012)'!AM96","v":{"v":0,"d":"0.0"}},{"$f":"'법정동(2013)'!AN94-'법정동(2012)'!AN96","v":{"v":0,"d":"0.0"}},{"$f":"'법정동(2013)'!AO94-'법정동(2012)'!AO96","v":{"v":2,"d":"2.0"}},{"$f":"'법정동(2013)'!AP94-'법정동(2012)'!AP96","v":{"v":0,"d":"0.0"}},{"$f":"'법정동(2013)'!AQ94-'법정동(2012)'!AQ96","v":{"v":0,"d":"0.0"}},{"$f":"'법정동(2013)'!AR94-'법정동(2012)'!AR96","v":{"v":0,"d":"0.0"}},{"$f":"'법정동(2013)'!AS94-'법정동(2012)'!AS96","v":{"v":0,"d":"0.0"}},{"$f":"'법정동(2013)'!AT94-'법정동(2012)'!AT96","v":{"v":0,"d":"0.0"}},{"$f":"'법정동(2013)'!AU94-'법정동(2012)'!AU96","v":{"v":0,"d":"0.0"}},{"$f":"'법정동(2013)'!AV94-'법정동(2012)'!AV96","v":{"v":0,"d":"0.0"}},{"$f":"'법정동(2013)'!AW94-'법정동(2012)'!AW96","v":{"v":0,"d":"0.0"}},{"$f":"'법정동(2013)'!AX94-'법정동(2012)'!AX96","v":{"v":0,"d":"0.0"}},{"$f":"'법정동(2013)'!AY94-'법정동(2012)'!AY96","v":{"v":0,"d":"0.0"}},{"$f":"'법정동(2013)'!AZ94-'법정동(2012)'!AZ96","v":{"v":0,"d":"0.0"}},{"$f":"'법정동(2013)'!BA94-'법정동(2012)'!BA96","v":{"v":0,"d":"0.0"}},{"$f":"'법정동(2013)'!BB94-'법정동(2012)'!BB96","v":{"v":0,"d":"0.0"}},{"$f":"'법정동(2013)'!BC94-'법정동(2012)'!BC96","v":{"v":0,"d":"0.0"}},{"$f":"'법정동(2013)'!BD94-'법정동(2012)'!BD96","v":{"v":0,"d":"0.0"}},{"$f":"'법정동(2013)'!BE94-'법정동(2012)'!BE96","v":{"v":0,"d":"0.0"}},{"$f":"'법정동(2013)'!BF94-'법정동(2012)'!BF96","v":{"v":0,"d":"0.0"}},{"$f":"'법정동(2013)'!BG94-'법정동(2012)'!BG96","v":{"v":2,"d":"2.0"}}]
["남면 우학리",{"$f":"'법정동(2013)'!B95-'법정동(2012)'!B97","v":{"v":0,"d":"0.0"}},{"$f":"'법정동(2013)'!C95-'법정동(2012)'!C97","v":{"v":5,"d":"5.0"}},{"$f":"'법정동(2013)'!D95-'법정동(2012)'!D97","v":{"v":-672,"d":"-672.0"}},{"$f":"'법정동(2013)'!E95-'법정동(2012)'!E97","v":{"v":1,"d":"1.0"}},{"$f":"'법정동(2013)'!F95-'법정동(2012)'!F97","v":{"v":-612,"d":"-612.0"}},{"$f":"'법정동(2013)'!G95-'법정동(2012)'!G97","v":{"v":-1,"d":"-1.0"}},{"$f":"'법정동(2013)'!H95-'법정동(2012)'!H97","v":{"v":0,"d":"0.0"}},{"$f":"'법정동(2013)'!I95-'법정동(2012)'!I97","v":{"v":0,"d":"0.0"}},{"$f":"'법정동(2013)'!J95-'법정동(2012)'!J97","v":{"v":0,"d":"0.0"}},{"$f":"'법정동(2013)'!K95-'법정동(2012)'!K97","v":{"v":0,"d":"0.0"}},{"$f":"'법정동(2013)'!L95-'법정동(2012)'!L97","v":{"v":0,"d":"0.0"}},{"$f":"'법정동(2013)'!M95-'법정동(2012)'!M97","v":{"v":2,"d":"2.0"}},{"$f":"'법정동(2013)'!N95-'법정동(2012)'!N97","v":{"v":0,"d":"0.0"}},{"$f":"'법정동(2013)'!O95-'법정동(2012)'!O97","v":{"v":0,"d":"0.0"}},{"$f":"'법정동(2013)'!P95-'법정동(2012)'!P97","v":{"v":0,"d":"0.0"}},{"$f":"'법정동(2013)'!Q95-'법정동(2012)'!Q97","v":{"v":0,"d":"0.0"}},{"$f":"'법정동(2013)'!R95-'법정동(2012)'!R97","v":{"v":1276,"d":"1,276.0"}},{"$f":"'법정동(2013)'!S95-'법정동(2012)'!S97","v":{"v":2,"d":"2.0"}},{"$f":"'법정동(2013)'!T95-'법정동(2012)'!T97","v":{"v":0,"d":"0.0"}},{"$f":"'법정동(2013)'!U95-'법정동(2012)'!U97","v":{"v":0,"d":"0.0"}},{"$f":"'법정동(2013)'!V95-'법정동(2012)'!V97","v":{"v":0,"d":"0.0"}},{"$f":"'법정동(2013)'!W95-'법정동(2012)'!W97","v":{"v":0,"d":"0.0"}},{"$f":"'법정동(2013)'!X95-'법정동(2012)'!X97","v":{"v":0,"d":"0.0"}},{"$f":"'법정동(2013)'!Y95-'법정동(2012)'!Y97","v":{"v":0,"d":"0.0"}},{"$f":"'법정동(2013)'!Z95-'법정동(2012)'!Z97","v":{"v":0,"d":"0.0"}},{"$f":"'법정동(2013)'!AA95-'법정동(2012)'!AA97","v":{"v":0,"d":"0.0"}},{"$f":"'법정동(2013)'!AB95-'법정동(2012)'!AB97","v":{"v":0,"d":"0.0"}},{"$f":"'법정동(2013)'!AC95-'법정동(2012)'!AC97","v":{"v":0,"d":"0.0"}},{"$f":"'법정동(2013)'!AD95-'법정동(2012)'!AD97","v":{"v":8,"d":"8.0"}},{"$f":"'법정동(2013)'!AE95-'법정동(2012)'!AE97","v":{"v":1,"d":"1.0"}},{"$f":"'법정동(2013)'!AF95-'법정동(2012)'!AF97","v":{"v":0,"d":"0.0"}},{"$f":"'법정동(2013)'!AG95-'법정동(2012)'!AG97","v":{"v":0,"d":"0.0"}},{"$f":"'법정동(2013)'!AH95-'법정동(2012)'!AH97","v":{"v":0,"d":"0.0"}},{"$f":"'법정동(2013)'!AI95-'법정동(2012)'!AI97","v":{"v":0,"d":"0.0"}},{"$f":"'법정동(2013)'!AJ95-'법정동(2012)'!AJ97","v":{"v":0,"d":"0.0"}},{"$f":"'법정동(2013)'!AK95-'법정동(2012)'!AK97","v":{"v":0,"d":"0.0"}},{"$f":"'법정동(2013)'!AL95-'법정동(2012)'!AL97","v":{"v":0,"d":"0.0"}},{"$f":"'법정동(2013)'!AM95-'법정동(2012)'!AM97","v":{"v":0,"d":"0.0"}},{"$f":"'법정동(2013)'!AN95-'법정동(2012)'!AN97","v":{"v":0,"d":"0.0"}},{"$f":"'법정동(2013)'!AO95-'법정동(2012)'!AO97","v":{"v":0,"d":"0.0"}},{"$f":"'법정동(2013)'!AP95-'법정동(2012)'!AP97","v":{"v":0,"d":"0.0"}},{"$f":"'법정동(2013)'!AQ95-'법정동(2012)'!AQ97","v":{"v":0,"d":"0.0"}},{"$f":"'법정동(2013)'!AR95-'법정동(2012)'!AR97","v":{"v":0,"d":"0.0"}},{"$f":"'법정동(2013)'!AS95-'법정동(2012)'!AS97","v":{"v":0,"d":"0.0"}},{"$f":"'법정동(2013)'!AT95-'법정동(2012)'!AT97","v":{"v":0,"d":"0.0"}},{"$f":"'법정동(2013)'!AU95-'법정동(2012)'!AU97","v":{"v":0,"d":"0.0"}},{"$f":"'법정동(2013)'!AV95-'법정동(2012)'!AV97","v":{"v":0,"d":"0.0"}},{"$f":"'법정동(2013)'!AW95-'법정동(2012)'!AW97","v":{"v":0,"d":"0.0"}},{"$f":"'법정동(2013)'!AX95-'법정동(2012)'!AX97","v":{"v":0,"d":"0.0"}},{"$f":"'법정동(2013)'!AY95-'법정동(2012)'!AY97","v":{"v":0,"d":"0.0"}},{"$f":"'법정동(2013)'!AZ95-'법정동(2012)'!AZ97","v":{"v":0,"d":"0.0"}},{"$f":"'법정동(2013)'!BA95-'법정동(2012)'!BA97","v":{"v":0,"d":"0.0"}},{"$f":"'법정동(2013)'!BB95-'법정동(2012)'!BB97","v":{"v":0,"d":"0.0"}},{"$f":"'법정동(2013)'!BC95-'법정동(2012)'!BC97","v":{"v":0,"d":"0.0"}},{"$f":"'법정동(2013)'!BD95-'법정동(2012)'!BD97","v":{"v":0,"d":"0.0"}},{"$f":"'법정동(2013)'!BE95-'법정동(2012)'!BE97","v":{"v":0,"d":"0.0"}},{"$f":"'법정동(2013)'!BF95-'법정동(2012)'!BF97","v":{"v":0,"d":"0.0"}},{"$f":"'법정동(2013)'!BG95-'법정동(2012)'!BG97","v":{"v":0,"d":"0.0"}}]
["남면 심장리",{"$f":"'법정동(2013)'!B96-'법정동(2012)'!B98","v":{"v":0,"d":"0.0"}},{"$f":"'법정동(2013)'!C96-'법정동(2012)'!C98","v":{"v":8,"d":"8.0"}},{"$f":"'법정동(2013)'!D96-'법정동(2012)'!D98","v":{"v":-90,"d":"-90.0"}},{"$f":"'법정동(2013)'!E96-'법정동(2012)'!E98","v":{"v":2,"d":"2.0"}},{"$f":"'법정동(2013)'!F96-'법정동(2012)'!F98","v":{"v":0,"d":"0.0"}},{"$f":"'법정동(2013)'!G96-'법정동(2012)'!G98","v":{"v":0,"d":"0.0"}},{"$f":"'법정동(2013)'!H96-'법정동(2012)'!H98","v":{"v":0,"d":"0.0"}},{"$f":"'법정동(2013)'!I96-'법정동(2012)'!I98","v":{"v":0,"d":"0.0"}},{"$f":"'법정동(2013)'!J96-'법정동(2012)'!J98","v":{"v":0,"d":"0.0"}},{"$f":"'법정동(2013)'!K96-'법정동(2012)'!K98","v":{"v":0,"d":"0.0"}},{"$f":"'법정동(2013)'!L96-'법정동(2012)'!L98","v":{"v":0,"d":"0.0"}},{"$f":"'법정동(2013)'!M96-'법정동(2012)'!M98","v":{"v":2,"d":"2.0"}},{"$f":"'법정동(2013)'!N96-'법정동(2012)'!N98","v":{"v":0,"d":"0.0"}},{"$f":"'법정동(2013)'!O96-'법정동(2012)'!O98","v":{"v":0,"d":"0.0"}},{"$f":"'법정동(2013)'!P96-'법정동(2012)'!P98","v":{"v":0,"d":"0.0"}},{"$f":"'법정동(2013)'!Q96-'법정동(2012)'!Q98","v":{"v":0,"d":"0.0"}},{"$f":"'법정동(2013)'!R96-'법정동(2012)'!R98","v":{"v":90,"d":"90.0"}},{"$f":"'법정동(2013)'!S96-'법정동(2012)'!S98","v":{"v":4,"d":"4.0"}},{"$f":"'법정동(2013)'!T96-'법정동(2012)'!T98","v":{"v":0,"d":"0.0"}},{"$f":"'법정동(2013)'!U96-'법정동(2012)'!U98","v":{"v":0,"d":"0.0"}},{"$f":"'법정동(2013)'!V96-'법정동(2012)'!V98","v":{"v":0,"d":"0.0"}},{"$f":"'법정동(2013)'!W96-'법정동(2012)'!W98","v":{"v":0,"d":"0.0"}},{"$f":"'법정동(2013)'!X96-'법정동(2012)'!X98","v":{"v":0,"d":"0.0"}},{"$f":"'법정동(2013)'!Y96-'법정동(2012)'!Y98","v":{"v":0,"d":"0.0"}},{"$f":"'법정동(2013)'!Z96-'법정동(2012)'!Z98","v":{"v":0,"d":"0.0"}},{"$f":"'법정동(2013)'!AA96-'법정동(2012)'!AA98","v":{"v":0,"d":"0.0"}},{"$f":"'법정동(2013)'!AB96-'법정동(2012)'!AB98","v":{"v":0,"d":"0.0"}},{"$f":"'법정동(2013)'!AC96-'법정동(2012)'!AC98","v":{"v":0,"d":"0.0"}},{"$f":"'법정동(2013)'!AD96-'법정동(2012)'!AD98","v":{"v":0,"d":"0.0"}},{"$f":"'법정동(2013)'!AE96-'법정동(2012)'!AE98","v":{"v":0,"d":"0.0"}},{"$f":"'법정동(2013)'!AF96-'법정동(2012)'!AF98","v":{"v":0,"d":"0.0"}},{"$f":"'법정동(2013)'!AG96-'법정동(2012)'!AG98","v":{"v":0,"d":"0.0"}},{"$f":"'법정동(2013)'!AH96-'법정동(2012)'!AH98","v":{"v":0,"d":"0.0"}},{"$f":"'법정동(2013)'!AI96-'법정동(2012)'!AI98","v":{"v":0,"d":"0.0"}},{"$f":"'법정동(2013)'!AJ96-'법정동(2012)'!AJ98","v":{"v":0,"d":"0.0"}},{"$f":"'법정동(2013)'!AK96-'법정동(2012)'!AK98","v":{"v":0,"d":"0.0"}},{"$f":"'법정동(2013)'!AL96-'법정동(2012)'!AL98","v":{"v":0,"d":"0.0"}},{"$f":"'법정동(2013)'!AM96-'법정동(2012)'!AM98","v":{"v":0,"d":"0.0"}},{"$f":"'법정동(2013)'!AN96-'법정동(2012)'!AN98","v":{"v":0,"d":"0.0"}},{"$f":"'법정동(2013)'!AO96-'법정동(2012)'!AO98","v":{"v":0,"d":"0.0"}},{"$f":"'법정동(2013)'!AP96-'법정동(2012)'!AP98","v":{"v":0,"d":"0.0"}},{"$f":"'법정동(2013)'!AQ96-'법정동(2012)'!AQ98","v":{"v":0,"d":"0.0"}},{"$f":"'법정동(2013)'!AR96-'법정동(2012)'!AR98","v":{"v":0,"d":"0.0"}},{"$f":"'법정동(2013)'!AS96-'법정동(2012)'!AS98","v":{"v":0,"d":"0.0"}},{"$f":"'법정동(2013)'!AT96-'법정동(2012)'!AT98","v":{"v":0,"d":"0.0"}},{"$f":"'법정동(2013)'!AU96-'법정동(2012)'!AU98","v":{"v":0,"d":"0.0"}},{"$f":"'법정동(2013)'!AV96-'법정동(2012)'!AV98","v":{"v":0,"d":"0.0"}},{"$f":"'법정동(2013)'!AW96-'법정동(2012)'!AW98","v":{"v":0,"d":"0.0"}},{"$f":"'법정동(2013)'!AX96-'법정동(2012)'!AX98","v":{"v":0,"d":"0.0"}},{"$f":"'법정동(2013)'!AY96-'법정동(2012)'!AY98","v":{"v":0,"d":"0.0"}},{"$f":"'법정동(2013)'!AZ96-'법정동(2012)'!AZ98","v":{"v":0,"d":"0.0"}},{"$f":"'법정동(2013)'!BA96-'법정동(2012)'!BA98","v":{"v":0,"d":"0.0"}},{"$f":"'법정동(2013)'!BB96-'법정동(2012)'!BB98","v":{"v":0,"d":"0.0"}},{"$f":"'법정동(2013)'!BC96-'법정동(2012)'!BC98","v":{"v":0,"d":"0.0"}},{"$f":"'법정동(2013)'!BD96-'법정동(2012)'!BD98","v":{"v":0,"d":"0.0"}},{"$f":"'법정동(2013)'!BE96-'법정동(2012)'!BE98","v":{"v":0,"d":"0.0"}},{"$f":"'법정동(2013)'!BF96-'법정동(2012)'!BF98","v":{"v":0,"d":"0.0"}},{"$f":"'법정동(2013)'!BG96-'법정동(2012)'!BG98","v":{"v":0,"d":"0.0"}}]
["남면 두모리",{"$f":"'법정동(2013)'!B97-'법정동(2012)'!B99","v":{"v":-224,"d":"-224.0"}},{"$f":"'법정동(2013)'!C97-'법정동(2012)'!C99","v":{"v":5,"d":"5.0"}},{"$f":"'법정동(2013)'!D97-'법정동(2012)'!D99","v":{"v":1227,"d":"1,227.0"}},{"$f":"'법정동(2013)'!E97-'법정동(2012)'!E99","v":{"v":-1,"d":"-1.0"}},{"$f":"'법정동(2013)'!F97-'법정동(2012)'!F99","v":{"v":-3807,"d":"-3,807.0"}},{"$f":"'법정동(2013)'!G97-'법정동(2012)'!G99","v":{"v":-6,"d":"-6.0"}},{"$f":"'법정동(2013)'!H97-'법정동(2012)'!H99","v":{"v":0,"d":"0.0"}},{"$f":"'법정동(2013)'!I97-'법정동(2012)'!I99","v":{"v":0,"d":"0.0"}},{"$f":"'법정동(2013)'!J97-'법정동(2012)'!J99","v":{"v":0,"d":"0.0"}},{"$f":"'법정동(2013)'!K97-'법정동(2012)'!K99","v":{"v":0,"d":"0.0"}},{"$f":"'법정동(2013)'!L97-'법정동(2012)'!L99","v":{"v":-727,"d":"-727.0"}},{"$f":"'법정동(2013)'!M97-'법정동(2012)'!M99","v":{"v":0,"d":"0.0"}},{"$f":"'법정동(2013)'!N97-'법정동(2012)'!N99","v":{"v":0,"d":"0.0"}},{"$f":"'법정동(2013)'!O97-'법정동(2012)'!O99","v":{"v":0,"d":"0.0"}},{"$f":"'법정동(2013)'!P97-'법정동(2012)'!P99","v":{"v":0,"d":"0.0"}},{"$f":"'법정동(2013)'!Q97-'법정동(2012)'!Q99","v":{"v":0,"d":"0.0"}},{"$f":"'법정동(2013)'!R97-'법정동(2012)'!R99","v":{"v":2984,"d":"2,984.0"}},{"$f":"'법정동(2013)'!S97-'법정동(2012)'!S99","v":{"v":12,"d":"12.0"}},{"$f":"'법정동(2013)'!T97-'법정동(2012)'!T99","v":{"v":0,"d":"0.0"}},{"$f":"'법정동(2013)'!U97-'법정동(2012)'!U99","v":{"v":0,"d":"0.0"}},{"$f":"'법정동(2013)'!V97-'법정동(2012)'!V99","v":{"v":0,"d":"0.0"}},{"$f":"'법정동(2013)'!W97-'법정동(2012)'!W99","v":{"v":0,"d":"0.0"}},{"$f":"'법정동(2013)'!X97-'법정동(2012)'!X99","v":{"v":0,"d":"0.0"}},{"$f":"'법정동(2013)'!Y97-'법정동(2012)'!Y99","v":{"v":0,"d":"0.0"}},{"$f":"'법정동(2013)'!Z97-'법정동(2012)'!Z99","v":{"v":0,"d":"0.0"}},{"$f":"'법정동(2013)'!AA97-'법정동(2012)'!AA99","v":{"v":0,"d":"0.0"}},{"$f":"'법정동(2013)'!AB97-'법정동(2012)'!AB99","v":{"v":0,"d":"0.0"}},{"$f":"'법정동(2013)'!AC97-'법정동(2012)'!AC99","v":{"v":0,"d":"0.0"}},{"$f":"'법정동(2013)'!AD97-'법정동(2012)'!AD99","v":{"v":99,"d":"99.0"}},{"$f":"'법정동(2013)'!AE97-'법정동(2012)'!AE99","v":{"v":0,"d":"0.0"}},{"$f":"'법정동(2013)'!AF97-'법정동(2012)'!AF99","v":{"v":0,"d":"0.0"}},{"$f":"'법정동(2013)'!AG97-'법정동(2012)'!AG99","v":{"v":0,"d":"0.0"}},{"$f":"'법정동(2013)'!AH97-'법정동(2012)'!AH99","v":{"v":0,"d":"0.0"}},{"$f":"'법정동(2013)'!AI97-'법정동(2012)'!AI99","v":{"v":0,"d":"0.0"}},{"$f":"'법정동(2013)'!AJ97-'법정동(2012)'!AJ99","v":{"v":0,"d":"0.0"}},{"$f":"'법정동(2013)'!AK97-'법정동(2012)'!AK99","v":{"v":0,"d":"0.0"}},{"$f":"'법정동(2013)'!AL97-'법정동(2012)'!AL99","v":{"v":0,"d":"0.0"}},{"$f":"'법정동(2013)'!AM97-'법정동(2012)'!AM99","v":{"v":0,"d":"0.0"}},{"$f":"'법정동(2013)'!AN97-'법정동(2012)'!AN99","v":{"v":0,"d":"0.0"}},{"$f":"'법정동(2013)'!AO97-'법정동(2012)'!AO99","v":{"v":0,"d":"0.0"}},{"$f":"'법정동(2013)'!AP97-'법정동(2012)'!AP99","v":{"v":0,"d":"0.0"}},{"$f":"'법정동(2013)'!AQ97-'법정동(2012)'!AQ99","v":{"v":0,"d":"0.0"}},{"$f":"'법정동(2013)'!AR97-'법정동(2012)'!AR99","v":{"v":0,"d":"0.0"}},{"$f":"'법정동(2013)'!AS97-'법정동(2012)'!AS99","v":{"v":0,"d":"0.0"}},{"$f":"'법정동(2013)'!AT97-'법정동(2012)'!AT99","v":{"v":0,"d":"0.0"}},{"$f":"'법정동(2013)'!AU97-'법정동(2012)'!AU99","v":{"v":0,"d":"0.0"}},{"$f":"'법정동(2013)'!AV97-'법정동(2012)'!AV99","v":{"v":0,"d":"0.0"}},{"$f":"'법정동(2013)'!AW97-'법정동(2012)'!AW99","v":{"v":0,"d":"0.0"}},{"$f":"'법정동(2013)'!AX97-'법정동(2012)'!AX99","v":{"v":0,"d":"0.0"}},{"$f":"'법정동(2013)'!AY97-'법정동(2012)'!AY99","v":{"v":0,"d":"0.0"}},{"$f":"'법정동(2013)'!AZ97-'법정동(2012)'!AZ99","v":{"v":0,"d":"0.0"}},{"$f":"'법정동(2013)'!BA97-'법정동(2012)'!BA99","v":{"v":0,"d":"0.0"}},{"$f":"'법정동(2013)'!BB97-'법정동(2012)'!BB99","v":{"v":0,"d":"0.0"}},{"$f":"'법정동(2013)'!BC97-'법정동(2012)'!BC99","v":{"v":0,"d":"0.0"}},{"$f":"'법정동(2013)'!BD97-'법정동(2012)'!BD99","v":{"v":0,"d":"0.0"}},{"$f":"'법정동(2013)'!BE97-'법정동(2012)'!BE99","v":{"v":0,"d":"0.0"}},{"$f":"'법정동(2013)'!BF97-'법정동(2012)'!BF99","v":{"v":0,"d":"0.0"}},{"$f":"'법정동(2013)'!BG97-'법정동(2012)'!BG99","v":{"v":0,"d":"0.0"}}]
["남면 유송리",{"$f":"'법정동(2013)'!B98-'법정동(2012)'!B100","v":{"v":-221,"d":"-221.0"}},{"$f":"'법정동(2013)'!C98-'법정동(2012)'!C100","v":{"v":7,"d":"7.0"}},{"$f":"'법정동(2013)'!D98-'법정동(2012)'!D100","v":{"v":-5278,"d":"-5,278.0"}},{"$f":"'법정동(2013)'!E98-'법정동(2012)'!E100","v":{"v":1,"d":"1.0"}},{"$f":"'법정동(2013)'!F98-'법정동(2012)'!F100","v":{"v":-371,"d":"-371.0"}},{"$f":"'법정동(2013)'!G98-'법정동(2012)'!G100","v":{"v":-3,"d":"-3.0"}},{"$f":"'법정동(2013)'!H98-'법정동(2012)'!H100","v":{"v":0,"d":"0.0"}},{"$f":"'법정동(2013)'!I98-'법정동(2012)'!I100","v":{"v":0,"d":"0.0"}},{"$f":"'법정동(2013)'!J98-'법정동(2012)'!J100","v":{"v":0,"d":"0.0"}},{"$f":"'법정동(2013)'!K98-'법정동(2012)'!K100","v":{"v":0,"d":"0.0"}},{"$f":"'법정동(2013)'!L98-'법정동(2012)'!L100","v":{"v":0,"d":"0.0"}},{"$f":"'법정동(2013)'!M98-'법정동(2012)'!M100","v":{"v":0,"d":"0.0"}},{"$f":"'법정동(2013)'!N98-'법정동(2012)'!N100","v":{"v":0,"d":"0.0"}},{"$f":"'법정동(2013)'!O98-'법정동(2012)'!O100","v":{"v":0,"d":"0.0"}},{"$f":"'법정동(2013)'!P98-'법정동(2012)'!P100","v":{"v":0,"d":"0.0"}},{"$f":"'법정동(2013)'!Q98-'법정동(2012)'!Q100","v":{"v":0,"d":"0.0"}},{"$f":"'법정동(2013)'!R98-'법정동(2012)'!R100","v":{"v":1461,"d":"1,461.0"}},{"$f":"'법정동(2013)'!S98-'법정동(2012)'!S100","v":{"v":5,"d":"5.0"}},{"$f":"'법정동(2013)'!T98-'법정동(2012)'!T100","v":{"v":0,"d":"0.0"}},{"$f":"'법정동(2013)'!U98-'법정동(2012)'!U100","v":{"v":0,"d":"0.0"}},{"$f":"'법정동(2013)'!V98-'법정동(2012)'!V100","v":{"v":4631,"d":"4,631.0"}},{"$f":"'법정동(2013)'!W98-'법정동(2012)'!W100","v":{"v":1,"d":"1.0"}},{"$f":"'법정동(2013)'!X98-'법정동(2012)'!X100","v":{"v":0,"d":"0.0"}},{"$f":"'법정동(2013)'!Y98-'법정동(2012)'!Y100","v":{"v":0,"d":"0.0"}},{"$f":"'법정동(2013)'!Z98-'법정동(2012)'!Z100","v":{"v":0,"d":"0.0"}},{"$f":"'법정동(2013)'!AA98-'법정동(2012)'!AA100","v":{"v":0,"d":"0.0"}},{"$f":"'법정동(2013)'!AB98-'법정동(2012)'!AB100","v":{"v":0,"d":"0.0"}},{"$f":"'법정동(2013)'!AC98-'법정동(2012)'!AC100","v":{"v":0,"d":"0.0"}},{"$f":"'법정동(2013)'!AD98-'법정동(2012)'!AD100","v":{"v":-133,"d":"-133.0"}},{"$f":"'법정동(2013)'!AE98-'법정동(2012)'!AE100","v":{"v":4,"d":"4.0"}},{"$f":"'법정동(2013)'!AF98-'법정동(2012)'!AF100","v":{"v":0,"d":"0.0"}},{"$f":"'법정동(2013)'!AG98-'법정동(2012)'!AG100","v":{"v":0,"d":"0.0"}},{"$f":"'법정동(2013)'!AH98-'법정동(2012)'!AH100","v":{"v":0,"d":"0.0"}},{"$f":"'법정동(2013)'!AI98-'법정동(2012)'!AI100","v":{"v":0,"d":"0.0"}},{"$f":"'법정동(2013)'!AJ98-'법정동(2012)'!AJ100","v":{"v":0,"d":"0.0"}},{"$f":"'법정동(2013)'!AK98-'법정동(2012)'!AK100","v":{"v":0,"d":"0.0"}},{"$f":"'법정동(2013)'!AL98-'법정동(2012)'!AL100","v":{"v":0,"d":"0.0"}},{"$f":"'법정동(2013)'!AM98-'법정동(2012)'!AM100","v":{"v":0,"d":"0.0"}},{"$f":"'법정동(2013)'!AN98-'법정동(2012)'!AN100","v":{"v":-531,"d":"-531.0"}},{"$f":"'법정동(2013)'!AO98-'법정동(2012)'!AO100","v":{"v":-1,"d":"-1.0"}},{"$f":"'법정동(2013)'!AP98-'법정동(2012)'!AP100","v":{"v":0,"d":"0.0"}},{"$f":"'법정동(2013)'!AQ98-'법정동(2012)'!AQ100","v":{"v":0,"d":"0.0"}},{"$f":"'법정동(2013)'!AR98-'법정동(2012)'!AR100","v":{"v":0,"d":"0.0"}},{"$f":"'법정동(2013)'!AS98-'법정동(2012)'!AS100","v":{"v":0,"d":"0.0"}},{"$f":"'법정동(2013)'!AT98-'법정동(2012)'!AT100","v":{"v":0,"d":"0.0"}},{"$f":"'법정동(2013)'!AU98-'법정동(2012)'!AU100","v":{"v":0,"d":"0.0"}},{"$f":"'법정동(2013)'!AV98-'법정동(2012)'!AV100","v":{"v":0,"d":"0.0"}},{"$f":"'법정동(2013)'!AW98-'법정동(2012)'!AW100","v":{"v":0,"d":"0.0"}},{"$f":"'법정동(2013)'!AX98-'법정동(2012)'!AX100","v":{"v":0,"d":"0.0"}},{"$f":"'법정동(2013)'!AY98-'법정동(2012)'!AY100","v":{"v":0,"d":"0.0"}},{"$f":"'법정동(2013)'!AZ98-'법정동(2012)'!AZ100","v":{"v":0,"d":"0.0"}},{"$f":"'법정동(2013)'!BA98-'법정동(2012)'!BA100","v":{"v":0,"d":"0.0"}},{"$f":"'법정동(2013)'!BB98-'법정동(2012)'!BB100","v":{"v":0,"d":"0.0"}},{"$f":"'법정동(2013)'!BC98-'법정동(2012)'!BC100","v":{"v":0,"d":"0.0"}},{"$f":"'법정동(2013)'!BD98-'법정동(2012)'!BD100","v":{"v":0,"d":"0.0"}},{"$f":"'법정동(2013)'!BE98-'법정동(2012)'!BE100","v":{"v":0,"d":"0.0"}},{"$f":"'법정동(2013)'!BF98-'법정동(2012)'!BF100","v":{"v":0,"d":"0.0"}},{"$f":"'법정동(2013)'!BG98-'법정동(2012)'!BG100","v":{"v":0,"d":"0.0"}}]
["남면 안도리",{"$f":"'법정동(2013)'!B99-'법정동(2012)'!B101","v":{"v":-164,"d":"-164.0"}},{"$f":"'법정동(2013)'!C99-'법정동(2012)'!C101","v":{"v":1,"d":"1.0"}},{"$f":"'법정동(2013)'!D99-'법정동(2012)'!D101","v":{"v":0,"d":"0.0"}},{"$f":"'법정동(2013)'!E99-'법정동(2012)'!E101","v":{"v":1,"d":"1.0"}},{"$f":"'법정동(2013)'!F99-'법정동(2012)'!F101","v":{"v":0,"d":"0.0"}},{"$f":"'법정동(2013)'!G99-'법정동(2012)'!G101","v":{"v":0,"d":"0.0"}},{"$f":"'법정동(2013)'!H99-'법정동(2012)'!H101","v":{"v":0,"d":"0.0"}},{"$f":"'법정동(2013)'!I99-'법정동(2012)'!I101","v":{"v":0,"d":"0.0"}},{"$f":"'법정동(2013)'!J99-'법정동(2012)'!J101","v":{"v":0,"d":"0.0"}},{"$f":"'법정동(2013)'!K99-'법정동(2012)'!K101","v":{"v":0,"d":"0.0"}},{"$f":"'법정동(2013)'!L99-'법정동(2012)'!L101","v":{"v":-164,"d":"-164.0"}},{"$f":"'법정동(2013)'!M99-'법정동(2012)'!M101","v":{"v":1,"d":"1.0"}},{"$f":"'법정동(2013)'!N99-'법정동(2012)'!N101","v":{"v":0,"d":"0.0"}},{"$f":"'법정동(2013)'!O99-'법정동(2012)'!O101","v":{"v":0,"d":"0.0"}},{"$f":"'법정동(2013)'!P99-'법정동(2012)'!P101","v":{"v":0,"d":"0.0"}},{"$f":"'법정동(2013)'!Q99-'법정동(2012)'!Q101","v":{"v":0,"d":"0.0"}},{"$f":"'법정동(2013)'!R99-'법정동(2012)'!R101","v":{"v":0,"d":"0.0"}},{"$f":"'법정동(2013)'!S99-'법정동(2012)'!S101","v":{"v":-1,"d":"-1.0"}},{"$f":"'법정동(2013)'!T99-'법정동(2012)'!T101","v":{"v":0,"d":"0.0"}},{"$f":"'법정동(2013)'!U99-'법정동(2012)'!U101","v":{"v":0,"d":"0.0"}},{"$f":"'법정동(2013)'!V99-'법정동(2012)'!V101","v":{"v":0,"d":"0.0"}},{"$f":"'법정동(2013)'!W99-'법정동(2012)'!W101","v":{"v":0,"d":"0.0"}},{"$f":"'법정동(2013)'!X99-'법정동(2012)'!X101","v":{"v":0,"d":"0.0"}},{"$f":"'법정동(2013)'!Y99-'법정동(2012)'!Y101","v":{"v":0,"d":"0.0"}},{"$f":"'법정동(2013)'!Z99-'법정동(2012)'!Z101","v":{"v":0,"d":"0.0"}},{"$f":"'법정동(2013)'!AA99-'법정동(2012)'!AA101","v":{"v":0,"d":"0.0"}},{"$f":"'법정동(2013)'!AB99-'법정동(2012)'!AB101","v":{"v":0,"d":"0.0"}},{"$f":"'법정동(2013)'!AC99-'법정동(2012)'!AC101","v":{"v":0,"d":"0.0"}},{"$f":"'법정동(2013)'!AD99-'법정동(2012)'!AD101","v":{"v":0,"d":"0.0"}},{"$f":"'법정동(2013)'!AE99-'법정동(2012)'!AE101","v":{"v":0,"d":"0.0"}},{"$f":"'법정동(2013)'!AF99-'법정동(2012)'!AF101","v":{"v":0,"d":"0.0"}},{"$f":"'법정동(2013)'!AG99-'법정동(2012)'!AG101","v":{"v":0,"d":"0.0"}},{"$f":"'법정동(2013)'!AH99-'법정동(2012)'!AH101","v":{"v":0,"d":"0.0"}},{"$f":"'법정동(2013)'!AI99-'법정동(2012)'!AI101","v":{"v":0,"d":"0.0"}},{"$f":"'법정동(2013)'!AJ99-'법정동(2012)'!AJ101","v":{"v":0,"d":"0.0"}},{"$f":"'법정동(2013)'!AK99-'법정동(2012)'!AK101","v":{"v":0,"d":"0.0"}},{"$f":"'법정동(2013)'!AL99-'법정동(2012)'!AL101","v":{"v":0,"d":"0.0"}},{"$f":"'법정동(2013)'!AM99-'법정동(2012)'!AM101","v":{"v":0,"d":"0.0"}},{"$f":"'법정동(2013)'!AN99-'법정동(2012)'!AN101","v":{"v":0,"d":"0.0"}},{"$f":"'법정동(2013)'!AO99-'법정동(2012)'!AO101","v":{"v":0,"d":"0.0"}},{"$f":"'법정동(2013)'!AP99-'법정동(2012)'!AP101","v":{"v":0,"d":"0.0"}},{"$f":"'법정동(2013)'!AQ99-'법정동(2012)'!AQ101","v":{"v":0,"d":"0.0"}},{"$f":"'법정동(2013)'!AR99-'법정동(2012)'!AR101","v":{"v":0,"d":"0.0"}},{"$f":"'법정동(2013)'!AS99-'법정동(2012)'!AS101","v":{"v":0,"d":"0.0"}},{"$f":"'법정동(2013)'!AT99-'법정동(2012)'!AT101","v":{"v":0,"d":"0.0"}},{"$f":"'법정동(2013)'!AU99-'법정동(2012)'!AU101","v":{"v":0,"d":"0.0"}},{"$f":"'법정동(2013)'!AV99-'법정동(2012)'!AV101","v":{"v":0,"d":"0.0"}},{"$f":"'법정동(2013)'!AW99-'법정동(2012)'!AW101","v":{"v":0,"d":"0.0"}},{"$f":"'법정동(2013)'!AX99-'법정동(2012)'!AX101","v":{"v":0,"d":"0.0"}},{"$f":"'법정동(2013)'!AY99-'법정동(2012)'!AY101","v":{"v":0,"d":"0.0"}},{"$f":"'법정동(2013)'!AZ99-'법정동(2012)'!AZ101","v":{"v":0,"d":"0.0"}},{"$f":"'법정동(2013)'!BA99-'법정동(2012)'!BA101","v":{"v":0,"d":"0.0"}},{"$f":"'법정동(2013)'!BB99-'법정동(2012)'!BB101","v":{"v":0,"d":"0.0"}},{"$f":"'법정동(2013)'!BC99-'법정동(2012)'!BC101","v":{"v":0,"d":"0.0"}},{"$f":"'법정동(2013)'!BD99-'법정동(2012)'!BD101","v":{"v":0,"d":"0.0"}},{"$f":"'법정동(2013)'!BE99-'법정동(2012)'!BE101","v":{"v":0,"d":"0.0"}},{"$f":"'법정동(2013)'!BF99-'법정동(2012)'!BF101","v":{"v":0,"d":"0.0"}},{"$f":"'법정동(2013)'!BG99-'법정동(2012)'!BG101","v":{"v":0,"d":"0.0"}}]
["남면 연도리",{"$f":"'법정동(2013)'!B100-'법정동(2012)'!B102","v":{"v":49575,"d":"49,575.0"}},{"$f":"'법정동(2013)'!C100-'법정동(2012)'!C102","v":{"v":27,"d":"27.0"}},{"$f":"'법정동(2013)'!D100-'법정동(2012)'!D102","v":{"v":-450,"d":"-450.0"}},{"$f":"'법정동(2013)'!E100-'법정동(2012)'!E102","v":{"v":-2,"d":"-2.0"}},{"$f":"'법정동(2013)'!F100-'법정동(2012)'!F102","v":{"v":-1362,"d":"-1,362.0"}},{"$f":"'법정동(2013)'!G100-'법정동(2012)'!G102","v":{"v":0,"d":"0.0"}},{"$f":"'법정동(2013)'!H100-'법정동(2012)'!H102","v":{"v":0,"d":"0.0"}},{"$f":"'법정동(2013)'!I100-'법정동(2012)'!I102","v":{"v":0,"d":"0.0"}},{"$f":"'법정동(2013)'!J100-'법정동(2012)'!J102","v":{"v":0,"d":"0.0"}},{"$f":"'법정동(2013)'!K100-'법정동(2012)'!K102","v":{"v":0,"d":"0.0"}},{"$f":"'법정동(2013)'!L100-'법정동(2012)'!L102","v":{"v":-2425,"d":"-2,425.0"}},{"$f":"'법정동(2013)'!M100-'법정동(2012)'!M102","v":{"v":0,"d":"0.0"}},{"$f":"'법정동(2013)'!N100-'법정동(2012)'!N102","v":{"v":0,"d":"0.0"}},{"$f":"'법정동(2013)'!O100-'법정동(2012)'!O102","v":{"v":0,"d":"0.0"}},{"$f":"'법정동(2013)'!P100-'법정동(2012)'!P102","v":{"v":0,"d":"0.0"}},{"$f":"'법정동(2013)'!Q100-'법정동(2012)'!Q102","v":{"v":0,"d":"0.0"}},{"$f":"'법정동(2013)'!R100-'법정동(2012)'!R102","v":{"v":377,"d":"377.0"}},{"$f":"'법정동(2013)'!S100-'법정동(2012)'!S102","v":{"v":4,"d":"4.0"}},{"$f":"'법정동(2013)'!T100-'법정동(2012)'!T102","v":{"v":0,"d":"0.0"}},{"$f":"'법정동(2013)'!U100-'법정동(2012)'!U102","v":{"v":0,"d":"0.0"}},{"$f":"'법정동(2013)'!V100-'법정동(2012)'!V102","v":{"v":0,"d":"0.0"}},{"$f":"'법정동(2013)'!W100-'법정동(2012)'!W102","v":{"v":1,"d":"1.0"}},{"$f":"'법정동(2013)'!X100-'법정동(2012)'!X102","v":{"v":0,"d":"0.0"}},{"$f":"'법정동(2013)'!Y100-'법정동(2012)'!Y102","v":{"v":0,"d":"0.0"}},{"$f":"'법정동(2013)'!Z100-'법정동(2012)'!Z102","v":{"v":0,"d":"0.0"}},{"$f":"'법정동(2013)'!AA100-'법정동(2012)'!AA102","v":{"v":0,"d":"0.0"}},{"$f":"'법정동(2013)'!AB100-'법정동(2012)'!AB102","v":{"v":0,"d":"0.0"}},{"$f":"'법정동(2013)'!AC100-'법정동(2012)'!AC102","v":{"v":0,"d":"0.0"}},{"$f":"'법정동(2013)'!AD100-'법정동(2012)'!AD102","v":{"v":-1842,"d":"-1,842.0"}},{"$f":"'법정동(2013)'!AE100-'법정동(2012)'!AE102","v":{"v":1,"d":"1.0"}},{"$f":"'법정동(2013)'!AF100-'법정동(2012)'!AF102","v":{"v":0,"d":"0.0"}},{"$f":"'법정동(2013)'!AG100-'법정동(2012)'!AG102","v":{"v":0,"d":"0.0"}},{"$f":"'법정동(2013)'!AH100-'법정동(2012)'!AH102","v":{"v":617,"d":"617.0"}},{"$f":"'법정동(2013)'!AI100-'법정동(2012)'!AI102","v":{"v":8,"d":"8.0"}},{"$f":"'법정동(2013)'!AJ100-'법정동(2012)'!AJ102","v":{"v":0,"d":"0.0"}},{"$f":"'법정동(2013)'!AK100-'법정동(2012)'!AK102","v":{"v":0,"d":"0.0"}},{"$f":"'법정동(2013)'!AL100-'법정동(2012)'!AL102","v":{"v":0,"d":"0.0"}},{"$f":"'법정동(2013)'!AM100-'법정동(2012)'!AM102","v":{"v":0,"d":"0.0"}},{"$f":"'법정동(2013)'!AN100-'법정동(2012)'!AN102","v":{"v":0,"d":"0.0"}},{"$f":"'법정동(2013)'!AO100-'법정동(2012)'!AO102","v":{"v":0,"d":"0.0"}},{"$f":"'법정동(2013)'!AP100-'법정동(2012)'!AP102","v":{"v":1326,"d":"1,326.0"}},{"$f":"'법정동(2013)'!AQ100-'법정동(2012)'!AQ102","v":{"v":1,"d":"1.0"}},{"$f":"'법정동(2013)'!AR100-'법정동(2012)'!AR102","v":{"v":0,"d":"0.0"}},{"$f":"'법정동(2013)'!AS100-'법정동(2012)'!AS102","v":{"v":0,"d":"0.0"}},{"$f":"'법정동(2013)'!AT100-'법정동(2012)'!AT102","v":{"v":0,"d":"0.0"}},{"$f":"'법정동(2013)'!AU100-'법정동(2012)'!AU102","v":{"v":0,"d":"0.0"}},{"$f":"'법정동(2013)'!AV100-'법정동(2012)'!AV102","v":{"v":0,"d":"0.0"}},{"$f":"'법정동(2013)'!AW100-'법정동(2012)'!AW102","v":{"v":0,"d":"0.0"}},{"$f":"'법정동(2013)'!AX100-'법정동(2012)'!AX102","v":{"v":0,"d":"0.0"}},{"$f":"'법정동(2013)'!AY100-'법정동(2012)'!AY102","v":{"v":0,"d":"0.0"}},{"$f":"'법정동(2013)'!AZ100-'법정동(2012)'!AZ102","v":{"v":0,"d":"0.0"}},{"$f":"'법정동(2013)'!BA100-'법정동(2012)'!BA102","v":{"v":0,"d":"0.0"}},{"$f":"'법정동(2013)'!BB100-'법정동(2012)'!BB102","v":{"v":0,"d":"0.0"}},{"$f":"'법정동(2013)'!BC100-'법정동(2012)'!BC102","v":{"v":0,"d":"0.0"}},{"$f":"'법정동(2013)'!BD100-'법정동(2012)'!BD102","v":{"v":0,"d":"0.0"}},{"$f":"'법정동(2013)'!BE100-'법정동(2012)'!BE102","v":{"v":0,"d":"0.0"}},{"$f":"'법정동(2013)'!BF100-'법정동(2012)'!BF102","v":{"v":53334,"d":"53,334.0"}},{"$f":"'법정동(2013)'!BG100-'법정동(2012)'!BG102","v":{"v":14,"d":"14.0"}}]
["남면 두라리",{"$f":"'법정동(2013)'!B101-'법정동(2012)'!B103","v":{"v":-165,"d":"-165.0"}},{"$f":"'법정동(2013)'!C101-'법정동(2012)'!C103","v":{"v":2,"d":"2.0"}},{"$f":"'법정동(2013)'!D101-'법정동(2012)'!D103","v":{"v":-423,"d":"-423.0"}},{"$f":"'법정동(2013)'!E101-'법정동(2012)'!E103","v":{"v":0,"d":"0.0"}},{"$f":"'법정동(2013)'!F101-'법정동(2012)'!F103","v":{"v":0,"d":"0.0"}},{"$f":"'법정동(2013)'!G101-'법정동(2012)'!G103","v":{"v":0,"d":"0.0"}},{"$f":"'법정동(2013)'!H101-'법정동(2012)'!H103","v":{"v":0,"d":"0.0"}},{"$f":"'법정동(2013)'!I101-'법정동(2012)'!I103","v":{"v":0,"d":"0.0"}},{"$f":"'법정동(2013)'!J101-'법정동(2012)'!J103","v":{"v":0,"d":"0.0"}},{"$f":"'법정동(2013)'!K101-'법정동(2012)'!K103","v":{"v":0,"d":"0.0"}},{"$f":"'법정동(2013)'!L101-'법정동(2012)'!L103","v":{"v":-165,"d":"-165.0"}},{"$f":"'법정동(2013)'!M101-'법정동(2012)'!M103","v":{"v":1,"d":"1.0"}},{"$f":"'법정동(2013)'!N101-'법정동(2012)'!N103","v":{"v":0,"d":"0.0"}},{"$f":"'법정동(2013)'!O101-'법정동(2012)'!O103","v":{"v":0,"d":"0.0"}},{"$f":"'법정동(2013)'!P101-'법정동(2012)'!P103","v":{"v":0,"d":"0.0"}},{"$f":"'법정동(2013)'!Q101-'법정동(2012)'!Q103","v":{"v":0,"d":"0.0"}},{"$f":"'법정동(2013)'!R101-'법정동(2012)'!R103","v":{"v":423,"d":"423.0"}},{"$f":"'법정동(2013)'!S101-'법정동(2012)'!S103","v":{"v":1,"d":"1.0"}},{"$f":"'법정동(2013)'!T101-'법정동(2012)'!T103","v":{"v":0,"d":"0.0"}},{"$f":"'법정동(2013)'!U101-'법정동(2012)'!U103","v":{"v":0,"d":"0.0"}},{"$f":"'법정동(2013)'!V101-'법정동(2012)'!V103","v":{"v":0,"d":"0.0"}},{"$f":"'법정동(2013)'!W101-'법정동(2012)'!W103","v":{"v":0,"d":"0.0"}},{"$f":"'법정동(2013)'!X101-'법정동(2012)'!X103","v":{"v":0,"d":"0.0"}},{"$f":"'법정동(2013)'!Y101-'법정동(2012)'!Y103","v":{"v":0,"d":"0.0"}},{"$f":"'법정동(2013)'!Z101-'법정동(2012)'!Z103","v":{"v":0,"d":"0.0"}},{"$f":"'법정동(2013)'!AA101-'법정동(2012)'!AA103","v":{"v":0,"d":"0.0"}},{"$f":"'법정동(2013)'!AB101-'법정동(2012)'!AB103","v":{"v":0,"d":"0.0"}},{"$f":"'법정동(2013)'!AC101-'법정동(2012)'!AC103","v":{"v":0,"d":"0.0"}},{"$f":"'법정동(2013)'!AD101-'법정동(2012)'!AD103","v":{"v":0,"d":"0.0"}},{"$f":"'법정동(2013)'!AE101-'법정동(2012)'!AE103","v":{"v":0,"d":"0.0"}},{"$f":"'법정동(2013)'!AF101-'법정동(2012)'!AF103","v":{"v":0,"d":"0.0"}},{"$f":"'법정동(2013)'!AG101-'법정동(2012)'!AG103","v":{"v":0,"d":"0.0"}},{"$f":"'법정동(2013)'!AH101-'법정동(2012)'!AH103","v":{"v":0,"d":"0.0"}},{"$f":"'법정동(2013)'!AI101-'법정동(2012)'!AI103","v":{"v":0,"d":"0.0"}},{"$f":"'법정동(2013)'!AJ101-'법정동(2012)'!AJ103","v":{"v":0,"d":"0.0"}},{"$f":"'법정동(2013)'!AK101-'법정동(2012)'!AK103","v":{"v":0,"d":"0.0"}},{"$f":"'법정동(2013)'!AL101-'법정동(2012)'!AL103","v":{"v":0,"d":"0.0"}},{"$f":"'법정동(2013)'!AM101-'법정동(2012)'!AM103","v":{"v":0,"d":"0.0"}},{"$f":"'법정동(2013)'!AN101-'법정동(2012)'!AN103","v":{"v":0,"d":"0.0"}},{"$f":"'법정동(2013)'!AO101-'법정동(2012)'!AO103","v":{"v":0,"d":"0.0"}},{"$f":"'법정동(2013)'!AP101-'법정동(2012)'!AP103","v":{"v":0,"d":"0.0"}},{"$f":"'법정동(2013)'!AQ101-'법정동(2012)'!AQ103","v":{"v":0,"d":"0.0"}},{"$f":"'법정동(2013)'!AR101-'법정동(2012)'!AR103","v":{"v":0,"d":"0.0"}},{"$f":"'법정동(2013)'!AS101-'법정동(2012)'!AS103","v":{"v":0,"d":"0.0"}},{"$f":"'법정동(2013)'!AT101-'법정동(2012)'!AT103","v":{"v":0,"d":"0.0"}},{"$f":"'법정동(2013)'!AU101-'법정동(2012)'!AU103","v":{"v":0,"d":"0.0"}},{"$f":"'법정동(2013)'!AV101-'법정동(2012)'!AV103","v":{"v":0,"d":"0.0"}},{"$f":"'법정동(2013)'!AW101-'법정동(2012)'!AW103","v":{"v":0,"d":"0.0"}},{"$f":"'법정동(2013)'!AX101-'법정동(2012)'!AX103","v":{"v":0,"d":"0.0"}},{"$f":"'법정동(2013)'!AY101-'법정동(2012)'!AY103","v":{"v":0,"d":"0.0"}},{"$f":"'법정동(2013)'!AZ101-'법정동(2012)'!AZ103","v":{"v":0,"d":"0.0"}},{"$f":"'법정동(2013)'!BA101-'법정동(2012)'!BA103","v":{"v":0,"d":"0.0"}},{"$f":"'법정동(2013)'!BB101-'법정동(2012)'!BB103","v":{"v":0,"d":"0.0"}},{"$f":"'법정동(2013)'!BC101-'법정동(2012)'!BC103","v":{"v":0,"d":"0.0"}},{"$f":"'법정동(2013)'!BD101-'법정동(2012)'!BD103","v":{"v":0,"d":"0.0"}},{"$f":"'법정동(2013)'!BE101-'법정동(2012)'!BE103","v":{"v":0,"d":"0.0"}},{"$f":"'법정동(2013)'!BF101-'법정동(2012)'!BF103","v":{"v":0,"d":"0.0"}},{"$f":"'법정동(2013)'!BG101-'법정동(2012)'!BG103","v":{"v":0,"d":"0.0"}}]
["남면 화태리",{"$f":"'법정동(2013)'!B102-'법정동(2012)'!B104","v":{"v":0,"d":"0.0"}},{"$f":"'법정동(2013)'!C102-'법정동(2012)'!C104","v":{"v":1,"d":"1.0"}},{"$f":"'법정동(2013)'!D102-'법정동(2012)'!D104","v":{"v":0,"d":"0.0"}},{"$f":"'법정동(2013)'!E102-'법정동(2012)'!E104","v":{"v":1,"d":"1.0"}},{"$f":"'법정동(2013)'!F102-'법정동(2012)'!F104","v":{"v":0,"d":"0.0"}},{"$f":"'법정동(2013)'!G102-'법정동(2012)'!G104","v":{"v":0,"d":"0.0"}},{"$f":"'법정동(2013)'!H102-'법정동(2012)'!H104","v":{"v":0,"d":"0.0"}},{"$f":"'법정동(2013)'!I102-'법정동(2012)'!I104","v":{"v":0,"d":"0.0"}},{"$f":"'법정동(2013)'!J102-'법정동(2012)'!J104","v":{"v":0,"d":"0.0"}},{"$f":"'법정동(2013)'!K102-'법정동(2012)'!K104","v":{"v":0,"d":"0.0"}},{"$f":"'법정동(2013)'!L102-'법정동(2012)'!L104","v":{"v":0,"d":"0.0"}},{"$f":"'법정동(2013)'!M102-'법정동(2012)'!M104","v":{"v":0,"d":"0.0"}},{"$f":"'법정동(2013)'!N102-'법정동(2012)'!N104","v":{"v":0,"d":"0.0"}},{"$f":"'법정동(2013)'!O102-'법정동(2012)'!O104","v":{"v":0,"d":"0.0"}},{"$f":"'법정동(2013)'!P102-'법정동(2012)'!P104","v":{"v":0,"d":"0.0"}},{"$f":"'법정동(2013)'!Q102-'법정동(2012)'!Q104","v":{"v":0,"d":"0.0"}},{"$f":"'법정동(2013)'!R102-'법정동(2012)'!R104","v":{"v":0,"d":"0.0"}},{"$f":"'법정동(2013)'!S102-'법정동(2012)'!S104","v":{"v":0,"d":"0.0"}},{"$f":"'법정동(2013)'!T102-'법정동(2012)'!T104","v":{"v":0,"d":"0.0"}},{"$f":"'법정동(2013)'!U102-'법정동(2012)'!U104","v":{"v":0,"d":"0.0"}},{"$f":"'법정동(2013)'!V102-'법정동(2012)'!V104","v":{"v":0,"d":"0.0"}},{"$f":"'법정동(2013)'!W102-'법정동(2012)'!W104","v":{"v":0,"d":"0.0"}},{"$f":"'법정동(2013)'!X102-'법정동(2012)'!X104","v":{"v":0,"d":"0.0"}},{"$f":"'법정동(2013)'!Y102-'법정동(2012)'!Y104","v":{"v":0,"d":"0.0"}},{"$f":"'법정동(2013)'!Z102-'법정동(2012)'!Z104","v":{"v":0,"d":"0.0"}},{"$f":"'법정동(2013)'!AA102-'법정동(2012)'!AA104","v":{"v":0,"d":"0.0"}},{"$f":"'법정동(2013)'!AB102-'법정동(2012)'!AB104","v":{"v":0,"d":"0.0"}},{"$f":"'법정동(2013)'!AC102-'법정동(2012)'!AC104","v":{"v":0,"d":"0.0"}},{"$f":"'법정동(2013)'!AD102-'법정동(2012)'!AD104","v":{"v":0,"d":"0.0"}},{"$f":"'법정동(2013)'!AE102-'법정동(2012)'!AE104","v":{"v":0,"d":"0.0"}},{"$f":"'법정동(2013)'!AF102-'법정동(2012)'!AF104","v":{"v":0,"d":"0.0"}},{"$f":"'법정동(2013)'!AG102-'법정동(2012)'!AG104","v":{"v":0,"d":"0.0"}},{"$f":"'법정동(2013)'!AH102-'법정동(2012)'!AH104","v":{"v":0,"d":"0.0"}},{"$f":"'법정동(2013)'!AI102-'법정동(2012)'!AI104","v":{"v":0,"d":"0.0"}},{"$f":"'법정동(2013)'!AJ102-'법정동(2012)'!AJ104","v":{"v":0,"d":"0.0"}},{"$f":"'법정동(2013)'!AK102-'법정동(2012)'!AK104","v":{"v":0,"d":"0.0"}},{"$f":"'법정동(2013)'!AL102-'법정동(2012)'!AL104","v":{"v":0,"d":"0.0"}},{"$f":"'법정동(2013)'!AM102-'법정동(2012)'!AM104","v":{"v":0,"d":"0.0"}},{"$f":"'법정동(2013)'!AN102-'법정동(2012)'!AN104","v":{"v":0,"d":"0.0"}},{"$f":"'법정동(2013)'!AO102-'법정동(2012)'!AO104","v":{"v":0,"d":"0.0"}},{"$f":"'법정동(2013)'!AP102-'법정동(2012)'!AP104","v":{"v":0,"d":"0.0"}},{"$f":"'법정동(2013)'!AQ102-'법정동(2012)'!AQ104","v":{"v":0,"d":"0.0"}},{"$f":"'법정동(2013)'!AR102-'법정동(2012)'!AR104","v":{"v":0,"d":"0.0"}},{"$f":"'법정동(2013)'!AS102-'법정동(2012)'!AS104","v":{"v":0,"d":"0.0"}},{"$f":"'법정동(2013)'!AT102-'법정동(2012)'!AT104","v":{"v":0,"d":"0.0"}},{"$f":"'법정동(2013)'!AU102-'법정동(2012)'!AU104","v":{"v":0,"d":"0.0"}},{"$f":"'법정동(2013)'!AV102-'법정동(2012)'!AV104","v":{"v":0,"d":"0.0"}},{"$f":"'법정동(2013)'!AW102-'법정동(2012)'!AW104","v":{"v":0,"d":"0.0"}},{"$f":"'법정동(2013)'!AX102-'법정동(2012)'!AX104","v":{"v":0,"d":"0.0"}},{"$f":"'법정동(2013)'!AY102-'법정동(2012)'!AY104","v":{"v":0,"d":"0.0"}},{"$f":"'법정동(2013)'!AZ102-'법정동(2012)'!AZ104","v":{"v":0,"d":"0.0"}},{"$f":"'법정동(2013)'!BA102-'법정동(2012)'!BA104","v":{"v":0,"d":"0.0"}},{"$f":"'법정동(2013)'!BB102-'법정동(2012)'!BB104","v":{"v":0,"d":"0.0"}},{"$f":"'법정동(2013)'!BC102-'법정동(2012)'!BC104","v":{"v":0,"d":"0.0"}},{"$f":"'법정동(2013)'!BD102-'법정동(2012)'!BD104","v":{"v":0,"d":"0.0"}},{"$f":"'법정동(2013)'!BE102-'법정동(2012)'!BE104","v":{"v":0,"d":"0.0"}},{"$f":"'법정동(2013)'!BF102-'법정동(2012)'!BF104","v":{"v":0,"d":"0.0"}},{"$f":"'법정동(2013)'!BG102-'법정동(2012)'!BG104","v":{"v":0,"d":"0.0"}}]
["남면 횡간리",{"$f":"'법정동(2013)'!B103-'법정동(2012)'!B105","v":{"v":0,"d":"0.0"}},{"$f":"'법정동(2013)'!C103-'법정동(2012)'!C105","v":{"v":1,"d":"1.0"}},{"$f":"'법정동(2013)'!D103-'법정동(2012)'!D105","v":{"v":0,"d":"0.0"}},{"$f":"'법정동(2013)'!E103-'법정동(2012)'!E105","v":{"v":0,"d":"0.0"}},{"$f":"'법정동(2013)'!F103-'법정동(2012)'!F105","v":{"v":0,"d":"0.0"}},{"$f":"'법정동(2013)'!G103-'법정동(2012)'!G105","v":{"v":0,"d":"0.0"}},{"$f":"'법정동(2013)'!H103-'법정동(2012)'!H105","v":{"v":0,"d":"0.0"}},{"$f":"'법정동(2013)'!I103-'법정동(2012)'!I105","v":{"v":0,"d":"0.0"}},{"$f":"'법정동(2013)'!J103-'법정동(2012)'!J105","v":{"v":0,"d":"0.0"}},{"$f":"'법정동(2013)'!K103-'법정동(2012)'!K105","v":{"v":0,"d":"0.0"}},{"$f":"'법정동(2013)'!L103-'법정동(2012)'!L105","v":{"v":0,"d":"0.0"}},{"$f":"'법정동(2013)'!M103-'법정동(2012)'!M105","v":{"v":0,"d":"0.0"}},{"$f":"'법정동(2013)'!N103-'법정동(2012)'!N105","v":{"v":0,"d":"0.0"}},{"$f":"'법정동(2013)'!O103-'법정동(2012)'!O105","v":{"v":0,"d":"0.0"}},{"$f":"'법정동(2013)'!P103-'법정동(2012)'!P105","v":{"v":0,"d":"0.0"}},{"$f":"'법정동(2013)'!Q103-'법정동(2012)'!Q105","v":{"v":0,"d":"0.0"}},{"$f":"'법정동(2013)'!R103-'법정동(2012)'!R105","v":{"v":0,"d":"0.0"}},{"$f":"'법정동(2013)'!S103-'법정동(2012)'!S105","v":{"v":0,"d":"0.0"}},{"$f":"'법정동(2013)'!T103-'법정동(2012)'!T105","v":{"v":0,"d":"0.0"}},{"$f":"'법정동(2013)'!U103-'법정동(2012)'!U105","v":{"v":0,"d":"0.0"}},{"$f":"'법정동(2013)'!V103-'법정동(2012)'!V105","v":{"v":0,"d":"0.0"}},{"$f":"'법정동(2013)'!W103-'법정동(2012)'!W105","v":{"v":0,"d":"0.0"}},{"$f":"'법정동(2013)'!X103-'법정동(2012)'!X105","v":{"v":0,"d":"0.0"}},{"$f":"'법정동(2013)'!Y103-'법정동(2012)'!Y105","v":{"v":0,"d":"0.0"}},{"$f":"'법정동(2013)'!Z103-'법정동(2012)'!Z105","v":{"v":0,"d":"0.0"}},{"$f":"'법정동(2013)'!AA103-'법정동(2012)'!AA105","v":{"v":0,"d":"0.0"}},{"$f":"'법정동(2013)'!AB103-'법정동(2012)'!AB105","v":{"v":0,"d":"0.0"}},{"$f":"'법정동(2013)'!AC103-'법정동(2012)'!AC105","v":{"v":0,"d":"0.0"}},{"$f":"'법정동(2013)'!AD103-'법정동(2012)'!AD105","v":{"v":0,"d":"0.0"}},{"$f":"'법정동(2013)'!AE103-'법정동(2012)'!AE105","v":{"v":0,"d":"0.0"}},{"$f":"'법정동(2013)'!AF103-'법정동(2012)'!AF105","v":{"v":0,"d":"0.0"}},{"$f":"'법정동(2013)'!AG103-'법정동(2012)'!AG105","v":{"v":0,"d":"0.0"}},{"$f":"'법정동(2013)'!AH103-'법정동(2012)'!AH105","v":{"v":0,"d":"0.0"}},{"$f":"'법정동(2013)'!AI103-'법정동(2012)'!AI105","v":{"v":0,"d":"0.0"}},{"$f":"'법정동(2013)'!AJ103-'법정동(2012)'!AJ105","v":{"v":0,"d":"0.0"}},{"$f":"'법정동(2013)'!AK103-'법정동(2012)'!AK105","v":{"v":0,"d":"0.0"}},{"$f":"'법정동(2013)'!AL103-'법정동(2012)'!AL105","v":{"v":0,"d":"0.0"}},{"$f":"'법정동(2013)'!AM103-'법정동(2012)'!AM105","v":{"v":0,"d":"0.0"}},{"$f":"'법정동(2013)'!AN103-'법정동(2012)'!AN105","v":{"v":0,"d":"0.0"}},{"$f":"'법정동(2013)'!AO103-'법정동(2012)'!AO105","v":{"v":0,"d":"0.0"}},{"$f":"'법정동(2013)'!AP103-'법정동(2012)'!AP105","v":{"v":0,"d":"0.0"}},{"$f":"'법정동(2013)'!AQ103-'법정동(2012)'!AQ105","v":{"v":0,"d":"0.0"}},{"$f":"'법정동(2013)'!AR103-'법정동(2012)'!AR105","v":{"v":0,"d":"0.0"}},{"$f":"'법정동(2013)'!AS103-'법정동(2012)'!AS105","v":{"v":0,"d":"0.0"}},{"$f":"'법정동(2013)'!AT103-'법정동(2012)'!AT105","v":{"v":0,"d":"0.0"}},{"$f":"'법정동(2013)'!AU103-'법정동(2012)'!AU105","v":{"v":0,"d":"0.0"}},{"$f":"'법정동(2013)'!AV103-'법정동(2012)'!AV105","v":{"v":0,"d":"0.0"}},{"$f":"'법정동(2013)'!AW103-'법정동(2012)'!AW105","v":{"v":0,"d":"0.0"}},{"$f":"'법정동(2013)'!AX103-'법정동(2012)'!AX105","v":{"v":0,"d":"0.0"}},{"$f":"'법정동(2013)'!AY103-'법정동(2012)'!AY105","v":{"v":0,"d":"0.0"}},{"$f":"'법정동(2013)'!AZ103-'법정동(2012)'!AZ105","v":{"v":0,"d":"0.0"}},{"$f":"'법정동(2013)'!BA103-'법정동(2012)'!BA105","v":{"v":0,"d":"0.0"}},{"$f":"'법정동(2013)'!BB103-'법정동(2012)'!BB105","v":{"v":0,"d":"0.0"}},{"$f":"'법정동(2013)'!BC103-'법정동(2012)'!BC105","v":{"v":0,"d":"0.0"}},{"$f":"'법정동(2013)'!BD103-'법정동(2012)'!BD105","v":{"v":0,"d":"0.0"}},{"$f":"'법정동(2013)'!BE103-'법정동(2012)'!BE105","v":{"v":0,"d":"0.0"}},{"$f":"'법정동(2013)'!BF103-'법정동(2012)'!BF105","v":{"v":0,"d":"0.0"}},{"$f":"'법정동(2013)'!BG103-'법정동(2012)'!BG105","v":{"v":1,"d":"1.0"}}]
["화정면 백야리",{"$f":"'법정동(2013)'!B104-'법정동(2012)'!B106","v":{"v":0,"d":"0.0"}},{"$f":"'법정동(2013)'!C104-'법정동(2012)'!C106","v":{"v":10,"d":"10.0"}},{"$f":"'법정동(2013)'!D104-'법정동(2012)'!D106","v":{"v":-5083,"d":"-5,083.0"}},{"$f":"'법정동(2013)'!E104-'법정동(2012)'!E106","v":{"v":3,"d":"3.0"}},{"$f":"'법정동(2013)'!F104-'법정동(2012)'!F106","v":{"v":-376,"d":"-376.0"}},{"$f":"'법정동(2013)'!G104-'법정동(2012)'!G106","v":{"v":2,"d":"2.0"}},{"$f":"'법정동(2013)'!H104-'법정동(2012)'!H106","v":{"v":0,"d":"0.0"}},{"$f":"'법정동(2013)'!I104-'법정동(2012)'!I106","v":{"v":0,"d":"0.0"}},{"$f":"'법정동(2013)'!J104-'법정동(2012)'!J106","v":{"v":0,"d":"0.0"}},{"$f":"'법정동(2013)'!K104-'법정동(2012)'!K106","v":{"v":0,"d":"0.0"}},{"$f":"'법정동(2013)'!L104-'법정동(2012)'!L106","v":{"v":0,"d":"0.0"}},{"$f":"'법정동(2013)'!M104-'법정동(2012)'!M106","v":{"v":2,"d":"2.0"}},{"$f":"'법정동(2013)'!N104-'법정동(2012)'!N106","v":{"v":0,"d":"0.0"}},{"$f":"'법정동(2013)'!O104-'법정동(2012)'!O106","v":{"v":0,"d":"0.0"}},{"$f":"'법정동(2013)'!P104-'법정동(2012)'!P106","v":{"v":0,"d":"0.0"}},{"$f":"'법정동(2013)'!Q104-'법정동(2012)'!Q106","v":{"v":0,"d":"0.0"}},{"$f":"'법정동(2013)'!R104-'법정동(2012)'!R106","v":{"v":1148,"d":"1,148.0"}},{"$f":"'법정동(2013)'!S104-'법정동(2012)'!S106","v":{"v":2,"d":"2.0"}},{"$f":"'법정동(2013)'!T104-'법정동(2012)'!T106","v":{"v":0,"d":"0.0"}},{"$f":"'법정동(2013)'!U104-'법정동(2012)'!U106","v":{"v":0,"d":"0.0"}},{"$f":"'법정동(2013)'!V104-'법정동(2012)'!V106","v":{"v":0,"d":"0.0"}},{"$f":"'법정동(2013)'!W104-'법정동(2012)'!W106","v":{"v":0,"d":"0.0"}},{"$f":"'법정동(2013)'!X104-'법정동(2012)'!X106","v":{"v":0,"d":"0.0"}},{"$f":"'법정동(2013)'!Y104-'법정동(2012)'!Y106","v":{"v":0,"d":"0.0"}},{"$f":"'법정동(2013)'!Z104-'법정동(2012)'!Z106","v":{"v":0,"d":"0.0"}},{"$f":"'법정동(2013)'!AA104-'법정동(2012)'!AA106","v":{"v":0,"d":"0.0"}},{"$f":"'법정동(2013)'!AB104-'법정동(2012)'!AB106","v":{"v":0,"d":"0.0"}},{"$f":"'법정동(2013)'!AC104-'법정동(2012)'!AC106","v":{"v":0,"d":"0.0"}},{"$f":"'법정동(2013)'!AD104-'법정동(2012)'!AD106","v":{"v":0,"d":"0.0"}},{"$f":"'법정동(2013)'!AE104-'법정동(2012)'!AE106","v":{"v":0,"d":"0.0"}},{"$f":"'법정동(2013)'!AF104-'법정동(2012)'!AF106","v":{"v":0,"d":"0.0"}},{"$f":"'법정동(2013)'!AG104-'법정동(2012)'!AG106","v":{"v":0,"d":"0.0"}},{"$f":"'법정동(2013)'!AH104-'법정동(2012)'!AH106","v":{"v":0,"d":"0.0"}},{"$f":"'법정동(2013)'!AI104-'법정동(2012)'!AI106","v":{"v":0,"d":"0.0"}},{"$f":"'법정동(2013)'!AJ104-'법정동(2012)'!AJ106","v":{"v":0,"d":"0.0"}},{"$f":"'법정동(2013)'!AK104-'법정동(2012)'!AK106","v":{"v":0,"d":"0.0"}},{"$f":"'법정동(2013)'!AL104-'법정동(2012)'!AL106","v":{"v":0,"d":"0.0"}},{"$f":"'법정동(2013)'!AM104-'법정동(2012)'!AM106","v":{"v":0,"d":"0.0"}},{"$f":"'법정동(2013)'!AN104-'법정동(2012)'!AN106","v":{"v":0,"d":"0.0"}},{"$f":"'법정동(2013)'!AO104-'법정동(2012)'!AO106","v":{"v":0,"d":"0.0"}},{"$f":"'법정동(2013)'!AP104-'법정동(2012)'!AP106","v":{"v":4311,"d":"4,311.0"}},{"$f":"'법정동(2013)'!AQ104-'법정동(2012)'!AQ106","v":{"v":1,"d":"1.0"}},{"$f":"'법정동(2013)'!AR104-'법정동(2012)'!AR106","v":{"v":0,"d":"0.0"}},{"$f":"'법정동(2013)'!AS104-'법정동(2012)'!AS106","v":{"v":0,"d":"0.0"}},{"$f":"'법정동(2013)'!AT104-'법정동(2012)'!AT106","v":{"v":0,"d":"0.0"}},{"$f":"'법정동(2013)'!AU104-'법정동(2012)'!AU106","v":{"v":0,"d":"0.0"}},{"$f":"'법정동(2013)'!AV104-'법정동(2012)'!AV106","v":{"v":0,"d":"0.0"}},{"$f":"'법정동(2013)'!AW104-'법정동(2012)'!AW106","v":{"v":0,"d":"0.0"}},{"$f":"'법정동(2013)'!AX104-'법정동(2012)'!AX106","v":{"v":0,"d":"0.0"}},{"$f":"'법정동(2013)'!AY104-'법정동(2012)'!AY106","v":{"v":0,"d":"0.0"}},{"$f":"'법정동(2013)'!AZ104-'법정동(2012)'!AZ106","v":{"v":0,"d":"0.0"}},{"$f":"'법정동(2013)'!BA104-'법정동(2012)'!BA106","v":{"v":0,"d":"0.0"}},{"$f":"'법정동(2013)'!BB104-'법정동(2012)'!BB106","v":{"v":0,"d":"0.0"}},{"$f":"'법정동(2013)'!BC104-'법정동(2012)'!BC106","v":{"v":0,"d":"0.0"}},{"$f":"'법정동(2013)'!BD104-'법정동(2012)'!BD106","v":{"v":0,"d":"0.0"}},{"$f":"'법정동(2013)'!BE104-'법정동(2012)'!BE106","v":{"v":0,"d":"0.0"}},{"$f":"'법정동(2013)'!BF104-'법정동(2012)'!BF106","v":{"v":0,"d":"0.0"}},{"$f":"'법정동(2013)'!BG104-'법정동(2012)'!BG106","v":{"v":0,"d":"0.0"}}]
["화정면 월호리",{"$f":"'법정동(2013)'!B105-'법정동(2012)'!B107","v":{"v":0,"d":"0.0"}},{"$f":"'법정동(2013)'!C105-'법정동(2012)'!C107","v":{"v":0,"d":"0.0"}},{"$f":"'법정동(2013)'!D105-'법정동(2012)'!D107","v":{"v":0,"d":"0.0"}},{"$f":"'법정동(2013)'!E105-'법정동(2012)'!E107","v":{"v":0,"d":"0.0"}},{"$f":"'법정동(2013)'!F105-'법정동(2012)'!F107","v":{"v":0,"d":"0.0"}},{"$f":"'법정동(2013)'!G105-'법정동(2012)'!G107","v":{"v":0,"d":"0.0"}},{"$f":"'법정동(2013)'!H105-'법정동(2012)'!H107","v":{"v":0,"d":"0.0"}},{"$f":"'법정동(2013)'!I105-'법정동(2012)'!I107","v":{"v":0,"d":"0.0"}},{"$f":"'법정동(2013)'!J105-'법정동(2012)'!J107","v":{"v":0,"d":"0.0"}},{"$f":"'법정동(2013)'!K105-'법정동(2012)'!K107","v":{"v":0,"d":"0.0"}},{"$f":"'법정동(2013)'!L105-'법정동(2012)'!L107","v":{"v":0,"d":"0.0"}},{"$f":"'법정동(2013)'!M105-'법정동(2012)'!M107","v":{"v":0,"d":"0.0"}},{"$f":"'법정동(2013)'!N105-'법정동(2012)'!N107","v":{"v":0,"d":"0.0"}},{"$f":"'법정동(2013)'!O105-'법정동(2012)'!O107","v":{"v":0,"d":"0.0"}},{"$f":"'법정동(2013)'!P105-'법정동(2012)'!P107","v":{"v":0,"d":"0.0"}},{"$f":"'법정동(2013)'!Q105-'법정동(2012)'!Q107","v":{"v":0,"d":"0.0"}},{"$f":"'법정동(2013)'!R105-'법정동(2012)'!R107","v":{"v":0,"d":"0.0"}},{"$f":"'법정동(2013)'!S105-'법정동(2012)'!S107","v":{"v":0,"d":"0.0"}},{"$f":"'법정동(2013)'!T105-'법정동(2012)'!T107","v":{"v":0,"d":"0.0"}},{"$f":"'법정동(2013)'!U105-'법정동(2012)'!U107","v":{"v":0,"d":"0.0"}},{"$f":"'법정동(2013)'!V105-'법정동(2012)'!V107","v":{"v":0,"d":"0.0"}},{"$f":"'법정동(2013)'!W105-'법정동(2012)'!W107","v":{"v":0,"d":"0.0"}},{"$f":"'법정동(2013)'!X105-'법정동(2012)'!X107","v":{"v":0,"d":"0.0"}},{"$f":"'법정동(2013)'!Y105-'법정동(2012)'!Y107","v":{"v":0,"d":"0.0"}},{"$f":"'법정동(2013)'!Z105-'법정동(2012)'!Z107","v":{"v":0,"d":"0.0"}},{"$f":"'법정동(2013)'!AA105-'법정동(2012)'!AA107","v":{"v":0,"d":"0.0"}},{"$f":"'법정동(2013)'!AB105-'법정동(2012)'!AB107","v":{"v":0,"d":"0.0"}},{"$f":"'법정동(2013)'!AC105-'법정동(2012)'!AC107","v":{"v":0,"d":"0.0"}},{"$f":"'법정동(2013)'!AD105-'법정동(2012)'!AD107","v":{"v":0,"d":"0.0"}},{"$f":"'법정동(2013)'!AE105-'법정동(2012)'!AE107","v":{"v":0,"d":"0.0"}},{"$f":"'법정동(2013)'!AF105-'법정동(2012)'!AF107","v":{"v":0,"d":"0.0"}},{"$f":"'법정동(2013)'!AG105-'법정동(2012)'!AG107","v":{"v":0,"d":"0.0"}},{"$f":"'법정동(2013)'!AH105-'법정동(2012)'!AH107","v":{"v":0,"d":"0.0"}},{"$f":"'법정동(2013)'!AI105-'법정동(2012)'!AI107","v":{"v":0,"d":"0.0"}},{"$f":"'법정동(2013)'!AJ105-'법정동(2012)'!AJ107","v":{"v":0,"d":"0.0"}},{"$f":"'법정동(2013)'!AK105-'법정동(2012)'!AK107","v":{"v":0,"d":"0.0"}},{"$f":"'법정동(2013)'!AL105-'법정동(2012)'!AL107","v":{"v":0,"d":"0.0"}},{"$f":"'법정동(2013)'!AM105-'법정동(2012)'!AM107","v":{"v":0,"d":"0.0"}},{"$f":"'법정동(2013)'!AN105-'법정동(2012)'!AN107","v":{"v":0,"d":"0.0"}},{"$f":"'법정동(2013)'!AO105-'법정동(2012)'!AO107","v":{"v":0,"d":"0.0"}},{"$f":"'법정동(2013)'!AP105-'법정동(2012)'!AP107","v":{"v":0,"d":"0.0"}},{"$f":"'법정동(2013)'!AQ105-'법정동(2012)'!AQ107","v":{"v":0,"d":"0.0"}},{"$f":"'법정동(2013)'!AR105-'법정동(2012)'!AR107","v":{"v":0,"d":"0.0"}},{"$f":"'법정동(2013)'!AS105-'법정동(2012)'!AS107","v":{"v":0,"d":"0.0"}},{"$f":"'법정동(2013)'!AT105-'법정동(2012)'!AT107","v":{"v":0,"d":"0.0"}},{"$f":"'법정동(2013)'!AU105-'법정동(2012)'!AU107","v":{"v":0,"d":"0.0"}},{"$f":"'법정동(2013)'!AV105-'법정동(2012)'!AV107","v":{"v":0,"d":"0.0"}},{"$f":"'법정동(2013)'!AW105-'법정동(2012)'!AW107","v":{"v":0,"d":"0.0"}},{"$f":"'법정동(2013)'!AX105-'법정동(2012)'!AX107","v":{"v":0,"d":"0.0"}},{"$f":"'법정동(2013)'!AY105-'법정동(2012)'!AY107","v":{"v":0,"d":"0.0"}},{"$f":"'법정동(2013)'!AZ105-'법정동(2012)'!AZ107","v":{"v":0,"d":"0.0"}},{"$f":"'법정동(2013)'!BA105-'법정동(2012)'!BA107","v":{"v":0,"d":"0.0"}},{"$f":"'법정동(2013)'!BB105-'법정동(2012)'!BB107","v":{"v":0,"d":"0.0"}},{"$f":"'법정동(2013)'!BC105-'법정동(2012)'!BC107","v":{"v":0,"d":"0.0"}},{"$f":"'법정동(2013)'!BD105-'법정동(2012)'!BD107","v":{"v":0,"d":"0.0"}},{"$f":"'법정동(2013)'!BE105-'법정동(2012)'!BE107","v":{"v":0,"d":"0.0"}},{"$f":"'법정동(2013)'!BF105-'법정동(2012)'!BF107","v":{"v":0,"d":"0.0"}},{"$f":"'법정동(2013)'!BG105-'법정동(2012)'!BG107","v":{"v":0,"d":"0.0"}}]
["화정면 개도리",{"$f":"'법정동(2013)'!B106-'법정동(2012)'!B108","v":{"v":0,"d":"0.0"}},{"$f":"'법정동(2013)'!C106-'법정동(2012)'!C108","v":{"v":12,"d":"12.0"}},{"$f":"'법정동(2013)'!D106-'법정동(2012)'!D108","v":{"v":-166,"d":"-166.0"}},{"$f":"'법정동(2013)'!E106-'법정동(2012)'!E108","v":{"v":3,"d":"3.0"}},{"$f":"'법정동(2013)'!F106-'법정동(2012)'!F108","v":{"v":0,"d":"0.0"}},{"$f":"'법정동(2013)'!G106-'법정동(2012)'!G108","v":{"v":0,"d":"0.0"}},{"$f":"'법정동(2013)'!H106-'법정동(2012)'!H108","v":{"v":0,"d":"0.0"}},{"$f":"'법정동(2013)'!I106-'법정동(2012)'!I108","v":{"v":0,"d":"0.0"}},{"$f":"'법정동(2013)'!J106-'법정동(2012)'!J108","v":{"v":0,"d":"0.0"}},{"$f":"'법정동(2013)'!K106-'법정동(2012)'!K108","v":{"v":0,"d":"0.0"}},{"$f":"'법정동(2013)'!L106-'법정동(2012)'!L108","v":{"v":-7646,"d":"-7,646.0"}},{"$f":"'법정동(2013)'!M106-'법정동(2012)'!M108","v":{"v":7,"d":"7.0"}},{"$f":"'법정동(2013)'!N106-'법정동(2012)'!N108","v":{"v":0,"d":"0.0"}},{"$f":"'법정동(2013)'!O106-'법정동(2012)'!O108","v":{"v":0,"d":"0.0"}},{"$f":"'법정동(2013)'!P106-'법정동(2012)'!P108","v":{"v":0,"d":"0.0"}},{"$f":"'법정동(2013)'!Q106-'법정동(2012)'!Q108","v":{"v":0,"d":"0.0"}},{"$f":"'법정동(2013)'!R106-'법정동(2012)'!R108","v":{"v":166,"d":"166.0"}},{"$f":"'법정동(2013)'!S106-'법정동(2012)'!S108","v":{"v":1,"d":"1.0"}},{"$f":"'법정동(2013)'!T106-'법정동(2012)'!T108","v":{"v":0,"d":"0.0"}},{"$f":"'법정동(2013)'!U106-'법정동(2012)'!U108","v":{"v":0,"d":"0.0"}},{"$f":"'법정동(2013)'!V106-'법정동(2012)'!V108","v":{"v":0,"d":"0.0"}},{"$f":"'법정동(2013)'!W106-'법정동(2012)'!W108","v":{"v":0,"d":"0.0"}},{"$f":"'법정동(2013)'!X106-'법정동(2012)'!X108","v":{"v":0,"d":"0.0"}},{"$f":"'법정동(2013)'!Y106-'법정동(2012)'!Y108","v":{"v":0,"d":"0.0"}},{"$f":"'법정동(2013)'!Z106-'법정동(2012)'!Z108","v":{"v":0,"d":"0.0"}},{"$f":"'법정동(2013)'!AA106-'법정동(2012)'!AA108","v":{"v":0,"d":"0.0"}},{"$f":"'법정동(2013)'!AB106-'법정동(2012)'!AB108","v":{"v":0,"d":"0.0"}},{"$f":"'법정동(2013)'!AC106-'법정동(2012)'!AC108","v":{"v":0,"d":"0.0"}},{"$f":"'법정동(2013)'!AD106-'법정동(2012)'!AD108","v":{"v":0,"d":"0.0"}},{"$f":"'법정동(2013)'!AE106-'법정동(2012)'!AE108","v":{"v":0,"d":"0.0"}},{"$f":"'법정동(2013)'!AF106-'법정동(2012)'!AF108","v":{"v":0,"d":"0.0"}},{"$f":"'법정동(2013)'!AG106-'법정동(2012)'!AG108","v":{"v":0,"d":"0.0"}},{"$f":"'법정동(2013)'!AH106-'법정동(2012)'!AH108","v":{"v":0,"d":"0.0"}},{"$f":"'법정동(2013)'!AI106-'법정동(2012)'!AI108","v":{"v":0,"d":"0.0"}},{"$f":"'법정동(2013)'!AJ106-'법정동(2012)'!AJ108","v":{"v":0,"d":"0.0"}},{"$f":"'법정동(2013)'!AK106-'법정동(2012)'!AK108","v":{"v":0,"d":"0.0"}},{"$f":"'법정동(2013)'!AL106-'법정동(2012)'!AL108","v":{"v":0,"d":"0.0"}},{"$f":"'법정동(2013)'!AM106-'법정동(2012)'!AM108","v":{"v":0,"d":"0.0"}},{"$f":"'법정동(2013)'!AN106-'법정동(2012)'!AN108","v":{"v":0,"d":"0.0"}},{"$f":"'법정동(2013)'!AO106-'법정동(2012)'!AO108","v":{"v":0,"d":"0.0"}},{"$f":"'법정동(2013)'!AP106-'법정동(2012)'!AP108","v":{"v":0,"d":"0.0"}},{"$f":"'법정동(2013)'!AQ106-'법정동(2012)'!AQ108","v":{"v":0,"d":"0.0"}},{"$f":"'법정동(2013)'!AR106-'법정동(2012)'!AR108","v":{"v":0,"d":"0.0"}},{"$f":"'법정동(2013)'!AS106-'법정동(2012)'!AS108","v":{"v":0,"d":"0.0"}},{"$f":"'법정동(2013)'!AT106-'법정동(2012)'!AT108","v":{"v":0,"d":"0.0"}},{"$f":"'법정동(2013)'!AU106-'법정동(2012)'!AU108","v":{"v":0,"d":"0.0"}},{"$f":"'법정동(2013)'!AV106-'법정동(2012)'!AV108","v":{"v":0,"d":"0.0"}},{"$f":"'법정동(2013)'!AW106-'법정동(2012)'!AW108","v":{"v":0,"d":"0.0"}},{"$f":"'법정동(2013)'!AX106-'법정동(2012)'!AX108","v":{"v":0,"d":"0.0"}},{"$f":"'법정동(2013)'!AY106-'법정동(2012)'!AY108","v":{"v":0,"d":"0.0"}},{"$f":"'법정동(2013)'!AZ106-'법정동(2012)'!AZ108","v":{"v":0,"d":"0.0"}},{"$f":"'법정동(2013)'!BA106-'법정동(2012)'!BA108","v":{"v":0,"d":"0.0"}},{"$f":"'법정동(2013)'!BB106-'법정동(2012)'!BB108","v":{"v":0,"d":"0.0"}},{"$f":"'법정동(2013)'!BC106-'법정동(2012)'!BC108","v":{"v":0,"d":"0.0"}},{"$f":"'법정동(2013)'!BD106-'법정동(2012)'!BD108","v":{"v":7646,"d":"7,646.0"}},{"$f":"'법정동(2013)'!BE106-'법정동(2012)'!BE108","v":{"v":1,"d":"1.0"}},{"$f":"'법정동(2013)'!BF106-'법정동(2012)'!BF108","v":{"v":0,"d":"0.0"}},{"$f":"'법정동(2013)'!BG106-'법정동(2012)'!BG108","v":{"v":0,"d":"0.0"}}]
["화정면 제도리",{"$f":"'법정동(2013)'!B107-'법정동(2012)'!B109","v":{"v":0,"d":"0.0"}},{"$f":"'법정동(2013)'!C107-'법정동(2012)'!C109","v":{"v":2,"d":"2.0"}},{"$f":"'법정동(2013)'!D107-'법정동(2012)'!D109","v":{"v":0,"d":"0.0"}},{"$f":"'법정동(2013)'!E107-'법정동(2012)'!E109","v":{"v":0,"d":"0.0"}},{"$f":"'법정동(2013)'!F107-'법정동(2012)'!F109","v":{"v":0,"d":"0.0"}},{"$f":"'법정동(2013)'!G107-'법정동(2012)'!G109","v":{"v":0,"d":"0.0"}},{"$f":"'법정동(2013)'!H107-'법정동(2012)'!H109","v":{"v":0,"d":"0.0"}},{"$f":"'법정동(2013)'!I107-'법정동(2012)'!I109","v":{"v":0,"d":"0.0"}},{"$f":"'법정동(2013)'!J107-'법정동(2012)'!J109","v":{"v":0,"d":"0.0"}},{"$f":"'법정동(2013)'!K107-'법정동(2012)'!K109","v":{"v":0,"d":"0.0"}},{"$f":"'법정동(2013)'!L107-'법정동(2012)'!L109","v":{"v":0,"d":"0.0"}},{"$f":"'법정동(2013)'!M107-'법정동(2012)'!M109","v":{"v":2,"d":"2.0"}},{"$f":"'법정동(2013)'!N107-'법정동(2012)'!N109","v":{"v":0,"d":"0.0"}},{"$f":"'법정동(2013)'!O107-'법정동(2012)'!O109","v":{"v":0,"d":"0.0"}},{"$f":"'법정동(2013)'!P107-'법정동(2012)'!P109","v":{"v":0,"d":"0.0"}},{"$f":"'법정동(2013)'!Q107-'법정동(2012)'!Q109","v":{"v":0,"d":"0.0"}},{"$f":"'법정동(2013)'!R107-'법정동(2012)'!R109","v":{"v":252,"d":"252.0"}},{"$f":"'법정동(2013)'!S107-'법정동(2012)'!S109","v":{"v":1,"d":"1.0"}},{"$f":"'법정동(2013)'!T107-'법정동(2012)'!T109","v":{"v":0,"d":"0.0"}},{"$f":"'법정동(2013)'!U107-'법정동(2012)'!U109","v":{"v":0,"d":"0.0"}},{"$f":"'법정동(2013)'!V107-'법정동(2012)'!V109","v":{"v":0,"d":"0.0"}},{"$f":"'법정동(2013)'!W107-'법정동(2012)'!W109","v":{"v":0,"d":"0.0"}},{"$f":"'법정동(2013)'!X107-'법정동(2012)'!X109","v":{"v":0,"d":"0.0"}},{"$f":"'법정동(2013)'!Y107-'법정동(2012)'!Y109","v":{"v":0,"d":"0.0"}},{"$f":"'법정동(2013)'!Z107-'법정동(2012)'!Z109","v":{"v":0,"d":"0.0"}},{"$f":"'법정동(2013)'!AA107-'법정동(2012)'!AA109","v":{"v":0,"d":"0.0"}},{"$f":"'법정동(2013)'!AB107-'법정동(2012)'!AB109","v":{"v":0,"d":"0.0"}},{"$f":"'법정동(2013)'!AC107-'법정동(2012)'!AC109","v":{"v":0,"d":"0.0"}},{"$f":"'법정동(2013)'!AD107-'법정동(2012)'!AD109","v":{"v":0,"d":"0.0"}},{"$f":"'법정동(2013)'!AE107-'법정동(2012)'!AE109","v":{"v":0,"d":"0.0"}},{"$f":"'법정동(2013)'!AF107-'법정동(2012)'!AF109","v":{"v":0,"d":"0.0"}},{"$f":"'법정동(2013)'!AG107-'법정동(2012)'!AG109","v":{"v":0,"d":"0.0"}},{"$f":"'법정동(2013)'!AH107-'법정동(2012)'!AH109","v":{"v":0,"d":"0.0"}},{"$f":"'법정동(2013)'!AI107-'법정동(2012)'!AI109","v":{"v":0,"d":"0.0"}},{"$f":"'법정동(2013)'!AJ107-'법정동(2012)'!AJ109","v":{"v":0,"d":"0.0"}},{"$f":"'법정동(2013)'!AK107-'법정동(2012)'!AK109","v":{"v":0,"d":"0.0"}},{"$f":"'법정동(2013)'!AL107-'법정동(2012)'!AL109","v":{"v":0,"d":"0.0"}},{"$f":"'법정동(2013)'!AM107-'법정동(2012)'!AM109","v":{"v":0,"d":"0.0"}},{"$f":"'법정동(2013)'!AN107-'법정동(2012)'!AN109","v":{"v":0,"d":"0.0"}},{"$f":"'법정동(2013)'!AO107-'법정동(2012)'!AO109","v":{"v":0,"d":"0.0"}},{"$f":"'법정동(2013)'!AP107-'법정동(2012)'!AP109","v":{"v":0,"d":"0.0"}},{"$f":"'법정동(2013)'!AQ107-'법정동(2012)'!AQ109","v":{"v":0,"d":"0.0"}},{"$f":"'법정동(2013)'!AR107-'법정동(2012)'!AR109","v":{"v":0,"d":"0.0"}},{"$f":"'법정동(2013)'!AS107-'법정동(2012)'!AS109","v":{"v":0,"d":"0.0"}},{"$f":"'법정동(2013)'!AT107-'법정동(2012)'!AT109","v":{"v":0,"d":"0.0"}},{"$f":"'법정동(2013)'!AU107-'법정동(2012)'!AU109","v":{"v":0,"d":"0.0"}},{"$f":"'법정동(2013)'!AV107-'법정동(2012)'!AV109","v":{"v":0,"d":"0.0"}},{"$f":"'법정동(2013)'!AW107-'법정동(2012)'!AW109","v":{"v":0,"d":"0.0"}},{"$f":"'법정동(2013)'!AX107-'법정동(2012)'!AX109","v":{"v":0,"d":"0.0"}},{"$f":"'법정동(2013)'!AY107-'법정동(2012)'!AY109","v":{"v":0,"d":"0.0"}},{"$f":"'법정동(2013)'!AZ107-'법정동(2012)'!AZ109","v":{"v":0,"d":"0.0"}},{"$f":"'법정동(2013)'!BA107-'법정동(2012)'!BA109","v":{"v":0,"d":"0.0"}},{"$f":"'법정동(2013)'!BB107-'법정동(2012)'!BB109","v":{"v":0,"d":"0.0"}},{"$f":"'법정동(2013)'!BC107-'법정동(2012)'!BC109","v":{"v":0,"d":"0.0"}},{"$f":"'법정동(2013)'!BD107-'법정동(2012)'!BD109","v":{"v":0,"d":"0.0"}},{"$f":"'법정동(2013)'!BE107-'법정동(2012)'!BE109","v":{"v":0,"d":"0.0"}},{"$f":"'법정동(2013)'!BF107-'법정동(2012)'!BF109","v":{"v":-252,"d":"-252.0"}},{"$f":"'법정동(2013)'!BG107-'법정동(2012)'!BG109","v":{"v":-1,"d":"-1.0"}}]
["화정면 상화리",{"$f":"'법정동(2013)'!B108-'법정동(2012)'!B110","v":{"v":0,"d":"0.0"}},{"$f":"'법정동(2013)'!C108-'법정동(2012)'!C110","v":{"v":1,"d":"1.0"}},{"$f":"'법정동(2013)'!D108-'법정동(2012)'!D110","v":{"v":0,"d":"0.0"}},{"$f":"'법정동(2013)'!E108-'법정동(2012)'!E110","v":{"v":0,"d":"0.0"}},{"$f":"'법정동(2013)'!F108-'법정동(2012)'!F110","v":{"v":0,"d":"0.0"}},{"$f":"'법정동(2013)'!G108-'법정동(2012)'!G110","v":{"v":0,"d":"0.0"}},{"$f":"'법정동(2013)'!H108-'법정동(2012)'!H110","v":{"v":0,"d":"0.0"}},{"$f":"'법정동(2013)'!I108-'법정동(2012)'!I110","v":{"v":0,"d":"0.0"}},{"$f":"'법정동(2013)'!J108-'법정동(2012)'!J110","v":{"v":0,"d":"0.0"}},{"$f":"'법정동(2013)'!K108-'법정동(2012)'!K110","v":{"v":0,"d":"0.0"}},{"$f":"'법정동(2013)'!L108-'법정동(2012)'!L110","v":{"v":0,"d":"0.0"}},{"$f":"'법정동(2013)'!M108-'법정동(2012)'!M110","v":{"v":0,"d":"0.0"}},{"$f":"'법정동(2013)'!N108-'법정동(2012)'!N110","v":{"v":0,"d":"0.0"}},{"$f":"'법정동(2013)'!O108-'법정동(2012)'!O110","v":{"v":0,"d":"0.0"}},{"$f":"'법정동(2013)'!P108-'법정동(2012)'!P110","v":{"v":0,"d":"0.0"}},{"$f":"'법정동(2013)'!Q108-'법정동(2012)'!Q110","v":{"v":0,"d":"0.0"}},{"$f":"'법정동(2013)'!R108-'법정동(2012)'!R110","v":{"v":0,"d":"0.0"}},{"$f":"'법정동(2013)'!S108-'법정동(2012)'!S110","v":{"v":1,"d":"1.0"}},{"$f":"'법정동(2013)'!T108-'법정동(2012)'!T110","v":{"v":0,"d":"0.0"}},{"$f":"'법정동(2013)'!U108-'법정동(2012)'!U110","v":{"v":0,"d":"0.0"}},{"$f":"'법정동(2013)'!V108-'법정동(2012)'!V110","v":{"v":0,"d":"0.0"}},{"$f":"'법정동(2013)'!W108-'법정동(2012)'!W110","v":{"v":0,"d":"0.0"}},{"$f":"'법정동(2013)'!X108-'법정동(2012)'!X110","v":{"v":0,"d":"0.0"}},{"$f":"'법정동(2013)'!Y108-'법정동(2012)'!Y110","v":{"v":0,"d":"0.0"}},{"$f":"'법정동(2013)'!Z108-'법정동(2012)'!Z110","v":{"v":0,"d":"0.0"}},{"$f":"'법정동(2013)'!AA108-'법정동(2012)'!AA110","v":{"v":0,"d":"0.0"}},{"$f":"'법정동(2013)'!AB108-'법정동(2012)'!AB110","v":{"v":0,"d":"0.0"}},{"$f":"'법정동(2013)'!AC108-'법정동(2012)'!AC110","v":{"v":0,"d":"0.0"}},{"$f":"'법정동(2013)'!AD108-'법정동(2012)'!AD110","v":{"v":0,"d":"0.0"}},{"$f":"'법정동(2013)'!AE108-'법정동(2012)'!AE110","v":{"v":0,"d":"0.0"}},{"$f":"'법정동(2013)'!AF108-'법정동(2012)'!AF110","v":{"v":0,"d":"0.0"}},{"$f":"'법정동(2013)'!AG108-'법정동(2012)'!AG110","v":{"v":0,"d":"0.0"}},{"$f":"'법정동(2013)'!AH108-'법정동(2012)'!AH110","v":{"v":0,"d":"0.0"}},{"$f":"'법정동(2013)'!AI108-'법정동(2012)'!AI110","v":{"v":0,"d":"0.0"}},{"$f":"'법정동(2013)'!AJ108-'법정동(2012)'!AJ110","v":{"v":0,"d":"0.0"}},{"$f":"'법정동(2013)'!AK108-'법정동(2012)'!AK110","v":{"v":0,"d":"0.0"}},{"$f":"'법정동(2013)'!AL108-'법정동(2012)'!AL110","v":{"v":0,"d":"0.0"}},{"$f":"'법정동(2013)'!AM108-'법정동(2012)'!AM110","v":{"v":0,"d":"0.0"}},{"$f":"'법정동(2013)'!AN108-'법정동(2012)'!AN110","v":{"v":0,"d":"0.0"}},{"$f":"'법정동(2013)'!AO108-'법정동(2012)'!AO110","v":{"v":0,"d":"0.0"}},{"$f":"'법정동(2013)'!AP108-'법정동(2012)'!AP110","v":{"v":0,"d":"0.0"}},{"$f":"'법정동(2013)'!AQ108-'법정동(2012)'!AQ110","v":{"v":0,"d":"0.0"}},{"$f":"'법정동(2013)'!AR108-'법정동(2012)'!AR110","v":{"v":0,"d":"0.0"}},{"$f":"'법정동(2013)'!AS108-'법정동(2012)'!AS110","v":{"v":0,"d":"0.0"}},{"$f":"'법정동(2013)'!AT108-'법정동(2012)'!AT110","v":{"v":0,"d":"0.0"}},{"$f":"'법정동(2013)'!AU108-'법정동(2012)'!AU110","v":{"v":0,"d":"0.0"}},{"$f":"'법정동(2013)'!AV108-'법정동(2012)'!AV110","v":{"v":0,"d":"0.0"}},{"$f":"'법정동(2013)'!AW108-'법정동(2012)'!AW110","v":{"v":0,"d":"0.0"}},{"$f":"'법정동(2013)'!AX108-'법정동(2012)'!AX110","v":{"v":0,"d":"0.0"}},{"$f":"'법정동(2013)'!AY108-'법정동(2012)'!AY110","v":{"v":0,"d":"0.0"}},{"$f":"'법정동(2013)'!AZ108-'법정동(2012)'!AZ110","v":{"v":0,"d":"0.0"}},{"$f":"'법정동(2013)'!BA108-'법정동(2012)'!BA110","v":{"v":0,"d":"0.0"}},{"$f":"'법정동(2013)'!BB108-'법정동(2012)'!BB110","v":{"v":0,"d":"0.0"}},{"$f":"'법정동(2013)'!BC108-'법정동(2012)'!BC110","v":{"v":0,"d":"0.0"}},{"$f":"'법정동(2013)'!BD108-'법정동(2012)'!BD110","v":{"v":0,"d":"0.0"}},{"$f":"'법정동(2013)'!BE108-'법정동(2012)'!BE110","v":{"v":0,"d":"0.0"}},{"$f":"'법정동(2013)'!BF108-'법정동(2012)'!BF110","v":{"v":0,"d":"0.0"}},{"$f":"'법정동(2013)'!BG108-'법정동(2012)'!BG110","v":{"v":0,"d":"0.0"}}]
["화정면 하화리",{"$f":"'법정동(2013)'!B109-'법정동(2012)'!B111","v":{"v":0,"d":"0.0"}},{"$f":"'법정동(2013)'!C109-'법정동(2012)'!C111","v":{"v":2,"d":"2.0"}},{"$f":"'법정동(2013)'!D109-'법정동(2012)'!D111","v":{"v":-1322,"d":"-1,322.0"}},{"$f":"'법정동(2013)'!E109-'법정동(2012)'!E111","v":{"v":-1,"d":"-1.0"}},{"$f":"'법정동(2013)'!F109-'법정동(2012)'!F111","v":{"v":0,"d":"0.0"}},{"$f":"'법정동(2013)'!G109-'법정동(2012)'!G111","v":{"v":0,"d":"0.0"}},{"$f":"'법정동(2013)'!H109-'법정동(2012)'!H111","v":{"v":0,"d":"0.0"}},{"$f":"'법정동(2013)'!I109-'법정동(2012)'!I111","v":{"v":0,"d":"0.0"}},{"$f":"'법정동(2013)'!J109-'법정동(2012)'!J111","v":{"v":0,"d":"0.0"}},{"$f":"'법정동(2013)'!K109-'법정동(2012)'!K111","v":{"v":0,"d":"0.0"}},{"$f":"'법정동(2013)'!L109-'법정동(2012)'!L111","v":{"v":0,"d":"0.0"}},{"$f":"'법정동(2013)'!M109-'법정동(2012)'!M111","v":{"v":0,"d":"0.0"}},{"$f":"'법정동(2013)'!N109-'법정동(2012)'!N111","v":{"v":0,"d":"0.0"}},{"$f":"'법정동(2013)'!O109-'법정동(2012)'!O111","v":{"v":0,"d":"0.0"}},{"$f":"'법정동(2013)'!P109-'법정동(2012)'!P111","v":{"v":0,"d":"0.0"}},{"$f":"'법정동(2013)'!Q109-'법정동(2012)'!Q111","v":{"v":0,"d":"0.0"}},{"$f":"'법정동(2013)'!R109-'법정동(2012)'!R111","v":{"v":1322,"d":"1,322.0"}},{"$f":"'법정동(2013)'!S109-'법정동(2012)'!S111","v":{"v":2,"d":"2.0"}},{"$f":"'법정동(2013)'!T109-'법정동(2012)'!T111","v":{"v":0,"d":"0.0"}},{"$f":"'법정동(2013)'!U109-'법정동(2012)'!U111","v":{"v":0,"d":"0.0"}},{"$f":"'법정동(2013)'!V109-'법정동(2012)'!V111","v":{"v":0,"d":"0.0"}},{"$f":"'법정동(2013)'!W109-'법정동(2012)'!W111","v":{"v":0,"d":"0.0"}},{"$f":"'법정동(2013)'!X109-'법정동(2012)'!X111","v":{"v":0,"d":"0.0"}},{"$f":"'법정동(2013)'!Y109-'법정동(2012)'!Y111","v":{"v":0,"d":"0.0"}},{"$f":"'법정동(2013)'!Z109-'법정동(2012)'!Z111","v":{"v":0,"d":"0.0"}},{"$f":"'법정동(2013)'!AA109-'법정동(2012)'!AA111","v":{"v":0,"d":"0.0"}},{"$f":"'법정동(2013)'!AB109-'법정동(2012)'!AB111","v":{"v":0,"d":"0.0"}},{"$f":"'법정동(2013)'!AC109-'법정동(2012)'!AC111","v":{"v":0,"d":"0.0"}},{"$f":"'법정동(2013)'!AD109-'법정동(2012)'!AD111","v":{"v":0,"d":"0.0"}},{"$f":"'법정동(2013)'!AE109-'법정동(2012)'!AE111","v":{"v":0,"d":"0.0"}},{"$f":"'법정동(2013)'!AF109-'법정동(2012)'!AF111","v":{"v":0,"d":"0.0"}},{"$f":"'법정동(2013)'!AG109-'법정동(2012)'!AG111","v":{"v":0,"d":"0.0"}},{"$f":"'법정동(2013)'!AH109-'법정동(2012)'!AH111","v":{"v":0,"d":"0.0"}},{"$f":"'법정동(2013)'!AI109-'법정동(2012)'!AI111","v":{"v":0,"d":"0.0"}},{"$f":"'법정동(2013)'!AJ109-'법정동(2012)'!AJ111","v":{"v":0,"d":"0.0"}},{"$f":"'법정동(2013)'!AK109-'법정동(2012)'!AK111","v":{"v":0,"d":"0.0"}},{"$f":"'법정동(2013)'!AL109-'법정동(2012)'!AL111","v":{"v":0,"d":"0.0"}},{"$f":"'법정동(2013)'!AM109-'법정동(2012)'!AM111","v":{"v":0,"d":"0.0"}},{"$f":"'법정동(2013)'!AN109-'법정동(2012)'!AN111","v":{"v":0,"d":"0.0"}},{"$f":"'법정동(2013)'!AO109-'법정동(2012)'!AO111","v":{"v":0,"d":"0.0"}},{"$f":"'법정동(2013)'!AP109-'법정동(2012)'!AP111","v":{"v":0,"d":"0.0"}},{"$f":"'법정동(2013)'!AQ109-'법정동(2012)'!AQ111","v":{"v":0,"d":"0.0"}},{"$f":"'법정동(2013)'!AR109-'법정동(2012)'!AR111","v":{"v":0,"d":"0.0"}},{"$f":"'법정동(2013)'!AS109-'법정동(2012)'!AS111","v":{"v":0,"d":"0.0"}},{"$f":"'법정동(2013)'!AT109-'법정동(2012)'!AT111","v":{"v":0,"d":"0.0"}},{"$f":"'법정동(2013)'!AU109-'법정동(2012)'!AU111","v":{"v":0,"d":"0.0"}},{"$f":"'법정동(2013)'!AV109-'법정동(2012)'!AV111","v":{"v":0,"d":"0.0"}},{"$f":"'법정동(2013)'!AW109-'법정동(2012)'!AW111","v":{"v":0,"d":"0.0"}},{"$f":"'법정동(2013)'!AX109-'법정동(2012)'!AX111","v":{"v":0,"d":"0.0"}},{"$f":"'법정동(2013)'!AY109-'법정동(2012)'!AY111","v":{"v":0,"d":"0.0"}},{"$f":"'법정동(2013)'!AZ109-'법정동(2012)'!AZ111","v":{"v":0,"d":"0.0"}},{"$f":"'법정동(2013)'!BA109-'법정동(2012)'!BA111","v":{"v":0,"d":"0.0"}},{"$f":"'법정동(2013)'!BB109-'법정동(2012)'!BB111","v":{"v":0,"d":"0.0"}},{"$f":"'법정동(2013)'!BC109-'법정동(2012)'!BC111","v":{"v":0,"d":"0.0"}},{"$f":"'법정동(2013)'!BD109-'법정동(2012)'!BD111","v":{"v":0,"d":"0.0"}},{"$f":"'법정동(2013)'!BE109-'법정동(2012)'!BE111","v":{"v":0,"d":"0.0"}},{"$f":"'법정동(2013)'!BF109-'법정동(2012)'!BF111","v":{"v":0,"d":"0.0"}},{"$f":"'법정동(2013)'!BG109-'법정동(2012)'!BG111","v":{"v":1,"d":"1.0"}}]
["화정면 낭도리",{"$f":"'법정동(2013)'!B110-'법정동(2012)'!B112","v":{"v":-860,"d":"-860.0"}},{"$f":"'법정동(2013)'!C110-'법정동(2012)'!C112","v":{"v":2,"d":"2.0"}},{"$f":"'법정동(2013)'!D110-'법정동(2012)'!D112","v":{"v":-1338,"d":"-1,338.0"}},{"$f":"'법정동(2013)'!E110-'법정동(2012)'!E112","v":{"v":-1,"d":"-1.0"}},{"$f":"'법정동(2013)'!F110-'법정동(2012)'!F112","v":{"v":0,"d":"0.0"}},{"$f":"'법정동(2013)'!G110-'법정동(2012)'!G112","v":{"v":0,"d":"0.0"}},{"$f":"'법정동(2013)'!H110-'법정동(2012)'!H112","v":{"v":0,"d":"0.0"}},{"$f":"'법정동(2013)'!I110-'법정동(2012)'!I112","v":{"v":0,"d":"0.0"}},{"$f":"'법정동(2013)'!J110-'법정동(2012)'!J112","v":{"v":0,"d":"0.0"}},{"$f":"'법정동(2013)'!K110-'법정동(2012)'!K112","v":{"v":0,"d":"0.0"}},{"$f":"'법정동(2013)'!L110-'법정동(2012)'!L112","v":{"v":-2573,"d":"-2,573.0"}},{"$f":"'법정동(2013)'!M110-'법정동(2012)'!M112","v":{"v":-2,"d":"-2.0"}},{"$f":"'법정동(2013)'!N110-'법정동(2012)'!N112","v":{"v":0,"d":"0.0"}},{"$f":"'법정동(2013)'!O110-'법정동(2012)'!O112","v":{"v":0,"d":"0.0"}},{"$f":"'법정동(2013)'!P110-'법정동(2012)'!P112","v":{"v":0,"d":"0.0"}},{"$f":"'법정동(2013)'!Q110-'법정동(2012)'!Q112","v":{"v":0,"d":"0.0"}},{"$f":"'법정동(2013)'!R110-'법정동(2012)'!R112","v":{"v":1044,"d":"1,044.0"}},{"$f":"'법정동(2013)'!S110-'법정동(2012)'!S112","v":{"v":4,"d":"4.0"}},{"$f":"'법정동(2013)'!T110-'법정동(2012)'!T112","v":{"v":0,"d":"0.0"}},{"$f":"'법정동(2013)'!U110-'법정동(2012)'!U112","v":{"v":0,"d":"0.0"}},{"$f":"'법정동(2013)'!V110-'법정동(2012)'!V112","v":{"v":2007,"d":"2,007.0"}},{"$f":"'법정동(2013)'!W110-'법정동(2012)'!W112","v":{"v":1,"d":"1.0"}},{"$f":"'법정동(2013)'!X110-'법정동(2012)'!X112","v":{"v":0,"d":"0.0"}},{"$f":"'법정동(2013)'!Y110-'법정동(2012)'!Y112","v":{"v":0,"d":"0.0"}},{"$f":"'법정동(2013)'!Z110-'법정동(2012)'!Z112","v":{"v":0,"d":"0.0"}},{"$f":"'법정동(2013)'!AA110-'법정동(2012)'!AA112","v":{"v":0,"d":"0.0"}},{"$f":"'법정동(2013)'!AB110-'법정동(2012)'!AB112","v":{"v":0,"d":"0.0"}},{"$f":"'법정동(2013)'!AC110-'법정동(2012)'!AC112","v":{"v":0,"d":"0.0"}},{"$f":"'법정동(2013)'!AD110-'법정동(2012)'!AD112","v":{"v":0,"d":"0.0"}},{"$f":"'법정동(2013)'!AE110-'법정동(2012)'!AE112","v":{"v":0,"d":"0.0"}},{"$f":"'법정동(2013)'!AF110-'법정동(2012)'!AF112","v":{"v":0,"d":"0.0"}},{"$f":"'법정동(2013)'!AG110-'법정동(2012)'!AG112","v":{"v":0,"d":"0.0"}},{"$f":"'법정동(2013)'!AH110-'법정동(2012)'!AH112","v":{"v":0,"d":"0.0"}},{"$f":"'법정동(2013)'!AI110-'법정동(2012)'!AI112","v":{"v":0,"d":"0.0"}},{"$f":"'법정동(2013)'!AJ110-'법정동(2012)'!AJ112","v":{"v":0,"d":"0.0"}},{"$f":"'법정동(2013)'!AK110-'법정동(2012)'!AK112","v":{"v":0,"d":"0.0"}},{"$f":"'법정동(2013)'!AL110-'법정동(2012)'!AL112","v":{"v":0,"d":"0.0"}},{"$f":"'법정동(2013)'!AM110-'법정동(2012)'!AM112","v":{"v":0,"d":"0.0"}},{"$f":"'법정동(2013)'!AN110-'법정동(2012)'!AN112","v":{"v":0,"d":"0.0"}},{"$f":"'법정동(2013)'!AO110-'법정동(2012)'!AO112","v":{"v":0,"d":"0.0"}},{"$f":"'법정동(2013)'!AP110-'법정동(2012)'!AP112","v":{"v":0,"d":"0.0"}},{"$f":"'법정동(2013)'!AQ110-'법정동(2012)'!AQ112","v":{"v":0,"d":"0.0"}},{"$f":"'법정동(2013)'!AR110-'법정동(2012)'!AR112","v":{"v":0,"d":"0.0"}},{"$f":"'법정동(2013)'!AS110-'법정동(2012)'!AS112","v":{"v":0,"d":"0.0"}},{"$f":"'법정동(2013)'!AT110-'법정동(2012)'!AT112","v":{"v":0,"d":"0.0"}},{"$f":"'법정동(2013)'!AU110-'법정동(2012)'!AU112","v":{"v":0,"d":"0.0"}},{"$f":"'법정동(2013)'!AV110-'법정동(2012)'!AV112","v":{"v":0,"d":"0.0"}},{"$f":"'법정동(2013)'!AW110-'법정동(2012)'!AW112","v":{"v":0,"d":"0.0"}},{"$f":"'법정동(2013)'!AX110-'법정동(2012)'!AX112","v":{"v":0,"d":"0.0"}},{"$f":"'법정동(2013)'!AY110-'법정동(2012)'!AY112","v":{"v":0,"d":"0.0"}},{"$f":"'법정동(2013)'!AZ110-'법정동(2012)'!AZ112","v":{"v":0,"d":"0.0"}},{"$f":"'법정동(2013)'!BA110-'법정동(2012)'!BA112","v":{"v":0,"d":"0.0"}},{"$f":"'법정동(2013)'!BB110-'법정동(2012)'!BB112","v":{"v":0,"d":"0.0"}},{"$f":"'법정동(2013)'!BC110-'법정동(2012)'!BC112","v":{"v":0,"d":"0.0"}},{"$f":"'법정동(2013)'!BD110-'법정동(2012)'!BD112","v":{"v":0,"d":"0.0"}},{"$f":"'법정동(2013)'!BE110-'법정동(2012)'!BE112","v":{"v":0,"d":"0.0"}},{"$f":"'법정동(2013)'!BF110-'법정동(2012)'!BF112","v":{"v":0,"d":"0.0"}},{"$f":"'법정동(2013)'!BG110-'법정동(2012)'!BG112","v":{"v":0,"d":"0.0"}}]
["화정면 조발리",{"$f":"'법정동(2013)'!B111-'법정동(2012)'!B113","v":{"v":-1882,"d":"-1,882.0"}},{"$f":"'법정동(2013)'!C111-'법정동(2012)'!C113","v":{"v":3,"d":"3.0"}},{"$f":"'법정동(2013)'!D111-'법정동(2012)'!D113","v":{"v":0,"d":"0.0"}},{"$f":"'법정동(2013)'!E111-'법정동(2012)'!E113","v":{"v":0,"d":"0.0"}},{"$f":"'법정동(2013)'!F111-'법정동(2012)'!F113","v":{"v":0,"d":"0.0"}},{"$f":"'법정동(2013)'!G111-'법정동(2012)'!G113","v":{"v":0,"d":"0.0"}},{"$f":"'법정동(2013)'!H111-'법정동(2012)'!H113","v":{"v":0,"d":"0.0"}},{"$f":"'법정동(2013)'!I111-'법정동(2012)'!I113","v":{"v":0,"d":"0.0"}},{"$f":"'법정동(2013)'!J111-'법정동(2012)'!J113","v":{"v":0,"d":"0.0"}},{"$f":"'법정동(2013)'!K111-'법정동(2012)'!K113","v":{"v":0,"d":"0.0"}},{"$f":"'법정동(2013)'!L111-'법정동(2012)'!L113","v":{"v":-2609,"d":"-2,609.0"}},{"$f":"'법정동(2013)'!M111-'법정동(2012)'!M113","v":{"v":1,"d":"1.0"}},{"$f":"'법정동(2013)'!N111-'법정동(2012)'!N113","v":{"v":0,"d":"0.0"}},{"$f":"'법정동(2013)'!O111-'법정동(2012)'!O113","v":{"v":0,"d":"0.0"}},{"$f":"'법정동(2013)'!P111-'법정동(2012)'!P113","v":{"v":0,"d":"0.0"}},{"$f":"'법정동(2013)'!Q111-'법정동(2012)'!Q113","v":{"v":0,"d":"0.0"}},{"$f":"'법정동(2013)'!R111-'법정동(2012)'!R113","v":{"v":0,"d":"0.0"}},{"$f":"'법정동(2013)'!S111-'법정동(2012)'!S113","v":{"v":1,"d":"1.0"}},{"$f":"'법정동(2013)'!T111-'법정동(2012)'!T113","v":{"v":0,"d":"0.0"}},{"$f":"'법정동(2013)'!U111-'법정동(2012)'!U113","v":{"v":0,"d":"0.0"}},{"$f":"'법정동(2013)'!V111-'법정동(2012)'!V113","v":{"v":0,"d":"0.0"}},{"$f":"'법정동(2013)'!W111-'법정동(2012)'!W113","v":{"v":0,"d":"0.0"}},{"$f":"'법정동(2013)'!X111-'법정동(2012)'!X113","v":{"v":0,"d":"0.0"}},{"$f":"'법정동(2013)'!Y111-'법정동(2012)'!Y113","v":{"v":0,"d":"0.0"}},{"$f":"'법정동(2013)'!Z111-'법정동(2012)'!Z113","v":{"v":0,"d":"0.0"}},{"$f":"'법정동(2013)'!AA111-'법정동(2012)'!AA113","v":{"v":0,"d":"0.0"}},{"$f":"'법정동(2013)'!AB111-'법정동(2012)'!AB113","v":{"v":0,"d":"0.0"}},{"$f":"'법정동(2013)'!AC111-'법정동(2012)'!AC113","v":{"v":0,"d":"0.0"}},{"$f":"'법정동(2013)'!AD111-'법정동(2012)'!AD113","v":{"v":0,"d":"0.0"}},{"$f":"'법정동(2013)'!AE111-'법정동(2012)'!AE113","v":{"v":0,"d":"0.0"}},{"$f":"'법정동(2013)'!AF111-'법정동(2012)'!AF113","v":{"v":0,"d":"0.0"}},{"$f":"'법정동(2013)'!AG111-'법정동(2012)'!AG113","v":{"v":0,"d":"0.0"}},{"$f":"'법정동(2013)'!AH111-'법정동(2012)'!AH113","v":{"v":0,"d":"0.0"}},{"$f":"'법정동(2013)'!AI111-'법정동(2012)'!AI113","v":{"v":0,"d":"0.0"}},{"$f":"'법정동(2013)'!AJ111-'법정동(2012)'!AJ113","v":{"v":0,"d":"0.0"}},{"$f":"'법정동(2013)'!AK111-'법정동(2012)'!AK113","v":{"v":0,"d":"0.0"}},{"$f":"'법정동(2013)'!AL111-'법정동(2012)'!AL113","v":{"v":0,"d":"0.0"}},{"$f":"'법정동(2013)'!AM111-'법정동(2012)'!AM113","v":{"v":0,"d":"0.0"}},{"$f":"'법정동(2013)'!AN111-'법정동(2012)'!AN113","v":{"v":0,"d":"0.0"}},{"$f":"'법정동(2013)'!AO111-'법정동(2012)'!AO113","v":{"v":0,"d":"0.0"}},{"$f":"'법정동(2013)'!AP111-'법정동(2012)'!AP113","v":{"v":0,"d":"0.0"}},{"$f":"'법정동(2013)'!AQ111-'법정동(2012)'!AQ113","v":{"v":0,"d":"0.0"}},{"$f":"'법정동(2013)'!AR111-'법정동(2012)'!AR113","v":{"v":0,"d":"0.0"}},{"$f":"'법정동(2013)'!AS111-'법정동(2012)'!AS113","v":{"v":0,"d":"0.0"}},{"$f":"'법정동(2013)'!AT111-'법정동(2012)'!AT113","v":{"v":0,"d":"0.0"}},{"$f":"'법정동(2013)'!AU111-'법정동(2012)'!AU113","v":{"v":0,"d":"0.0"}},{"$f":"'법정동(2013)'!AV111-'법정동(2012)'!AV113","v":{"v":0,"d":"0.0"}},{"$f":"'법정동(2013)'!AW111-'법정동(2012)'!AW113","v":{"v":0,"d":"0.0"}},{"$f":"'법정동(2013)'!AX111-'법정동(2012)'!AX113","v":{"v":0,"d":"0.0"}},{"$f":"'법정동(2013)'!AY111-'법정동(2012)'!AY113","v":{"v":0,"d":"0.0"}},{"$f":"'법정동(2013)'!AZ111-'법정동(2012)'!AZ113","v":{"v":0,"d":"0.0"}},{"$f":"'법정동(2013)'!BA111-'법정동(2012)'!BA113","v":{"v":0,"d":"0.0"}},{"$f":"'법정동(2013)'!BB111-'법정동(2012)'!BB113","v":{"v":0,"d":"0.0"}},{"$f":"'법정동(2013)'!BC111-'법정동(2012)'!BC113","v":{"v":0,"d":"0.0"}},{"$f":"'법정동(2013)'!BD111-'법정동(2012)'!BD113","v":{"v":727,"d":"727.0"}},{"$f":"'법정동(2013)'!BE111-'법정동(2012)'!BE113","v":{"v":1,"d":"1.0"}},{"$f":"'법정동(2013)'!BF111-'법정동(2012)'!BF113","v":{"v":0,"d":"0.0"}},{"$f":"'법정동(2013)'!BG111-'법정동(2012)'!BG113","v":{"v":0,"d":"0.0"}}]
["화정면 적금리",{"$f":"'법정동(2013)'!B112-'법정동(2012)'!B114","v":{"v":0,"d":"0.0"}},{"$f":"'법정동(2013)'!C112-'법정동(2012)'!C114","v":{"v":2,"d":"2.0"}},{"$f":"'법정동(2013)'!D112-'법정동(2012)'!D114","v":{"v":0,"d":"0.0"}},{"$f":"'법정동(2013)'!E112-'법정동(2012)'!E114","v":{"v":-1,"d":"-1.0"}},{"$f":"'법정동(2013)'!F112-'법정동(2012)'!F114","v":{"v":0,"d":"0.0"}},{"$f":"'법정동(2013)'!G112-'법정동(2012)'!G114","v":{"v":0,"d":"0.0"}},{"$f":"'법정동(2013)'!H112-'법정동(2012)'!H114","v":{"v":0,"d":"0.0"}},{"$f":"'법정동(2013)'!I112-'법정동(2012)'!I114","v":{"v":0,"d":"0.0"}},{"$f":"'법정동(2013)'!J112-'법정동(2012)'!J114","v":{"v":0,"d":"0.0"}},{"$f":"'법정동(2013)'!K112-'법정동(2012)'!K114","v":{"v":0,"d":"0.0"}},{"$f":"'법정동(2013)'!L112-'법정동(2012)'!L114","v":{"v":0,"d":"0.0"}},{"$f":"'법정동(2013)'!M112-'법정동(2012)'!M114","v":{"v":0,"d":"0.0"}},{"$f":"'법정동(2013)'!N112-'법정동(2012)'!N114","v":{"v":0,"d":"0.0"}},{"$f":"'법정동(2013)'!O112-'법정동(2012)'!O114","v":{"v":0,"d":"0.0"}},{"$f":"'법정동(2013)'!P112-'법정동(2012)'!P114","v":{"v":0,"d":"0.0"}},{"$f":"'법정동(2013)'!Q112-'법정동(2012)'!Q114","v":{"v":0,"d":"0.0"}},{"$f":"'법정동(2013)'!R112-'법정동(2012)'!R114","v":{"v":0,"d":"0.0"}},{"$f":"'법정동(2013)'!S112-'법정동(2012)'!S114","v":{"v":3,"d":"3.0"}},{"$f":"'법정동(2013)'!T112-'법정동(2012)'!T114","v":{"v":0,"d":"0.0"}},{"$f":"'법정동(2013)'!U112-'법정동(2012)'!U114","v":{"v":0,"d":"0.0"}},{"$f":"'법정동(2013)'!V112-'법정동(2012)'!V114","v":{"v":0,"d":"0.0"}},{"$f":"'법정동(2013)'!W112-'법정동(2012)'!W114","v":{"v":0,"d":"0.0"}},{"$f":"'법정동(2013)'!X112-'법정동(2012)'!X114","v":{"v":0,"d":"0.0"}},{"$f":"'법정동(2013)'!Y112-'법정동(2012)'!Y114","v":{"v":0,"d":"0.0"}},{"$f":"'법정동(2013)'!Z112-'법정동(2012)'!Z114","v":{"v":0,"d":"0.0"}},{"$f":"'법정동(2013)'!AA112-'법정동(2012)'!AA114","v":{"v":0,"d":"0.0"}},{"$f":"'법정동(2013)'!AB112-'법정동(2012)'!AB114","v":{"v":0,"d":"0.0"}},{"$f":"'법정동(2013)'!AC112-'법정동(2012)'!AC114","v":{"v":0,"d":"0.0"}},{"$f":"'법정동(2013)'!AD112-'법정동(2012)'!AD114","v":{"v":0,"d":"0.0"}},{"$f":"'법정동(2013)'!AE112-'법정동(2012)'!AE114","v":{"v":0,"d":"0.0"}},{"$f":"'법정동(2013)'!AF112-'법정동(2012)'!AF114","v":{"v":0,"d":"0.0"}},{"$f":"'법정동(2013)'!AG112-'법정동(2012)'!AG114","v":{"v":0,"d":"0.0"}},{"$f":"'법정동(2013)'!AH112-'법정동(2012)'!AH114","v":{"v":0,"d":"0.0"}},{"$f":"'법정동(2013)'!AI112-'법정동(2012)'!AI114","v":{"v":0,"d":"0.0"}},{"$f":"'법정동(2013)'!AJ112-'법정동(2012)'!AJ114","v":{"v":0,"d":"0.0"}},{"$f":"'법정동(2013)'!AK112-'법정동(2012)'!AK114","v":{"v":0,"d":"0.0"}},{"$f":"'법정동(2013)'!AL112-'법정동(2012)'!AL114","v":{"v":0,"d":"0.0"}},{"$f":"'법정동(2013)'!AM112-'법정동(2012)'!AM114","v":{"v":0,"d":"0.0"}},{"$f":"'법정동(2013)'!AN112-'법정동(2012)'!AN114","v":{"v":0,"d":"0.0"}},{"$f":"'법정동(2013)'!AO112-'법정동(2012)'!AO114","v":{"v":0,"d":"0.0"}},{"$f":"'법정동(2013)'!AP112-'법정동(2012)'!AP114","v":{"v":0,"d":"0.0"}},{"$f":"'법정동(2013)'!AQ112-'법정동(2012)'!AQ114","v":{"v":0,"d":"0.0"}},{"$f":"'법정동(2013)'!AR112-'법정동(2012)'!AR114","v":{"v":0,"d":"0.0"}},{"$f":"'법정동(2013)'!AS112-'법정동(2012)'!AS114","v":{"v":0,"d":"0.0"}},{"$f":"'법정동(2013)'!AT112-'법정동(2012)'!AT114","v":{"v":0,"d":"0.0"}},{"$f":"'법정동(2013)'!AU112-'법정동(2012)'!AU114","v":{"v":0,"d":"0.0"}},{"$f":"'법정동(2013)'!AV112-'법정동(2012)'!AV114","v":{"v":0,"d":"0.0"}},{"$f":"'법정동(2013)'!AW112-'법정동(2012)'!AW114","v":{"v":0,"d":"0.0"}},{"$f":"'법정동(2013)'!AX112-'법정동(2012)'!AX114","v":{"v":0,"d":"0.0"}},{"$f":"'법정동(2013)'!AY112-'법정동(2012)'!AY114","v":{"v":0,"d":"0.0"}},{"$f":"'법정동(2013)'!AZ112-'법정동(2012)'!AZ114","v":{"v":0,"d":"0.0"}},{"$f":"'법정동(2013)'!BA112-'법정동(2012)'!BA114","v":{"v":0,"d":"0.0"}},{"$f":"'법정동(2013)'!BB112-'법정동(2012)'!BB114","v":{"v":0,"d":"0.0"}},{"$f":"'법정동(2013)'!BC112-'법정동(2012)'!BC114","v":{"v":0,"d":"0.0"}},{"$f":"'법정동(2013)'!BD112-'법정동(2012)'!BD114","v":{"v":0,"d":"0.0"}},{"$f":"'법정동(2013)'!BE112-'법정동(2012)'!BE114","v":{"v":0,"d":"0.0"}},{"$f":"'법정동(2013)'!BF112-'법정동(2012)'!BF114","v":{"v":0,"d":"0.0"}},{"$f":"'법정동(2013)'!BG112-'법정동(2012)'!BG114","v":{"v":0,"d":"0.0"}}]
["화정면 여자리",{"$f":"'법정동(2013)'!B113-'법정동(2012)'!B115","v":{"v":-488,"d":"-488.0"}},{"$f":"'법정동(2013)'!C113-'법정동(2012)'!C115","v":{"v":9,"d":"9.0"}},{"$f":"'법정동(2013)'!D113-'법정동(2012)'!D115","v":{"v":-2755,"d":"-2,755.0"}},{"$f":"'법정동(2013)'!E113-'법정동(2012)'!E115","v":{"v":1,"d":"1.0"}},{"$f":"'법정동(2013)'!F113-'법정동(2012)'!F115","v":{"v":0,"d":"0.0"}},{"$f":"'법정동(2013)'!G113-'법정동(2012)'!G115","v":{"v":0,"d":"0.0"}},{"$f":"'법정동(2013)'!H113-'법정동(2012)'!H115","v":{"v":0,"d":"0.0"}},{"$f":"'법정동(2013)'!I113-'법정동(2012)'!I115","v":{"v":0,"d":"0.0"}},{"$f":"'법정동(2013)'!J113-'법정동(2012)'!J115","v":{"v":0,"d":"0.0"}},{"$f":"'법정동(2013)'!K113-'법정동(2012)'!K115","v":{"v":0,"d":"0.0"}},{"$f":"'법정동(2013)'!L113-'법정동(2012)'!L115","v":{"v":-3554,"d":"-3,554.0"}},{"$f":"'법정동(2013)'!M113-'법정동(2012)'!M115","v":{"v":-1,"d":"-1.0"}},{"$f":"'법정동(2013)'!N113-'법정동(2012)'!N115","v":{"v":0,"d":"0.0"}},{"$f":"'법정동(2013)'!O113-'법정동(2012)'!O115","v":{"v":0,"d":"0.0"}},{"$f":"'법정동(2013)'!P113-'법정동(2012)'!P115","v":{"v":0,"d":"0.0"}},{"$f":"'법정동(2013)'!Q113-'법정동(2012)'!Q115","v":{"v":0,"d":"0.0"}},{"$f":"'법정동(2013)'!R113-'법정동(2012)'!R115","v":{"v":1753,"d":"1,753.0"}},{"$f":"'법정동(2013)'!S113-'법정동(2012)'!S115","v":{"v":4,"d":"4.0"}},{"$f":"'법정동(2013)'!T113-'법정동(2012)'!T115","v":{"v":0,"d":"0.0"}},{"$f":"'법정동(2013)'!U113-'법정동(2012)'!U115","v":{"v":0,"d":"0.0"}},{"$f":"'법정동(2013)'!V113-'법정동(2012)'!V115","v":{"v":0,"d":"0.0"}},{"$f":"'법정동(2013)'!W113-'법정동(2012)'!W115","v":{"v":2,"d":"2.0"}},{"$f":"'법정동(2013)'!X113-'법정동(2012)'!X115","v":{"v":0,"d":"0.0"}},{"$f":"'법정동(2013)'!Y113-'법정동(2012)'!Y115","v":{"v":0,"d":"0.0"}},{"$f":"'법정동(2013)'!Z113-'법정동(2012)'!Z115","v":{"v":0,"d":"0.0"}},{"$f":"'법정동(2013)'!AA113-'법정동(2012)'!AA115","v":{"v":0,"d":"0.0"}},{"$f":"'법정동(2013)'!AB113-'법정동(2012)'!AB115","v":{"v":0,"d":"0.0"}},{"$f":"'법정동(2013)'!AC113-'법정동(2012)'!AC115","v":{"v":0,"d":"0.0"}},{"$f":"'법정동(2013)'!AD113-'법정동(2012)'!AD115","v":{"v":0,"d":"0.0"}},{"$f":"'법정동(2013)'!AE113-'법정동(2012)'!AE115","v":{"v":0,"d":"0.0"}},{"$f":"'법정동(2013)'!AF113-'법정동(2012)'!AF115","v":{"v":0,"d":"0.0"}},{"$f":"'법정동(2013)'!AG113-'법정동(2012)'!AG115","v":{"v":0,"d":"0.0"}},{"$f":"'법정동(2013)'!AH113-'법정동(2012)'!AH115","v":{"v":0,"d":"0.0"}},{"$f":"'법정동(2013)'!AI113-'법정동(2012)'!AI115","v":{"v":0,"d":"0.0"}},{"$f":"'법정동(2013)'!AJ113-'법정동(2012)'!AJ115","v":{"v":0,"d":"0.0"}},{"$f":"'법정동(2013)'!AK113-'법정동(2012)'!AK115","v":{"v":0,"d":"0.0"}},{"$f":"'법정동(2013)'!AL113-'법정동(2012)'!AL115","v":{"v":0,"d":"0.0"}},{"$f":"'법정동(2013)'!AM113-'법정동(2012)'!AM115","v":{"v":0,"d":"0.0"}},{"$f":"'법정동(2013)'!AN113-'법정동(2012)'!AN115","v":{"v":0,"d":"0.0"}},{"$f":"'법정동(2013)'!AO113-'법정동(2012)'!AO115","v":{"v":0,"d":"0.0"}},{"$f":"'법정동(2013)'!AP113-'법정동(2012)'!AP115","v":{"v":662,"d":"662.0"}},{"$f":"'법정동(2013)'!AQ113-'법정동(2012)'!AQ115","v":{"v":1,"d":"1.0"}},{"$f":"'법정동(2013)'!AR113-'법정동(2012)'!AR115","v":{"v":0,"d":"0.0"}},{"$f":"'법정동(2013)'!AS113-'법정동(2012)'!AS115","v":{"v":0,"d":"0.0"}},{"$f":"'법정동(2013)'!AT113-'법정동(2012)'!AT115","v":{"v":0,"d":"0.0"}},{"$f":"'법정동(2013)'!AU113-'법정동(2012)'!AU115","v":{"v":0,"d":"0.0"}},{"$f":"'법정동(2013)'!AV113-'법정동(2012)'!AV115","v":{"v":0,"d":"0.0"}},{"$f":"'법정동(2013)'!AW113-'법정동(2012)'!AW115","v":{"v":0,"d":"0.0"}},{"$f":"'법정동(2013)'!AX113-'법정동(2012)'!AX115","v":{"v":0,"d":"0.0"}},{"$f":"'법정동(2013)'!AY113-'법정동(2012)'!AY115","v":{"v":0,"d":"0.0"}},{"$f":"'법정동(2013)'!AZ113-'법정동(2012)'!AZ115","v":{"v":1000,"d":"1,000.0"}},{"$f":"'법정동(2013)'!BA113-'법정동(2012)'!BA115","v":{"v":1,"d":"1.0"}},{"$f":"'법정동(2013)'!BB113-'법정동(2012)'!BB115","v":{"v":0,"d":"0.0"}},{"$f":"'법정동(2013)'!BC113-'법정동(2012)'!BC115","v":{"v":0,"d":"0.0"}},{"$f":"'법정동(2013)'!BD113-'법정동(2012)'!BD115","v":{"v":2406,"d":"2,406.0"}},{"$f":"'법정동(2013)'!BE113-'법정동(2012)'!BE115","v":{"v":1,"d":"1.0"}},{"$f":"'법정동(2013)'!BF113-'법정동(2012)'!BF115","v":{"v":0,"d":"0.0"}},{"$f":"'법정동(2013)'!BG113-'법정동(2012)'!BG115","v":{"v":0,"d":"0.0"}}]
["삼산면 거문리",{"$f":"'법정동(2013)'!B114-'법정동(2012)'!B116","v":{"v":0,"d":"0.0"}},{"$f":"'법정동(2013)'!C114-'법정동(2012)'!C116","v":{"v":1,"d":"1.0"}},{"$f":"'법정동(2013)'!D114-'법정동(2012)'!D116","v":{"v":-215,"d":"-215.0"}},{"$f":"'법정동(2013)'!E114-'법정동(2012)'!E116","v":{"v":-1,"d":"-1.0"}},{"$f":"'법정동(2013)'!F114-'법정동(2012)'!F116","v":{"v":0,"d":"0.0"}},{"$f":"'법정동(2013)'!G114-'법정동(2012)'!G116","v":{"v":0,"d":"0.0"}},{"$f":"'법정동(2013)'!H114-'법정동(2012)'!H116","v":{"v":0,"d":"0.0"}},{"$f":"'법정동(2013)'!I114-'법정동(2012)'!I116","v":{"v":0,"d":"0.0"}},{"$f":"'법정동(2013)'!J114-'법정동(2012)'!J116","v":{"v":0,"d":"0.0"}},{"$f":"'법정동(2013)'!K114-'법정동(2012)'!K116","v":{"v":0,"d":"0.0"}},{"$f":"'법정동(2013)'!L114-'법정동(2012)'!L116","v":{"v":0,"d":"0.0"}},{"$f":"'법정동(2013)'!M114-'법정동(2012)'!M116","v":{"v":0,"d":"0.0"}},{"$f":"'법정동(2013)'!N114-'법정동(2012)'!N116","v":{"v":0,"d":"0.0"}},{"$f":"'법정동(2013)'!O114-'법정동(2012)'!O116","v":{"v":0,"d":"0.0"}},{"$f":"'법정동(2013)'!P114-'법정동(2012)'!P116","v":{"v":0,"d":"0.0"}},{"$f":"'법정동(2013)'!Q114-'법정동(2012)'!Q116","v":{"v":0,"d":"0.0"}},{"$f":"'법정동(2013)'!R114-'법정동(2012)'!R116","v":{"v":112,"d":"112.0"}},{"$f":"'법정동(2013)'!S114-'법정동(2012)'!S116","v":{"v":1,"d":"1.0"}},{"$f":"'법정동(2013)'!T114-'법정동(2012)'!T116","v":{"v":0,"d":"0.0"}},{"$f":"'법정동(2013)'!U114-'법정동(2012)'!U116","v":{"v":0,"d":"0.0"}},{"$f":"'법정동(2013)'!V114-'법정동(2012)'!V116","v":{"v":0,"d":"0.0"}},{"$f":"'법정동(2013)'!W114-'법정동(2012)'!W116","v":{"v":0,"d":"0.0"}},{"$f":"'법정동(2013)'!X114-'법정동(2012)'!X116","v":{"v":0,"d":"0.0"}},{"$f":"'법정동(2013)'!Y114-'법정동(2012)'!Y116","v":{"v":0,"d":"0.0"}},{"$f":"'법정동(2013)'!Z114-'법정동(2012)'!Z116","v":{"v":0,"d":"0.0"}},{"$f":"'법정동(2013)'!AA114-'법정동(2012)'!AA116","v":{"v":0,"d":"0.0"}},{"$f":"'법정동(2013)'!AB114-'법정동(2012)'!AB116","v":{"v":0,"d":"0.0"}},{"$f":"'법정동(2013)'!AC114-'법정동(2012)'!AC116","v":{"v":0,"d":"0.0"}},{"$f":"'법정동(2013)'!AD114-'법정동(2012)'!AD116","v":{"v":103,"d":"103.0"}},{"$f":"'법정동(2013)'!AE114-'법정동(2012)'!AE116","v":{"v":1,"d":"1.0"}},{"$f":"'법정동(2013)'!AF114-'법정동(2012)'!AF116","v":{"v":0,"d":"0.0"}},{"$f":"'법정동(2013)'!AG114-'법정동(2012)'!AG116","v":{"v":0,"d":"0.0"}},{"$f":"'법정동(2013)'!AH114-'법정동(2012)'!AH116","v":{"v":0,"d":"0.0"}},{"$f":"'법정동(2013)'!AI114-'법정동(2012)'!AI116","v":{"v":0,"d":"0.0"}},{"$f":"'법정동(2013)'!AJ114-'법정동(2012)'!AJ116","v":{"v":0,"d":"0.0"}},{"$f":"'법정동(2013)'!AK114-'법정동(2012)'!AK116","v":{"v":0,"d":"0.0"}},{"$f":"'법정동(2013)'!AL114-'법정동(2012)'!AL116","v":{"v":0,"d":"0.0"}},{"$f":"'법정동(2013)'!AM114-'법정동(2012)'!AM116","v":{"v":0,"d":"0.0"}},{"$f":"'법정동(2013)'!AN114-'법정동(2012)'!AN116","v":{"v":0,"d":"0.0"}},{"$f":"'법정동(2013)'!AO114-'법정동(2012)'!AO116","v":{"v":0,"d":"0.0"}},{"$f":"'법정동(2013)'!AP114-'법정동(2012)'!AP116","v":{"v":0,"d":"0.0"}},{"$f":"'법정동(2013)'!AQ114-'법정동(2012)'!AQ116","v":{"v":0,"d":"0.0"}},{"$f":"'법정동(2013)'!AR114-'법정동(2012)'!AR116","v":{"v":0,"d":"0.0"}},{"$f":"'법정동(2013)'!AS114-'법정동(2012)'!AS116","v":{"v":0,"d":"0.0"}},{"$f":"'법정동(2013)'!AT114-'법정동(2012)'!AT116","v":{"v":0,"d":"0.0"}},{"$f":"'법정동(2013)'!AU114-'법정동(2012)'!AU116","v":{"v":0,"d":"0.0"}},{"$f":"'법정동(2013)'!AV114-'법정동(2012)'!AV116","v":{"v":0,"d":"0.0"}},{"$f":"'법정동(2013)'!AW114-'법정동(2012)'!AW116","v":{"v":0,"d":"0.0"}},{"$f":"'법정동(2013)'!AX114-'법정동(2012)'!AX116","v":{"v":0,"d":"0.0"}},{"$f":"'법정동(2013)'!AY114-'법정동(2012)'!AY116","v":{"v":0,"d":"0.0"}},{"$f":"'법정동(2013)'!AZ114-'법정동(2012)'!AZ116","v":{"v":0,"d":"0.0"}},{"$f":"'법정동(2013)'!BA114-'법정동(2012)'!BA116","v":{"v":0,"d":"0.0"}},{"$f":"'법정동(2013)'!BB114-'법정동(2012)'!BB116","v":{"v":0,"d":"0.0"}},{"$f":"'법정동(2013)'!BC114-'법정동(2012)'!BC116","v":{"v":0,"d":"0.0"}},{"$f":"'법정동(2013)'!BD114-'법정동(2012)'!BD116","v":{"v":0,"d":"0.0"}},{"$f":"'법정동(2013)'!BE114-'법정동(2012)'!BE116","v":{"v":0,"d":"0.0"}},{"$f":"'법정동(2013)'!BF114-'법정동(2012)'!BF116","v":{"v":0,"d":"0.0"}},{"$f":"'법정동(2013)'!BG114-'법정동(2012)'!BG116","v":{"v":0,"d":"0.0"}}]
["삼산면 덕촌리",{"$f":"'법정동(2013)'!B115-'법정동(2012)'!B117","v":{"v":0,"d":"0.0"}},{"$f":"'법정동(2013)'!C115-'법정동(2012)'!C117","v":{"v":-2,"d":"-2.0"}},{"$f":"'법정동(2013)'!D115-'법정동(2012)'!D117","v":{"v":-142,"d":"-142.0"}},{"$f":"'법정동(2013)'!E115-'법정동(2012)'!E117","v":{"v":-2,"d":"-2.0"}},{"$f":"'법정동(2013)'!F115-'법정동(2012)'!F117","v":{"v":0,"d":"0.0"}},{"$f":"'법정동(2013)'!G115-'법정동(2012)'!G117","v":{"v":0,"d":"0.0"}},{"$f":"'법정동(2013)'!H115-'법정동(2012)'!H117","v":{"v":0,"d":"0.0"}},{"$f":"'법정동(2013)'!I115-'법정동(2012)'!I117","v":{"v":0,"d":"0.0"}},{"$f":"'법정동(2013)'!J115-'법정동(2012)'!J117","v":{"v":0,"d":"0.0"}},{"$f":"'법정동(2013)'!K115-'법정동(2012)'!K117","v":{"v":0,"d":"0.0"}},{"$f":"'법정동(2013)'!L115-'법정동(2012)'!L117","v":{"v":0,"d":"0.0"}},{"$f":"'법정동(2013)'!M115-'법정동(2012)'!M117","v":{"v":0,"d":"0.0"}},{"$f":"'법정동(2013)'!N115-'법정동(2012)'!N117","v":{"v":0,"d":"0.0"}},{"$f":"'법정동(2013)'!O115-'법정동(2012)'!O117","v":{"v":0,"d":"0.0"}},{"$f":"'법정동(2013)'!P115-'법정동(2012)'!P117","v":{"v":0,"d":"0.0"}},{"$f":"'법정동(2013)'!Q115-'법정동(2012)'!Q117","v":{"v":0,"d":"0.0"}},{"$f":"'법정동(2013)'!R115-'법정동(2012)'!R117","v":{"v":142,"d":"142.0"}},{"$f":"'법정동(2013)'!S115-'법정동(2012)'!S117","v":{"v":0,"d":"0.0"}},{"$f":"'법정동(2013)'!T115-'법정동(2012)'!T117","v":{"v":0,"d":"0.0"}},{"$f":"'법정동(2013)'!U115-'법정동(2012)'!U117","v":{"v":0,"d":"0.0"}},{"$f":"'법정동(2013)'!V115-'법정동(2012)'!V117","v":{"v":0,"d":"0.0"}},{"$f":"'법정동(2013)'!W115-'법정동(2012)'!W117","v":{"v":0,"d":"0.0"}},{"$f":"'법정동(2013)'!X115-'법정동(2012)'!X117","v":{"v":0,"d":"0.0"}},{"$f":"'법정동(2013)'!Y115-'법정동(2012)'!Y117","v":{"v":0,"d":"0.0"}},{"$f":"'법정동(2013)'!Z115-'법정동(2012)'!Z117","v":{"v":0,"d":"0.0"}},{"$f":"'법정동(2013)'!AA115-'법정동(2012)'!AA117","v":{"v":0,"d":"0.0"}},{"$f":"'법정동(2013)'!AB115-'법정동(2012)'!AB117","v":{"v":0,"d":"0.0"}},{"$f":"'법정동(2013)'!AC115-'법정동(2012)'!AC117","v":{"v":0,"d":"0.0"}},{"$f":"'법정동(2013)'!AD115-'법정동(2012)'!AD117","v":{"v":0,"d":"0.0"}},{"$f":"'법정동(2013)'!AE115-'법정동(2012)'!AE117","v":{"v":0,"d":"0.0"}},{"$f":"'법정동(2013)'!AF115-'법정동(2012)'!AF117","v":{"v":0,"d":"0.0"}},{"$f":"'법정동(2013)'!AG115-'법정동(2012)'!AG117","v":{"v":0,"d":"0.0"}},{"$f":"'법정동(2013)'!AH115-'법정동(2012)'!AH117","v":{"v":0,"d":"0.0"}},{"$f":"'법정동(2013)'!AI115-'법정동(2012)'!AI117","v":{"v":0,"d":"0.0"}},{"$f":"'법정동(2013)'!AJ115-'법정동(2012)'!AJ117","v":{"v":0,"d":"0.0"}},{"$f":"'법정동(2013)'!AK115-'법정동(2012)'!AK117","v":{"v":0,"d":"0.0"}},{"$f":"'법정동(2013)'!AL115-'법정동(2012)'!AL117","v":{"v":0,"d":"0.0"}},{"$f":"'법정동(2013)'!AM115-'법정동(2012)'!AM117","v":{"v":0,"d":"0.0"}},{"$f":"'법정동(2013)'!AN115-'법정동(2012)'!AN117","v":{"v":0,"d":"0.0"}},{"$f":"'법정동(2013)'!AO115-'법정동(2012)'!AO117","v":{"v":0,"d":"0.0"}},{"$f":"'법정동(2013)'!AP115-'법정동(2012)'!AP117","v":{"v":0,"d":"0.0"}},{"$f":"'법정동(2013)'!AQ115-'법정동(2012)'!AQ117","v":{"v":0,"d":"0.0"}},{"$f":"'법정동(2013)'!AR115-'법정동(2012)'!AR117","v":{"v":0,"d":"0.0"}},{"$f":"'법정동(2013)'!AS115-'법정동(2012)'!AS117","v":{"v":0,"d":"0.0"}},{"$f":"'법정동(2013)'!AT115-'법정동(2012)'!AT117","v":{"v":0,"d":"0.0"}},{"$f":"'법정동(2013)'!AU115-'법정동(2012)'!AU117","v":{"v":0,"d":"0.0"}},{"$f":"'법정동(2013)'!AV115-'법정동(2012)'!AV117","v":{"v":0,"d":"0.0"}},{"$f":"'법정동(2013)'!AW115-'법정동(2012)'!AW117","v":{"v":0,"d":"0.0"}},{"$f":"'법정동(2013)'!AX115-'법정동(2012)'!AX117","v":{"v":0,"d":"0.0"}},{"$f":"'법정동(2013)'!AY115-'법정동(2012)'!AY117","v":{"v":0,"d":"0.0"}},{"$f":"'법정동(2013)'!AZ115-'법정동(2012)'!AZ117","v":{"v":0,"d":"0.0"}},{"$f":"'법정동(2013)'!BA115-'법정동(2012)'!BA117","v":{"v":0,"d":"0.0"}},{"$f":"'법정동(2013)'!BB115-'법정동(2012)'!BB117","v":{"v":0,"d":"0.0"}},{"$f":"'법정동(2013)'!BC115-'법정동(2012)'!BC117","v":{"v":0,"d":"0.0"}},{"$f":"'법정동(2013)'!BD115-'법정동(2012)'!BD117","v":{"v":0,"d":"0.0"}},{"$f":"'법정동(2013)'!BE115-'법정동(2012)'!BE117","v":{"v":0,"d":"0.0"}},{"$f":"'법정동(2013)'!BF115-'법정동(2012)'!BF117","v":{"v":0,"d":"0.0"}},{"$f":"'법정동(2013)'!BG115-'법정동(2012)'!BG117","v":{"v":0,"d":"0.0"}}]
["삼산면 서도리",{"$f":"'법정동(2013)'!B116-'법정동(2012)'!B118","v":{"v":0,"d":"0.0"}},{"$f":"'법정동(2013)'!C116-'법정동(2012)'!C118","v":{"v":5,"d":"5.0"}},{"$f":"'법정동(2013)'!D116-'법정동(2012)'!D118","v":{"v":-33058,"d":"-33,058.0"}},{"$f":"'법정동(2013)'!E116-'법정동(2012)'!E118","v":{"v":-45,"d":"-45.0"}},{"$f":"'법정동(2013)'!F116-'법정동(2012)'!F118","v":{"v":0,"d":"0.0"}},{"$f":"'법정동(2013)'!G116-'법정동(2012)'!G118","v":{"v":0,"d":"0.0"}},{"$f":"'법정동(2013)'!H116-'법정동(2012)'!H118","v":{"v":0,"d":"0.0"}},{"$f":"'법정동(2013)'!I116-'법정동(2012)'!I118","v":{"v":0,"d":"0.0"}},{"$f":"'법정동(2013)'!J116-'법정동(2012)'!J118","v":{"v":0,"d":"0.0"}},{"$f":"'법정동(2013)'!K116-'법정동(2012)'!K118","v":{"v":0,"d":"0.0"}},{"$f":"'법정동(2013)'!L116-'법정동(2012)'!L118","v":{"v":0,"d":"0.0"}},{"$f":"'법정동(2013)'!M116-'법정동(2012)'!M118","v":{"v":0,"d":"0.0"}},{"$f":"'법정동(2013)'!N116-'법정동(2012)'!N118","v":{"v":0,"d":"0.0"}},{"$f":"'법정동(2013)'!O116-'법정동(2012)'!O118","v":{"v":0,"d":"0.0"}},{"$f":"'법정동(2013)'!P116-'법정동(2012)'!P118","v":{"v":0,"d":"0.0"}},{"$f":"'법정동(2013)'!Q116-'법정동(2012)'!Q118","v":{"v":0,"d":"0.0"}},{"$f":"'법정동(2013)'!R116-'법정동(2012)'!R118","v":{"v":-1387,"d":"-1,387.0"}},{"$f":"'법정동(2013)'!S116-'법정동(2012)'!S118","v":{"v":0,"d":"0.0"}},{"$f":"'법정동(2013)'!T116-'법정동(2012)'!T118","v":{"v":0,"d":"0.0"}},{"$f":"'법정동(2013)'!U116-'법정동(2012)'!U118","v":{"v":0,"d":"0.0"}},{"$f":"'법정동(2013)'!V116-'법정동(2012)'!V118","v":{"v":0,"d":"0.0"}},{"$f":"'법정동(2013)'!W116-'법정동(2012)'!W118","v":{"v":0,"d":"0.0"}},{"$f":"'법정동(2013)'!X116-'법정동(2012)'!X118","v":{"v":0,"d":"0.0"}},{"$f":"'법정동(2013)'!Y116-'법정동(2012)'!Y118","v":{"v":0,"d":"0.0"}},{"$f":"'법정동(2013)'!Z116-'법정동(2012)'!Z118","v":{"v":0,"d":"0.0"}},{"$f":"'법정동(2013)'!AA116-'법정동(2012)'!AA118","v":{"v":0,"d":"0.0"}},{"$f":"'법정동(2013)'!AB116-'법정동(2012)'!AB118","v":{"v":0,"d":"0.0"}},{"$f":"'법정동(2013)'!AC116-'법정동(2012)'!AC118","v":{"v":0,"d":"0.0"}},{"$f":"'법정동(2013)'!AD116-'법정동(2012)'!AD118","v":{"v":7092,"d":"7,092.0"}},{"$f":"'법정동(2013)'!AE116-'법정동(2012)'!AE118","v":{"v":19,"d":"19.0"}},{"$f":"'법정동(2013)'!AF116-'법정동(2012)'!AF118","v":{"v":0,"d":"0.0"}},{"$f":"'법정동(2013)'!AG116-'법정동(2012)'!AG118","v":{"v":0,"d":"0.0"}},{"$f":"'법정동(2013)'!AH116-'법정동(2012)'!AH118","v":{"v":0,"d":"0.0"}},{"$f":"'법정동(2013)'!AI116-'법정동(2012)'!AI118","v":{"v":0,"d":"0.0"}},{"$f":"'법정동(2013)'!AJ116-'법정동(2012)'!AJ118","v":{"v":0,"d":"0.0"}},{"$f":"'법정동(2013)'!AK116-'법정동(2012)'!AK118","v":{"v":0,"d":"0.0"}},{"$f":"'법정동(2013)'!AL116-'법정동(2012)'!AL118","v":{"v":0,"d":"0.0"}},{"$f":"'법정동(2013)'!AM116-'법정동(2012)'!AM118","v":{"v":0,"d":"0.0"}},{"$f":"'법정동(2013)'!AN116-'법정동(2012)'!AN118","v":{"v":0,"d":"0.0"}},{"$f":"'법정동(2013)'!AO116-'법정동(2012)'!AO118","v":{"v":0,"d":"0.0"}},{"$f":"'법정동(2013)'!AP116-'법정동(2012)'!AP118","v":{"v":0,"d":"0.0"}},{"$f":"'법정동(2013)'!AQ116-'법정동(2012)'!AQ118","v":{"v":0,"d":"0.0"}},{"$f":"'법정동(2013)'!AR116-'법정동(2012)'!AR118","v":{"v":0,"d":"0.0"}},{"$f":"'법정동(2013)'!AS116-'법정동(2012)'!AS118","v":{"v":0,"d":"0.0"}},{"$f":"'법정동(2013)'!AT116-'법정동(2012)'!AT118","v":{"v":0,"d":"0.0"}},{"$f":"'법정동(2013)'!AU116-'법정동(2012)'!AU118","v":{"v":0,"d":"0.0"}},{"$f":"'법정동(2013)'!AV116-'법정동(2012)'!AV118","v":{"v":0,"d":"0.0"}},{"$f":"'법정동(2013)'!AW116-'법정동(2012)'!AW118","v":{"v":0,"d":"0.0"}},{"$f":"'법정동(2013)'!AX116-'법정동(2012)'!AX118","v":{"v":0,"d":"0.0"}},{"$f":"'법정동(2013)'!AY116-'법정동(2012)'!AY118","v":{"v":0,"d":"0.0"}},{"$f":"'법정동(2013)'!AZ116-'법정동(2012)'!AZ118","v":{"v":0,"d":"0.0"}},{"$f":"'법정동(2013)'!BA116-'법정동(2012)'!BA118","v":{"v":0,"d":"0.0"}},{"$f":"'법정동(2013)'!BB116-'법정동(2012)'!BB118","v":{"v":0,"d":"0.0"}},{"$f":"'법정동(2013)'!BC116-'법정동(2012)'!BC118","v":{"v":0,"d":"0.0"}},{"$f":"'법정동(2013)'!BD116-'법정동(2012)'!BD118","v":{"v":-1560,"d":"-1,560.0"}},{"$f":"'법정동(2013)'!BE116-'법정동(2012)'!BE118","v":{"v":-5,"d":"-5.0"}},{"$f":"'법정동(2013)'!BF116-'법정동(2012)'!BF118","v":{"v":28913,"d":"28,913.0"}},{"$f":"'법정동(2013)'!BG116-'법정동(2012)'!BG118","v":{"v":36,"d":"36.0"}}]
["삼산면 동도리",{"$f":"'법정동(2013)'!B117-'법정동(2012)'!B119","v":{"v":-1717,"d":"-1,717.0"}},{"$f":"'법정동(2013)'!C117-'법정동(2012)'!C119","v":{"v":-1,"d":"-1.0"}},{"$f":"'법정동(2013)'!D117-'법정동(2012)'!D119","v":{"v":0,"d":"0.0"}},{"$f":"'법정동(2013)'!E117-'법정동(2012)'!E119","v":{"v":0,"d":"0.0"}},{"$f":"'법정동(2013)'!F117-'법정동(2012)'!F119","v":{"v":0,"d":"0.0"}},{"$f":"'법정동(2013)'!G117-'법정동(2012)'!G119","v":{"v":0,"d":"0.0"}},{"$f":"'법정동(2013)'!H117-'법정동(2012)'!H119","v":{"v":0,"d":"0.0"}},{"$f":"'법정동(2013)'!I117-'법정동(2012)'!I119","v":{"v":0,"d":"0.0"}},{"$f":"'법정동(2013)'!J117-'법정동(2012)'!J119","v":{"v":0,"d":"0.0"}},{"$f":"'법정동(2013)'!K117-'법정동(2012)'!K119","v":{"v":0,"d":"0.0"}},{"$f":"'법정동(2013)'!L117-'법정동(2012)'!L119","v":{"v":0,"d":"0.0"}},{"$f":"'법정동(2013)'!M117-'법정동(2012)'!M119","v":{"v":0,"d":"0.0"}},{"$f":"'법정동(2013)'!N117-'법정동(2012)'!N119","v":{"v":0,"d":"0.0"}},{"$f":"'법정동(2013)'!O117-'법정동(2012)'!O119","v":{"v":0,"d":"0.0"}},{"$f":"'법정동(2013)'!P117-'법정동(2012)'!P119","v":{"v":0,"d":"0.0"}},{"$f":"'법정동(2013)'!Q117-'법정동(2012)'!Q119","v":{"v":0,"d":"0.0"}},{"$f":"'법정동(2013)'!R117-'법정동(2012)'!R119","v":{"v":34,"d":"34.0"}},{"$f":"'법정동(2013)'!S117-'법정동(2012)'!S119","v":{"v":-1,"d":"-1.0"}},{"$f":"'법정동(2013)'!T117-'법정동(2012)'!T119","v":{"v":0,"d":"0.0"}},{"$f":"'법정동(2013)'!U117-'법정동(2012)'!U119","v":{"v":0,"d":"0.0"}},{"$f":"'법정동(2013)'!V117-'법정동(2012)'!V119","v":{"v":0,"d":"0.0"}},{"$f":"'법정동(2013)'!W117-'법정동(2012)'!W119","v":{"v":0,"d":"0.0"}},{"$f":"'법정동(2013)'!X117-'법정동(2012)'!X119","v":{"v":0,"d":"0.0"}},{"$f":"'법정동(2013)'!Y117-'법정동(2012)'!Y119","v":{"v":0,"d":"0.0"}},{"$f":"'법정동(2013)'!Z117-'법정동(2012)'!Z119","v":{"v":0,"d":"0.0"}},{"$f":"'법정동(2013)'!AA117-'법정동(2012)'!AA119","v":{"v":0,"d":"0.0"}},{"$f":"'법정동(2013)'!AB117-'법정동(2012)'!AB119","v":{"v":0,"d":"0.0"}},{"$f":"'법정동(2013)'!AC117-'법정동(2012)'!AC119","v":{"v":0,"d":"0.0"}},{"$f":"'법정동(2013)'!AD117-'법정동(2012)'!AD119","v":{"v":-1751,"d":"-1,751.0"}},{"$f":"'법정동(2013)'!AE117-'법정동(2012)'!AE119","v":{"v":0,"d":"0.0"}},{"$f":"'법정동(2013)'!AF117-'법정동(2012)'!AF119","v":{"v":0,"d":"0.0"}},{"$f":"'법정동(2013)'!AG117-'법정동(2012)'!AG119","v":{"v":0,"d":"0.0"}},{"$f":"'법정동(2013)'!AH117-'법정동(2012)'!AH119","v":{"v":0,"d":"0.0"}},{"$f":"'법정동(2013)'!AI117-'법정동(2012)'!AI119","v":{"v":0,"d":"0.0"}},{"$f":"'법정동(2013)'!AJ117-'법정동(2012)'!AJ119","v":{"v":0,"d":"0.0"}},{"$f":"'법정동(2013)'!AK117-'법정동(2012)'!AK119","v":{"v":0,"d":"0.0"}},{"$f":"'법정동(2013)'!AL117-'법정동(2012)'!AL119","v":{"v":0,"d":"0.0"}},{"$f":"'법정동(2013)'!AM117-'법정동(2012)'!AM119","v":{"v":0,"d":"0.0"}},{"$f":"'법정동(2013)'!AN117-'법정동(2012)'!AN119","v":{"v":0,"d":"0.0"}},{"$f":"'법정동(2013)'!AO117-'법정동(2012)'!AO119","v":{"v":0,"d":"0.0"}},{"$f":"'법정동(2013)'!AP117-'법정동(2012)'!AP119","v":{"v":0,"d":"0.0"}},{"$f":"'법정동(2013)'!AQ117-'법정동(2012)'!AQ119","v":{"v":0,"d":"0.0"}},{"$f":"'법정동(2013)'!AR117-'법정동(2012)'!AR119","v":{"v":0,"d":"0.0"}},{"$f":"'법정동(2013)'!AS117-'법정동(2012)'!AS119","v":{"v":0,"d":"0.0"}},{"$f":"'법정동(2013)'!AT117-'법정동(2012)'!AT119","v":{"v":0,"d":"0.0"}},{"$f":"'법정동(2013)'!AU117-'법정동(2012)'!AU119","v":{"v":0,"d":"0.0"}},{"$f":"'법정동(2013)'!AV117-'법정동(2012)'!AV119","v":{"v":0,"d":"0.0"}},{"$f":"'법정동(2013)'!AW117-'법정동(2012)'!AW119","v":{"v":0,"d":"0.0"}},{"$f":"'법정동(2013)'!AX117-'법정동(2012)'!AX119","v":{"v":0,"d":"0.0"}},{"$f":"'법정동(2013)'!AY117-'법정동(2012)'!AY119","v":{"v":0,"d":"0.0"}},{"$f":"'법정동(2013)'!AZ117-'법정동(2012)'!AZ119","v":{"v":0,"d":"0.0"}},{"$f":"'법정동(2013)'!BA117-'법정동(2012)'!BA119","v":{"v":0,"d":"0.0"}},{"$f":"'법정동(2013)'!BB117-'법정동(2012)'!BB119","v":{"v":0,"d":"0.0"}},{"$f":"'법정동(2013)'!BC117-'법정동(2012)'!BC119","v":{"v":0,"d":"0.0"}},{"$f":"'법정동(2013)'!BD117-'법정동(2012)'!BD119","v":{"v":0,"d":"0.0"}},{"$f":"'법정동(2013)'!BE117-'법정동(2012)'!BE119","v":{"v":0,"d":"0.0"}},{"$f":"'법정동(2013)'!BF117-'법정동(2012)'!BF119","v":{"v":0,"d":"0.0"}},{"$f":"'법정동(2013)'!BG117-'법정동(2012)'!BG119","v":{"v":0,"d":"0.0"}}]
["삼산면 초도리",{"$f":"'법정동(2013)'!B118-'법정동(2012)'!B120","v":{"v":-186,"d":"-186.0"}},{"$f":"'법정동(2013)'!C118-'법정동(2012)'!C120","v":{"v":-7,"d":"-7.0"}},{"$f":"'법정동(2013)'!D118-'법정동(2012)'!D120","v":{"v":-2859,"d":"-2,859.0"}},{"$f":"'법정동(2013)'!E118-'법정동(2012)'!E120","v":{"v":0,"d":"0.0"}},{"$f":"'법정동(2013)'!F118-'법정동(2012)'!F120","v":{"v":-1371,"d":"-1,371.0"}},{"$f":"'법정동(2013)'!G118-'법정동(2012)'!G120","v":{"v":2,"d":"2.0"}},{"$f":"'법정동(2013)'!H118-'법정동(2012)'!H120","v":{"v":0,"d":"0.0"}},{"$f":"'법정동(2013)'!I118-'법정동(2012)'!I120","v":{"v":0,"d":"0.0"}},{"$f":"'법정동(2013)'!J118-'법정동(2012)'!J120","v":{"v":0,"d":"0.0"}},{"$f":"'법정동(2013)'!K118-'법정동(2012)'!K120","v":{"v":0,"d":"0.0"}},{"$f":"'법정동(2013)'!L118-'법정동(2012)'!L120","v":{"v":-11126,"d":"-11,126.0"}},{"$f":"'법정동(2013)'!M118-'법정동(2012)'!M120","v":{"v":-14,"d":"-14.0"}},{"$f":"'법정동(2013)'!N118-'법정동(2012)'!N120","v":{"v":0,"d":"0.0"}},{"$f":"'법정동(2013)'!O118-'법정동(2012)'!O120","v":{"v":0,"d":"0.0"}},{"$f":"'법정동(2013)'!P118-'법정동(2012)'!P120","v":{"v":0,"d":"0.0"}},{"$f":"'법정동(2013)'!Q118-'법정동(2012)'!Q120","v":{"v":0,"d":"0.0"}},{"$f":"'법정동(2013)'!R118-'법정동(2012)'!R120","v":{"v":2430,"d":"2,430.0"}},{"$f":"'법정동(2013)'!S118-'법정동(2012)'!S120","v":{"v":3,"d":"3.0"}},{"$f":"'법정동(2013)'!T118-'법정동(2012)'!T120","v":{"v":0,"d":"0.0"}},{"$f":"'법정동(2013)'!U118-'법정동(2012)'!U120","v":{"v":0,"d":"0.0"}},{"$f":"'법정동(2013)'!V118-'법정동(2012)'!V120","v":{"v":0,"d":"0.0"}},{"$f":"'법정동(2013)'!W118-'법정동(2012)'!W120","v":{"v":0,"d":"0.0"}},{"$f":"'법정동(2013)'!X118-'법정동(2012)'!X120","v":{"v":0,"d":"0.0"}},{"$f":"'법정동(2013)'!Y118-'법정동(2012)'!Y120","v":{"v":0,"d":"0.0"}},{"$f":"'법정동(2013)'!Z118-'법정동(2012)'!Z120","v":{"v":0,"d":"0.0"}},{"$f":"'법정동(2013)'!AA118-'법정동(2012)'!AA120","v":{"v":0,"d":"0.0"}},{"$f":"'법정동(2013)'!AB118-'법정동(2012)'!AB120","v":{"v":0,"d":"0.0"}},{"$f":"'법정동(2013)'!AC118-'법정동(2012)'!AC120","v":{"v":0,"d":"0.0"}},{"$f":"'법정동(2013)'!AD118-'법정동(2012)'!AD120","v":{"v":12740,"d":"12,740.0"}},{"$f":"'법정동(2013)'!AE118-'법정동(2012)'!AE120","v":{"v":2,"d":"2.0"}},{"$f":"'법정동(2013)'!AF118-'법정동(2012)'!AF120","v":{"v":0,"d":"0.0"}},{"$f":"'법정동(2013)'!AG118-'법정동(2012)'!AG120","v":{"v":0,"d":"0.0"}},{"$f":"'법정동(2013)'!AH118-'법정동(2012)'!AH120","v":{"v":0,"d":"0.0"}},{"$f":"'법정동(2013)'!AI118-'법정동(2012)'!AI120","v":{"v":0,"d":"0.0"}},{"$f":"'법정동(2013)'!AJ118-'법정동(2012)'!AJ120","v":{"v":0,"d":"0.0"}},{"$f":"'법정동(2013)'!AK118-'법정동(2012)'!AK120","v":{"v":0,"d":"0.0"}},{"$f":"'법정동(2013)'!AL118-'법정동(2012)'!AL120","v":{"v":0,"d":"0.0"}},{"$f":"'법정동(2013)'!AM118-'법정동(2012)'!AM120","v":{"v":0,"d":"0.0"}},{"$f":"'법정동(2013)'!AN118-'법정동(2012)'!AN120","v":{"v":0,"d":"0.0"}},{"$f":"'법정동(2013)'!AO118-'법정동(2012)'!AO120","v":{"v":0,"d":"0.0"}},{"$f":"'법정동(2013)'!AP118-'법정동(2012)'!AP120","v":{"v":0,"d":"0.0"}},{"$f":"'법정동(2013)'!AQ118-'법정동(2012)'!AQ120","v":{"v":0,"d":"0.0"}},{"$f":"'법정동(2013)'!AR118-'법정동(2012)'!AR120","v":{"v":0,"d":"0.0"}},{"$f":"'법정동(2013)'!AS118-'법정동(2012)'!AS120","v":{"v":0,"d":"0.0"}},{"$f":"'법정동(2013)'!AT118-'법정동(2012)'!AT120","v":{"v":0,"d":"0.0"}},{"$f":"'법정동(2013)'!AU118-'법정동(2012)'!AU120","v":{"v":0,"d":"0.0"}},{"$f":"'법정동(2013)'!AV118-'법정동(2012)'!AV120","v":{"v":0,"d":"0.0"}},{"$f":"'법정동(2013)'!AW118-'법정동(2012)'!AW120","v":{"v":0,"d":"0.0"}},{"$f":"'법정동(2013)'!AX118-'법정동(2012)'!AX120","v":{"v":0,"d":"0.0"}},{"$f":"'법정동(2013)'!AY118-'법정동(2012)'!AY120","v":{"v":0,"d":"0.0"}},{"$f":"'법정동(2013)'!AZ118-'법정동(2012)'!AZ120","v":{"v":0,"d":"0.0"}},{"$f":"'법정동(2013)'!BA118-'법정동(2012)'!BA120","v":{"v":0,"d":"0.0"}},{"$f":"'법정동(2013)'!BB118-'법정동(2012)'!BB120","v":{"v":0,"d":"0.0"}},{"$f":"'법정동(2013)'!BC118-'법정동(2012)'!BC120","v":{"v":0,"d":"0.0"}},{"$f":"'법정동(2013)'!BD118-'법정동(2012)'!BD120","v":{"v":0,"d":"0.0"}},{"$f":"'법정동(2013)'!BE118-'법정동(2012)'!BE120","v":{"v":0,"d":"0.0"}},{"$f":"'법정동(2013)'!BF118-'법정동(2012)'!BF120","v":{"v":0,"d":"0.0"}},{"$f":"'법정동(2013)'!BG118-'법정동(2012)'!BG120","v":{"v":0,"d":"0.0"}}]
["삼산면 손죽리",{"$f":"'법정동(2013)'!B119-'법정동(2012)'!B121","v":{"v":0,"d":"0.0"}},{"$f":"'법정동(2013)'!C119-'법정동(2012)'!C121","v":{"v":30,"d":"30.0"}},{"$f":"'법정동(2013)'!D119-'법정동(2012)'!D121","v":{"v":0,"d":"0.0"}},{"$f":"'법정동(2013)'!E119-'법정동(2012)'!E121","v":{"v":15,"d":"15.0"}},{"$f":"'법정동(2013)'!F119-'법정동(2012)'!F121","v":{"v":0,"d":"0.0"}},{"$f":"'법정동(2013)'!G119-'법정동(2012)'!G121","v":{"v":0,"d":"0.0"}},{"$f":"'법정동(2013)'!H119-'법정동(2012)'!H121","v":{"v":0,"d":"0.0"}},{"$f":"'법정동(2013)'!I119-'법정동(2012)'!I121","v":{"v":0,"d":"0.0"}},{"$f":"'법정동(2013)'!J119-'법정동(2012)'!J121","v":{"v":0,"d":"0.0"}},{"$f":"'법정동(2013)'!K119-'법정동(2012)'!K121","v":{"v":0,"d":"0.0"}},{"$f":"'법정동(2013)'!L119-'법정동(2012)'!L121","v":{"v":353,"d":"353.0"}},{"$f":"'법정동(2013)'!M119-'법정동(2012)'!M121","v":{"v":12,"d":"12.0"}},{"$f":"'법정동(2013)'!N119-'법정동(2012)'!N121","v":{"v":0,"d":"0.0"}},{"$f":"'법정동(2013)'!O119-'법정동(2012)'!O121","v":{"v":0,"d":"0.0"}},{"$f":"'법정동(2013)'!P119-'법정동(2012)'!P121","v":{"v":0,"d":"0.0"}},{"$f":"'법정동(2013)'!Q119-'법정동(2012)'!Q121","v":{"v":0,"d":"0.0"}},{"$f":"'법정동(2013)'!R119-'법정동(2012)'!R121","v":{"v":0,"d":"0.0"}},{"$f":"'법정동(2013)'!S119-'법정동(2012)'!S121","v":{"v":0,"d":"0.0"}},{"$f":"'법정동(2013)'!T119-'법정동(2012)'!T121","v":{"v":0,"d":"0.0"}},{"$f":"'법정동(2013)'!U119-'법정동(2012)'!U121","v":{"v":0,"d":"0.0"}},{"$f":"'법정동(2013)'!V119-'법정동(2012)'!V121","v":{"v":0,"d":"0.0"}},{"$f":"'법정동(2013)'!W119-'법정동(2012)'!W121","v":{"v":0,"d":"0.0"}},{"$f":"'법정동(2013)'!X119-'법정동(2012)'!X121","v":{"v":0,"d":"0.0"}},{"$f":"'법정동(2013)'!Y119-'법정동(2012)'!Y121","v":{"v":0,"d":"0.0"}},{"$f":"'법정동(2013)'!Z119-'법정동(2012)'!Z121","v":{"v":0,"d":"0.0"}},{"$f":"'법정동(2013)'!AA119-'법정동(2012)'!AA121","v":{"v":0,"d":"0.0"}},{"$f":"'법정동(2013)'!AB119-'법정동(2012)'!AB121","v":{"v":0,"d":"0.0"}},{"$f":"'법정동(2013)'!AC119-'법정동(2012)'!AC121","v":{"v":0,"d":"0.0"}},{"$f":"'법정동(2013)'!AD119-'법정동(2012)'!AD121","v":{"v":-353,"d":"-353.0"}},{"$f":"'법정동(2013)'!AE119-'법정동(2012)'!AE121","v":{"v":3,"d":"3.0"}},{"$f":"'법정동(2013)'!AF119-'법정동(2012)'!AF121","v":{"v":0,"d":"0.0"}},{"$f":"'법정동(2013)'!AG119-'법정동(2012)'!AG121","v":{"v":0,"d":"0.0"}},{"$f":"'법정동(2013)'!AH119-'법정동(2012)'!AH121","v":{"v":0,"d":"0.0"}},{"$f":"'법정동(2013)'!AI119-'법정동(2012)'!AI121","v":{"v":0,"d":"0.0"}},{"$f":"'법정동(2013)'!AJ119-'법정동(2012)'!AJ121","v":{"v":0,"d":"0.0"}},{"$f":"'법정동(2013)'!AK119-'법정동(2012)'!AK121","v":{"v":0,"d":"0.0"}},{"$f":"'법정동(2013)'!AL119-'법정동(2012)'!AL121","v":{"v":0,"d":"0.0"}},{"$f":"'법정동(2013)'!AM119-'법정동(2012)'!AM121","v":{"v":0,"d":"0.0"}},{"$f":"'법정동(2013)'!AN119-'법정동(2012)'!AN121","v":{"v":0,"d":"0.0"}},{"$f":"'법정동(2013)'!AO119-'법정동(2012)'!AO121","v":{"v":0,"d":"0.0"}},{"$f":"'법정동(2013)'!AP119-'법정동(2012)'!AP121","v":{"v":0,"d":"0.0"}},{"$f":"'법정동(2013)'!AQ119-'법정동(2012)'!AQ121","v":{"v":0,"d":"0.0"}},{"$f":"'법정동(2013)'!AR119-'법정동(2012)'!AR121","v":{"v":0,"d":"0.0"}},{"$f":"'법정동(2013)'!AS119-'법정동(2012)'!AS121","v":{"v":0,"d":"0.0"}},{"$f":"'법정동(2013)'!AT119-'법정동(2012)'!AT121","v":{"v":0,"d":"0.0"}},{"$f":"'법정동(2013)'!AU119-'법정동(2012)'!AU121","v":{"v":0,"d":"0.0"}},{"$f":"'법정동(2013)'!AV119-'법정동(2012)'!AV121","v":{"v":0,"d":"0.0"}},{"$f":"'법정동(2013)'!AW119-'법정동(2012)'!AW121","v":{"v":0,"d":"0.0"}},{"$f":"'법정동(2013)'!AX119-'법정동(2012)'!AX121","v":{"v":0,"d":"0.0"}},{"$f":"'법정동(2013)'!AY119-'법정동(2012)'!AY121","v":{"v":0,"d":"0.0"}},{"$f":"'법정동(2013)'!AZ119-'법정동(2012)'!AZ121","v":{"v":0,"d":"0.0"}},{"$f":"'법정동(2013)'!BA119-'법정동(2012)'!BA121","v":{"v":0,"d":"0.0"}},{"$f":"'법정동(2013)'!BB119-'법정동(2012)'!BB121","v":{"v":0,"d":"0.0"}},{"$f":"'법정동(2013)'!BC119-'법정동(2012)'!BC121","v":{"v":0,"d":"0.0"}},{"$f":"'법정동(2013)'!BD119-'법정동(2012)'!BD121","v":{"v":0,"d":"0.0"}},{"$f":"'법정동(2013)'!BE119-'법정동(2012)'!BE121","v":{"v":0,"d":"0.0"}},{"$f":"'법정동(2013)'!BF119-'법정동(2012)'!BF121","v":{"v":0,"d":"0.0"}},{"$f":"'법정동(2013)'!BG119-'법정동(2012)'!BG121","v":{"v":0,"d":"0.0"}}]