Workbook

Sheet 월보
A1: 2022년 8월 지방세외수입 징수보고서
A2: ○ 시군명 : 전라남도 여수시
A3: ○ 작성자명 : 염지인 (연락처 : 061-659-3582) | Q3: (단위: 원)
A4: 항 목 | F4: 시군 세외수입분 | L4: 도 위임 세외수입분
F5: 부과액 | H5: 징수액 | J5: 결손처분© | K5: 미수납액 (D=A-B-C) | L5: 부과액 | N5: 징수액 | P5: 결손처분© | Q5: 미수납액 (D=A-B-C)
A6: 장 | B6: 관 | C6: 항 | D6: 목 | F6: 금월 | G6: 누계(A) | H6: 금월 | I6: 누계(B) | L6: 금월 | M6: 누계(A) | N6: 금월 | O6: 누계(B)
A7: 세외수입(일반회계+특별회계) 합 계 | F7: =F8+F79 -> 7596032031 | G7: =G8+G79 -> 79178233484 | H7: =H8+H79 -> 11907505661 | I7: =I8+I79 -> 61353574138 | J7: =J8+J79 -> 573785390 | K7: =K8+K79 -> 17250873956 | L7: =L8+L79 -> -111910 | M7: =M8+M79 -> 153612440 | ... Q7: =Q8+Q79 -> -279180
A8: 일반회계 계 | F8: =F9+F41+F65 -> 7447285271 | G8: =G9+G41+G65 -> 59788362684 | H8: =H9+H41+H65 -> 7433257761 | I8: =I9+I41+I65 -> 41964038898 | J8: =J9+J41+J65 -> 573785390 | K8: =K9+K41+K65 -> 17250538396 | L8: =L9+L41+L65 -> -111910 | M8: =M9+M41+M65 -> 153612440 | ... Q8: =Q9+Q41+Q65 -> -279180
B9: 경상적 세외수입 | F9: =F10+F13+F23+F29+F35+F37 -> 2866796310 | G9: =G10+G13+G23+G29+G35+G37 -> 19704615040 | H9: =H10+H13+H23+H29+H35+H37 -> 3349151180 | I9: =I10+I13+I23+I29+I35+I37 -> 19021771910 | J9: =J10+J13+J23+J29+J35+J37 -> 0 | K9: =K10+K13+K23+K29+K35+K37 -> 682843130 | L9: =L10+L13+L23+L29+L35+L37 -> -111910 | M9: =M10+M13+M23+M29+M35+M37 -> 147788250 | ... Q9: =Q10+Q13+Q23+Q29+Q35+Q37 -> 1048220
C10: 재산임대수입 | F10: =SUM(F11:F12) -> 60236000 | G10: =SUM(G11:G12) -> 848486880 | H10: =SUM(H11:H12) -> 26257070 | I10: =SUM(I11:I12) -> 765977040 | J10: =SUM(J11:J12) -> 0 | K10: =SUM(K11:K12) -> 82509840 | L10: =SUM(L11:L12) -> 0 | M10: =SUM(M11:M12) -> 2157740 | ... Q10: =SUM(Q11:Q12) -> 0
D11: 국유재산임대료 | F11: 3240 | G11: 221361250 | H11: 14260750 | I11: 218578930 | J11: 0 | K11: =G11-I11-J11 -> 2782320 | Q11: =M11-O11-P11 -> 0
D12: 공유재산임대료 | F12: 60232760 | G12: 627125630 | H12: 11996320 | I12: 547398110 | J12: 0 | K12: =G12-I12-J12 -> 79727520 | L12: 0 | M12: 2157740 | N12: 0 | O12: 2157740 | P12: 0 | Q12: =M12-O12-P12 -> 0
C13: 사용료수입 | F13: =SUM(F14:F22) -> 848101550 | G13: =SUM(G14:G22) -> 5913579690 | H13: =SUM(H14:H22) -> 1331487690 | I13: =SUM(I14:I22) -> 5383063540 | J13: =SUM(J14:J22) -> 0 | K13: =SUM(K14:K22) -> 530516150 | L13: =SUM(L14:L22) -> -111910 | M13: =SUM(M14:M22) -> 145307650 | ... Q13: =SUM(Q14:Q22) -> 1048220
D14: 도로사용료 | F14: 9544410 | G14: 1463651170 | H14: 661397890 | I14: 1389420380 | J14: 0 | K14: =G14-I14-J14 -> 74230790 | L14: -116920 | M14: 20782900 | N14: 4650850 | O14: 19755770 | P14: 0 | Q14: =M14-O14-P14 -> 1027130
D15: 하천사용료 | F15: 236590 | G15: 211144440 | H15: 81676520 | I15: 207118790 | J15: 0 | K15: =G15-I15-J15 -> 4025650 | L15: 5010 | M15: 124524750 | N15: 29731110 | O15: 124503660 | P15: 0 | Q15: =M15-O15-P15 -> 21090
D16: 하수도사용료 | K16: =G16-I16-J16 -> 0 | Q16: =M16-O16-P16 -> 0
D17: 상수도사용료 | K17: =G17-I17-J17 -> 0 | Q17: =M17-O17-P17 -> 0
D18: 공유수면 사용료 | F18: 485870 | G18: 950105120 | H18: 114736810 | I18: 899733140 | J18: 0 | K18: =G18-I18-J18 -> 50371980 | Q18: =M18-O18-P18 -> 0
D19: 시장사용료 | F19: 2130 | G19: 9443340 | H19: 297710 | I19: 9443340 | J19: 0 | K19: =G19-I19-J19 -> 0 | Q19: =M19-O19-P19 -> 0
D20: 입장료수입 | F20: 0 | G20: 1754000 | H20: 0 | I20: 1754000 | J20: 0 | K20: =G20-I20-J20 -> 0 | Q20: =M20-O20-P20 -> 0
D21: 주차요금수입 | F21: 34710460 | G21: 261561330 | H21: 36170460 | I21: 261401330 | J21: 0 | K21: =G21-I21-J21 -> 160000 | Q21: =M21-O21-P21 -> 0
D22: 기타사용료 | F22: 803122090 | G22: 3015920290 | H22: 437208300 | I22: 2614192560 | J22: 0 | K22: =G22-I22-J22 -> 401727730 | Q22: =M22-O22-P22 -> 0
C23: 수수료수입 | F23: =SUM(F24:F28) -> 917070700 | G23: =SUM(G24:G28) -> 6678452960 | H23: =SUM(H24:H28) -> 950623680 | I23: =SUM(I24:I28) -> 6609478540 | J23: =SUM(J24:J28) -> 0 | K23: =SUM(K24:K28) -> 68974420 | L23: =SUM(L24:L28) -> 0 | M23: =SUM(M24:M28) -> 0 | ... Q23: =SUM(Q24:Q28) -> 0
D24: 증지수입 | F24: 63299040 | G24: 564077110 | H24: 63518520 | I24: 562143190 | J24: 0 | K24: =G24-I24-J24 -> 1933920 | Q24: =M24-O24-P24 -> 0
D25: 생활폐기물처리수수료 | F25: 717439250 | G25: 5317385720 | H25: 769573640 | I25: 5270059880 | J25: 0 | K25: =G25-I25-J25 -> 47325840 | Q25: =M25-O25-P25 -> 0
D26: 재활용품수거판매수입 | F26: 42580790 | G26: 159956190 | H26: 34759110 | I26: 152134510 | J26: 0 | K26: =G26-I26-J26 -> 7821680 | Q26: =M26-O26-P26 -> 0
D27: 보건의료수수료 | F27: 54132260 | G27: 383470440 | H27: 54188930 | I27: 383200880 | J27: 0 | K27: =G27-I27-J27 -> 269560 | Q27: =M27-O27-P27 -> 0
D28: 기타수수료 | F28: 39619360 | G28: 253563500 | H28: 28583480 | I28: 241940080 | J28: 0 | K28: =G28-I28-J28 -> 11623420 | Q28: =M28-O28-P28 -> 0
C29: 사업수입 | F29: =SUM(F30:F34) -> 1973500 | G29: =SUM(G30:G34) -> 297166700 | H29: =SUM(H30:H34) -> 1962000 | I29: =SUM(I30:I34) -> 297092200 | J29: =SUM(J30:J34) -> 0 | K29: =SUM(K30:K34) -> 74500 | L29: =SUM(L30:L34) -> 0 | M29: =SUM(M30:M34) -> 0 | ... Q29: =SUM(Q30:Q34) -> 0
D30: 사업장생산수입 | F30: 1973500 | G30: 297166700 | H30: 1962000 | I30: 297092200 | J30: 0 | K30: =G30-I30-J30 -> 74500 | Q30: =M30-O30-P30 -> 0
D31: 청산금수입 | K31: =G31-I31-J31 -> 0 | Q31: =M31-O31-P31 -> 0
D32: 매각사업수입 | K32: =G32-I32-J32 -> 0 | Q32: =M32-O32-P32 -> 0
D33: 배당금수입 | K33: =G33-I33-J33 -> 0 | Q33: =M33-O33-P33 -> 0
D34: 기타사업수입 | K34: =G34-I34-J34 -> 0 | Q34: =M34-O34-P34 -> 0
C35: 징수교부금수입 | F35: =F36 -> 467083000 | G35: =G36 -> 3913795610 | H35: =H36 -> 467083000 | I35: =I36 -> 3913795610 | J35: =J36 -> 0 | K35: =K36 -> 0 | L35: =L36 -> 0 | M35: =M36 -> 0 | ... Q35: =Q36 -> 0
D36: 징수교부금수입 | F36: 467083000 | G36: 3913795610 | H36: 467083000 | I36: 3913795610 | J36: =[1]월보작업용!I32 -> 0 | K36: =G36-I36-J36 -> 0 | Q36: =M36-O36-P36 -> 0
C37: 이자수입 | F37: =SUM(F38:F40) -> 572331560 | G37: =SUM(G38:G40) -> 2053133200 | H37: =SUM(H38:H40) -> 571737740 | I37: =SUM(I38:I40) -> 2052364980 | J37: =SUM(J38:J40) -> 0 | K37: =SUM(K38:K40) -> 768220 | L37: =SUM(L38:L40) -> 0 | M37: =SUM(M38:M40) -> 322860 | ... Q37: =SUM(Q38:Q40) -> 0
D38: 공공예금이자수입 | F38: 571342280 | G38: 1816462140 | H38: 571350470 | I38: 1816462140 | J38: 0 | K38: =G38-I38-J38 -> 0 | L38: 0 | M38: 322860 | O38: 322860 | P38: =[1]월보작업용!O34 -> 0 | Q38: =M38-O38-P38 -> 0
D39: 융자금회수이자수입 | F39: 0 | G39: 0 | H39: 0 | I39: 0 | J39: 0 | K39: =G39-I39-J39 -> 0 | Q39: =M39-O39-P39 -> 0
D40: 기타이자수입 | F40: 989280 | G40: 236671060 | H40: 387270 | I40: 235902840 | J40: 0 | K40: =G40-I40-J40 -> 768220 | Q40: =M40-O40-P40 -> 0
B41: 임시적세외수입 | F41: =F42+F47+F49+F52+F60 -> 3693775731 | G41: =G42+G47+G49+G52+G60 -> 34600803434 | H41: =H42+H47+H49+H52+H60 -> 3559950651 | I41: =I42+I47+I49+I52+I60 -> 19388490888 | J41: =J42+J47+J49+J52+J60 -> 571246980 | K41: =K42+K47+K49+K52+K60 -> 14641065566 | L41: =L42+L47+L49+L52+L60 -> 0 | M41: =M42+M47+M49+M52+M60 -> 5824190 | ... Q41: =Q42+Q47+Q49+Q52+Q60 -> -1327400
C42: 재산매각수입 | F42: =SUM(F43:F46) -> 78117350 | G42: =SUM(G43:G46) -> 1072067640 | H42: =SUM(H43:H46) -> 186834690 | I42: =SUM(I43:I46) -> 1072067640 | J42: =SUM(J43:J46) -> 0 | K42: =SUM(K43:K46) -> 0 | L42: =SUM(L43:L46) -> 0 | M42: =SUM(M43:M46) -> 5665500 | ... Q42: =SUM(Q43:Q46) -> 0
D43: 국유재산매각귀속수입금 | F43: 0 | G43: 0 | H43: 0 | I43: 0 | J43: 0 | K43: =G43-I43-J43 -> 0 | Q43: =M43-O43-P43 -> 0
D44: 시도유재산매각귀속수입금 | F44: 0 | G44: 2428060 | H44: 0 | I44: 2428060 | J44: 0 | K44: =G44-I44-J44 -> 0 | L44: 0 | M44: 5665500 | N44: 0 | O44: 5665500 | P44: 0 | Q44: =M44-O44-P44 -> 0
D45: 공유재산매각수입금 | F45: 78117350 | G45: 976098480 | H45: 186834690 | I45: 976098480 | J45: 0 | K45: =G45-I45-J45 -> 0 | Q45: =M45-O45-P45 -> 0
D46: 불용품 매각대금 | F46: 0 | G46: 93541100 | H46: 0 | I46: 93541100 | J46: 0 | K46: =G46-I46-J46 -> 0 | Q46: =M46-O46-P46 -> 0
C47: 자치단체간 부담금 | F47: =F48 -> 0 | G47: =G48 -> 0 | H47: =H48 -> 0 | I47: =I48 -> 0 | J47: =J48 -> 0 | K47: =K48 -> 0 | L47: =L48 -> 0 | M47: =M48 -> 0 | ... Q47: =Q48 -> 0
D48: 자치단체간 부담금 | F48: 0 | G48: 0 | H48: 0 | I48: 0 | J48: 0 | K48: =G48-I48-J48 -> 0 | Q48: =M48-O48-P48 -> 0
C49: 보조금 반환수입 | F49: =SUM(F50:F51) -> 66980510 | G49: =SUM(G50:G51) -> 3060233880 | H49: =SUM(H50:H51) -> 81842280 | I49: =SUM(I50:I51) -> 3009729300 | J49: =SUM(J50:J51) -> 0 | K49: =SUM(K50:K51) -> 50504580 | L49: =SUM(L50:L51) -> 0 | M49: =SUM(M50:M51) -> 0 | ... Q49: =SUM(Q50:Q51) -> 0
D50: 시도비보조금반환수입 | K50: =G50-I50-J50 -> 0 | Q50: =M50-O50-P50 -> 0
D51: 자체보조금반환수입 | F51: 66980510 | G51: 3060233880 | H51: 81842280 | I51: 3009729300 | J51: =[1]월보작업용!I47 -> 0 | K51: =G51-I51-J51 -> 50504580 | Q51: =M51-O51-P51 -> 0
C52: 기타수입 | F52: =SUM(F53:F59) -> 3526178471 | G52: =SUM(G53:G59) -> 19137323696 | H52: =SUM(H53:H59) -> 3167533981 | I52: =SUM(I53:I59) -> 13070806986 | J52: =SUM(J53:J59) -> 0 | K52: =SUM(K53:K59) -> 6066516710 | L52: =SUM(L53:L59) -> 0 | M52: =SUM(M53:M59) -> 666500 | ... Q52: =SUM(Q53:Q59) -> 0
D53: 체납처분수입 | F53: =[4]월보작업용!E49 -> 926280 | G53: =[4]월보작업용!F49 -> 1047680 | H53: =[4]월보작업용!G49 -> 926280 | I53: =[4]월보작업용!H49 -> 1047680 | J53: =[4]월보작업용!I49 -> 0 | K53: =G53-I53-J53 -> 0 | Q53: =M53-O53-P53 -> 0
D54: 보상금수납금 | F54: =[4]월보작업용!E50 -> 0 | G54: =[4]월보작업용!F50 -> 0 | H54: =[4]월보작업용!G50 -> 0 | I54: =[4]월보작업용!H50 -> 0 | J54: =[4]월보작업용!I50 -> 0 | K54: =G54-I54-J54 -> 0 | Q54: =M54-O54-P54 -> 0
D55: 기부금수입 | F55: =[4]월보작업용!E51 -> 422209000 | G55: =[4]월보작업용!F51 -> 422209000 | H55: =[4]월보작업용!G51 -> 0 | I55: =[4]월보작업용!H51 -> 0 | J55: =[4]월보작업용!I51 -> 0 | K55: =G55-I55-J55 -> 422209000 | Q55: =M55-O55-P55 -> 0
D56: 지적재조사조정금 | F56: =[4]월보작업용!E52 -> -93341160 | G56: =[4]월보작업용!F52 -> 6019416280 | H56: =[4]월보작업용!G52 -> 279531150 | I56: =[4]월보작업용!H52 -> 797104280 | J56: =[4]월보작업용!I52 -> 0 | K56: =G56-I56-J56 -> 5222312000 | Q56: =M56-O56-P56 -> 0
D57: 지방교부세감소분 보전수입 | F57: =[4]월보작업용!E53 -> 2193999920 | G57: =[4]월보작업용!F53 -> 6775214760 | H57: =[4]월보작업용!G53 -> 2193999920 | I57: =[4]월보작업용!H53 -> 6775214760 | J57: =[4]월보작업용!I53 -> 0 | K57: =G57-I57-J57 -> 0 | Q57: =M57-O57-P57 -> 0
D58: 위약금 | F58: =[4]월보작업용!E54 -> 466580 | G58: =[4]월보작업용!F54 -> 14841180 | H58: =[4]월보작업용!G54 -> 748440 | I58: =[4]월보작업용!H54 -> 14797300 | J58: =[4]월보작업용!I54 -> 0 | K58: =G58-I58-J58 -> 43880 | Q58: =M58-O58-P58 -> 0
D59: 그외수입 | F59: =[4]월보작업용!E55 -> 1001917851 | G59: =[4]월보작업용!F55 -> 5904594796 | H59: =[4]월보작업용!G55 -> 692328191 | I59: =[4]월보작업용!H55 -> 5482642966 | J59: =[4]월보작업용!I55 -> 0 | K59: =G59-I59-J59 -> 421951830 | L59: =[1]월보작업용!K55 -> 0 | M59: =[1]월보작업용!L55 -> 666500 | N59: =[1]월보작업용!M55 -> 0 | O59: =[1]월보작업용!N55 -> 666500 | P59: =[1]월보작업용!O55 -> 0 | Q59: =M59-O59-P59 -> 0
C60: 지난연도수입 | F60: =F61+F62 -> 22499400 | G60: =G61+G62 -> 11331178218 | H60: =H61+H62 -> 123739700 | I60: =I61+I62 -> 2235886962 | J60: =J61+J62 -> 571246980 | K60: =K61+K62 -> 8524044276 | L60: =L61+L62 -> 0 | M60: =M61+M62 -> -507810 | ... Q60: =Q61+Q62 -> -1327400
D61: 지난연도수입(과태료제외) | F61: -8549390 | G61: 3567926558 | H61: 44330780 | I61: 1187984772 | J61: 43641790 | K61: =G61-I61-J61 -> 2336299996 | L61: =[2]월보작업용!K57 -> 0 | M61: -507810 | N61: =[2]월보작업용!M57 -> 0 | O61: 819590 | P61: 0 | Q61: =M61-O61-P61 -> -1327400
D62: 과태료 | F62: =SUM(F63:F64) -> 31048790 | G62: =SUM(G63:G64) -> 7763251660 | H62: =SUM(H63:H64) -> 79408920 | I62: =SUM(I63:I64) -> 1047902190 | J62: =SUM(J63:J64) -> 527605190 | K62: =SUM(K63:K64) -> 6187744280 | L62: =SUM(L63:L64) -> 0 | M62: =SUM(M63:M64) -> 0 | ... Q62: =SUM(Q63:Q64) -> 0
E63: 차량관련과태료 | F63: 24185770 | G63: 6737396040 | H63: 74052270 | I63: 896420750 | J63: 478683950 | K63: =G63-I63-J63 -> 5362291340 | Q63: =M63-O63-P63 -> 0
E64: 기타과태료 | F64: 6863020 | G64: 1025855620 | H64: 5356650 | I64: 151481440 | J64: 48921240 | K64: =G64-I64-J64 -> 825452940 | Q64: =M64-O64-P64 -> 0
B65: 지방행정제재 부과금 | F65: =F66+F68+F70+F72+F75+F77 -> 886713230 | G65: =G66+G68+G70+G72+G75+G77 -> 5482944210 | H65: =H66+H68+H70+H72+H75+H77 -> 524155930 | I65: =I66+I68+I70+I72+I75+I77 -> 3553776100 | J65: =J66+J68+J70+J72+J75+J77 -> 2538410 | K65: =K66+K68+K70+K72+K75+K77 -> 1926629700 | L65: =L66+L68+L70+L72+L75+L77 -> 0 | M65: =M66+M68+M70+M72+M75+M77 -> 0 | ... Q65: =Q66+Q68+Q70+Q72+Q75+Q77 -> 0
C66: 과징금 | F66: =F67 -> 16500000 | G66: =G67 -> 435420000 | H66: =H67 -> 40139880 | I66: =I67 -> 379475230 | J66: =J67 -> 0 | K66: =K67 -> 55944770 | L66: =L67 -> 0 | M66: =M67 -> 0 | ... Q66: =Q67 -> 0
D67: 과징금 | F67: 16500000 | G67: 435420000 | H67: 40139880 | I67: 379475230 | J67: 0 | K67: =G67-I67-J67 -> 55944770 | Q67: =M67-O67-P67 -> 0
C68: 이행강제금 | F68: =F69 -> 125120710 | G68: =G69 -> 414572730 | H68: =H69 -> 46591210 | I68: =I69 -> 206366130 | J68: =J69 -> 0 | K68: =K69 -> 208206600 | L68: =L69 -> 0 | M68: =M69 -> 0 | ... Q68: =Q69 -> 0
D69: 이행강제금 | F69: 125120710 | G69: 414572730 | H69: 46591210 | I69: 206366130 | J69: 0 | K69: =G69-I69-J69 -> 208206600 | Q69: =M69-O69-P69 -> 0
C70: 변상금 | F70: =F71 -> 842850 | G70: =G71 -> 29348820 | H70: =H71 -> 1161100 | I70: =I71 -> 13535920 | J70: =J71 -> 0 | K70: =K71 -> 15812900 | L70: =L71 -> 0 | M70: =M71 -> 0 | ... Q70: =Q71 -> 0
D71: 변상금 | F71: 842850 | G71: 29348820 | H71: 1161100 | I71: 13535920 | J71: 0 | K71: =G71-I71-J71 -> 15812900 | Q71: =M71-O71-P71 -> 0
C72: 과태료 | F72: =F73+F74 -> 508141040 | G72: =G73+G74 -> 3282342330 | H72: =H73+H74 -> 363705650 | I72: =I73+I74 -> 2234263920 | J72: =J73+J74 -> 2538410 | K72: =K73+K74 -> 1045540000 | L72: =L73+L74 -> 0 | M72: =M73+M74 -> 0 | ... Q72: =Q73+Q74 -> 0
D73: 차량관련과태료 | F73: 358330610 | G73: 2399733080 | H73: 275192550 | I73: 1724447180 | J73: 2538410 | K73: =G73-I73-J73 -> 672747490 | Q73: =M73-O73-P73 -> 0
D74: 기타과태료 | F74: 149810430 | G74: 882609250 | H74: 88513100 | I74: 509816740 | J74: 0 | K74: =G74-I74-J74 -> 372792510 | Q74: =M74-O74-P74 -> 0
C75: 환수금 | F75: =F76 -> 0 | G75: =G76 -> 0 | H75: =H76 -> 0 | I75: =I76 -> 0 | J75: =J76 -> 0 | K75: =K76 -> 0 | L75: =L76 -> 0 | M75: =M76 -> 0 | ... Q75: =Q76 -> 0
D76: 부정이익환수금 | F76: =[3]월보작업용!E72 -> 0 | G76: =[3]월보작업용!F72 -> 0 | H76: =[3]월보작업용!G72 -> 0 | I76: =[3]월보작업용!H72 -> 0 | J76: =[3]월보작업용!I72 -> 0 | K76: =G76-I76-J76 -> 0 | Q76: =M76-O76-P76 -> 0
C77: 부담금 | F77: =F78 -> 236108630 | G77: =G78 -> 1321260330 | H77: =H78 -> 72558090 | I77: =I78 -> 720134900 | J77: =J78 -> 0 | K77: =K78 -> 601125430 | L77: =L78 -> 0 | M77: =M78 -> 0 | ... Q77: =Q78 -> 0
D78: 부담금 | F78: 236108630 | G78: 1321260330 | H78: 72558090 | I78: 720134900 | J78: 0 | K78: =G78-I78-J78 -> 601125430 | Q78: =M78-O78-P78 -> 0
A79: 특별회계 계 | F79: =F80+F81 -> 148746760 | G79: =G80+G81 -> 19389870800 | H79: =H80+H81 -> 4474247900 | I79: =I80+I81 -> 19389535240 | J79: =J80+J81 -> 0 | K79: =K80+K81 -> 335560 | L79: =L80+L81 -> 0 | M79: =M80+M81 -> 0 | ... Q79: =Q80+Q81 -> 0
B80: 세외수입(현년도) | F80: 148746760 | G80: 19394410040 | H80: 4474247900 | I80: 19394409390 | J80: 0 | K80: =G80-I80-J80 -> 650 | Q80: =M80-O80-P80 -> 0
B81: 세외수입(지난연도) | F81: 0 | G81: -4539240 | H81: 0 | I81: -4874150 | J81: 0 | K81: =G81-I81-J81 -> 334910 | Q81: =M81-O81-P81 -> 0

Sheet 과태료
A1: 2022년 8월 과태료 징수보고서
T2: (단위:원)
A3: 과목 | C3: 과태료(현년도) | I3: 과태료(지난연도) | O3: 과태료(합계)
C4: 부과액 | E4: 징수액 | G4: 결손처분© | H4: 미수납액 (D=A-B-C) | I4: 부과액 | K4: 징수액 | M4: 결손처분© | N4: 미수납액 (D=A-B-C) | O4: 부과액 | Q4: 징수액 | S4: 결손처분© | T4: 미수납액 (D=A-B-C)
C5: 금월 | D5: 누계(A) | E5: 금월 | F5: 누계(B) | I5: 금월 | J5: 누계(A) | K5: 금월 | L5: 누계(B) | O5: 금월 | P5: 누계(A) | Q5: 금월 | R5: 누계(B)
B6: 과태료 계 | C6: =C7+C13 -> 508141040 | D6: =D7+D13 -> 3282342330 | E6: =E7+E13 -> 363705650 | F6: =F7+F13 -> 2234263920 | G6: =G7+G13 -> 2538410 | H6: =H7+H13 -> 1045540000 | I6: =I7+I13 -> 31048790 | J6: =J7+J13 -> 7763251660 | ... T6: =T7+T13 -> 7233284280
B7: 차량관련과태료 | C7: =SUM(C8:C12) -> 358330610 | D7: =SUM(D8:D12) -> 2399733080 | E7: =SUM(E8:E12) -> 275192550 | F7: =SUM(F8:F12) -> 1724447180 | G7: =SUM(G8:G12) -> 2538410 | H7: =SUM(H8:H12) -> 672747490 | I7: =SUM(I8:I12) -> 24185770 | J7: =SUM(J8:J12) -> 6737396040 | ... S7: =SUM(S8:S12) -> 481222360 | T7: =P7-R7-S7 -> 6035038830
B8: 책임보험미가입 | C8: =[4]과태료작업용!C6 -> 51354130 | D8: =[4]과태료작업용!D6 -> 372942640 | E8: =[4]과태료작업용!E6 -> 19801430 | F8: =[4]과태료작업용!F6 -> 113003320 | G8: =[4]과태료작업용!G6 -> 1273610 | H8: =D8-F8-G8 -> 258665710 | I8: =[4]과태료작업용!I6 -> 12905010 | J8: =[4]과태료작업용!J6 -> 3599195950 | K8: =[4]과태료작업용!K6 -> 30607280 | L8: =[4]과태료작업용!L6 -> 350775230 | M8: =[4]과태료작업용!M6 -> 311655020 | N8: =J8-L8-M8 -> 2936765700 | O8: =C8+I8 -> 64259140 | P8: =D8+J8 -> 3972138590 | Q8: =E8+K8 -> 50408710 | R8: =F8+L8 -> 463778550 | S8: =G8+M8 -> 312928630 | T8: =P8-R8-S8 -> 3195431410
B9: 정기검사지연 | C9: =[4]과태료작업용!C7 -> 18952920 | D9: =[4]과태료작업용!D7 -> 169677400 | E9: =[4]과태료작업용!E7 -> 14948660 | F9: =[4]과태료작업용!F7 -> 90548220 | G9: =[4]과태료작업용!G7 -> 1264800 | H9: =D9-F9-G9 -> 77864380 | I9: =[4]과태료작업용!I7 -> 3573160 | J9: =[4]과태료작업용!J7 -> 993695310 | K9: =[4]과태료작업용!K7 -> 9586430 | L9: =[4]과태료작업용!L7 -> 136635150 | M9: =[4]과태료작업용!M7 -> 88086160 | N9: =J9-L9-M9 -> 768974000 | O9: =C9+I9 -> 22526080 | P9: =D9+J9 -> 1163372710 | Q9: =E9+K9 -> 24535090 | R9: =F9+L9 -> 227183370 | S9: =G9+M9 -> 89350960 | T9: =P9-R9-S9 -> 846838380
B10: 주정차위반 | C10: =[4]과태료작업용!C8 -> 282478860 | D10: =[4]과태료작업용!D8 -> 1799230040 | E10: =[4]과태료작업용!E8 -> 235617060 | F10: =[4]과태료작업용!F8 -> 1477450900 | G10: =[4]과태료작업용!G8 -> 0 | H10: =D10-F10-G10 -> 321779140 | I10: =[4]과태료작업용!I8 -> 7286620 | J10: =[4]과태료작업용!J8 -> 2078046510 | K10: =[4]과태료작업용!K8 -> 33216780 | L10: =[4]과태료작업용!L8 -> 403328300 | M10: =[4]과태료작업용!M8 -> 75793070 | N10: =J10-L10-M10 -> 1598925140 | O10: =C10+I10 -> 289765480 | P10: =D10+J10 -> 3877276550 | Q10: =E10+K10 -> 268833840 | R10: =F10+L10 -> 1880779200 | S10: =G10+M10 -> 75793070 | T10: =P10-R10-S10 -> 1920704280
B11: 자동차등록위반 | C11: =[4]과태료작업용!C9 -> 0 | D11: =[4]과태료작업용!D9 -> 0 | E11: =[4]과태료작업용!E9 -> 0 | F11: =[4]과태료작업용!F9 -> 0 | G11: =[4]과태료작업용!G9 -> 0 | H11: =D11-F11-G11 -> 0 | I11: =[4]과태료작업용!I9 -> 0 | J11: =[4]과태료작업용!J9 -> 5246000 | K11: =[4]과태료작업용!K9 -> 0 | L11: =[4]과태료작업용!L9 -> 1031000 | M11: =[4]과태료작업용!M9 -> 0 | N11: =J11-L11-M11 -> 4215000 | O11: =C11+I11 -> 0 | P11: =D11+J11 -> 5246000 | Q11: =E11+K11 -> 0 | R11: =F11+L11 -> 1031000 | S11: =G11+M11 -> 0 | T11: =P11-R11-S11 -> 4215000
B12: 기타사유 | C12: =[4]과태료작업용!C10 -> 5544700 | D12: =[4]과태료작업용!D10 -> 57883000 | E12: =[4]과태료작업용!E10 -> 4825400 | F12: =[4]과태료작업용!F10 -> 43444740 | G12: =[4]과태료작업용!G10 -> 0 | H12: =D12-F12-G12 -> 14438260 | I12: =[4]과태료작업용!I10 -> 420980 | J12: =[4]과태료작업용!J10 -> 61212270 | K12: =[4]과태료작업용!K10 -> 641780 | L12: =[4]과태료작업용!L10 -> 4651070 | M12: =[4]과태료작업용!M10 -> 3149700 | N12: =J12-L12-M12 -> 53411500 | O12: =C12+I12 -> 5965680 | P12: =D12+J12 -> 119095270 | Q12: =E12+K12 -> 5467180 | R12: =F12+L12 -> 48095810 | S12: =G12+M12 -> 3149700 | T12: =P12-R12-S12 -> 67849760
B13: 기타과태료 | C13: =[4]과태료작업용!C11 -> 149810430 | D13: =[4]과태료작업용!D11 -> 882609250 | E13: =[4]과태료작업용!E11 -> 88513100 | F13: =[4]과태료작업용!F11 -> 509816740 | G13: =[4]과태료작업용!G11 -> 0 | H13: =D13-F13-G13 -> 372792510 | I13: =[4]과태료작업용!I11 -> 6863020 | J13: =[4]과태료작업용!J11 -> 1025855620 | K13: =[4]과태료작업용!K11 -> 5356650 | L13: =[4]과태료작업용!L11 -> 151481440 | M13: =[4]과태료작업용!M11 -> 48921240 | N13: =J13-L13-M13 -> 825452940 | O13: =C13+I13 -> 156673450 | P13: =D13+J13 -> 1908464870 | Q13: =E13+K13 -> 93869750 | R13: =F13+L13 -> 661298180 | S13: =G13+M13 -> 48921240 | T13: =P13-R13-S13 -> 1198245450

Sheet Sheet1
