Workbook

Sheet 일반회계
A1: 2024년 3월 | H1: 지방세외수입 징수보고서(일반회계)
A2: ○ 자치단체명 : 전라남도 여수시
A3: ○ 작성자명 : 김소영 (연락처 : 061-659-3582) | O3: (단위: 원, %)
A4: 항목 | E4: ⓐ징수결정액 (본월분) | F4: ①징수결정액 (누계) | G4: ⓑ수납액 (본월분) | H4: ②수납액 (누계) | I4: 과오납액 (본월분) | J4: ③과오납액 (누계) | K4: 불납결손액 (본월분) | L4: ④불납결손액 (누계) | M4: 미수납액 (①-②-④) | N4: 당월징수율 (ⓑ/ⓐ) | O4: 누적징수율 (②/①)
A5: 합계 | E5: =E6+E32+E49 -> 5112781684 | F5: =F6+F32+F49 -> 33671894691 | G5: =G6+G32+G49 -> 4015063537 | H5: =H6+H32+H49 -> 15199759108 | I5: =I6+I32+I49 -> 6376460 | J5: =J6+J32+J49 -> 60368550 | K5: =K6+K32+K49 -> 4716220 | L5: =L6+L32+L49 -> 12229080 | M5: =F5-H5-L5 -> 18459906503 | N5: =ROUND(G5/E5*100,2) -> 78.53 | O5: =ROUND(H5/F5*100,2) -> 45.14
A6: 경상적 세외수입 | E6: =SUM(E7:E31) -> 2888632935 | F6: =SUM(F7:F31) -> 7469245695 | G6: =SUM(G7:G31) -> 2600843000 | H6: =SUM(H7:H31) -> 6996922050 | I6: =SUM(I7:I31) -> 4059200 | J6: =SUM(J7:J31) -> 6052270 | K6: =SUM(K7:K31) -> 0 | L6: =SUM(L7:L31) -> 0 | M6: =F6-H6-L6 -> 472323645 | N6: =ROUND(G6/E6*100,2) -> 90.04 | O6: =ROUND(H6/F6*100,2) -> 93.68
B7: 재산임대수입 | C7: 국유재산임대료 | E7: ='[1]징수보고서(지난년도제외)'!D6 -> 183624850 | F7: ='[1]징수보고서(지난년도제외)'!E6 -> 188159410 | G7: ='[1]징수보고서(지난년도제외)'!F6 -> 577930 | H7: ='[1]징수보고서(지난년도제외)'!G6 -> 5107420 | I7: ='[1]징수보고서(지난년도제외)'!H6 -> 0 | J7: ='[1]징수보고서(지난년도제외)'!I6 -> 0 | K7: ='[1]징수보고서(지난년도제외)'!J6 -> 0 | L7: ='[1]징수보고서(지난년도제외)'!K6 -> 0 | M7: =F7-H7-L7 -> 183051990 | N7: =ROUND(G7/E7*100,2) -> 0.31 | O7: =ROUND(H7/F7*100,2) -> 2.71
C8: 공유재산임대료 | E8: ='[1]징수보고서(지난년도제외)'!D7 -> 251641060 | F8: ='[1]징수보고서(지난년도제외)'!E7 -> 415831920 | G8: ='[1]징수보고서(지난년도제외)'!F7 -> 164302770 | H8: ='[1]징수보고서(지난년도제외)'!G7 -> 233926030 | I8: ='[1]징수보고서(지난년도제외)'!H7 -> 0 | J8: ='[1]징수보고서(지난년도제외)'!I7 -> 0 | K8: ='[1]징수보고서(지난년도제외)'!J7 -> 0 | L8: ='[1]징수보고서(지난년도제외)'!K7 -> 0 | M8: =F8-H8-L8 -> 181905890 | N8: =ROUND(G8/E8*100,2) -> 65.29 | O8: =ROUND(H8/F8*100,2) -> 56.25
B9: 사용료수입 | C9: 도로사용료 | E9: ='[1]징수보고서(지난년도제외)'!D9 -> 50730780 | F9: ='[1]징수보고서(지난년도제외)'!E9 -> 96810830 | G9: ='[1]징수보고서(지난년도제외)'!F9 -> 34682870 | H9: ='[1]징수보고서(지난년도제외)'!G9 -> 72867740 | I9: ='[1]징수보고서(지난년도제외)'!H9 -> 0 | J9: ='[1]징수보고서(지난년도제외)'!I9 -> 0 | K9: ='[1]징수보고서(지난년도제외)'!J9 -> 0 | L9: ='[1]징수보고서(지난년도제외)'!K9 -> 0 | M9: =F9-H9-L9 -> 23943090 | N9: =ROUND(G9/E9*100,2) -> 68.37 | O9: =ROUND(H9/F9*100,2) -> 75.27
C10: 하천사용료 | M10: =F10-H10-L10 -> 0 | N10: =ROUND(G10/E10*100,2) -> #DIV/0! | O10: =ROUND(H10/F10*100,2) -> #DIV/0!
C11: 하수도사용료 | M11: =F11-H11-L11 -> 0 | N11: =ROUND(G11/E11*100,2) -> #DIV/0! | O11: =ROUND(H11/F11*100,2) -> #DIV/0!
C12: 상수도사용료 | E12: ='[1]징수보고서(지난년도제외)'!D10 -> 0 | F12: ='[1]징수보고서(지난년도제외)'!E10 -> 51150 | G12: ='[1]징수보고서(지난년도제외)'!F10 -> 28420 | H12: ='[1]징수보고서(지난년도제외)'!G10 -> 51150 | I12: ='[1]징수보고서(지난년도제외)'!H10 -> 0 | J12: ='[1]징수보고서(지난년도제외)'!I10 -> 0 | K12: ='[1]징수보고서(지난년도제외)'!J10 -> 0 | L12: ='[1]징수보고서(지난년도제외)'!K10 -> 0 | M12: =F12-H12-L12 -> 0 | N12: =ROUND(G12/E12*100,2) -> #DIV/0! | O12: =ROUND(H12/F12*100,2) -> 100
C13: 공유수면 사용료 | E13: ='[1]징수보고서(지난년도제외)'!D11 -> 55830 | F13: ='[1]징수보고서(지난년도제외)'!E11 -> 1812920 | G13: ='[1]징수보고서(지난년도제외)'!F11 -> 17370 | H13: ='[1]징수보고서(지난년도제외)'!G11 -> 1750800 | I13: ='[1]징수보고서(지난년도제외)'!H11 -> 0 | J13: ='[1]징수보고서(지난년도제외)'!I11 -> 0 | K13: ='[1]징수보고서(지난년도제외)'!J11 -> 0 | L13: ='[1]징수보고서(지난년도제외)'!K11 -> 0 | M13: =F13-H13-L13 -> 62120 | N13: =ROUND(G13/E13*100,2) -> 31.11 | O13: =ROUND(H13/F13*100,2) -> 96.57
C14: 시장사용료 | M14: =F14-H14-L14 -> 0 | N14: =ROUND(G14/E14*100,2) -> #DIV/0! | O14: =ROUND(H14/F14*100,2) -> #DIV/0!
C15: 입장료수입 | M15: =F15-H15-L15 -> 0 | N15: =ROUND(G15/E15*100,2) -> #DIV/0! | O15: =ROUND(H15/F15*100,2) -> #DIV/0!
C16: 주차요금수입 | E16: ='[1]징수보고서(지난년도제외)'!D12 -> 20914560 | F16: ='[1]징수보고서(지난년도제외)'!E12 -> 67470890 | G16: ='[1]징수보고서(지난년도제외)'!F12 -> 20934560 | H16: ='[1]징수보고서(지난년도제외)'!G12 -> 67470890 | I16: ='[1]징수보고서(지난년도제외)'!H12 -> 0 | J16: ='[1]징수보고서(지난년도제외)'!I12 -> 0 | K16: ='[1]징수보고서(지난년도제외)'!J12 -> 0 | L16: ='[1]징수보고서(지난년도제외)'!K12 -> 0 | M16: =F16-H16-L16 -> 0 | N16: =ROUND(G16/E16*100,2) -> 100.1 | O16: =ROUND(H16/F16*100,2) -> 100
C17: 기타사용료 | E17: ='[1]징수보고서(지난년도제외)'!D13 -> 272766260 | F17: ='[1]징수보고서(지난년도제외)'!E13 -> 940857010 | G17: ='[1]징수보고서(지난년도제외)'!F13 -> 277086340 | H17: ='[1]징수보고서(지난년도제외)'!G13 -> 890179240 | I17: ='[1]징수보고서(지난년도제외)'!H13 -> 4038100 | J17: ='[1]징수보고서(지난년도제외)'!I13 -> 5951860 | K17: ='[1]징수보고서(지난년도제외)'!J13 -> 0 | L17: ='[1]징수보고서(지난년도제외)'!K13 -> 0 | M17: =F17-H17-L17 -> 50677770 | N17: =ROUND(G17/E17*100,2) -> 101.58 | O17: =ROUND(H17/F17*100,2) -> 94.61
B18: 수수료수입 | C18: 증지수입 | E18: ='[1]징수보고서(지난년도제외)'!D15 -> 65809210 | F18: ='[1]징수보고서(지난년도제외)'!E15 -> 199325280 | G18: ='[1]징수보고서(지난년도제외)'!F15 -> 68681120 | H18: ='[1]징수보고서(지난년도제외)'!G15 -> 197349480 | I18: ='[1]징수보고서(지난년도제외)'!H15 -> 21100 | J18: ='[1]징수보고서(지난년도제외)'!I15 -> 21100 | K18: ='[1]징수보고서(지난년도제외)'!J15 -> 0 | L18: ='[1]징수보고서(지난년도제외)'!K15 -> 0 | M18: =F18-H18-L18 -> 1975800 | N18: =ROUND(G18/E18*100,2) -> 104.36 | O18: =ROUND(H18/F18*100,2) -> 99.01
C19: 폐기물처리수수료 | E19: ='[1]징수보고서(지난년도제외)'!D16 -> 569557080 | F19: ='[1]징수보고서(지난년도제외)'!E16 -> 1807914690 | G19: ='[1]징수보고서(지난년도제외)'!F16 -> 568852630 | H19: ='[1]징수보고서(지난년도제외)'!G16 -> 1801839900 | I19: ='[1]징수보고서(지난년도제외)'!H16 -> 0 | J19: ='[1]징수보고서(지난년도제외)'!I16 -> 0 | K19: ='[1]징수보고서(지난년도제외)'!J16 -> 0 | L19: ='[1]징수보고서(지난년도제외)'!K16 -> 0 | M19: =F19-H19-L19 -> 6074790 | N19: =ROUND(G19/E19*100,2) -> 99.88 | O19: =ROUND(H19/F19*100,2) -> 99.66
C20: 재활용품수거판매수입 | E20: ='[1]징수보고서(지난년도제외)'!D17 -> 17369660 | F20: ='[1]징수보고서(지난년도제외)'!E17 -> 69373980 | G20: ='[1]징수보고서(지난년도제외)'!F17 -> 23790240 | H20: ='[1]징수보고서(지난년도제외)'!G17 -> 66096840 | I20: ='[1]징수보고서(지난년도제외)'!H17 -> 0 | J20: ='[1]징수보고서(지난년도제외)'!I17 -> 0 | K20: ='[1]징수보고서(지난년도제외)'!J17 -> 0 | L20: ='[1]징수보고서(지난년도제외)'!K17 -> 0 | M20: =F20-H20-L20 -> 3277140 | N20: =ROUND(G20/E20*100,2) -> 136.96 | O20: =ROUND(H20/F20*100,2) -> 95.28
C21: 보건의료수수료 | E21: ='[1]징수보고서(지난년도제외)'!D18 -> 51429220 | F21: ='[1]징수보고서(지난년도제외)'!E18 -> 141910540 | G21: ='[1]징수보고서(지난년도제외)'!F18 -> 51592480 | H21: ='[1]징수보고서(지난년도제외)'!G18 -> 139740460 | I21: ='[1]징수보고서(지난년도제외)'!H18 -> 0 | J21: ='[1]징수보고서(지난년도제외)'!I18 -> 0 | K21: ='[1]징수보고서(지난년도제외)'!J18 -> 0 | L21: ='[1]징수보고서(지난년도제외)'!K18 -> 0 | M21: =F21-H21-L21 -> 2170080 | N21: =ROUND(G21/E21*100,2) -> 100.32 | O21: =ROUND(H21/F21*100,2) -> 98.47
C22: 기타수수료 | E22: ='[1]징수보고서(지난년도제외)'!D19 -> 44614960 | F22: ='[1]징수보고서(지난년도제외)'!E19 -> 186701370 | G22: ='[1]징수보고서(지난년도제외)'!F19 -> 46066920 | H22: ='[1]징수보고서(지난년도제외)'!G19 -> 185849820 | I22: ='[1]징수보고서(지난년도제외)'!H19 -> 0 | J22: ='[1]징수보고서(지난년도제외)'!I19 -> 0 | K22: ='[1]징수보고서(지난년도제외)'!J19 -> 0 | L22: ='[1]징수보고서(지난년도제외)'!K19 -> 0 | M22: =F22-H22-L22 -> 851550 | N22: =ROUND(G22/E22*100,2) -> 103.25 | O22: =ROUND(H22/F22*100,2) -> 99.54
B23: 사업수입 | C23: 사업장생산수입 | E23: ='[1]징수보고서(지난년도제외)'!D21 -> 137343040 | F23: ='[1]징수보고서(지난년도제외)'!E21 -> 351804040 | G23: ='[1]징수보고서(지난년도제외)'!F21 -> 121872000 | H23: ='[1]징수보고서(지난년도제외)'!G21 -> 335093300 | I23: ='[1]징수보고서(지난년도제외)'!H21 -> 0 | J23: ='[1]징수보고서(지난년도제외)'!I21 -> 0 | K23: ='[1]징수보고서(지난년도제외)'!J21 -> 0 | L23: ='[1]징수보고서(지난년도제외)'!K21 -> 0 | M23: =F23-H23-L23 -> 16710740 | N23: =ROUND(G23/E23*100,2) -> 88.74 | O23: =ROUND(H23/F23*100,2) -> 95.25
C24: 청산금수입 | M24: =F24-H24-L24 -> 0 | N24: =ROUND(G24/E24*100,2) -> #DIV/0! | O24: =ROUND(H24/F24*100,2) -> #DIV/0!
C25: 매각사업수입 | M25: =F25-H25-L25 -> 0 | N25: =ROUND(G25/E25*100,2) -> #DIV/0! | O25: =ROUND(H25/F25*100,2) -> #DIV/0!
C26: 배당금수입 | M26: =F26-H26-L26 -> 0 | N26: =ROUND(G26/E26*100,2) -> #DIV/0! | O26: =ROUND(H26/F26*100,2) -> #DIV/0!
C27: 기타사업수입 | E27: ='[1]징수보고서(지난년도제외)'!D22 -> 605000 | F27: ='[1]징수보고서(지난년도제외)'!E22 -> 1589500 | G27: ='[1]징수보고서(지난년도제외)'!F22 -> 605000 | H27: ='[1]징수보고서(지난년도제외)'!G22 -> 1589500 | I27: ='[1]징수보고서(지난년도제외)'!H22 -> 0 | J27: ='[1]징수보고서(지난년도제외)'!I22 -> 0 | K27: ='[1]징수보고서(지난년도제외)'!J22 -> 0 | L27: ='[1]징수보고서(지난년도제외)'!K22 -> 0 | M27: =F27-H27-L27 -> 0 | N27: =ROUND(G27/E27*100,2) -> 100 | O27: =ROUND(H27/F27*100,2) -> 100
B28: 징수교부금수입 | C28: 징수교부금수입 | E28: ='[1]징수보고서(지난년도제외)'!D24 -> 329230630 | F28: ='[1]징수보고서(지난년도제외)'!E24 -> 583628630 | G28: ='[1]징수보고서(지난년도제외)'!F24 -> 329230630 | H28: ='[1]징수보고서(지난년도제외)'!G24 -> 583628630 | I28: ='[1]징수보고서(지난년도제외)'!H24 -> 0 | J28: ='[1]징수보고서(지난년도제외)'!I24 -> 0 | K28: ='[1]징수보고서(지난년도제외)'!J24 -> 0 | L28: ='[1]징수보고서(지난년도제외)'!K24 -> 0 | M28: =F28-H28-L28 -> 0 | N28: =ROUND(G28/E28*100,2) -> 100 | O28: =ROUND(H28/F28*100,2) -> 100
B29: 이자수입 | C29: 공공예금이자수입 | E29: ='[1]징수보고서(지난년도제외)'!D26 -> 855554760 | F29: ='[1]징수보고서(지난년도제외)'!E26 -> 2335739680 | G29: ='[1]징수보고서(지난년도제외)'!F26 -> 855554760 | H29: ='[1]징수보고서(지난년도제외)'!G26 -> 2335739680 | I29: ='[1]징수보고서(지난년도제외)'!H26 -> 0 | J29: ='[1]징수보고서(지난년도제외)'!I26 -> 0 | K29: ='[1]징수보고서(지난년도제외)'!J26 -> 0 | L29: ='[1]징수보고서(지난년도제외)'!K26 -> 0 | M29: =F29-H29-L29 -> 0 | N29: =ROUND(G29/E29*100,2) -> 100 | O29: =ROUND(H29/F29*100,2) -> 100
C30: 융자금회수이자수입 | M30: =F30-H30-L30 -> 0 | N30: =ROUND(G30/E30*100,2) -> #DIV/0! | O30: =ROUND(H30/F30*100,2) -> #DIV/0!
C31: 기타이자수입 | E31: ='[1]징수보고서(지난년도제외)'!D27 -> 37386035 | F31: ='[1]징수보고서(지난년도제외)'!E27 -> 80263855 | G31: ='[1]징수보고서(지난년도제외)'!F27 -> 36966960 | H31: ='[1]징수보고서(지난년도제외)'!G27 -> 78641170 | I31: ='[1]징수보고서(지난년도제외)'!H27 -> 0 | J31: ='[1]징수보고서(지난년도제외)'!I27 -> 79310 | K31: ='[1]징수보고서(지난년도제외)'!J27 -> 0 | L31: ='[1]징수보고서(지난년도제외)'!K27 -> 0 | M31: =F31-H31-L31 -> 1622685 | N31: =ROUND(G31/E31*100,2) -> 98.88 | O31: =ROUND(H31/F31*100,2) -> 97.98
A32: 임시적세외수입 | E32: =SUM(E33:E48) -> 1778911039 | F32: =SUM(F33:F48) -> 22395814996 | G32: =SUM(G33:G48) -> 1123626167 | H32: =SUM(H33:H48) -> 7516492188 | I32: =SUM(I33:I48) -> 2317260 | J32: =SUM(J33:J48) -> 54276280 | K32: =SUM(K33:K48) -> 4716220 | L32: =SUM(L33:L48) -> 12229080 | M32: =SUM(M33:M48) -> 14867093728 | N32: =ROUND(G32/E32*100,2) -> 63.16 | O32: =ROUND(H32/F32*100,2) -> 33.56
B33: 재산매각수입 | C33: 국유재산매각귀속수입금 | M33: =F33-H33-L33 -> 0 | N33: =ROUND(G33/E33*100,2) -> #DIV/0! | O33: =ROUND(H33/F33*100,2) -> #DIV/0!
C34: 시도유재산매각귀속수입금 | M34: =F34-H34-L34 -> 0 | N34: =ROUND(G34/E34*100,2) -> #DIV/0! | O34: =ROUND(H34/F34*100,2) -> #DIV/0!
C35: 공유재산매각수입금 | E35: ='[1]징수보고서(지난년도제외)'!D30 -> 137789210 | F35: ='[1]징수보고서(지난년도제외)'!E30 -> 191333220 | G35: ='[1]징수보고서(지난년도제외)'!F30 -> 47128820 | H35: ='[1]징수보고서(지난년도제외)'!G30 -> 100672830 | I35: ='[1]징수보고서(지난년도제외)'!H30 -> 0 | J35: ='[1]징수보고서(지난년도제외)'!I30 -> 0 | K35: ='[1]징수보고서(지난년도제외)'!J30 -> 0 | L35: ='[1]징수보고서(지난년도제외)'!K30 -> 0 | M35: =F35-H35-L35 -> 90660390 | N35: =ROUND(G35/E35*100,2) -> 34.2 | O35: =ROUND(H35/F35*100,2) -> 52.62
C36: 불용품 매각대금 | E36: ='[1]징수보고서(지난년도제외)'!D31 -> 74000000 | F36: ='[1]징수보고서(지난년도제외)'!E31 -> 74181500 | G36: ='[1]징수보고서(지난년도제외)'!F31 -> 74000000 | H36: ='[1]징수보고서(지난년도제외)'!G31 -> 74181500 | I36: ='[1]징수보고서(지난년도제외)'!H31 -> 0 | J36: ='[1]징수보고서(지난년도제외)'!I31 -> 0 | K36: ='[1]징수보고서(지난년도제외)'!J31 -> 0 | L36: ='[1]징수보고서(지난년도제외)'!K31 -> 0 | M36: =F36-H36-L36 -> 0 | N36: =ROUND(G36/E36*100,2) -> 100 | O36: =ROUND(H36/F36*100,2) -> 100
B37: 자치단체간 부담금 | C37: 자치단체간 부담금 | M37: =F37-H37-L37 -> 0 | N37: =ROUND(G37/E37*100,2) -> #DIV/0! | O37: =ROUND(H37/F37*100,2) -> #DIV/0!
B38: 보조금 반환수입 | C38: 시도비보조금등반환수입 | M38: =F38-H38-L38 -> 0 | N38: =ROUND(G38/E38*100,2) -> #DIV/0! | O38: =ROUND(H38/F38*100,2) -> #DIV/0!
C39: 자체보조금등반환수입 | E39: ='[1]징수보고서(지난년도제외)'!D33 -> 632347690 | F39: ='[1]징수보고서(지난년도제외)'!E33 -> 1371409670 | G39: ='[1]징수보고서(지난년도제외)'!F33 -> 358047350 | H39: ='[1]징수보고서(지난년도제외)'!G33 -> 1000150420 | I39: ='[1]징수보고서(지난년도제외)'!H33 -> 0 | J39: ='[1]징수보고서(지난년도제외)'!I33 -> 0 | K39: ='[1]징수보고서(지난년도제외)'!J33 -> 0 | L39: ='[1]징수보고서(지난년도제외)'!K33 -> 0 | M39: =F39-H39-L39 -> 371259250 | N39: =ROUND(G39/E39*100,2) -> 56.62 | O39: =ROUND(H39/F39*100,2) -> 72.93
C40: 위탁비반환수입 | E40: ='[1]징수보고서(지난년도제외)'!D34 -> 4942270 | F40: ='[1]징수보고서(지난년도제외)'!E34 -> 41129200 | G40: ='[1]징수보고서(지난년도제외)'!F34 -> 4942270 | H40: ='[1]징수보고서(지난년도제외)'!G34 -> 41129200 | I40: ='[1]징수보고서(지난년도제외)'!H34 -> 0 | J40: ='[1]징수보고서(지난년도제외)'!I34 -> 0 | K40: ='[1]징수보고서(지난년도제외)'!J34 -> 0 | L40: ='[1]징수보고서(지난년도제외)'!K34 -> 0 | M40: =F40-H40-L40 -> 0 | N40: =ROUND(G40/E40*100,2) -> 100 | O40: =ROUND(H40/F40*100,2) -> 100
B41: 기타수입 | C41: 체납처분수입 | M41: =F41-H41-L41 -> 0 | N41: =ROUND(G41/E41*100,2) -> #DIV/0! | O41: =ROUND(H41/F41*100,2) -> #DIV/0!
C42: 보상금수납금 | M42: =F42-H42-L42 -> 0 | N42: =ROUND(G42/E42*100,2) -> #DIV/0! | O42: =ROUND(H42/F42*100,2) -> #DIV/0!
C43: 기부금수입 | E43: ='[1]징수보고서(지난년도제외)'!D36 -> 0 | F43: ='[1]징수보고서(지난년도제외)'!E36 -> 40374820 | G43: ='[1]징수보고서(지난년도제외)'!F36 -> 0 | H43: ='[1]징수보고서(지난년도제외)'!G36 -> 40374820 | I43: ='[1]징수보고서(지난년도제외)'!H36 -> 0 | J43: ='[1]징수보고서(지난년도제외)'!I36 -> 0 | K43: ='[1]징수보고서(지난년도제외)'!J36 -> 0 | L43: ='[1]징수보고서(지난년도제외)'!K36 -> 0 | M43: =F43-H43-L43 -> 0 | N43: =ROUND(G43/E43*100,2) -> #DIV/0! | O43: =ROUND(H43/F43*100,2) -> 100
C44: 지적재조사조정금 | E44: ='[1]징수보고서(지난년도제외)'!D37 -> 727300740 | F44: ='[1]징수보고서(지난년도제외)'!E37 -> 1539380800 | G44: ='[1]징수보고서(지난년도제외)'!F37 -> 286149670 | H44: ='[1]징수보고서(지난년도제외)'!G37 -> 805781330 | I44: ='[1]징수보고서(지난년도제외)'!H37 -> 0 | J44: ='[1]징수보고서(지난년도제외)'!I37 -> 0 | K44: ='[1]징수보고서(지난년도제외)'!J37 -> 0 | L44: ='[1]징수보고서(지난년도제외)'!K37 -> 0 | M44: =F44-H44-L44 -> 733599470 | N44: =ROUND(G44/E44*100,2) -> 39.34 | O44: =ROUND(H44/F44*100,2) -> 52.34
C45: 지방교부세감소분 보전수입 | E45: ='[1]징수보고서(지난년도제외)'!D38 -> 0 | F45: ='[1]징수보고서(지난년도제외)'!E38 -> 2384078010 | G45: ='[1]징수보고서(지난년도제외)'!F38 -> 0 | H45: ='[1]징수보고서(지난년도제외)'!G38 -> 2384078010 | I45: ='[1]징수보고서(지난년도제외)'!H38 -> 0 | J45: ='[1]징수보고서(지난년도제외)'!I38 -> 0 | K45: ='[1]징수보고서(지난년도제외)'!J38 -> 0 | L45: ='[1]징수보고서(지난년도제외)'!K38 -> 0 | M45: =F45-H45-L45 -> 0 | N45: =ROUND(G45/E45*100,2) -> #DIV/0! | O45: =ROUND(H45/F45*100,2) -> 100
C46: 위약금 | E46: ='[1]징수보고서(지난년도제외)'!D39 -> 633920 | F46: ='[1]징수보고서(지난년도제외)'!E39 -> 10863830 | G46: ='[1]징수보고서(지난년도제외)'!F39 -> 1247850 | H46: ='[1]징수보고서(지난년도제외)'!G39 -> 10863830 | I46: ='[1]징수보고서(지난년도제외)'!H39 -> 0 | J46: ='[1]징수보고서(지난년도제외)'!I39 -> 0 | K46: ='[1]징수보고서(지난년도제외)'!J39 -> 0 | L46: ='[1]징수보고서(지난년도제외)'!K39 -> 0 | M46: =F46-H46-L46 -> 0 | N46: =ROUND(G46/E46*100,2) -> 196.85 | O46: =ROUND(H46/F46*100,2) -> 100
C47: 그외수입 | E47: ='[1]징수보고서(지난년도제외)'!D40 -> 193435099 | F47: ='[1]징수보고서(지난년도제외)'!E40 -> 1365837290 | G47: ='[1]징수보고서(지난년도제외)'!F40 -> 147626779 | H47: ='[1]징수보고서(지난년도제외)'!G40 -> 1218490910 | I47: ='[1]징수보고서(지난년도제외)'!H40 -> 2820 | J47: ='[1]징수보고서(지난년도제외)'!I40 -> 9880 | K47: ='[1]징수보고서(지난년도제외)'!J40 -> 0 | L47: ='[1]징수보고서(지난년도제외)'!K40 -> 0 | M47: =F47-H47-L47 -> 147346380 | N47: =ROUND(G47/E47*100,2) -> 76.32 | O47: =ROUND(H47/F47*100,2) -> 89.21
B48: 지난연도 수입 | C48: 지난연도 수입 | E48: =[1]지난년도과목!E3 -> 8462110 | F48: =[1]지난년도과목!F3 -> 15377226656 | G48: =[1]지난년도과목!G3 -> 204483428 | H48: =[1]지난년도과목!H3 -> 1840769338 | I48: =[1]지난년도과목!I3 -> 2314440 | J48: =[1]지난년도과목!J3 -> 54266400 | K48: =[1]지난년도과목!K3 -> 4716220 | L48: =[1]지난년도과목!L3 -> 12229080 | M48: =F48-H48-L48 -> 13524228238 | N48: =ROUND(G48/E48*100,2) -> 2416.46 | O48: =ROUND(H48/F48*100,2) -> 11.97
A49: 지방행정제재 부과금 | E49: =SUM(E50:E57) -> 445237710 | F49: =SUM(F50:F57) -> 3806834000 | G49: =SUM(G50:G57) -> 290594370 | H49: =SUM(H50:H57) -> 686344870 | I49: =SUM(I50:I57) -> 0 | J49: =SUM(J50:J57) -> 40000 | K49: =SUM(K50:K57) -> 0 | L49: =SUM(L50:L57) -> 0 | M49: =SUM(M50:M57) -> 3120489130 | N49: =ROUND(G49/E49*100,2) -> 65.27 | O49: =ROUND(H49/F49*100,2) -> 18.03
B50: 과징금 | C50: 과징금 | E50: ='[1]징수보고서(지난년도제외)'!D43 -> 27390000 | F50: ='[1]징수보고서(지난년도제외)'!E43 -> 47290000 | G50: ='[1]징수보고서(지난년도제외)'!F43 -> 6950000 | H50: ='[1]징수보고서(지난년도제외)'!G43 -> 17450000 | I50: ='[1]징수보고서(지난년도제외)'!H43 -> 0 | J50: ='[1]징수보고서(지난년도제외)'!I43 -> 0 | K50: ='[1]징수보고서(지난년도제외)'!J43 -> 0 | L50: ='[1]징수보고서(지난년도제외)'!K43 -> 0 | M50: =F50-H50-L50 -> 29840000 | N50: =ROUND(G50/E50*100,2) -> 25.37 | O50: =ROUND(H50/F50*100,2) -> 36.9
B51: 이행강제금 | C51: 이행강제금 | E51: ='[1]징수보고서(지난년도제외)'!D45 -> 38330090 | F51: ='[1]징수보고서(지난년도제외)'!E45 -> 154336170 | G51: ='[1]징수보고서(지난년도제외)'!F45 -> 25013640 | H51: ='[1]징수보고서(지난년도제외)'!G45 -> 79815320 | I51: ='[1]징수보고서(지난년도제외)'!H45 -> 0 | J51: ='[1]징수보고서(지난년도제외)'!I45 -> 0 | K51: ='[1]징수보고서(지난년도제외)'!J45 -> 0 | L51: ='[1]징수보고서(지난년도제외)'!K45 -> 0 | M51: =F51-H51-L51 -> 74520850 | N51: =ROUND(G51/E51*100,2) -> 65.26 | O51: =ROUND(H51/F51*100,2) -> 51.72
B52: 변상금 | C52: 변상금 | E52: ='[1]징수보고서(지난년도제외)'!D47 -> 2733180 | F52: ='[1]징수보고서(지난년도제외)'!E47 -> 24071860 | G52: ='[1]징수보고서(지난년도제외)'!F47 -> 1732890 | H52: ='[1]징수보고서(지난년도제외)'!G47 -> 16545920 | I52: ='[1]징수보고서(지난년도제외)'!H47 -> 0 | J52: ='[1]징수보고서(지난년도제외)'!I47 -> 0 | K52: ='[1]징수보고서(지난년도제외)'!J47 -> 0 | L52: ='[1]징수보고서(지난년도제외)'!K47 -> 0 | M52: =F52-H52-L52 -> 7525940 | N52: =ROUND(G52/E52*100,2) -> 63.4 | O52: =ROUND(H52/F52*100,2) -> 68.74
B53: 과태료 | C53: 차량관련과태료 | E53: ='[1]징수보고서(지난년도제외)'!D49 -> 84916790 | F53: ='[1]징수보고서(지난년도제외)'!E49 -> 274695120 | G53: ='[1]징수보고서(지난년도제외)'!F49 -> 31247420 | H53: ='[1]징수보고서(지난년도제외)'!G49 -> 88357140 | I53: ='[1]징수보고서(지난년도제외)'!H49 -> 0 | J53: ='[1]징수보고서(지난년도제외)'!I49 -> 0 | K53: ='[1]징수보고서(지난년도제외)'!J49 -> 0 | L53: ='[1]징수보고서(지난년도제외)'!K49 -> 0 | M53: =F53-H53-L53 -> 186337980 | N53: =ROUND(G53/E53*100,2) -> 36.8 | O53: =ROUND(H53/F53*100,2) -> 32.17
C54: 기타과태료 | E54: ='[1]징수보고서(지난년도제외)'!D50 -> 154556340 | F54: ='[1]징수보고서(지난년도제외)'!E50 -> 264873840 | G54: ='[1]징수보고서(지난년도제외)'!F50 -> 59448640 | H54: ='[1]징수보고서(지난년도제외)'!G50 -> 142802640 | I54: ='[1]징수보고서(지난년도제외)'!H50 -> 0 | J54: ='[1]징수보고서(지난년도제외)'!I50 -> 40000 | K54: ='[1]징수보고서(지난년도제외)'!J50 -> 0 | L54: ='[1]징수보고서(지난년도제외)'!K50 -> 0 | M54: =F54-H54-L54 -> 122071200 | N54: =ROUND(G54/E54*100,2) -> 38.46 | O54: =ROUND(H54/F54*100,2) -> 53.91
B55: 환수금 | C55: 부정이익환수금 | E55: ='[1]징수보고서(지난년도제외)'!D52 -> 3173880 | F55: ='[1]징수보고서(지난년도제외)'!E52 -> 41277450 | G55: ='[1]징수보고서(지난년도제외)'!F52 -> 11215580 | H55: ='[1]징수보고서(지난년도제외)'!G52 -> 18266330 | I55: ='[1]징수보고서(지난년도제외)'!H52 -> 0 | J55: ='[1]징수보고서(지난년도제외)'!I52 -> 0 | K55: ='[1]징수보고서(지난년도제외)'!J52 -> 0 | L55: ='[1]징수보고서(지난년도제외)'!K52 -> 0 | M55: =F55-H55-L55 -> 23011120 | N55: =ROUND(G55/E55*100,2) -> 353.37 | O55: =ROUND(H55/F55*100,2) -> 44.25
B56: 부담금 | C56: 부담금 | E56: ='[1]징수보고서(지난년도제외)'!D54 -> 130637430 | F56: ='[1]징수보고서(지난년도제외)'!E54 -> 2987289560 | G56: ='[1]징수보고서(지난년도제외)'!F54 -> 150586200 | H56: ='[1]징수보고서(지난년도제외)'!G54 -> 310507520 | I56: ='[1]징수보고서(지난년도제외)'!H54 -> 0 | J56: ='[1]징수보고서(지난년도제외)'!I54 -> 0 | K56: ='[1]징수보고서(지난년도제외)'!J54 -> 0 | L56: ='[1]징수보고서(지난년도제외)'!K54 -> 0 | M56: =F56-H56-L56 -> 2676782040 | N56: =ROUND(G56/E56*100,2) -> 115.27 | O56: =ROUND(H56/F56*100,2) -> 10.39
B57: 범칙금 | C57: 범칙금 | E57: ='[1]징수보고서(지난년도제외)'!D56 -> 3500000 | F57: ='[1]징수보고서(지난년도제외)'!E56 -> 13000000 | G57: ='[1]징수보고서(지난년도제외)'!F56 -> 4400000 | H57: ='[1]징수보고서(지난년도제외)'!G56 -> 12600000 | I57: ='[1]징수보고서(지난년도제외)'!H56 -> 0 | J57: ='[1]징수보고서(지난년도제외)'!I56 -> 0 | K57: ='[1]징수보고서(지난년도제외)'!J56 -> 0 | L57: ='[1]징수보고서(지난년도제외)'!K56 -> 0 | M57: =F57-H57-L57 -> 400000 | N57: =ROUND(G57/E57*100,2) -> 125.71 | O57: =ROUND(H57/F57*100,2) -> 96.92
A60: ※ 작성요령
A61: 1. 작성대상 : 일반회계
A62: 2. 작성기준 : 매월 20일까지 전월 자료 세외수입통계정보시스템 징수월보 등록
A63: 3. 제출방법 : 세외수입통계정보시스템
A64: 4. 해당 지자체에서 부과, 징수되는 세외수입은 모두 포함하고, 자료 누락이나 잘못된 값이 들어가지 않도록 자료 작성에 각별히 신경(향후 연감 작업시 검증자료로 활용예정)
A65: 5. 징수결정액은 납부자가 납부해야할 최종 금액으로 부과취소 등 감액분은 제외
A66: 6. 수납액은 납부자가 실제 납부한 금액에서 과오납 환급금을 제외한 금액
A67: 7. 불납결손액은 징수 불가능 금액으로 결손처분한 금액
